BEGIN:VCALENDAR
VERSION:2.0
PRODID:-//Pacific Fishery Management Council//NONSGML v1.0//EN
METHOD:PUBLISH
BEGIN:VEVENT
DTSTART;TZID=America/Los_Angeles:20260507T130000
DTEND;TZID=America/Los_Angeles:20260507T160000
SUMMARY:Sacramento River Fall Chinook Workgroup to meet May 7, 2026
LOCATION:
END:VEVENT
END:VCALENDAR
