BEGIN:VCALENDAR
VERSION:2.0
PRODID:-//Pacific Fishery Management Council//NONSGML v1.0//EN
METHOD:PUBLISH
BEGIN:VEVENT
DTSTART;TZID=America/Los_Angeles:20240325T190000
DTEND;TZID=America/Los_Angeles:20240325T210000
SUMMARY:Public hearing on salmon management alternatives in Westport, WA on Monday, March 25, 2024
LOCATION:Chateau Westport
Beach Room
710 S. Hancock Ave.
Westport, WA 98595
END:VEVENT
END:VCALENDAR
