BEGIN:VCALENDAR
VERSION:2.0
PRODID:-//Pacific Fishery Management Council//NONSGML v1.0//EN
METHOD:PUBLISH
BEGIN:VEVENT
DTSTART;TZID=America/Los_Angeles:20200224T000000
DTEND;TZID=America/Los_Angeles:20200227T000000
SUMMARY:Pacific Sardine Stock Assessment Review Panel meeting to be held February 24-27 in La Jolla, CA
LOCATION:NOAA Southwest Fisheries Science Center, Pacific Room, 
8901 La Jolla Shores Drive,
La Jolla, California 92037
END:VEVENT
END:VCALENDAR
