BEGIN:VCALENDAR
VERSION:2.0
PRODID:-//Pacific Fishery Management Council//NONSGML v1.0//EN
METHOD:PUBLISH
BEGIN:VEVENT
DTSTART;TZID=America/Los_Angeles:20210603T000000
DTEND;TZID=America/Los_Angeles:20210604T000000
SUMMARY:Highly Migratory Species Management Team to hold online meeting June 3-4, 2021
LOCATION:Online meeting only; no public listening station due to COVID-19
END:VEVENT
END:VCALENDAR
