BEGIN:VCALENDAR
VERSION:2.0
PRODID:-//Pacific Fishery Management Council//NONSGML v1.0//EN
METHOD:PUBLISH
BEGIN:VEVENT
DTSTART;TZID=America/Los_Angeles:20240222T090000
DTEND;TZID=America/Los_Angeles:20240222T120000
SUMMARY:Groundfish Management Team to meet online February 22, 2024
LOCATION:Online meeting only
END:VEVENT
END:VCALENDAR
