BEGIN:VCALENDAR
VERSION:2.0
PRODID:-//Pacific Fishery Management Council//NONSGML v1.0//EN
METHOD:PUBLISH
BEGIN:VEVENT
DTSTART;TZID=America/Los_Angeles:20251020T000000
DTEND;TZID=America/Los_Angeles:20251021T235959
SUMMARY:Groundfish Management Team to hold online work sessions October 20 &amp; 21 &amp; October 27-29, 2025
LOCATION:
END:VEVENT
END:VCALENDAR
