BEGIN:VCALENDAR
VERSION:2.0
PRODID:-//Pacific Fishery Management Council//NONSGML v1.0//EN
METHOD:PUBLISH
BEGIN:VEVENT
DTSTART;TZID=America/Los_Angeles:20200421T130000
DTEND;TZID=America/Los_Angeles:20200421T160000
SUMMARY:Groundfish and Coastal Pelagic Species Subcommittees of Scientific and Statistical Committee to hold online meeting April 21, 2020
LOCATION:Webinar only via RingCentral | no public listening station during COVID-19
END:VEVENT
END:VCALENDAR
