BEGIN:VCALENDAR
VERSION:2.0
PRODID:-//Pacific Fishery Management Council//NONSGML v1.0//EN
METHOD:PUBLISH
BEGIN:VEVENT
DTSTART;TZID=America/Los_Angeles:20200528T133000
DTEND;TZID=America/Los_Angeles:20200528T163000
SUMMARY:Groundfish Advisory Subpanel and Management Team Webinar on Scenario Deepening, May 28
LOCATION:Online meeting only; no public listening station due to COVID-19
END:VEVENT
END:VCALENDAR
