BEGIN:VCALENDAR
VERSION:2.0
PRODID:-//Pacific Fishery Management Council//NONSGML v1.0//EN
METHOD:PUBLISH
BEGIN:VEVENT
DTSTART;TZID=America/Los_Angeles:20260430T090000
DTEND;TZID=America/Los_Angeles:20260430T120000
SUMMARY:Ad Hoc Marine Planning Committee to hold online meeting April 30, 2026
LOCATION:
END:VEVENT
END:VCALENDAR
