BEGIN:VCALENDAR
VERSION:2.0
PRODID:-//Pacific Fishery Management Council//NONSGML v1.0//EN
METHOD:PUBLISH
BEGIN:VEVENT
DTSTART;TZID=America/Los_Angeles:20200828T100000
DTEND;TZID=America/Los_Angeles:20200828T110000
SUMMARY:Ad Hoc Ecosystem Workgroup to hold online meeting August 28, 2020
LOCATION:Online meeting only; no public listening station due to COVID-19
END:VEVENT
END:VCALENDAR
