{"text_format":"3","workbook":"xlsx","n_sheets":49,"sheets":["Read Me First","B-1","B-2","B-3","B-4","B-5","B-6","old B-7","B-7","B-8","B-9","B-10","B-11","B-12","B-13","B-14","B-15","B-16","B-17","B-18","B-19","B-20","B-21","B-22","B-23","B-24","B-25","B-26","B-27","B-28","B-29","B-30","B-31","B-32","B-33","B-34","B-35","B-36","B-37","B-38","B-39","B-40","B-41","B-42","B-43","B-44","B-45","B-46","SummData"],"not_rendered":{"macros":1,"defined_names":288,"comments":6},"read":"whole","date_system":"1900"}

{"sheet":"Read Me First","index":0,"n_rows":0,"n_cols":0,"rows_kept":0,"hidden":true}

{"sheet":"B-1","index":1,"n_rows":133,"n_cols":31,"rows_kept":133,"merged":[[0,0,0,30],[1,1,2,3],[1,4,1,11],[1,13,2,14],[1,16,1,24],[1,26,2,27],[1,29,2,30],[2,0,3,0],[2,4,2,6],[2,8,2,9],[2,10,2,11],[2,16,2,17],[2,19,2,20],[2,22,2,24],[60,0,60,30],[61,0,61,21],[62,0,62,30],[63,0,64,30],[65,0,66,30],[67,0,67,30],[68,0,68,21],[69,0,69,30],[70,0,70,30],[71,0,71,30],[72,0,72,28],[73,0,73,28],[74,0,74,30],[75,0,75,30],[93,0,93,30],[94,1,95,3],[94,4,94,11],[94,13,95,14],[94,16,94,24],[94,26,95,27],[94,29,95,30],[95,0,96,0],[95,4,95,6],[95,8,95,9],[95,10,95,11],[95,16,95,17],[95,19,95,20],[95,22,95,24],[118,0,118,30],[119,0,119,30],[120,0,120,30],[121,0,122,30],[123,0,124,30],[125,0,125,30],[126,0,126,30],[127,0,127,30],[128,0,128,30],[129,0,129,30],[130,0,130,30],[131,0,131,30],[132,0,132,30],[133,0,133,30],[134,0,134,30]]}
["TABLE B-1.  Sacramento River fall Chinook salmon escapement in numbers of fish.a/b/"]
[null,"Upper Sacramento Natural Areasc/d/e/",null,null,"Lower Sacramento Natural Areasc/",{"$nulls":8},"Natural Area Totalsc/",null,null,"Sacramento Hatcheries",{"$nulls":9},"Hatchery Totals",null,null,"Sacramento Totals"]
["Year or Average",{"$nulls":3},"  Feather River",{"$nulls":3},"  Yuba River",null," American Riverf/",{"$nulls":5},"Coleman",null,null,"Feather River",null,null,"Nimbus"]
[null,"Adults",null,"Jacks","Adults",null,"Jacks",null,"Adults","Jacks","Adults","Jacks",null,"Adults","Jacks",null,"Adults","Jacks",null,"Adults","Jacks",null,"Adults",null,"Jacks",null,"Adultsg/","Jacks",null,"Adults","Jacks"]
[1970,{"v":61160,"d":"61,160"},null,{"v":20061,"d":"20,061"},{"v":45140,"d":"45,140"},null,{"v":13030,"d":"13,030"},null,{"v":11852,"d":"11,852"},{"v":1978,"d":"1,978"},{"v":25238,"d":"25,238"},{"v":3442,"d":"3,442"},null,{"v":143390,"d":"143,390"},{"v":38511,"d":"38,511"},null,{"v":3009.784,"d":"3,010"},{"v":502.21600000000007,"d":"502"},null,{"v":2439.085,"d":"2,439"},{"v":915.915,"d":"916"},null,{"v":7826.503000000001,"d":"7,827"},null,{"v":802.4970000000001,"d":"802"},null,{"v":13275.372000000001,"d":"13,275"},{"v":2220.628,"d":"2,221"},null,{"$f":"N5+AA5","v":{"v":156665.372,"d":"156,665"}},{"$f":"O5+AB5","v":{"v":40731.628,"d":"40,732"}}]
[1971,{"v":67586,"d":"67,586"},null,{"v":19396,"d":"19,396"},{"v":33582,"d":"33,582"},null,{"v":9918,"d":"9,918"},null,{"v":5255,"d":"5,255"},396,{"v":35720,"d":"35,720"},{"v":5960,"d":"5,960"},null,{"v":142143,"d":"142,143"},{"v":35670,"d":"35,670"},null,{"v":1503,"d":"1,503"},501,null,{"v":2326.437,"d":"2,326"},{"v":1214.5629999999999,"d":"1,215"},null,{"v":8684.49,"d":"8,684"},null,{"v":1425.51,"d":"1,426"},null,{"v":12738.927,"d":"12,739"},{"v":3211.073,"d":"3,211"},null,{"v":154881.927,"d":"154,882"},{"v":38881.073,"d":"38,881"}]
[1972,{"v":36485,"d":"36,485"},null,{"v":17905,"d":"17,905"},{"v":27130,"d":"27,130"},null,{"v":16070,"d":"16,070"},null,{"v":5555,"d":"5,555"},{"v":3703,"d":"3,703"},{"v":14962,"d":"14,962"},{"v":2497,"d":"2,497"},null,{"v":84132,"d":"84,132"},{"v":40175,"d":"40,175"},null,{"v":1188.0620000000001,"d":"1,188"},{"v":1633.9379999999999,"d":"1,634"},null,{"v":1414.015,"d":"1,414"},{"v":2220.985,"d":"2,221"},null,{"v":5351.92,"d":"5,352"},null,{"v":1901.34,"d":"1,901"},null,{"v":8024.997,"d":"8,025"},{"v":5795.263,"d":"5,795"},null,{"v":92156.997,"d":"92,157"},{"v":45970.263,"d":"45,970"}]
[1973,{"v":48948,"d":"48,948"},null,{"v":17283,"d":"17,283"},{"v":52080,"d":"52,080"},null,{"v":13020,"d":"13,020"},null,{"v":22117,"d":"22,117"},{"v":2002,"d":"2,002"},{"v":77225,"d":"77,225"},{"v":5017,"d":"5,017"},null,{"v":200370,"d":"200,370"},{"v":37322,"d":"37,322"},null,{"v":1046.955,"d":"1,047"},{"v":2788.045,"d":"2,788"},null,{"v":7180.019,"d":"7,180"},{"v":1296.981,"d":"1,297"},null,{"v":10830.24,"d":"10,830"},null,{"v":1704.76,"d":"1,705"},null,{"v":19689.214,"d":"19,689"},{"v":6043.786,"d":"6,044"},null,{"v":220059.214,"d":"220,059"},{"v":43365.786,"d":"43,366"}]
[1974,{"v":66304,"d":"66,304"},null,{"v":14894,"d":"14,894"},{"v":53558,"d":"53,558"},null,{"v":6960,"d":"6,960"},null,{"v":16758,"d":"16,758"},{"v":1051,"d":"1,051"},{"v":51613,"d":"51,613"},{"v":1983,"d":"1,983"},null,{"v":188233,"d":"188,233"},{"v":24888,"d":"24,888"},null,{"v":1304.884,"d":"1,305"},{"v":302.116,"d":"302"},null,{"v":4320.687999999999,"d":"4,321"},{"v":1107.312,"d":"1,107"},null,{"v":7478.4,"d":"7,478"},null,{"v":721.6,"d":"722"},null,{"v":13782.971999999998,"d":"13,783"},{"v":2295.028,"d":"2,295"},null,{"v":202015.972,"d":"202,016"},{"v":27183.028,"d":"27,183"}]
[1975,{"v":72985,"d":"72,985"},null,{"v":21969,"d":"21,969"},{"v":34754,"d":"34,754"},null,{"v":2755,"d":"2,755"},null,{"v":4699,"d":"4,699"},925,{"v":29112,"d":"29,112"},{"v":3020,"d":"3,020"},null,{"v":141550,"d":"141,550"},{"v":28669,"d":"28,669"},null,{"v":1823.25,"d":"1,823"},{"v":607.75,"d":"608"},null,{"v":4169.88,"d":"4,170"},{"v":1095.12,"d":"1,095"},null,{"v":6611.504,"d":"6,612"},null,{"v":800.4960000000001,"d":"800"},null,{"v":14070.634,"d":"14,071"},{"v":2981.366,"d":"2,981"},null,{"v":155620.634,"d":"155,621"},{"v":31650.366,"d":"31,650"}]
[1976,{"v":80263,"d":"80,263"},null,{"v":12392,"d":"12,392"},{"v":50724,"d":"50,724"},null,{"v":6078,"d":"6,078"},null,{"v":3087,"d":"3,087"},692,{"v":22163,"d":"22,163"},996,null,{"v":156237,"d":"156,237"},{"v":20158,"d":"20,158"},null,{"v":1798.5509999999997,"d":"1,799"},{"v":498.449,"d":"498"},null,{"v":4298.746,"d":"4,299"},{"v":899.2540000000001,"d":"899"},null,{"v":4312.805,"d":"4,313"},null,{"v":902.195,"d":"902"},null,{"v":11628.101999999999,"d":"11,628"},{"v":2511.898,"d":"2,512"},null,{"v":167865.102,"d":"167,865"},{"v":22669.898,"d":"22,670"}]
[1977,{"v":60967,"d":"60,967"},null,{"v":12425,"d":"12,425"},{"v":35672,"d":"35,672"},null,{"v":1996,"d":"1,996"},null,{"v":6786,"d":"6,786"},{"v":1936,"d":"1,936"},{"v":39608,"d":"39,608"},{"v":1997,"d":"1,997"},null,{"v":143033,"d":"143,033"},{"v":18354,"d":"18,354"},null,{"v":4740.576,"d":"4,741"},{"v":503.42400000000004,"d":"503"},null,{"v":8529.264,"d":"8,529"},{"v":254.736,"d":"255"},null,{"v":6366.636,"d":"6,367"},null,{"v":501.364,"d":"501"},null,{"v":20978.476000000002,"d":"20,978"},{"v":1586.5240000000001,"d":"1,587"},null,{"v":164011.476,"d":"164,011"},{"v":19940.524,"d":"19,941"}]
[1978,{"v":66991,"d":"66,991"},null,{"v":16610,"d":"16,610"},{"v":29007,"d":"29,007"},null,{"v":3993,"d":"3,993"},null,{"v":6363,"d":"6,363"},{"v":1053,"d":"1,053"},{"v":11933,"d":"11,933"},996,null,{"v":114294,"d":"114,294"},{"v":22652,"d":"22,652"},null,{"v":1089.6779999999999,"d":"1,090"},{"v":792.3220000000001,"d":"792"},null,{"v":3864.3080000000004,"d":"3,864"},{"v":894.692,"d":"895"},null,{"v":6072.528000000001,"d":"6,073"},null,{"v":2089.472,"d":"2,089"},null,{"v":12653.514000000003,"d":"12,654"},{"v":4201.486000000001,"d":"4,201"},null,{"v":126947.514,"d":"126,948"},{"v":26853.486,"d":"26,853"}]
[1979,{"v":81332,"d":"81,332"},null,{"v":37431,"d":"37,431"},{"v":25289,"d":"25,289"},null,{"v":3126,"d":"3,126"},null,{"v":10441,"d":"10,441"},{"v":1989,"d":"1,989"},{"v":39523,"d":"39,523"},{"v":1987,"d":"1,987"},null,{"v":156585,"d":"156,585"},{"v":44533,"d":"44,533"},null,{"v":4766.034,"d":"4,766"},{"v":3962.9659999999994,"d":"3,963"},null,{"v":3505.13,"d":"3,505"},{"v":584.87,"d":"585"},null,{"v":5900.07,"d":"5,900"},null,{"v":4450.93,"d":"4,451"},null,{"v":15812.234,"d":"15,812"},{"v":9813.766,"d":"9,814"},null,{"v":172397.234,"d":"172,397"},{"v":54346.766,"d":"54,347"}]
[1980,{"v":45504,"d":"45,504"},null,{"v":10666,"d":"10,666"},{"v":29077,"d":"29,077"},null,{"v":2528,"d":"2,528"},null,{"v":10260,"d":"10,260"},{"v":2146,"d":"2,146"},{"v":32352,"d":"32,352"},{"v":2147,"d":"2,147"},null,{"v":117193,"d":"117,193"},{"v":17487,"d":"17,487"},null,{"v":8799.778,"d":"8,800"},{"v":703.2220000000001,"d":"703"},null,{"v":1107,"d":"1,107"},{"v":2583,"d":"2,583"},null,{"v":13537.953,"d":"13,538"},null,{"v":2005.047,"d":"2,005"},null,{"v":24915.731,"d":"24,916"},{"v":5685.269,"d":"5,685"},null,{"v":142108.731,"d":"142,109"},{"v":23172.269,"d":"23,172"}]
[1981,{"v":51831,"d":"51,831"},null,{"v":34050,"d":"34,050"},{"v":40488,"d":"40,488"},null,{"v":4250,"d":"4,250"},null,{"v":12047,"d":"12,047"},{"v":1978,"d":"1,978"},{"v":39662,"d":"39,662"},{"v":3913,"d":"3,913"},null,{"v":144028,"d":"144,028"},{"v":44191,"d":"44,191"},null,{"v":4437.504000000001,"d":"4,438"},{"v":5834.495999999999,"d":"5,834"},null,{"v":7255.031999999999,"d":"7,255"},{"v":1026.968,"d":"1,027"},null,{"v":17792.352000000003,"d":"17,792"},null,{"v":2800.648,"d":"2,801"},null,{"v":30929.888000000003,"d":"30,930"},{"v":10601.112,"d":"10,601"},null,{"v":174957.888,"d":"174,958"},{"v":54792.112,"d":"54,792"}]
[1982,{"v":39694,"d":"39,694"},null,{"v":11717,"d":"11,717"},{"v":40427,"d":"40,427"},null,{"v":7529,"d":"7,529"},null,{"v":23463,"d":"23,463"},{"v":15904,"d":"15,904"},{"v":29391,"d":"29,391"},{"v":4387,"d":"4,387"},null,{"v":132975,"d":"132,975"},{"v":39537,"d":"39,537"},null,{"v":16225.275,"d":"16,225"},{"v":3299.7249999999995,"d":"3,300"},null,{"v":6451.2390000000005,"d":"6,451"},{"v":1111.761,"d":"1,112"},null,{"v":8097.214,"d":"8,097"},null,{"v":2800.786,"d":"2,801"},null,{"v":31665.728,"d":"31,666"},{"v":7575.271999999999,"d":"7,575"},null,{"v":164640.728,"d":"164,641"},{"v":47112.272,"d":"47,112"}]
[1983,{"v":42570,"d":"42,570"},null,{"v":23474,"d":"23,474"},{"v":18441,"d":"18,441"},null,{"v":4382,"d":"4,382"},null,{"v":11390,"d":"11,390"},{"v":2366,"d":"2,366"},{"v":19261,"d":"19,261"},{"v":7567,"d":"7,567"},null,{"v":91662,"d":"91,662"},{"v":37789,"d":"37,789"},null,{"v":5367.428,"d":"5,367"},{"v":3388.572,"d":"3,389"},null,{"v":6074.511,"d":"6,075"},{"v":1624.4890000000003,"d":"1,624"},null,{"v":6399.1,"d":"6,399"},null,{"v":2411.9,"d":"2,412"},null,{"v":18586.039,"d":"18,586"},{"v":7946.961000000001,"d":"7,947"},null,{"v":110248.039,"d":"110,248"},{"v":45735.961,"d":"45,736"}]
[1984,{"v":51772,"d":"51,772"},null,{"v":23455,"d":"23,455"},{"v":35378,"d":"35,378"},null,{"v":6391,"d":"6,391"},null,{"v":7104,"d":"7,104"},{"v":2561,"d":"2,561"},{"v":25993,"d":"25,993"},{"v":2600,"d":"2,600"},null,{"v":120247,"d":"120,247"},{"v":35007,"d":"35,007"},null,{"v":18667.565,"d":"18,668"},{"v":2913.4350000000004,"d":"2,913"},null,{"v":8842.176000000001,"d":"8,842"},{"v":445.824,"d":"446"},null,{"v":10289.16,"d":"10,289"},null,{"v":1959.84,"d":"1,960"},null,{"v":38724.901,"d":"38,725"},{"v":5599.099,"d":"5,599"},null,{"v":158971.901,"d":"158,972"},{"v":40606.099,"d":"40,606"}]
[1985,{"v":103698,"d":"103,698"},null,{"v":19463,"d":"19,463"},{"v":46527,"d":"46,527"},null,{"v":3664,"d":"3,664"},null,{"v":10121,"d":"10,121"},{"v":2921,"d":"2,921"},{"v":49707,"d":"49,707"},{"v":7241,"d":"7,241"},null,{"v":210053,"d":"210,053"},{"v":33289,"d":"33,289"},null,{"v":13088.64,"d":"13,089"},{"v":3231.36,"d":"3,231"},null,{"v":5601.804,"d":"5,602"},{"v":209.19600000000003,"d":"209"},null,{"v":7783.608,"d":"7,784"},null,{"v":1309.392,"d":"1,309"},null,{"v":29254.052,"d":"29,254"},{"v":6721.948,"d":"6,722"},null,{"v":239307.052,"d":"239,307"},{"v":40010.948000000004,"d":"40,011"}]
[1986,{"v":113875,"d":"113,875"},null,{"v":13291,"d":"13,291"},{"v":40566,"d":"40,566"},null,{"v":6277,"d":"6,277"},null,{"v":16940,"d":"16,940"},{"v":2442,"d":"2,442"},{"v":46875,"d":"46,875"},{"v":6725,"d":"6,725"},null,{"v":218256,"d":"218,256"},{"v":28735,"d":"28,735"},null,{"v":11282.824,"d":"11,283"},{"v":1198.176,"d":"1,198"},null,{"v":5780.76,"d":"5,781"},{"v":2847.24,"d":"2,847"},null,{"v":4783.8,"d":"4,784"},null,{"v":911.2,"d":"911"},null,{"v":21847.384000000002,"d":"21,847"},{"v":4956.616,"d":"4,957"},null,{"v":240103.384,"d":"240,103"},{"v":33691.616,"d":"33,692"}]
[1987,{"v":76861,"d":"76,861"},null,{"v":39160,"d":"39,160"},{"v":51278,"d":"51,278"},null,{"v":16460,"d":"16,460"},null,{"v":12352,"d":"12,352"},{"v":6166,"d":"6,166"},{"v":34741,"d":"34,741"},{"v":5655,"d":"5,655"},null,{"v":175232,"d":"175,232"},{"v":67441,"d":"67,441"},null,{"v":9981.184,"d":"9,981"},{"v":6274.816,"d":"6,275"},null,{"v":6509.552000000001,"d":"6,510"},{"v":3598.4480000000003,"d":"3,598"},null,{"v":3341.7720000000004,"d":"3,342"},null,{"v":2916.228,"d":"2,916"},null,{"v":19832.508,"d":"19,833"},{"v":12789.491999999998,"d":"12,789"},null,{"v":195064.508,"d":"195,065"},{"v":80230.492,"d":"80,230"}]
[1988,{"v":128725,"d":"128,725"},null,{"v":13335,"d":"13,335"},{"v":40215,"d":"40,215"},null,{"v":2341,"d":"2,341"},null,{"v":7110,"d":"7,110"},{"v":1890,"d":"1,890"},{"v":24646,"d":"24,646"},{"v":3170,"d":"3,170"},null,{"v":200696,"d":"200,696"},{"v":20736,"d":"20,736"},null,{"v":12593.875,"d":"12,594"},{"v":1021.125,"d":"1,021"},null,{"v":6156,"d":"6,156"},324,null,{"v":8021.25,"d":"8,021"},null,{"v":603.75,"d":"604"},null,{"v":26771.125,"d":"26,771"},{"v":1948.875,"d":"1,949"},null,{"v":227467.125,"d":"227,467"},{"v":22684.875,"d":"22,685"}]
[1989,{"v":67296,"d":"67,296"},null,{"v":14911,"d":"14,911"},{"v":36487,"d":"36,487"},null,{"v":4054,"d":"4,054"},null,{"v":6402,"d":"6,402"},{"v":1220,"d":"1,220"},{"v":17435,"d":"17,435"},{"v":3061,"d":"3,061"},null,{"v":127620,"d":"127,620"},{"v":23246,"d":"23,246"},null,{"v":10212.072,"d":"10,212"},{"v":1773.9280000000003,"d":"1,774"},null,{"v":6479.19,"d":"6,479"},{"v":1098.81,"d":"1,099"},null,{"v":8250.627,"d":"8,251"},null,{"v":1490.373,"d":"1,490"},null,{"v":24941.889,"d":"24,942"},{"v":4363.111000000001,"d":"4,363"},null,{"v":152561.889,"d":"152,562"},{"v":27609.111,"d":"27,609"}]
[1990,{"v":50225,"d":"50,225"},null,{"v":5523,"d":"5,523"},{"v":25000,"d":"25,000"},null,{"v":3000,"d":"3,000"},null,{"v":3500,"d":"3,500"},500,{"v":4618,"d":"4,618"},975,null,{"v":83343,"d":"83,343"},{"v":9998,"d":"9,998"},null,{"v":13464.2,"d":"13,464"},{"v":1170.8,"d":"1,171"},null,{"v":4257.57,"d":"4,258"},{"v":1868.43,"d":"1,868"},null,{"v":4025.5,"d":"4,026"},null,{"v":824.5,"d":"825"},null,{"v":21747.27,"d":"21,747"},{"v":3863.73,"d":"3,864"},null,{"v":105090.27,"d":"105,090"},{"v":13861.73,"d":"13,862"}]
[1991,{"v":35259,"d":"35,259"},null,{"v":4632,"d":"4,632"},{"v":28524,"d":"28,524"},null,{"v":2821,"d":"2,821"},null,{"v":11164,"d":"11,164"},{"v":2844,"d":"2,844"},{"v":17892,"d":"17,892"},{"v":1813,"d":"1,813"},null,{"v":92839,"d":"92,839"},{"v":12110,"d":"12,110"},null,{"v":10031,"d":"10,031"},{"v":651.663,"d":"652"},null,{"v":9227.337,"d":"9,227"},{"v":1489.6630000000002,"d":"1,490"},null,{"v":6771.6,"d":"6,772"},null,{"v":356.4,"d":"356"},null,{"v":26029.936999999998,"d":"26,030"},{"v":2497.726,"d":"2,498"},null,{"v":118868.937,"d":"118,869"},{"v":14607.726,"d":"14,608"}]
[1992,{"v":31734,"d":"31,734"},null,{"v":9113,"d":"9,113"},{"v":19790,"d":"19,790"},null,{"v":4315,"d":"4,315"},null,{"v":4517,"d":"4,517"},{"v":1845,"d":"1,845"},{"v":3816,"d":"3,816"},{"v":2095,"d":"2,095"},null,{"v":59857,"d":"59,857"},{"v":17368,"d":"17,368"},null,{"v":6256.5,"d":"6,257"},{"v":1018.5,"d":"1,019"},null,{"v":10324.32,"d":"10,324"},{"v":6115.68,"d":"6,116"},null,{"v":5106.696,"d":"5,107"},null,{"v":1349.3039999999999,"d":"1,349"},null,{"v":21687.516,"d":"21,688"},{"v":8483.484,"d":"8,483"},null,{"v":81544.516,"d":"81,545"},{"v":25851.484,"d":"25,851"}]
[1993,{"v":55144,"d":"55,144"},null,{"v":5409,"d":"5,409"},{"v":27367,"d":"27,367"},null,{"v":3556,"d":"3,556"},null,{"v":5818,"d":"5,818"},885,{"v":24435,"d":"24,435"},{"v":6592,"d":"6,592"},null,{"v":112764,"d":"112,764"},{"v":16442,"d":"16,442"},null,{"v":7055.91,"d":"7,056"},{"v":531.09,"d":"531"},null,{"v":10228.323,"d":"10,228"},{"v":1762.677,"d":"1,763"},null,{"v":7341.984,"d":"7,342"},null,{"v":3314.016,"d":"3,314"},null,{"v":24626.217,"d":"24,626"},{"v":5607.782999999999,"d":"5,608"},null,{"v":137390.217,"d":"137,390"},{"v":22049.783,"d":"22,050"}]
[1994,{"v":66383,"d":"66,383"},null,{"v":20371,"d":"20,371"},{"v":31013,"d":"31,013"},null,{"v":7369,"d":"7,369"},null,{"v":7046,"d":"7,046"},{"v":3844,"d":"3,844"},{"v":30544,"d":"30,544"},{"v":3054,"d":"3,054"},null,{"v":134986,"d":"134,986"},{"v":34638,"d":"34,638"},null,{"v":11584.51,"d":"11,585"},{"v":7406.49,"d":"7,406"},null,{"v":11340.692,"d":"11,341"},{"v":3861.308,"d":"3,861"},null,{"v":7676.031999999999,"d":"7,676"},null,{"v":890.9680000000001,"d":"891"},null,{"v":30601.233999999997,"d":"30,601"},{"v":12158.766,"d":"12,159"},null,{"v":165587.234,"d":"165,587"},{"v":46796.766,"d":"46,797"}]
[1995,{"v":112235,"d":"112,235"},null,{"v":17957,"d":"17,957"},{"v":56197,"d":"56,197"},null,{"v":3715,"d":"3,715"},null,{"v":12998,"d":"12,998"},{"v":1239,"d":"1,239"},{"v":72335,"d":"72,335"},{"v":8283,"d":"8,283"},null,{"v":253765,"d":"253,765"},{"v":31194,"d":"31,194"},null,{"v":24809.61,"d":"24,810"},{"v":1867.39,"d":"1,867"},null,{"v":11565.848,"d":"11,566"},{"v":583.152,"d":"583"},null,{"v":5172.407999999999,"d":"5,172"},null,{"v":1325.5919999999999,"d":"1,326"},null,{"v":41547.865999999995,"d":"41,548"},{"v":3776.134,"d":"3,776"},null,{"v":295312.866,"d":"295,313"},{"v":34970.134,"d":"34,970"}]
[1996,{"v":131268,"d":"131,268"},null,{"v":11649,"d":"11,649"},{"v":44593,"d":"44,593"},null,{"v":12577,"d":"12,577"},null,{"v":23492,"d":"23,492"},{"v":4408,"d":"4,408"},{"v":69761,"d":"69,761"},{"v":8825,"d":"8,825"},null,{"v":269114,"d":"269,114"},{"v":37459,"d":"37,459"},null,{"v":18848.42,"d":"18,848"},{"v":2329.58,"d":"2,330"},null,{"v":6493.706999999999,"d":"6,494"},{"v":1613.293,"d":"1,613"},null,{"v":7176.638,"d":"7,177"},null,{"v":474.362,"d":"474"},null,{"v":32518.764999999996,"d":"32,519"},{"v":4417.235,"d":"4,417"},null,{"v":301632.765,"d":"301,633"},{"v":41876.235,"d":"41,876"}]
[1997,{"v":167353,"d":"167,353"},null,{"v":13736,"d":"13,736"},{"v":47009,"d":"47,009"},null,{"v":3538,"d":"3,538"},null,{"v":19202,"d":"19,202"},{"v":6746,"d":"6,746"},{"v":48001,"d":"48,001"},{"v":8272,"d":"8,272"},null,{"v":281565,"d":"281,565"},{"v":32292,"d":"32,292"},null,{"v":44589.6,"d":"44,590"},{"v":6080.4,"d":"6,080"},null,{"v":13358.024,"d":"13,358"},{"v":1769.9759999999999,"d":"1,770"},null,{"v":5327.95,"d":"5,328"},null,{"v":322.05,"d":"322"},null,{"v":63275.57399999999,"d":"63,276"},{"v":8172.4259999999995,"d":"8,172"},null,{"v":344840.574,"d":"344,841"},{"v":40464.426,"d":"40,464"}]
[1998,{"v":60713,"d":"60,713"},null,{"v":5137,"d":"5,137"},{"v":39600,"d":"39,600"},"h/",{"v":3400,"d":"3,400"},null,{"v":26737,"d":"26,737"},{"v":4353,"d":"4,353"},{"v":48942,"d":"48,942"},{"v":15838,"d":"15,838"},null,{"v":175992,"d":"175,992"},{"v":28728,"d":"28,728"},null,{"v":42399.556,"d":"42,400"},{"v":1951.4440000000002,"d":"1,951"},null,{"v":17566.77,"d":"17,567"},{"v":1322.23,"d":"1,322"},null,{"v":9949.072,"d":"9,949"},null,{"v":1838.928,"d":"1,839"},null,{"v":69915.398,"d":"69,915"},{"v":5112.602,"d":"5,113"},null,{"v":245907.398,"d":"245,907"},{"v":33840.602,"d":"33,841"}]
[1999,{"v":256629,"d":"256,629"},null,{"v":7495,"d":"7,495"},{"v":30000,"d":"30,000"},"h/",{"v":7500,"d":"7,500"},null,{"v":18778,"d":"18,778"},{"v":5452,"d":"5,452"},{"v":52199,"d":"52,199"},{"v":10678,"d":"10,678"},null,{"v":357606,"d":"357,606"},{"v":31125,"d":"31,125"},null,{"v":23194.2,"d":"23,194"},{"v":3775.8,"d":"3,776"},null,{"v":12822,"d":"12,822"},{"v":1104,"d":"1,104"},null,{"v":6207.36,"d":"6,207"},null,{"v":3552.64,"d":"3,553"},null,{"v":42223.56,"d":"42,224"},{"v":8432.44,"d":"8,432"},null,{"v":399829.56,"d":"399,830"},{"v":39557.44,"d":"39,557"}]
[2000,{"v":152923,"d":"152,923"},null,{"v":3900,"d":"3,900"},{"v":109924,"d":"109,924"},null,{"v":7017,"d":"7,017"},null,{"v":12954,"d":"12,954"},{"v":2041,"d":"2,041"},{"v":94161,"d":"94,161"},{"v":6691,"d":"6,691"},null,{"v":369962,"d":"369,962"},{"v":19649,"d":"19,649"},null,{"v":20792.64,"d":"20,793"},{"v":866.36,"d":"866"},null,{"v":16470,"d":"16,470"},{"v":1676,"d":"1,676"},null,{"v":10312,"d":"10,312"},null,848,null,{"v":47574.64,"d":"47,575"},{"v":3390.36,"d":"3,390"},null,{"v":417536.64,"d":"417,537"},{"v":23039.36,"d":"23,039"}]
[2001,{"v":179198,"d":"179,198"},null,{"v":11853,"d":"11,853"},{"v":169588,"d":"169,588"},null,{"v":9114,"d":"9,114"},null,{"v":21567,"d":"21,567"},{"v":1825,"d":"1,825"},{"v":169023,"d":"169,023"},{"v":16144,"d":"16,144"},null,{"v":539376,"d":"539,376"},{"v":38936,"d":"38,936"},null,{"v":23710.08,"d":"23,710"},{"v":987.92,"d":"988"},null,{"v":24001,"d":"24,001"},871,null,{"v":9688,"d":"9,688"},null,{"v":1956,"d":"1,956"},null,{"v":57399.08,"d":"57,399"},{"v":3814.92,"d":"3,815"},null,{"v":596775.08,"d":"596,775"},{"v":42750.92,"d":"42,751"}]
[2002,{"v":474812,"d":"474,812"},"i/",{"v":11259,"d":"11,259"},{"v":93766,"d":"93,766"},null,{"v":11397,"d":"11,397"},null,{"v":18406,"d":"18,406"},{"v":4796,"d":"4,796"},{"v":97242,"d":"97,242"},{"v":15195,"d":"15,195"},null,{"v":684226,"d":"684,226"},{"v":42647,"d":"42,647"},null,{"v":61895,"d":"61,895"},{"v":4029,"d":"4,029"},null,{"v":17516,"d":"17,516"},{"v":2991,"d":"2,991"},null,{"v":6231,"d":"6,231"},null,{"v":3586,"d":"3,586"},null,{"v":85642,"d":"85,642"},{"v":10606,"d":"10,606"},null,{"v":769868,"d":"769,868"},{"v":53253,"d":"53,253"}]
[2003,{"v":164802,"d":"164,802"},null,{"v":4402,"d":"4,402"},{"v":85578,"d":"85,578"},null,{"v":4369,"d":"4,369"},null,{"v":26820,"d":"26,820"},{"v":1489,"d":"1,489"},{"v":137444,"d":"137,444"},{"v":13647,"d":"13,647"},null,{"v":414644,"d":"414,644"},{"v":23907,"d":"23,907"},null,{"v":82882,"d":"82,882"},{"v":5352,"d":"5,352"},null,{"v":13615,"d":"13,615"},{"v":1352,"d":"1,352"},null,{"v":11875,"d":"11,875"},null,{"v":3012,"d":"3,012"},null,{"v":108372,"d":"108,372"},{"v":9716,"d":"9,716"},null,{"v":523016,"d":"523,016"},{"v":33623,"d":"33,623"}]
[2004,{"v":70548,"d":"70,548"},null,{"v":7220,"d":"7,220"},{"v":48580,"d":"48,580"},null,{"v":5591,"d":"5,591"},null,{"v":9260,"d":"9,260"},{"v":5208,"d":"5,208"},{"v":77842,"d":"77,842"},{"v":21505,"d":"21,505"},null,{"v":206230,"d":"206,230"},{"v":39524,"d":"39,524"},null,{"v":52145,"d":"52,145"},{"v":17027,"d":"17,027"},null,{"v":15769,"d":"15,769"},{"v":5535,"d":"5,535"},null,{"v":12741,"d":"12,741"},null,{"v":13659,"d":"13,659"},null,{"v":80655,"d":"80,655"},{"v":36221,"d":"36,221"},null,{"v":286885,"d":"286,885"},{"v":75745,"d":"75,745"}]
[2005,{"v":96716,"d":"96,716"},null,{"v":3267,"d":"3,267"},{"v":43738,"d":"43,738"},null,{"v":4848,"d":"4,848"},null,{"v":16251,"d":"16,251"},987,{"v":58155,"d":"58,155"},{"v":4499,"d":"4,499"},null,{"v":214860,"d":"214,860"},{"v":13601,"d":"13,601"},null,{"v":139979,"d":"139,979"},{"v":2694,"d":"2,694"},null,{"v":20597,"d":"20,597"},{"v":1787,"d":"1,787"},null,{"v":20569,"d":"20,569"},null,{"v":1780,"d":"1,780"},null,{"v":181145,"d":"181,145"},{"v":6261,"d":"6,261"},null,{"v":396005,"d":"396,005"},{"v":19862,"d":"19,862"}]
[2006,{"v":89933,"d":"89,933"},null,{"v":2874,"d":"2,874"},{"v":75545,"d":"75,545"},null,{"v":1869,"d":"1,869"},null,{"v":7891,"d":"7,891"},230,{"v":23120,"d":"23,120"},{"v":1420,"d":"1,420"},null,{"v":196489,"d":"196,489"},{"v":6393,"d":"6,393"},null,{"v":56819,"d":"56,819"},{"v":1013,"d":"1,013"},null,{"v":13400,"d":"13,400"},634,null,{"v":8322,"d":"8,322"},null,406,null,{"v":78541,"d":"78,541"},{"v":2053,"d":"2,053"},null,{"v":275030,"d":"275,030"},{"v":8446,"d":"8,446"}]
[2007,{"v":36079,"d":"36,079"},null,978,{"v":21541,"d":"21,541"},null,321,null,{"v":2523,"d":"2,523"},81,{"v":9929,"d":"9,929"},144,null,{"v":70072,"d":"70,072"},{"v":1524,"d":"1,524"},null,{"v":11543,"d":"11,543"},201,null,{"v":5169,"d":"5,169"},172,null,{"v":4590,"d":"4,590"},null,7,null,{"v":21302,"d":"21,302"},380,null,{"v":91374,"d":"91,374"},{"v":1904,"d":"1,904"}]
[2008,{"v":36274,"d":"36,274"},null,{"v":2074,"d":"2,074"},{"v":5703,"d":"5,703"},null,236,null,{"v":3084,"d":"3,084"},424,{"v":2255,"d":"2,255"},259,null,{"v":47316,"d":"47,316"},{"v":2993,"d":"2,993"},null,{"v":10181,"d":"10,181"},458,null,{"v":5031,"d":"5,031"},323,null,{"v":2836,"d":"2,836"},null,348,null,{"v":18048,"d":"18,048"},{"v":1129,"d":"1,129"},null,{"v":65364,"d":"65,364"},{"v":4122,"d":"4,122"}]
[2009,{"v":12277,"d":"12,277"},null,{"v":1624,"d":"1,624"},{"v":3950,"d":"3,950"},null,897,null,{"v":3992,"d":"3,992"},803,{"v":4729,"d":"4,729"},{"v":1047,"d":"1,047"},null,{"v":24948,"d":"24,948"},{"v":4371,"d":"4,371"},null,{"v":5433,"d":"5,433"},719,null,{"v":6240,"d":"6,240"},{"v":3723,"d":"3,723"},null,{"v":4252,"d":"4,252"},null,654,null,{"v":15925,"d":"15,925"},{"v":5096,"d":"5,096"},null,{"v":40873,"d":"40,873"},{"v":9467,"d":"9,467"}]
[2010,{"v":25688,"d":"25,688"},null,{"v":6872,"d":"6,872"},{"v":40981,"d":"40,981"},null,{"v":3933,"d":"3,933"},null,{"v":12074,"d":"12,074"},{"v":1023,"d":"1,023"},{"v":12383,"d":"12,383"},{"v":2305,"d":"2,305"},null,{"v":91126,"d":"91,126"},{"v":14133,"d":"14,133"},null,{"v":8666,"d":"8,666"},{"v":8572,"d":"8,572"},null,{"v":17215,"d":"17,215"},{"v":2757,"d":"2,757"},null,{"v":7269,"d":"7,269"},null,{"v":1826,"d":"1,826"},null,{"v":33150,"d":"33,150"},{"v":13155,"d":"13,155"},1,{"v":124276,"d":"124,276"},{"v":27288,"d":"27,288"}]
[2011,{"v":20466,"d":"20,466"},null,{"v":15096,"d":"15,096"},{"v":35656,"d":"35,656"},null,{"v":11633,"d":"11,633"},null,{"v":6917,"d":"6,917"},{"v":2204,"d":"2,204"},{"v":14815,"d":"14,815"},{"v":10422,"d":"10,422"},null,{"v":77854,"d":"77,854"},{"v":39355,"d":"39,355"},null,{"v":19312,"d":"19,312"},{"v":23068,"d":"23,068"},null,{"v":15925,"d":"15,925"},{"v":16691,"d":"16,691"},null,{"v":6251,"d":"6,251"},null,{"v":6429,"d":"6,429"},null,{"v":41488,"d":"41,488"},{"v":46188,"d":"46,188"},null,{"v":119342,"d":"119,342"},{"v":85543,"d":"85,543"}]
[2012,{"v":67190,"d":"67,190"},null,{"v":7125,"d":"7,125"},{"v":57507,"d":"57,507"},null,{"v":6142,"d":"6,142"},null,{"v":6009,"d":"6,009"},{"v":1722,"d":"1,722"},{"v":35527,"d":"35,527"},{"v":3296,"d":"3,296"},null,{"v":166233,"d":"166,233"},{"v":18285,"d":"18,285"},null,{"v":77318,"d":"77,318"},{"v":8198,"d":"8,198"},null,{"v":33628,"d":"33,628"},{"v":8533,"d":"8,533"},null,{"v":8250,"d":"8,250"},null,{"v":1007,"d":"1,007"},null,{"v":119196,"d":"119,196"},{"v":17738,"d":"17,738"},null,{"v":285429,"d":"285,429"},{"v":36023,"d":"36,023"}]
[2013,{"v":90119,"d":"90,119"},null,{"v":6253,"d":"6,253"},{"v":145650,"d":"145,650"},null,{"v":5559,"d":"5,559"},null,{"v":13830,"d":"13,830"},{"v":1050,"d":"1,050"},{"v":56036,"d":"56,036"},{"v":2192,"d":"2,192"},null,{"v":305635,"d":"305,635"},{"v":15054,"d":"15,054"},null,{"v":67758,"d":"67,758"},{"v":2103,"d":"2,103"},null,{"v":25152,"d":"25,152"},{"v":2470,"d":"2,470"},null,{"v":8301,"d":"8,301"},null,775,null,{"v":101211,"d":"101,211"},{"v":5348,"d":"5,348"},null,{"v":406846,"d":"406,846"},{"v":20402,"d":"20,402"}]
[2014,{"v":80407,"d":"80,407"},null,{"v":7193,"d":"7,193"},{"v":55480,"d":"55,480"},null,{"v":5241,"d":"5,241"},null,{"v":9885,"d":"9,885"},{"v":1819,"d":"1,819"},{"v":22895,"d":"22,895"},{"v":3580,"d":"3,580"},null,{"v":168667,"d":"168,667"},{"v":17833,"d":"17,833"},null,{"v":17937,"d":"17,937"},903,null,{"v":18824,"d":"18,824"},{"v":4596,"d":"4,596"},null,{"v":7048,"d":"7,048"},null,{"v":1295,"d":"1,295"},null,{"v":43809,"d":"43,809"},{"v":6794,"d":"6,794"},null,{"v":212476,"d":"212,476"},{"v":24627,"d":"24,627"}]
[2015,{"v":40696,"d":"40,696"},null,{"v":3342,"d":"3,342"},{"v":18069,"d":"18,069"},null,{"v":2497,"d":"2,497"},{"v":2730,"d":"2,730"},{"v":3844,"d":"3,844"},{"v":2789,"d":"2,789"},{"v":11895,"d":"11,895"},{"v":3844,"d":"3,844"},{"v":17648,"d":"17,648"},{"v":74504,"d":"74,504"},{"v":12472,"d":"12,472"},null,{"v":13861,"d":"13,861"},{"v":1863,"d":"1,863"},null,{"v":17700,"d":"17,700"},{"v":3116,"d":"3,116"},{"v":3916,"d":"3,916"},{"v":7403,"d":"7,403"},null,{"v":2419,"d":"2,419"},null,{"v":38964,"d":"38,964"},{"v":7398,"d":"7,398"}," ",{"v":113468,"d":"113,468"},{"v":19870,"d":"19,870"}]
[2016,{"v":10563,"d":"10,563"},null,803,{"v":34054,"d":"34,054"},null,{"v":4727,"d":"4,727"},null,{"v":2143,"d":"2,143"},{"v":1422,"d":"1,422"},{"v":9537,"d":"9,537"},{"v":4936,"d":"4,936"},null,{"v":56297,"d":"56,297"},{"v":11888,"d":"11,888"},null,{"v":8306,"d":"8,306"},225,null,{"v":17594,"d":"17,594"},{"v":2962,"d":"2,962"},null,{"v":7502,"d":"7,502"},null,{"v":1922,"d":"1,922"},null,{"v":33402,"d":"33,402"},{"v":5109,"d":"5,109"},null,{"v":89699,"d":"89,699"},{"v":16997,"d":"16,997"}]
[2017,{"v":1526,"d":"1,526"},null,{"v":4015,"d":"4,015"},{"v":8120,"d":"8,120"},null,{"v":2414,"d":"2,414"},null,{"v":1207,"d":"1,207"},441,{"v":6998,"d":"6,998"},{"v":2665,"d":"2,665"},null,{"v":17851,"d":"17,851"},{"v":9535,"d":"9,535"},null,{"v":1316,"d":"1,316"},{"v":5080,"d":"5,080"},null,{"v":16598,"d":"16,598"},{"v":8448,"d":"8,448"},null,{"v":8564,"d":"8,564"},"j/",{"v":2015,"d":"2,015"},"j/",{"v":26478,"d":"26,478"},{"v":15543,"d":"15,543"},null,{"v":44329,"d":"44,329"},{"v":25078,"d":"25,078"}]
[2018,{"v":18317,"d":"18,317"},null,{"v":11998,"d":"11,998"},{"v":39210,"d":"39,210"},null,{"v":6616,"d":"6,616"},null,{"v":2140,"d":"2,140"},933,{"v":12022,"d":"12,022"},{"v":9070,"d":"9,070"},null,{"v":71689,"d":"71,689"},{"v":28617,"d":"28,617"},null,{"v":8207,"d":"8,207"},{"v":5991,"d":"5,991"},null,{"v":21084,"d":"21,084"},{"v":7272,"d":"7,272"},null,{"v":4486,"d":"4,486"},null,{"v":1726,"d":"1,726"},null,{"v":33777,"d":"33,777"},{"v":14989,"d":"14,989"},null,{"v":105466,"d":"105,466"},{"v":43606,"d":"43,606"}]
[2019,{"v":53706,"d":"53,706"},null,{"v":5203,"d":"5,203"},{"v":43352,"d":"43,352"},null,{"v":8611,"d":"8,611"},null,{"v":2677,"d":"2,677"},671,{"v":21894,"d":"21,894"},{"v":5136,"d":"5,136"},null,{"v":121629,"d":"121,629"},{"v":19621,"d":"19,621"},null,{"v":13065,"d":"13,065"},{"v":1204,"d":"1,204"},null,{"v":19731,"d":"19,731"},{"v":7372,"d":"7,372"},null,{"v":9342,"d":"9,342"},null,{"v":1954,"d":"1,954"},null,{"v":42138,"d":"42,138"},{"v":10530,"d":"10,530"},null,{"v":163767,"d":"163,767"},{"v":30151,"d":"30,151"}]
[2020,{"v":36447,"d":"36,447"},null,{"v":3747,"d":"3,747"},{"v":40499,"d":"40,499"},null,{"v":2470,"d":"2,470"},null,{"v":3801,"d":"3,801"},393,{"v":19422,"d":"19,422"},{"v":3034,"d":"3,034"},null,{"v":100169,"d":"100,169"},{"v":9644,"d":"9,644"},null,{"v":12478,"d":"12,478"},{"v":1259,"d":"1,259"},null,{"v":20340,"d":"20,340"},{"v":1853,"d":"1,853"},null,{"v":5104,"d":"5,104"},null,{"v":1160,"d":"1,160"},null,{"v":37922,"d":"37,922"},{"v":4272,"d":"4,272"},null,{"v":138091,"d":"138,091"},{"v":13916,"d":"13,916"}]
[2021,{"v":51822,"d":"51,822"},null,{"v":5484,"d":"5,484"},{"v":9203,"d":"9,203"},null,485,null,{"v":3957,"d":"3,957"},712,{"v":7787,"d":"7,787"},{"v":3445,"d":"3,445"},null,{"v":72769,"d":"72,769"},{"v":10126,"d":"10,126"},null,{"v":14556,"d":"14,556"},{"v":1882,"d":"1,882"},null,{"v":10927,"d":"10,927"},{"v":1458,"d":"1,458"},null,{"v":7332,"d":"7,332"},null,{"v":3745,"d":"3,745"},null,{"v":32815,"d":"32,815"},{"v":7085,"d":"7,085"},null,{"v":105584,"d":"105,584"},{"v":17211,"d":"17,211"}]
[2022,{"v":8986,"d":"8,986"},null,647,{"v":6164,"d":"6,164"},null,413,null,{"v":2926,"d":"2,926"},245,{"v":14631,"d":"14,631"},{"v":1752,"d":"1,752"},null,{"v":32707,"d":"32,707"},{"v":3057,"d":"3,057"},null,{"v":8935,"d":"8,935"},307,null,{"v":11909,"d":"11,909"},{"v":2368,"d":"2,368"},null,{"v":8311,"d":"8,311"},null,{"v":1213,"d":"1,213"},null,{"v":29155,"d":"29,155"},{"v":3888,"d":"3,888"},null,{"v":61862,"d":"61,862"},{"v":6945,"d":"6,945"}]
[2023,{"v":6284,"d":"6,284"},null,437,{"v":60389,"d":"60,389"},null,{"v":3500,"d":"3,500"},null,{"v":4709,"d":"4,709"},137,{"v":34375,"d":"34,375"},{"v":2946,"d":"2,946"},null,{"v":105757,"d":"105,757"},{"v":7020,"d":"7,020"},null,{"v":4534,"d":"4,534"},315,null,{"v":16989,"d":"16,989"},{"v":1810,"d":"1,810"},null,{"v":6503,"d":"6,503"},null,{"v":2796,"d":"2,796"},null,{"v":28026,"d":"28,026"},{"v":4921,"d":"4,921"},null,{"v":133783,"d":"133,783"},{"v":11941,"d":"11,941"}]
["2024k/",{"v":4408,"d":"4,408"},null,{"v":4611,"d":"4,611"},{"v":23549,"d":"23,549"},null,{"v":2604,"d":"2,604"},null,{"v":4416,"d":"4,416"},530,{"v":40067,"d":"40,067"},{"v":3119,"d":"3,119"},null,{"v":72440,"d":"72,440"},{"v":10864,"d":"10,864"},null,{"v":2603,"d":"2,603"},{"v":3883,"d":"3,883"},null,{"v":14568,"d":"14,568"},{"v":1868,"d":"1,868"},null,{"v":9663,"d":"9,663"},null,{"v":2550,"d":"2,550"},null,{"v":26834,"d":"26,834"},{"v":8301,"d":"8,301"},null,{"v":99274,"d":"99,274"},{"v":19165,"d":"19,165"}]
["GOALS","-",null,"-","-",null,"-",null,"-","-","-","-",null,"-","-",null,"12,000l/","-",null,"6,000l/","-",null,"4,000l/",null,"-",null,"22,000l/","-",null,"122,000m/","-"]
["a/  In 2004, CDFW reviewed and updated 1971-2003 escapement estimates to reflect final project reports. "]
["b/  Chinook spawning during the fall; may include spring run fish in some survey areas. "]
["c/  Most natural area estimates based on carcass surveys with a jack length cut-off."]
["d/  Upper Sacramento mainstem estimates generally based on carcass surveys with a jack length cut-off, however, jack estimates from Red Bluff Diversion Dam (RBDD) reports have occasionally been used.  Early (pre-2001) mainstem Sacramento River adult and jack estimates based on RBDD passage. "]
[]
["e/  Upper Sacramento River escapement includes Sacramento River mainstem; Battle, Clear, Mill, Deer, Butte, Cottonwood, and Cow creeks; and other small tributaries when surveys were conducted.  Specific escapement estimates by tributary can be found at www.calfish.org."]
[]
["f/  American River adult and jack ecapement estimates include fish taken at Nimbus Weir, 1979-current. In previous versions of this table, fish taken at Nimbus Weir were included in the Nimbus Fish Hatchery counts."]
["g/  Total adults in Sacramento hatcheries include Tehama-Colusa Fish Facility escapements, 1971-1985. "]
["h/  Survey methodology was variable for 1998-99; may not be comparable to other surveys. "]
["i/  Change in 2002 estimation methodology due to extremely high Battle Creek escapement."]
["j/  Nimbus Fish Hatchery opened three weeks early to collect anticipated stray Chinook originating from Coleman National Fish Hatchery. During this time, 2,886 fish were collected."]
["k/  Preliminary. "]
["l/  Current hatchery-specific goals, not PFMC goals."]
["m/  Sacramento River fall Chinook SMSY."]
{"$rows_empty":18}
["TABLE B-1.  Sacramento River fall Chinook salmon escapement in numbers of fish.a/b/"]
[null,"Upper Sacramento Natural Areasc/d/e/",null,null,"Lower Sacramento Natural Areasc/",{"$nulls":8},"Natural Area Totalsc/",null,null,"Sacramento Hatcheries",{"$nulls":9},"Hatchery Totals",null,null,"Sacramento Totals"]
["Year or Average",{"$nulls":3},"  Feather River",{"$nulls":3},"  Yuba River",null," American Riverf/",{"$nulls":5},"Coleman",null,null,"Feather River",null,null,"Nimbus"]
[null,"Adults",null,"Jacks","Adults",null,"Jacks",null,"Adults","Jacks","Adults","Jacks",null,"Adults","Jacks",null,"Adults","Jacks",null,"Adults","Jacks",null,"Adults",null,"Jacks",null,"Adultsg/","Jacks",null,"Adults","Jacks"]
["1981-1985",{"$f":"AVERAGE(B16:B20)","v":{"v":57913,"d":"57,913"}},null,{"$f":"AVERAGE(D16:D20)","v":{"v":22431.8,"d":"22,432"}},{"$f":"AVERAGE(E16:E20)","v":{"v":36252.2,"d":"36,252"}},null,{"$f":"AVERAGE(G16:G20)","v":{"v":5243.2,"d":"5,243"}},null,{"$f":"AVERAGE(I16:I20)","v":{"v":12825,"d":"12,825"}},{"$f":"AVERAGE(J16:J20)","v":{"v":5146,"d":"5,146"}},{"$f":"AVERAGE(K16:K20)","v":{"v":32802.8,"d":"32,803"}},{"$f":"AVERAGE(L16:L20)","v":{"v":5141.6,"d":"5,142"}},null,{"$f":"AVERAGE(N16:N20)","v":{"v":139793,"d":"139,793"}},{"$f":"AVERAGE(O16:O20)","v":{"v":37962.6,"d":"37,963"}},null,{"$f":"AVERAGE(Q16:Q20)","v":{"v":11557.2824,"d":"11,557"}},{"$f":"AVERAGE(R16:R20)","v":{"v":3733.5176,"d":"3,734"}},null,{"$f":"AVERAGE(T16:T20)","v":{"v":6844.9524,"d":"6,845"}},{"$f":"AVERAGE(U16:U20)","v":{"v":883.6476,"d":"884"}},null,{"$f":"AVERAGE(W16:W20)","v":{"v":10072.2868,"d":"10,072"}},null,{"$f":"AVERAGE(Y16:Y20)","v":{"v":2256.5132000000003,"d":"2,257"}},null,{"$f":"AVERAGE(AA16:AA20)","v":{"v":29832.121600000002,"d":"29,832"}},{"$f":"AVERAGE(AB16:AB20)","v":{"v":7688.878400000001,"d":"7,689"}},null,{"$f":"AVERAGE(AD16:AD20)","v":{"v":169625.1216,"d":"169,625"}},{"$f":"AVERAGE(AE16:AE20)","v":{"v":45651.47840000001,"d":"45,651"}}]
["1986-1990",{"$f":"AVERAGE(B21:B25)","v":{"v":87396.4,"d":"87,396"}},null,{"$f":"AVERAGE(D21:D25)","v":{"v":17244,"d":"17,244"}},{"$f":"AVERAGE(E21:E25)","v":{"v":38709.2,"d":"38,709"}},null,{"$f":"AVERAGE(G21:G25)","v":{"v":6426.4,"d":"6,426"}},null,{"$f":"AVERAGE(I21:I25)","v":{"v":9260.8,"d":"9,261"}},{"$f":"AVERAGE(J21:J25)","v":{"v":2443.6,"d":"2,444"}},{"$f":"AVERAGE(K21:K25)","v":{"v":25663,"d":"25,663"}},{"$f":"AVERAGE(L21:L25)","v":{"v":3917.2,"d":"3,917"}},null,{"$f":"AVERAGE(N21:N25)","v":{"v":161029.4,"d":"161,029"}},{"$f":"AVERAGE(O21:O25)","v":{"v":30031.2,"d":"30,031"}},null,{"$f":"AVERAGE(Q21:Q25)","v":{"v":11506.831,"d":"11,507"}},{"$f":"AVERAGE(R21:R25)","v":{"v":2287.769,"d":"2,288"}},null,{"$f":"AVERAGE(T21:T25)","v":{"v":5836.6144,"d":"5,837"}},{"$f":"AVERAGE(U21:U25)","v":{"v":1947.3856,"d":"1,947"}},null,{"$f":"AVERAGE(W21:W25)","v":{"v":5684.5898,"d":"5,685"}},null,{"$f":"AVERAGE(Y21:Y25)","v":{"v":1349.2102,"d":"1,349"}},null,{"$f":"AVERAGE(AA21:AA25)","v":{"v":23028.035200000002,"d":"23,028"}},{"$f":"AVERAGE(AB21:AB25)","v":{"v":5584.3648,"d":"5,584"}},null,{"$f":"AVERAGE(AD21:AD25)","v":{"v":184057.4352,"d":"184,057"}},{"$f":"AVERAGE(AE21:AE25)","v":{"v":35615.56480000001,"d":"35,616"}}]
["1991-1995",{"$f":"AVERAGE(B26:B30)","v":{"v":60151,"d":"60,151"}},null,{"$f":"AVERAGE(D26:D30)","v":{"v":11496.4,"d":"11,496"}},{"$f":"AVERAGE(E26:E30)","v":{"v":32578.2,"d":"32,578"}},null,{"$f":"AVERAGE(G26:G30)","v":{"v":4355.2,"d":"4,355"}},null,{"$f":"AVERAGE(I26:I30)","v":{"v":8308.6,"d":"8,309"}},{"$f":"AVERAGE(J26:J30)","v":{"v":2131.4,"d":"2,131"}},{"$f":"AVERAGE(K26:K30)","v":{"v":29804.4,"d":"29,804"}},{"$f":"AVERAGE(L26:L30)","v":{"v":4367.4,"d":"4,367"}},null,{"$f":"AVERAGE(N26:N30)","v":{"v":130842.2,"d":"130,842"}},{"$f":"AVERAGE(O26:O30)","v":{"v":22350.4,"d":"22,350"}},null,{"$f":"AVERAGE(Q26:Q30)","v":{"v":11947.506,"d":"11,948"}},{"$f":"AVERAGE(R26:R30)","v":{"v":2295.0266,"d":"2,295"}},null,{"$f":"AVERAGE(T26:T30)","v":{"v":10537.304,"d":"10,537"}},{"$f":"AVERAGE(U26:U30)","v":{"v":2762.496,"d":"2,762"}},null,{"$f":"AVERAGE(W26:W30)","v":{"v":6413.744,"d":"6,414"}},null,{"$f":"AVERAGE(Y26:Y30)","v":{"v":1447.2559999999999,"d":"1,447"}},null,{"$f":"AVERAGE(AA26:AA30)","v":{"v":28898.553999999996,"d":"28,899"}},{"$f":"AVERAGE(AB26:AB30)","v":{"v":6504.778600000001,"d":"6,505"}},null,{"$f":"AVERAGE(AD26:AD30)","v":{"v":159740.75400000002,"d":"159,741"}},{"$f":"AVERAGE(AE26:AE30)","v":{"v":28855.178600000003,"d":"28,855"}}]
["1996-2000",{"$f":"AVERAGE(B31:B35)","v":{"v":153777.2,"d":"153,777"}},null,{"$f":"AVERAGE(D31:D35)","v":{"v":8383.4,"d":"8,383"}},{"$f":"AVERAGE(E31:E35)","v":{"v":54225.2,"d":"54,225"}},"h/",{"$f":"AVERAGE(G31:G35)","v":{"v":6806.4,"d":"6,806"}},{"$error":"#DIV/0!"},{"v":20232.6,"d":"20,233"},{"v":4600,"d":"4,600"},{"v":62612.8,"d":"62,613"},{"v":10060.8,"d":"10,061"},{"$error":"#DIV/0!"},{"v":290847.8,"d":"290,848"},{"v":29850.6,"d":"29,851"},{"$error":"#DIV/0!"},{"v":29964.8832,"d":"29,965"},{"v":3000.7167999999997,"d":"3,001"},null,{"$f":"AVERAGE(T31:T35)","v":{"v":13342.1002,"d":"13,342"}},{"$f":"AVERAGE(U31:U35)","v":{"v":1497.0998,"d":"1,497"}},{"$f":"AVERAGE(V31:V35)","v":{"$error":"#DIV/0!"}},{"$f":"AVERAGE(W31:W35)","v":{"v":7794.604000000001,"d":"7,795"}},null,{"$f":"AVERAGE(Y31:Y35)","v":{"v":1407.196,"d":"1,407"}},null,{"$f":"AVERAGE(AA31:AA35)","v":{"v":51101.5874,"d":"51,102"}},{"$f":"AVERAGE(AB31:AB35)","v":{"v":5905.0126,"d":"5,905"}},{"$f":"AVERAGE(AC31:AC35)","v":{"$error":"#DIV/0!"}},{"$f":"AVERAGE(AD31:AD35)","v":{"v":341949.3874,"d":"341,949"}},{"$f":"AVERAGE(AE31:AE35)","v":{"v":35755.61259999999,"d":"35,756"}}]
["2001-2005",{"$f":"AVERAGE(B36:B40)","v":{"v":197215.2,"d":"197,215"}},{"$f":"C37","v":"i/"},{"$f":"AVERAGE(D36:D40)","v":{"v":7600.2,"d":"7,600"}},{"v":88250,"d":"88,250"},null,{"$f":"AVERAGE(G36:G40)","v":{"v":7063.8,"d":"7,064"}},null,{"v":18460.8,"d":"18,461"},{"v":2861,"d":"2,861"},{"v":107941.2,"d":"107,941"},{"v":14198,"d":"14,198"},null,{"$f":"AVERAGE(N36:N40)","v":{"v":411867.2,"d":"411,867"}},{"v":31723,"d":"31,723"},null,{"$f":"AVERAGE(Q36:Q40)","v":{"v":72122.216,"d":"72,122"}},{"v":6017.9839999999995,"d":"6,018"},null,{"$f":"AVERAGE(T36:T40)","v":{"v":18299.6,"d":"18,300"}},{"v":2507.2,"d":"2,507"},null,{"$f":"AVERAGE(W36:W40)","v":{"v":12220.8,"d":"12,221"}},null,{"v":4798.6,"d":"4,799"},null,{"$f":"AVERAGE(AA36:AA40)","v":{"v":102642.61600000001,"d":"102,643"}},{"v":13323.784,"d":"13,324"},null,{"$f":"AVERAGE(AD36:AD40)","v":{"v":514509.816,"d":"514,510"}},{"v":45046.784,"d":"45,047"}]
["2006-2010",{"$f":"AVERAGE(B41:B45)","v":{"v":40050.2,"d":"40,050"}},null,{"$f":"AVERAGE(D41:D45)","v":{"v":2884.4,"d":"2,884"}},{"v":29544,"d":"29,544"},null,{"$f":"AVERAGE(G41:G45)","v":{"v":1451.2,"d":"1,451"}},null,{"v":5912.8,"d":"5,913"},{"v":512.2,"d":"512"},{"v":10483.2,"d":"10,483"},{"v":1035,"d":"1,035"},null,{"$f":"AVERAGE(N41:N45)","v":{"v":85990.2,"d":"85,990"}},{"v":5882.8,"d":"5,883"},null,{"$f":"AVERAGE(Q41:Q45)","v":{"v":18528.4,"d":"18,528"}},{"v":2192.6,"d":"2,193"},null,{"$f":"AVERAGE(T41:T45)","v":{"v":9411,"d":"9,411"}},{"v":1521.8,"d":"1,522"},null,{"$f":"AVERAGE(W41:W45)","v":{"v":5453.8,"d":"5,454"}},null,{"v":648.2,"d":"648"},null,{"$f":"AVERAGE(AA41:AA45)","v":{"v":33393.2,"d":"33,393"}},{"v":4362.6,"d":"4,363"},null,{"$f":"AVERAGE(AD41:AD45)","v":{"v":119383.4,"d":"119,383"}},{"v":10245.4,"d":"10,245"}]
[2011,{"$f":"B46","v":{"v":20466,"d":"20,466"}},null,{"$f":"D46","v":{"v":15096,"d":"15,096"}},{"v":35656,"d":"35,656"},null,{"$f":"G46","v":{"v":11633,"d":"11,633"}},null,{"$f":"I46","v":{"v":6917,"d":"6,917"}},{"v":2204,"d":"2,204"},{"v":14815,"d":"14,815"},{"v":10422,"d":"10,422"},null,{"$f":"N46","v":{"v":77854,"d":"77,854"}},{"v":39355,"d":"39,355"},null,{"$f":"Q46","v":{"v":19312,"d":"19,312"}},{"v":23068,"d":"23,068"},null,{"$f":"T46","v":{"v":15925,"d":"15,925"}},{"v":16691,"d":"16,691"},null,{"$f":"W46","v":{"v":6251,"d":"6,251"}},null,{"$f":"Y46","v":{"v":6429,"d":"6,429"}},null,{"$f":"AA46","v":{"v":41488,"d":"41,488"}},{"v":46188,"d":"46,188"},null,{"$f":"AD46","v":{"v":119342,"d":"119,342"}},{"v":85543,"d":"85,543"}]
[2012,{"v":67190,"d":"67,190"},null,{"v":7125,"d":"7,125"},{"v":57507,"d":"57,507"},null,{"v":6142,"d":"6,142"},null,{"v":6009,"d":"6,009"},{"v":1722,"d":"1,722"},{"v":35527,"d":"35,527"},{"v":3296,"d":"3,296"},null,{"v":166233,"d":"166,233"},{"v":18285,"d":"18,285"},null,{"v":77318,"d":"77,318"},{"v":8198,"d":"8,198"},null,{"v":33628,"d":"33,628"},{"v":8533,"d":"8,533"},null,{"v":8250,"d":"8,250"},null,{"v":1007,"d":"1,007"},null,{"v":119196,"d":"119,196"},{"v":17738,"d":"17,738"},null,{"v":285429,"d":"285,429"},{"v":36023,"d":"36,023"}]
[2013,{"v":90119,"d":"90,119"},null,{"v":6253,"d":"6,253"},{"v":145650,"d":"145,650"},null,{"v":5559,"d":"5,559"},null,{"v":13830,"d":"13,830"},{"v":1050,"d":"1,050"},{"v":56036,"d":"56,036"},{"v":2192,"d":"2,192"},null,{"v":305635,"d":"305,635"},{"v":15054,"d":"15,054"},null,{"v":67758,"d":"67,758"},{"v":2103,"d":"2,103"},null,{"v":25152,"d":"25,152"},{"v":2470,"d":"2,470"},null,{"v":8301,"d":"8,301"},null,775,null,{"v":101211,"d":"101,211"},{"v":5348,"d":"5,348"},null,{"v":406846,"d":"406,846"},{"v":20402,"d":"20,402"}]
[2014,{"v":80407,"d":"80,407"},null,{"v":7193,"d":"7,193"},{"v":55480,"d":"55,480"},null,{"v":5241,"d":"5,241"},null,{"v":9885,"d":"9,885"},{"v":1819,"d":"1,819"},{"v":22895,"d":"22,895"},{"v":3580,"d":"3,580"},null,{"v":168667,"d":"168,667"},{"v":17833,"d":"17,833"},null,{"v":17937,"d":"17,937"},903,null,{"v":18824,"d":"18,824"},{"v":4596,"d":"4,596"},null,{"v":7048,"d":"7,048"},null,{"v":1295,"d":"1,295"},null,{"v":43809,"d":"43,809"},{"v":6794,"d":"6,794"},null,{"v":212476,"d":"212,476"},{"v":24627,"d":"24,627"}]
[2015,{"v":40696,"d":"40,696"},null,{"v":3342,"d":"3,342"},{"v":18069,"d":"18,069"},null,{"v":2497,"d":"2,497"},null,{"v":3844,"d":"3,844"},{"v":2789,"d":"2,789"},{"v":11895,"d":"11,895"},{"v":3844,"d":"3,844"},null,{"v":74504,"d":"74,504"},{"v":12472,"d":"12,472"},null,{"v":13861,"d":"13,861"},{"v":1863,"d":"1,863"},null,{"v":17700,"d":"17,700"},{"v":3116,"d":"3,116"},null,{"v":7403,"d":"7,403"},null,{"v":2419,"d":"2,419"},null,{"v":38964,"d":"38,964"},{"v":7398,"d":"7,398"},null,{"v":113468,"d":"113,468"},{"v":19870,"d":"19,870"}]
[2016,{"v":10563,"d":"10,563"},null,803,{"v":34054,"d":"34,054"},null,{"v":4727,"d":"4,727"},null,{"v":2143,"d":"2,143"},{"v":1422,"d":"1,422"},{"v":9537,"d":"9,537"},{"v":4936,"d":"4,936"},null,{"v":56297,"d":"56,297"},{"v":11888,"d":"11,888"},null,{"v":8306,"d":"8,306"},225,null,{"v":17594,"d":"17,594"},{"v":2962,"d":"2,962"},null,{"v":7502,"d":"7,502"},null,{"v":1922,"d":"1,922"},null,{"v":33402,"d":"33,402"},{"v":5109,"d":"5,109"},null,{"v":89699,"d":"89,699"},{"v":16997,"d":"16,997"}]
[2017,{"v":1526,"d":"1,526"},null,{"v":4015,"d":"4,015"},{"v":8120,"d":"8,120"},null,{"v":2414,"d":"2,414"},null,{"v":1207,"d":"1,207"},441,{"v":6998,"d":"6,998"},{"v":2665,"d":"2,665"},null,{"v":17851,"d":"17,851"},{"v":9535,"d":"9,535"},null,{"v":1316,"d":"1,316"},{"v":5080,"d":"5,080"},null,{"v":16598,"d":"16,598"},{"v":8448,"d":"8,448"},null,{"v":8564,"d":"8,564"},{"$f":"X52","v":"j/"},{"v":2015,"d":"2,015"},{"$f":"Z52","v":"j/"},{"v":26478,"d":"26,478"},{"v":15543,"d":"15,543"},null,{"v":44329,"d":"44,329"},{"v":25078,"d":"25,078"}]
[2018,{"v":18317,"d":"18,317"},null,{"v":11998,"d":"11,998"},{"v":39210,"d":"39,210"},null,{"v":6616,"d":"6,616"},null,{"v":2140,"d":"2,140"},933,{"v":12022,"d":"12,022"},{"v":9070,"d":"9,070"},null,{"v":71689,"d":"71,689"},{"v":28617,"d":"28,617"},null,{"v":8207,"d":"8,207"},{"v":5991,"d":"5,991"},null,{"v":21084,"d":"21,084"},{"v":7272,"d":"7,272"},null,{"v":4486,"d":"4,486"},null,{"v":1726,"d":"1,726"},null,{"v":33777,"d":"33,777"},{"v":14989,"d":"14,989"},null,{"v":105466,"d":"105,466"},{"v":43606,"d":"43,606"}]
[2019,{"v":53706,"d":"53,706"},null,{"v":5203,"d":"5,203"},{"v":43352,"d":"43,352"},null,{"v":8611,"d":"8,611"},null,{"v":2677,"d":"2,677"},671,{"v":21894,"d":"21,894"},{"v":5136,"d":"5,136"},null,{"v":121629,"d":"121,629"},{"v":19621,"d":"19,621"},null,{"v":13065,"d":"13,065"},{"v":1204,"d":"1,204"},null,{"v":19731,"d":"19,731"},{"v":7372,"d":"7,372"},null,{"v":9342,"d":"9,342"},null,{"v":1954,"d":"1,954"},null,{"v":42138,"d":"42,138"},{"v":10530,"d":"10,530"},null,{"v":163767,"d":"163,767"},{"v":30151,"d":"30,151"}]
[2020,{"v":36447,"d":"36,447"},null,{"v":3747,"d":"3,747"},{"v":40499,"d":"40,499"},null,{"v":2470,"d":"2,470"},null,{"v":3801,"d":"3,801"},393,{"v":19422,"d":"19,422"},{"v":3034,"d":"3,034"},null,{"v":100169,"d":"100,169"},{"v":9644,"d":"9,644"},null,{"v":12478,"d":"12,478"},{"v":1259,"d":"1,259"},null,{"v":20340,"d":"20,340"},{"v":1853,"d":"1,853"},null,{"v":5104,"d":"5,104"},null,{"v":1160,"d":"1,160"},null,{"v":37922,"d":"37,922"},{"v":4272,"d":"4,272"},null,{"v":138091,"d":"138,091"},{"v":13916,"d":"13,916"}]
[2021,{"v":51822,"d":"51,822"},null,{"v":5484,"d":"5,484"},{"v":9203,"d":"9,203"},null,485,null,{"v":3957,"d":"3,957"},712,{"v":7787,"d":"7,787"},{"v":3445,"d":"3,445"},null,{"v":72769,"d":"72,769"},{"v":10126,"d":"10,126"},null,{"v":14556,"d":"14,556"},{"v":1882,"d":"1,882"},null,{"v":10927,"d":"10,927"},{"v":1458,"d":"1,458"},null,{"v":7332,"d":"7,332"},null,{"v":3745,"d":"3,745"},null,{"v":32815,"d":"32,815"},{"v":7085,"d":"7,085"},null,{"v":105584,"d":"105,584"},{"v":17211,"d":"17,211"}]
[2022,{"v":8986,"d":"8,986"},null,647,{"v":6164,"d":"6,164"},null,413,null,{"v":2926,"d":"2,926"},245,{"v":14631,"d":"14,631"},{"v":1752,"d":"1,752"},null,{"v":32707,"d":"32,707"},{"v":3057,"d":"3,057"},null,{"v":8935,"d":"8,935"},307,null,{"v":11909,"d":"11,909"},{"v":2368,"d":"2,368"},null,{"v":8311,"d":"8,311"},null,{"v":1213,"d":"1,213"},null,{"v":29155,"d":"29,155"},{"v":3888,"d":"3,888"},null,{"v":61862,"d":"61,862"},{"v":6945,"d":"6,945"}]
[2023,{"v":6284,"d":"6,284"},null,437,{"v":60389,"d":"60,389"},null,{"v":3500,"d":"3,500"},null,{"v":4709,"d":"4,709"},137,{"v":34375,"d":"34,375"},{"v":2946,"d":"2,946"},null,{"v":105757,"d":"105,757"},{"v":7020,"d":"7,020"},null,{"$f":"Q58","v":{"v":4534,"d":"4,534"}},315,null,{"$f":"T58","v":{"v":16989,"d":"16,989"}},{"v":1810,"d":"1,810"},null,{"$f":"W58","v":{"v":6503,"d":"6,503"}},null,{"$f":"Y58","v":{"v":2796,"d":"2,796"}},null,{"$f":"AA58","v":{"v":28026,"d":"28,026"}},{"v":4921,"d":"4,921"},null,{"$f":"AD58","v":{"v":133783,"d":"133,783"}},{"v":11941,"d":"11,941"}]
["2024k/",{"v":4408,"d":"4,408"},null,{"v":4611,"d":"4,611"},{"v":23549,"d":"23,549"},null,{"v":2604,"d":"2,604"},null,{"v":4416,"d":"4,416"},530,{"v":40067,"d":"40,067"},{"v":3119,"d":"3,119"},null,{"v":72440,"d":"72,440"},{"v":10864,"d":"10,864"},null,{"v":2603,"d":"2,603"},{"v":3883,"d":"3,883"},null,{"v":14568,"d":"14,568"},{"v":1868,"d":"1,868"},null,{"v":9663,"d":"9,663"},null,{"v":2550,"d":"2,550"},null,{"v":26834,"d":"26,834"},{"v":8301,"d":"8,301"},null,{"v":99274,"d":"99,274"},{"v":19165,"d":"19,165"}]
["GOALS","-",null,"-","-",null,"-",null,"-","-","-","-",null,"-","-",null,"12,000l/","-",null,"6,000l/","-",null,"4,000l/",null,"-",null,"22,000l/","-",null,"122,000m/",{"$f":"AE60","v":"-"}]
[{"$f":"A61","v":"a/  In 2004, CDFW reviewed and updated 1971-2003 escapement estimates to reflect final project reports. "}]
[{"$f":"A62","v":"b/  Chinook spawning during the fall; may include spring run fish in some survey areas. "}]
[{"$f":"A63","v":"c/  Most natural area estimates based on carcass surveys with a jack length cut-off."}]
[{"$f":"A64","v":"d/  Upper Sacramento mainstem estimates generally based on carcass surveys with a jack length cut-off, however, jack estimates from Red Bluff Diversion Dam (RBDD) reports have occasionally been used.  Early (pre-2001) mainstem Sacramento River adult and jack estimates based on RBDD passage. "}]
[]
[{"$f":"A66","v":"e/  Upper Sacramento River escapement includes Sacramento River mainstem; Battle, Clear, Mill, Deer, Butte, Cottonwood, and Cow creeks; and other small tributaries when surveys were conducted.  Specific escapement estimates by tributary can be found at www.calfish.org."}]
[]
[{"$f":"A68","v":"f/  American River adult and jack ecapement estimates include fish taken at Nimbus Weir, 1979-current. In previous versions of this table, fish taken at Nimbus Weir were included in the Nimbus Fish Hatchery counts."}]
["g/  Total adults in Sacramento hatcheries include Tehama-Colusa Fish Facility escapements, 1971-1985. "]
["h/  Survey methodology was variable for 1998-99; may not be comparable to other surveys. "]
["i/  Change in 2002 estimation methodology due to extremely high Battle Creek escapement."]
["j/  Nimbus Fish Hatchery opened three weeks early to collect anticipated stray Chinook originating from Coleman National Fish Hatchery. During this time, 2,886 fish were collected."]
["k/  Preliminary. "]
["l/  Current hatchery-specific goals, not PFMC goals."]
["m/  Sacramento River fall Chinook SMSY."]

{"sheet":"B-2","index":2,"n_rows":112,"n_cols":23,"rows_kept":112,"merged":[[0,0,0,22],[1,2,1,13],[1,15,1,20],[1,21,2,22],[2,0,3,0],[2,2,2,3],[2,4,2,5],[2,6,2,7],[2,8,2,9],[2,10,2,11],[2,12,2,13],[2,15,2,16],[2,17,2,18],[2,19,2,20],[60,0,60,30],[61,0,61,30],[62,0,62,22],[80,0,80,22],[81,2,81,13],[81,15,81,20],[81,21,82,22],[82,0,83,0],[82,2,82,3],[82,4,82,5],[82,6,82,7],[82,8,82,9],[82,10,82,11],[82,12,82,13],[82,15,82,16],[82,17,82,18],[82,19,82,20],[105,0,105,22],[106,0,106,22],[107,0,107,22],[108,0,108,22],[109,0,109,22],[110,0,110,22],[111,0,111,22]]}
["TABLE B-2.  San Joaquin River fall Chinook salmon escapement in numbers of fish.a/  "]
[null,null,"San Joaquin Natural Areasb/",{"$nulls":12},"San Joaquin Hatcheries",{"$nulls":5},"San Joaquin Totals "]
["Year or Average ",null,"Mokelumne River",null,"Stanislaus River",null,"Tuolumne River",null,"Merced River",null,"Other Tributariesc/d/",null," Totals ",null,null,"  Mokelumne River ",null,"     Merced River ",null," Totals "]
[null,null,"Adults","Jacks","Adults","Jacks","Adults","Jacks","Adults","Jacks","Adults","Jacks","Adults","Jacks",null,"Adults","Jacks","Adults","Jacks","Adults","Jacks","Adults","Jacks"]
[1970,null,{"v":3063,"d":"3,063"},{"v":1389,"d":"1,389"},{"v":6694,"d":"6,694"},{"v":2603,"d":"2,603"},{"v":15272,"d":"15,272"},{"v":3128,"d":"3,128"},{"v":3290,"d":"3,290"},{"v":1410,"d":"1,410"},413,187,{"v":28732,"d":"28,732"},{"v":8717,"d":"8,717"},null,{"v":328.8,"d":"329"},{"v":219.2,"d":"219"},100,0,{"v":428.8,"d":"429"},{"v":219.2,"d":"219"},{"$f":"M5+T5","v":{"v":29160.8,"d":"29,161"}},{"$f":"N5+U5","v":{"v":8936.2,"d":"8,936"}}]
[1971,null,{"v":3591,"d":"3,591"},684,{"v":12668,"d":"12,668"},953,{"v":20353,"d":"20,353"},{"v":1532,"d":"1,532"},{"v":3175,"d":"3,175"},276,500,0,{"v":40287,"d":"40,287"},{"v":3445,"d":"3,445"},null,{"v":822.325,"d":"822"},{"v":102.675,"d":"103"},200,0,{"v":1022.325,"d":"1,022"},{"v":102.675,"d":"103"},{"$f":"M6+T6","v":{"v":41309.325,"d":"41,309"}},{"v":3547.675,"d":"3,548"}]
[1972,null,480,270,{"v":3868,"d":"3,868"},430,{"v":4233,"d":"4,233"},867,{"v":2098,"d":"2,098"},430,{"v":1600,"d":"1,600"},0,{"v":12279,"d":"12,279"},{"v":1997,"d":"1,997"},null,88,264,120,0,208,264,{"v":12487,"d":"12,487"},{"v":2261,"d":"2,261"}]
[1973,null,{"v":2193,"d":"2,193"},0,{"v":1181,"d":"1,181"},53,{"v":1888,"d":"1,888"},101,611,186,900,0,{"v":6773,"d":"6,773"},340,null,{"v":305.25,"d":"305"},{"v":101.75,"d":"102"},{"v":281.25,"d":"281"},{"v":93.75,"d":"94"},{"v":586.5,"d":"587"},{"v":195.5,"d":"196"},{"v":7359.5,"d":"7,360"},{"v":535.5,"d":"536"}]
[1974,null,{"v":1200,"d":"1,200"},0,504,246,{"v":1072,"d":"1,072"},78,880,120,285,0,{"v":3941,"d":"3,941"},444,null,111,111,{"v":1000,"d":"1,000"},0,{"v":1111,"d":"1,111"},111,{"v":5052,"d":"5,052"},555]
[1975,null,{"v":1298,"d":"1,298"},203,{"v":1038,"d":"1,038"},162,{"v":1384,"d":"1,384"},216,{"v":1471,"d":"1,471"},230,627,98,{"v":5818,"d":"5,818"},909,null,{"v":199.5,"d":"200"},{"v":199.5,"d":"200"},700,0,{"v":899.5,"d":"900"},{"v":199.5,"d":"200"},{"v":6717.5,"d":"6,718"},{"v":1108.5,"d":"1,109"}]
[1976,null,398,57,525,75,{"v":1488,"d":"1,488"},213,{"v":1050,"d":"1,050"},150,0,0,{"v":3461,"d":"3,461"},495,null,18,0,700,0,718,0,{"v":4179,"d":"4,179"},495]
[1977,null,214,36,0,0,450,0,300,50,0,0,964,86,null,0,0,661,0,661,0,{"v":1625,"d":"1,625"},86]
[1978,null,531,69,44,6,{"v":1151,"d":"1,151"},150,465,60,89,12,{"v":2280,"d":"2,280"},297,null,486,0,100,0,586,0,{"v":2866,"d":"2,866"},297]
[1979,null,444,556,49,61,525,658,852,{"v":1068,"d":"1,068"},67,83,{"v":1937,"d":"1,937"},{"v":2426,"d":"2,426"},null,{"v":422.33099999999996,"d":"422"},{"v":84.669,"d":"85"},{"v":113.5,"d":"114"},{"v":113.5,"d":"114"},{"v":535.8309999999999,"d":"536"},{"v":198.16899999999998,"d":"198"},{"v":2472.831,"d":"2,473"},{"v":2624.169,"d":"2,624"}]
[1980,null,{"v":2079,"d":"2,079"},513,100,0,559,0,{"v":2849,"d":"2,849"},0,200,0,{"v":5787,"d":"5,787"},513,null,{"v":426.213,"d":"426"},{"v":212.78699999999998,"d":"213"},157,0,{"v":583.213,"d":"583"},{"v":212.78699999999998,"d":"213"},{"v":6370.213,"d":"6,370"},{"v":725.787,"d":"726"}]
[1981,null,{"v":3899,"d":"3,899"},{"v":1055,"d":"1,055"},{"v":1000,"d":"1,000"},0,{"v":9749,"d":"9,749"},{"v":4504,"d":"4,504"},{"v":6758,"d":"6,758"},{"v":2733,"d":"2,733"},0,0,{"v":21406,"d":"21,406"},{"v":8292,"d":"8,292"},null,0,0,{"v":616.308,"d":"616"},{"v":307.69199999999995,"d":"308"},{"v":616.308,"d":"616"},{"v":307.69199999999995,"d":"308"},{"v":22022.308,"d":"22,022"},{"v":8599.692,"d":"8,600"}]
[1982,null,{"v":6695,"d":"6,695"},0,0,0,{"v":6748,"d":"6,748"},378,{"v":3009,"d":"3,009"},65,0,0,{"v":16452,"d":"16,452"},443,null,{"v":1785.5590000000002,"d":"1,786"},{"v":891.4409999999999,"d":"891"},{"v":156.87,"d":"157"},{"v":32.13,"d":"32"},{"v":1942.429,"d":"1,942"},{"v":923.5709999999999,"d":"924"},{"v":18394.429,"d":"18,394"},{"v":1366.571,"d":"1,367"}]
[1983,null,{"v":11293,"d":"11,293"},0,500,0,{"v":2641,"d":"2,641"},{"v":12195,"d":"12,195"},{"v":3850,"d":"3,850"},{"v":12603,"d":"12,603"},200,0,{"v":18484,"d":"18,484"},{"v":24798,"d":"24,798"},null,{"v":1827.2,"d":"1,827"},{"v":2740.8,"d":"2,741"},{"v":199.245,"d":"199"},{"v":1595.755,"d":"1,596"},{"v":2026.4450000000002,"d":"2,026"},{"v":4336.555,"d":"4,337"},{"v":20510.445,"d":"20,510"},{"v":29134.555,"d":"29,135"}]
[1984,null,{"v":7883,"d":"7,883"},415,{"v":9540,"d":"9,540"},{"v":1899,"d":"1,899"},{"v":6502,"d":"6,502"},{"v":7187,"d":"7,187"},{"v":20730,"d":"20,730"},{"v":6910,"d":"6,910"},{"v":1000,"d":"1,000"},0,{"v":45655,"d":"45,655"},{"v":16411,"d":"16,411"},null,0,0,{"v":1887.555,"d":"1,888"},{"v":221.445,"d":"221"},{"v":1887.555,"d":"1,888"},{"v":221.445,"d":"221"},{"v":47542.555,"d":"47,543"},{"v":16632.445,"d":"16,632"}]
[1985,null,{"v":6959,"d":"6,959"},500,{"v":12207,"d":"12,207"},{"v":1266,"d":"1,266"},{"v":38870,"d":"38,870"},{"v":1452,"d":"1,452"},{"v":14396,"d":"14,396"},445,220,0,{"v":72652,"d":"72,652"},{"v":3663,"d":"3,663"},null,{"v":183.975,"d":"184"},{"v":39.025,"d":"39"},{"v":1123.808,"d":"1,124"},{"v":87.19200000000001,"d":"87"},{"v":1307.783,"d":"1,308"},{"v":126.21700000000001,"d":"126"},{"v":73959.783,"d":"73,960"},{"v":3789.217,"d":"3,789"}]
[1986,null,{"v":4571,"d":"4,571"},683,{"v":5328,"d":"5,328"},{"v":1169,"d":"1,169"},{"v":6893,"d":"6,893"},511,{"v":6321,"d":"6,321"},468,0,0,{"v":23113,"d":"23,113"},{"v":2831,"d":"2,831"},null,{"v":1128.67,"d":"1,129"},{"v":784.33,"d":"784"},{"v":488.15,"d":"488"},{"v":161.85,"d":"162"},{"v":1616.8200000000002,"d":"1,617"},{"v":946.1800000000001,"d":"946"},{"v":24729.82,"d":"24,730"},{"v":3777.1800000000003,"d":"3,777"}]
[1987,null,{"v":1000,"d":"1,000"},0,{"v":4027,"d":"4,027"},{"v":2265,"d":"2,265"},{"v":1003,"d":"1,003"},{"v":13748,"d":"13,748"},{"v":1536,"d":"1,536"},{"v":1632,"d":"1,632"},0,0,{"v":7566,"d":"7,566"},{"v":17645,"d":"17,645"},null,{"v":95.13,"d":"95"},{"v":534.87,"d":"535"},{"v":491.454,"d":"491"},{"v":466.54600000000005,"d":"467"},{"v":586.5840000000001,"d":"587"},{"v":1001.416,"d":"1,001"},{"v":8152.584,"d":"8,153"},{"v":18646.416,"d":"18,646"}]
[1988,null,400,0,{"v":9712,"d":"9,712"},500,{"v":5554,"d":"5,554"},225,{"v":3850,"d":"3,850"},285,100,0,{"v":19616,"d":"19,616"},{"v":1010,"d":"1,010"},null,{"v":93.44,"d":"93"},{"v":34.56,"d":"35"},{"v":418.155,"d":"418"},{"v":38.845,"d":"39"},{"v":511.59499999999997,"d":"512"},{"v":73.405,"d":"73"},{"v":20127.595,"d":"20,128"},{"v":1083.405,"d":"1,083"}]
[1989,null,199,0,{"v":1466,"d":"1,466"},44,{"v":1230,"d":"1,230"},45,339,6,0,0,{"v":3234,"d":"3,234"},95,null,{"v":49.005,"d":"49"},{"v":31.995,"d":"32"},{"v":65.928,"d":"66"},{"v":16.072,"d":"16"},{"v":114.93299999999999,"d":"115"},{"v":48.067,"d":"48"},{"v":3348.933,"d":"3,349"},{"v":143.067,"d":"143"}]
[1990,null,{"v":300.3,"d":"300"},{"v":128.7,"d":"129"},336,144,75,21,25,11,0,0,{"v":736.3,"d":"736"},{"v":304.7,"d":"305"},null,{"v":24.956000000000003,"d":"25"},{"v":43.044,"d":"43"},{"v":29.118000000000002,"d":"29"},{"v":16.882,"d":"17"},{"v":54.074000000000005,"d":"54"},{"v":59.926,"d":"60"},{"v":790.3739999999999,"d":"790"},{"v":364.626,"d":"365"}]
[1991,null,314,{"v":55.2,"d":"55"},331,63,56,21,64,14,0,0,765,{"v":153.2,"d":"153"},null,33,8,{"v":32.020999999999994,"d":"32"},{"v":8.979,"d":"9"},{"v":65.02099999999999,"d":"65"},{"v":16.979,"d":"17"},{"v":830.021,"d":"830"},{"v":170.17899999999997,"d":"170"}]
[1992,null,{"v":402.05,"d":"402"},{"v":532.95,"d":"533"},215,40,51,81,426,192,0,0,{"v":1094.05,"d":"1,094"},{"v":845.95,"d":"846"},null,264,446,{"v":122.91199999999999,"d":"123"},{"v":245.08799999999997,"d":"245"},{"v":386.912,"d":"387"},{"v":691.088,"d":"691"},{"v":1480.962,"d":"1,481"},{"v":1537.038,"d":"1,537"}]
[1993,null,{"v":714.96,"d":"715"},{"v":278.04,"d":"278"},533,144,330,141,{"v":1081,"d":"1,081"},188,0,0,{"v":2658.96,"d":"2,659"},{"v":751.04,"d":"751"},null,{"v":1542,"d":"1,542"},622,{"v":233.94800000000004,"d":"234"},{"v":175.052,"d":"175"},{"v":1775.948,"d":"1,776"},{"v":797.052,"d":"797"},{"v":4434.908,"d":"4,435"},{"v":1548.092,"d":"1,548"}]
[1994,null,{"v":1027.54,"d":"1,028"},{"v":210.46,"d":"210"},860,171,367,139,{"v":1913,"d":"1,913"},733,0,0,{"v":4167.54,"d":"4,168"},{"v":1253.46,"d":"1,253"},null,{"v":1168,"d":"1,168"},751,{"v":496.961,"d":"497"},{"v":446.039,"d":"446"},{"v":1664.961,"d":"1,665"},{"v":1197.039,"d":"1,197"},{"v":5832.501,"d":"5,833"},{"v":2450.499,"d":"2,450"}]
[1995,null,{"v":1864.9,"d":"1,865"},{"v":329.1,"d":"329"},421,198,514,313,{"v":1645,"d":"1,645"},675,0,0,{"v":4444.9,"d":"4,445"},{"v":1515.1,"d":"1,515"},null,{"v":2378,"d":"2,378"},945,{"v":311.23400000000004,"d":"311"},{"v":290.76599999999996,"d":"291"},{"v":2689.234,"d":"2,689"},{"v":1235.766,"d":"1,236"},{"v":7134.134,"d":"7,134"},{"v":2750.866,"d":"2,751"}]
[1996,null,{"v":2275.92,"d":"2,276"},{"v":1648.08,"d":"1,648"},69,99,{"v":1400,"d":"1,400"},{"v":2962,"d":"2,962"},{"v":2021,"d":"2,021"},{"v":1270,"d":"1,270"},0,0,{"v":5765.92,"d":"5,766"},{"v":5979.08,"d":"5,979"},null,{"v":1828,"d":"1,828"},{"v":2055,"d":"2,055"},{"v":394.78600000000006,"d":"395"},{"v":746.214,"d":"746"},{"v":2222.786,"d":"2,223"},{"v":2801.214,"d":"2,801"},{"v":7988.706,"d":"7,989"},{"v":8780.294,"d":"8,780"}]
[1997,null,{"v":3423.33,"d":"3,423"},{"v":257.67,"d":"258"},{"v":5225,"d":"5,225"},363,{"v":6689,"d":"6,689"},457,{"v":2646,"d":"2,646"},68,0,0,{"v":17983.33,"d":"17,983"},{"v":1145.67,"d":"1,146"},null,{"v":6305,"d":"6,305"},189,{"v":838.156,"d":"838"},{"v":107.84400000000001,"d":"108"},{"v":7143.156,"d":"7,143"},{"v":296.844,"d":"297"},{"v":25126.486,"d":"25,126"},{"v":1442.5140000000001,"d":"1,443"}]
[1998,null,{"v":3153.6,"d":"3,154"},{"v":788.4,"d":"788"},{"v":1892,"d":"1,892"},{"v":1195,"d":"1,195"},{"v":5809,"d":"5,809"},{"v":3101,"d":"3,101"},{"v":2120,"d":"2,120"},{"v":1172,"d":"1,172"},0,0,{"v":12974.6,"d":"12,975"},{"v":6256.4,"d":"6,256"},null,{"v":2686,"d":"2,686"},585,{"v":346.766,"d":"347"},{"v":452.23400000000004,"d":"452"},{"v":3032.766,"d":"3,033"},{"v":1037.234,"d":"1,037"},{"v":16007.366,"d":"16,007"},{"v":7293.634,"d":"7,294"}]
[1999,null,{"v":1242.6,"d":"1,243"},{"v":937.4,"d":"937"},{"v":2479,"d":"2,479"},{"v":1870,"d":"1,870"},{"v":4898,"d":"4,898"},{"v":3334,"d":"3,334"},{"v":2087,"d":"2,087"},{"v":1042,"d":"1,042"},0,0,{"v":10706.6,"d":"10,707"},{"v":7183.4,"d":"7,183"},null,{"v":1611,"d":"1,611"},{"v":1542,"d":"1,542"},{"v":649.889,"d":"650"},{"v":987.111,"d":"987"},{"v":2260.889,"d":"2,261"},{"v":2529.111,"d":"2,529"},{"v":12967.489000000001,"d":"12,967"},{"v":9712.510999999999,"d":"9,713"}]
[2000,null,{"v":1576.17,"d":"1,576"},{"v":322.83,"d":"323"},{"v":8014,"d":"8,014"},484,{"v":16926,"d":"16,926"},947,{"v":10318,"d":"10,318"},812,0,0,{"v":36834.17,"d":"36,834"},{"v":2565.83,"d":"2,566"},null,{"v":4637,"d":"4,637"},887,{"v":1615.18,"d":"1,615"},{"v":330.82,"d":"331"},{"v":6252.18,"d":"6,252"},{"v":1217.82,"d":"1,218"},{"v":43086.35,"d":"43,086"},{"v":3783.6499999999996,"d":"3,784"}]
[2001,null,{"v":1755.38,"d":"1,755"},{"v":466.62,"d":"467"},{"v":6140,"d":"6,140"},719,{"v":7852,"d":"7,852"},{"v":1369,"d":"1,369"},{"v":8084,"d":"8,084"},{"v":1133,"d":"1,133"},0,0,{"v":23831.38,"d":"23,831"},{"v":3687.62,"d":"3,688"},null,{"v":4467,"d":"4,467"},{"v":1427,"d":"1,427"},{"v":1137,"d":"1,137"},523,{"v":5604,"d":"5,604"},{"v":1950,"d":"1,950"},{"v":29435.38,"d":"29,435"},{"v":5637.62,"d":"5,638"}]
[2002,null,{"v":2243.6,"d":"2,244"},{"v":596.4,"d":"596"},{"v":5848,"d":"5,848"},952,{"v":6192,"d":"6,192"},{"v":1008,"d":"1,008"},{"v":7568,"d":"7,568"},{"v":1232,"d":"1,232"},0,0,{"v":21851.6,"d":"21,852"},{"v":3788.4,"d":"3,788"},null,{"v":5800,"d":"5,800"},{"v":2119,"d":"2,119"},{"v":1250,"d":"1,250"},588,{"v":7050,"d":"7,050"},{"v":2707,"d":"2,707"},{"v":28901.6,"d":"28,902"},{"v":6495.4,"d":"6,495"}]
[2003,null,{"v":1571,"d":"1,571"},{"v":551.98,"d":"552"},{"v":6707,"d":"6,707"},889,{"v":2620,"d":"2,620"},234,{"v":3621,"d":"3,621"},489,0,0,{"v":14519,"d":"14,519"},{"v":2163.98,"d":"2,164"},null,{"v":5108,"d":"5,108"},{"v":3009,"d":"3,009"},392,157,{"v":5500,"d":"5,500"},{"v":3166,"d":"3,166"},{"v":20019,"d":"20,019"},{"v":5329.98,"d":"5,330"}]
[2004,null,{"v":1175,"d":"1,175"},413,{"v":2848,"d":"2,848"},{"v":1220,"d":"1,220"},{"v":1029.42,"d":"1,029"},{"v":604.58,"d":"605"},{"v":2197.44,"d":"2,197"},{"v":1072.56,"d":"1,073"},0,0,{"v":7249.860000000001,"d":"7,250"},{"v":3310.14,"d":"3,310"},null,{"v":5477,"d":"5,477"},{"v":4879,"d":"4,879"},456,594,{"v":5933,"d":"5,933"},{"v":5473,"d":"5,473"},{"v":13182.86,"d":"13,183"},{"v":8783.14,"d":"8,783"}]
[2005,null,{"v":9574,"d":"9,574"},832,{"v":2984,"d":"2,984"},332,647,72,{"v":1900,"d":"1,900"},211,738,130,{"v":15843,"d":"15,843"},{"v":1577,"d":"1,577"},null,{"v":5035,"d":"5,035"},528,346,75,{"v":5381,"d":"5,381"},603,{"v":21224,"d":"21,224"},{"v":2180,"d":"2,180"}]
[2006,null,{"v":1555,"d":"1,555"},177,{"v":1718,"d":"1,718"},205,457,105,{"v":1262,"d":"1,262"},167,630,15,{"v":5622,"d":"5,622"},669,null,{"v":2801,"d":"2,801"},{"v":1338,"d":"1,338"},130,20,{"v":2931,"d":"2,931"},{"v":1358,"d":"1,358"},{"v":8553,"d":"8,553"},{"v":2027,"d":"2,027"}]
[2007,null,461,9,368,75,193,31,446,49,53,0,{"v":1521,"d":"1,521"},164,null,{"v":1004,"d":"1,004"},40,70,9,{"v":1074,"d":"1,074"},49,{"v":2595,"d":"2,595"},213]
[2008,null,83,90,{"v":1253,"d":"1,253"},139,358,14,316,73,0,0,{"v":2010,"d":"2,010"},316,null,116,123,39,37,155,160,{"v":2165,"d":"2,165"},476]
[2009,null,320,360,554,194,130,70,390,64,0,0,{"v":1394,"d":"1,394"},688,null,730,823,109,137,839,960,{"v":2233,"d":"2,233"},{"v":1648,"d":"1,648"}]
[2010,null,{"v":1640,"d":"1,640"},280,793,293,329,211,501,150,740,0,{"v":4003,"d":"4,003"},934,null,{"v":3543,"d":"3,543"},{"v":1733,"d":"1,733"},115,31,{"v":3658,"d":"3,658"},{"v":1764,"d":"1,764"},{"v":7661,"d":"7,661"},{"v":2698,"d":"2,698"}]
[2011,null,705,{"v":1962,"d":"1,962"},433,630,231,647,640,975,518,0,{"v":2527,"d":"2,527"},{"v":4214,"d":"4,214"},null,{"v":2409,"d":"2,409"},{"v":13513,"d":"13,513"},99,338,{"v":2508,"d":"2,508"},{"v":13851,"d":"13,851"},{"v":5035,"d":"5,035"},{"v":18065,"d":"18,065"}]
[2012,null,{"v":3836,"d":"3,836"},{"v":1635,"d":"1,635"},{"v":3550,"d":"3,550"},456,485,298,{"v":1947,"d":"1,947"},310,{"v":1034,"d":"1,034"},149,{"v":10852,"d":"10,852"},{"v":2848,"d":"2,848"},null,{"v":4430,"d":"4,430"},{"v":2190,"d":"2,190"},628,372,{"v":5058,"d":"5,058"},{"v":2562,"d":"2,562"},{"v":15910,"d":"15,910"},{"v":5410,"d":"5,410"}]
[2013,null,{"v":5806,"d":"5,806"},{"v":1265,"d":"1,265"},{"v":2562,"d":"2,562"},283,{"v":1798,"d":"1,798"},128,{"v":2673,"d":"2,673"},153,0,0,{"v":12839,"d":"12,839"},{"v":1829,"d":"1,829"},null,{"v":3698,"d":"3,698"},{"v":1483,"d":"1,483"},918,180,{"v":4616,"d":"4,616"},{"v":1663,"d":"1,663"},{"v":17455,"d":"17,455"},{"v":3492,"d":"3,492"}]
[2014,null,{"v":1973,"d":"1,973"},{"v":1324,"d":"1,324"},{"v":1837,"d":"1,837"},{"v":1227,"d":"1,227"},150,56,611,249,401,0,{"v":4972,"d":"4,972"},{"v":2856,"d":"2,856"},null,{"v":4417,"d":"4,417"},{"v":4403,"d":"4,403"},229,582,{"v":4646,"d":"4,646"},{"v":4985,"d":"4,985"},{"$f":"M49+T49","v":{"v":9618,"d":"9,618"}},{"$f":"N49+U49","v":{"v":7841,"d":"7,841"}}]
[2015,null,{"v":3075,"d":"3,075"},{"v":1506,"d":"1,506"},{"v":4050,"d":"4,050"},{"v":2086,"d":"2,086"},42,71,860,387,193,0,{"v":8220,"d":"8,220"},{"v":4050,"d":"4,050"},null,{"v":5170,"d":"5,170"},{"v":3128,"d":"3,128"},556,642,{"v":5726,"d":"5,726"},{"v":3770,"d":"3,770"},{"v":13946,"d":"13,946"},{"v":7820,"d":"7,820"}]
[2016,null,{"v":1279,"d":"1,279"},705,{"v":5231,"d":"5,231"},{"v":3961,"d":"3,961"},661,696,{"v":1232,"d":"1,232"},{"v":2099,"d":"2,099"},986,262,{"v":9389,"d":"9,389"},{"v":7723,"d":"7,723"},null,{"v":3314,"d":"3,314"},{"v":3573,"d":"3,573"},{"v":1995,"d":"1,995"},970,{"v":5309,"d":"5,309"},{"v":4543,"d":"4,543"},{"v":14698,"d":"14,698"},{"v":12266,"d":"12,266"}]
[2017,null,{"v":4626,"d":"4,626"},{"v":1018,"d":"1,018"},{"v":2225,"d":"2,225"},{"v":1274,"d":"1,274"},690,428,{"v":2349,"d":"2,349"},832,575,95,{"v":10465,"d":"10,465"},{"v":3647,"d":"3,647"},null,{"v":4651,"d":"4,651"},{"v":9668,"d":"9,668"},602,{"v":1099,"d":"1,099"},{"v":5253,"d":"5,253"},{"v":10767,"d":"10,767"},{"v":15718,"d":"15,718"},{"v":14414,"d":"14,414"}]
[2018,null,{"v":6456,"d":"6,456"},{"v":3599,"d":"3,599"},{"v":2018,"d":"2,018"},359,734,343,349,529,843,158,{"v":10400,"d":"10,400"},{"v":4988,"d":"4,988"},null,{"v":4937,"d":"4,937"},{"v":2483,"d":"2,483"},264,639,{"v":5201,"d":"5,201"},{"v":3122,"d":"3,122"},{"v":15601,"d":"15,601"},{"v":8110,"d":"8,110"}]
[2019,null,{"v":3325,"d":"3,325"},{"v":1042,"d":"1,042"},{"v":1221,"d":"1,221"},283,828,103,{"v":1952,"d":"1,952"},259,673,0,{"v":7999,"d":"7,999"},{"v":1687,"d":"1,687"},null,{"v":5806,"d":"5,806"},{"v":2697,"d":"2,697"},628,339,{"v":6434,"d":"6,434"},{"v":3036,"d":"3,036"},{"v":14433,"d":"14,433"},{"v":4723,"d":"4,723"}]
[2020,null,179,422,461,80,240,31,394,32,43,0,{"v":1317,"d":"1,317"},565,null,{"v":2141,"d":"2,141"},{"v":1302,"d":"1,302"},141,44,{"v":2282,"d":"2,282"},{"v":1346,"d":"1,346"},{"v":3599,"d":"3,599"},{"v":1911,"d":"1,911"}]
[2021,null,258,568,{"v":1946,"d":"1,946"},{"v":2368,"d":"2,368"},138,50,287,183,833,0,{"v":3462,"d":"3,462"},{"v":3169,"d":"3,169"},null,{"v":2116,"d":"2,116"},{"v":2101,"d":"2,101"},57,210,{"v":2173,"d":"2,173"},{"v":2311,"d":"2,311"},{"v":5635,"d":"5,635"},{"v":5480,"d":"5,480"}]
[2022,null,934,987,{"v":3185,"d":"3,185"},454,357,86,60,15,24,0,{"v":4560,"d":"4,560"},{"v":1542,"d":"1,542"},null,{"v":3533,"d":"3,533"},{"v":1481,"d":"1,481"},33,34,{"v":3566,"d":"3,566"},{"v":1515,"d":"1,515"},{"v":8126,"d":"8,126"},{"v":3057,"d":"3,057"}]
[2023,null,{"v":15859,"d":"15,859"},{"v":2972,"d":"2,972"},{"v":1399,"d":"1,399"},218,{"v":1154,"d":"1,154"},187,{"v":2220,"d":"2,220"},151,990,0,{"v":21622,"d":"21,622"},{"v":3528,"d":"3,528"},null,{"v":7093,"d":"7,093"},{"v":2773,"d":"2,773"},764,130,{"v":7857,"d":"7,857"},{"v":2903,"d":"2,903"},{"v":29479,"d":"29,479"},{"v":6431,"d":"6,431"}]
["2024e/",null,{"v":17833,"d":"17,833"},{"v":5869,"d":"5,869"},{"v":2550,"d":"2,550"},485,{"v":1610,"d":"1,610"},518,400,142,1638,0,{"v":24031,"d":"24,031"},{"v":7014,"d":"7,014"},null,{"v":8142,"d":"8,142"},{"v":3541,"d":"3,541"},73,33,{"v":8215,"d":"8,215"},{"v":3574,"d":"3,574"},{"v":32246,"d":"32,246"},{"v":10588,"d":"10,588"}]
["GOALSf/",null,"-","-","-","-","-","-","-","-","-","-","-","-",null,"3,000g/","-",{"v":1000,"d":"1,000"},"-",{"v":4000,"d":"4,000"},"-","-","-"]
["a/  In 2004, CDFW reviewed and updated 1971-2003 escapement estimates to reflect final project reports. "]
["b/  Most natural area estimates based on carcass surveys with a jack length cut-off."]
["c/  Other San Joaquin tributary escapement includes Cosumnes and Calaveras Rivers when surveys were conducted. In some years no survey was conducted due to logistical or environmental limitations."]
["d/  Calculating jack proportions was not possible in some years due to sampling and/or environmental limitations. In those years jacks are included in the adult escapement values.  "]
["e/  Preliminary."]
["f/  Current hatchery-specific goals, not PFMC goals."]
["g/  Due to modernization of the hatchery facility and improved efficiencies, the Mokelumne Hatchery escapement goal was reduced from 5,000 to 3,000 adults in 2010."]
{"$rows_empty":13}
["TABLE B-2.  San Joaquin River fall Chinook salmon escapement in numbers of fish.a/  "]
[null,null,"San Joaquin Natural Areasb/",{"$nulls":12},"San Joaquin Hatcheries",{"$nulls":5},"San Joaquin Totals "]
["Year or Average ",null,"Mokelumne River",null,"Stanislaus River",null,"Tuolumne River",null,"Merced River",null,"Other Tributariesc/d/",null," Totals ",null,null,"  Mokelumne River ",null,"     Merced River ",null," Totals "]
[null,null,"Adults","Jacks","Adults","Jacks","Adults","Jacks","Adults","Jacks","Adults","Jacks","Adults","Jacks",null,"Adults","Jacks","Adults","Jacks","Adults","Jacks","Adults","Jacks"]
["1981-1985",null,{"$f":"AVERAGE(C16:C20)","v":{"v":7345.8,"d":"7,346"}},394,{"v":4649.4,"d":"4,649"},633,{"v":12902,"d":"12,902"},{"v":5143.2,"d":"5,143"},{"v":9748.6,"d":"9,749"},{"v":4551.2,"d":"4,551"},284,0,{"v":34929.8,"d":"34,930"},{"v":10721.4,"d":"10,721"},null,{"$f":"AVERAGE(P16:P20)","v":{"v":759.3468,"d":"759"}},{"v":734.2532,"d":"734"},{"v":796.7572,"d":"797"},{"v":448.8428,"d":"449"},{"v":1556.104,"d":"1,556"},{"v":1183.096,"d":"1,183"},{"v":36485.903999999995,"d":"36,486"},{"v":11904.496,"d":"11,904"}]
["1986-1990",null,{"$f":"AVERAGE(C21:C25)","v":{"v":1294.06,"d":"1,294"}},{"v":162.34,"d":"162"},{"v":4173.8,"d":"4,174"},{"v":824.4,"d":"824"},{"v":2951,"d":"2,951"},{"v":2910,"d":"2,910"},{"v":2414.2,"d":"2,414"},{"v":480.4,"d":"480"},20,0,{"v":10853.060000000001,"d":"10,853"},{"v":4377.14,"d":"4,377"},null,{"$f":"AVERAGE(P21:P25)","v":{"v":278.2402000000001,"d":"278"}},{"v":285.7598,"d":"286"},{"v":298.561,"d":"299"},{"v":140.03900000000002,"d":"140"},{"v":576.8012000000001,"d":"577"},{"v":425.7987999999999,"d":"426"},{"v":11429.861200000001,"d":"11,430"},{"v":4802.9388,"d":"4,803"}]
["1991-1995",null,{"$f":"AVERAGE(C26:C30)","v":{"v":864.6900000000002,"d":"865"}},{"v":281.15,"d":"281"},472,{"v":123.2,"d":"123"},{"v":263.6,"d":"264"},139,{"v":1025.8,"d":"1,026"},{"v":360.4,"d":"360"},0,0,{"v":2626.0899999999997,"d":"2,626"},{"v":903.75,"d":"904"},null,{"$f":"AVERAGE(P26:P30)","v":{"v":1077,"d":"1,077"}},{"v":554.4,"d":"554"},{"v":239.4152,"d":"239"},{"v":233.1848,"d":"233"},{"v":1316.4152000000001,"d":"1,316"},{"v":787.5848000000001,"d":"788"},{"v":3942.5051999999996,"d":"3,943"},{"v":1691.3347999999999,"d":"1,691"}]
["1996-2000",null,{"$f":"AVERAGE(C31:C35)","v":{"v":2334.324,"d":"2,334"}},{"$f":"AVERAGE(D31:D35)","v":{"v":790.876,"d":"791"}},{"v":3535.8,"d":"3,536"},{"v":802.2,"d":"802"},{"v":7144.4,"d":"7,144"},{"v":2160.2,"d":"2,160"},{"v":3838.4,"d":"3,838"},{"v":872.8,"d":"873"},0,0,{"v":16852.924,"d":"16,853"},{"v":4626.075999999999,"d":"4,626"},null,{"v":3413.4,"d":"3,413"},{"v":1051.6,"d":"1,052"},{"v":768.9554,"d":"769"},{"v":524.8446000000001,"d":"525"},{"v":4182.3553999999995,"d":"4,182"},{"v":1576.4445999999998,"d":"1,576"},{"v":21035.2794,"d":"21,035"},{"v":6202.520600000001,"d":"6,203"}]
["2001-2005",null,{"$f":"AVERAGE(C36:C40)","v":{"v":3263.796,"d":"3,264"}},{"$f":"AVERAGE(D36:D40)","v":572},{"v":4905.4,"d":"4,905"},{"v":822.4,"d":"822"},{"v":3668.084,"d":"3,668"},{"v":657.516,"d":"658"},{"v":4674.088,"d":"4,674"},{"v":827.512,"d":"828"},{"v":147.6,"d":"148"},26,{"v":16658.968,"d":"16,659"},{"v":2905.428,"d":"2,905"},null,{"v":5177.4,"d":"5,177"},{"v":2392.4,"d":"2,392"},{"v":716.2,"d":"716"},{"v":387.4,"d":"387"},{"v":5893.6,"d":"5,894"},{"v":2779.8,"d":"2,780"},{"v":22552.568,"d":"22,553"},{"v":5685.228,"d":"5,685"}]
["2006-2010",null,{"$f":"AVERAGE(C41:C45)","v":{"v":811.8,"d":"812"}},{"$f":"AVERAGE(D41:D45)","v":{"v":183.2,"d":"183"}},{"v":937.2,"d":"937"},{"v":181.2,"d":"181"},{"v":293.4,"d":"293"},{"v":86.2,"d":"86"},583,{"v":100.6,"d":"101"},{"v":284.6,"d":"285"},3,{"v":2910,"d":"2,910"},{"v":554.2,"d":"554"},null,{"v":1638.8,"d":"1,639"},{"v":811.4,"d":"811"},{"v":92.6,"d":"93"},{"v":46.8,"d":"47"},{"v":1731.4,"d":"1,731"},{"v":858.2,"d":"858"},{"v":4641.4,"d":"4,641"},{"v":1412.4,"d":"1,412"}]
[2011,null,{"$f":"C46","v":705},{"v":1962,"d":"1,962"},433,630,231,647,640,975,518,0,{"v":2527,"d":"2,527"},{"v":4214,"d":"4,214"},null,{"$f":"P46","v":{"v":2409,"d":"2,409"}},{"v":13513,"d":"13,513"},99,338,{"v":2508,"d":"2,508"},{"v":13851,"d":"13,851"},{"v":5035,"d":"5,035"},{"v":18065,"d":"18,065"}]
[2012,null,{"$f":"C47","v":{"v":3836,"d":"3,836"}},{"v":1635,"d":"1,635"},{"v":3550,"d":"3,550"},456,485,298,{"v":1947,"d":"1,947"},310,{"v":1034,"d":"1,034"},149,{"v":10852,"d":"10,852"},{"v":2848,"d":"2,848"},null,{"v":4430,"d":"4,430"},{"v":2190,"d":"2,190"},628,372,{"v":5058,"d":"5,058"},{"v":2562,"d":"2,562"},{"v":15910,"d":"15,910"},{"v":5410,"d":"5,410"}]
[2013,null,{"$f":"C48","v":{"v":5806,"d":"5,806"}},{"v":1265,"d":"1,265"},{"v":2562,"d":"2,562"},283,{"v":1798,"d":"1,798"},128,{"v":2673,"d":"2,673"},153,0,0,{"v":12839,"d":"12,839"},{"v":1829,"d":"1,829"},null,{"v":3698,"d":"3,698"},{"v":1483,"d":"1,483"},918,180,{"v":4616,"d":"4,616"},{"v":1663,"d":"1,663"},{"v":17455,"d":"17,455"},{"v":3492,"d":"3,492"}]
[2014,null,{"$f":"C49","v":{"v":1973,"d":"1,973"}},{"v":1324,"d":"1,324"},{"v":1837,"d":"1,837"},{"v":1227,"d":"1,227"},150,56,611,249,401,0,{"v":4972,"d":"4,972"},{"v":2856,"d":"2,856"},null,{"v":4417,"d":"4,417"},{"v":4403,"d":"4,403"},229,582,{"v":4646,"d":"4,646"},{"v":4985,"d":"4,985"},{"v":9618,"d":"9,618"},{"v":7841,"d":"7,841"}]
[2015,null,{"$f":"C50","v":{"v":3075,"d":"3,075"}},{"v":1506,"d":"1,506"},{"v":4050,"d":"4,050"},{"v":2086,"d":"2,086"},42,71,860,387,193,0,{"v":8220,"d":"8,220"},{"v":4050,"d":"4,050"},null,{"v":5170,"d":"5,170"},{"v":3128,"d":"3,128"},556,642,{"v":5726,"d":"5,726"},{"v":3770,"d":"3,770"},{"v":13946,"d":"13,946"},{"v":7820,"d":"7,820"}]
[2016,null,{"$f":"C51","v":{"v":1279,"d":"1,279"}},705,{"v":5231,"d":"5,231"},{"v":3961,"d":"3,961"},661,696,{"v":1232,"d":"1,232"},{"v":2099,"d":"2,099"},986,262,{"v":9389,"d":"9,389"},{"v":7723,"d":"7,723"},null,{"v":3314,"d":"3,314"},{"v":3573,"d":"3,573"},{"v":1995,"d":"1,995"},970,{"v":5309,"d":"5,309"},{"v":4543,"d":"4,543"},{"v":14698,"d":"14,698"},{"v":12266,"d":"12,266"}]
[2017,null,{"$f":"C52","v":{"v":4626,"d":"4,626"}},{"v":1018,"d":"1,018"},{"v":2225,"d":"2,225"},{"v":1274,"d":"1,274"},690,428,{"v":2349,"d":"2,349"},832,575,95,{"v":10465,"d":"10,465"},{"v":3647,"d":"3,647"},null,{"v":4651,"d":"4,651"},{"v":9668,"d":"9,668"},602,{"v":1099,"d":"1,099"},{"v":5253,"d":"5,253"},{"v":10767,"d":"10,767"},{"v":15718,"d":"15,718"},{"v":14414,"d":"14,414"}]
[2018,null,{"$f":"C53","v":{"v":6456,"d":"6,456"}},{"v":3599,"d":"3,599"},{"v":2018,"d":"2,018"},359,734,343,349,529,843,158,{"v":10400,"d":"10,400"},{"v":4988,"d":"4,988"},null,{"v":4937,"d":"4,937"},{"v":2483,"d":"2,483"},264,639,{"v":5201,"d":"5,201"},{"v":3122,"d":"3,122"},{"v":15601,"d":"15,601"},{"v":8110,"d":"8,110"}]
[2019,null,{"$f":"C54","v":{"v":3325,"d":"3,325"}},{"v":1042,"d":"1,042"},{"v":1221,"d":"1,221"},283,828,103,{"v":1952,"d":"1,952"},259,673,0,{"v":7999,"d":"7,999"},{"v":1687,"d":"1,687"},null,{"v":5806,"d":"5,806"},{"v":2697,"d":"2,697"},628,339,{"v":6434,"d":"6,434"},{"v":3036,"d":"3,036"},{"v":14433,"d":"14,433"},{"v":4723,"d":"4,723"}]
[2020,null,{"$f":"C55","v":179},422,461,80,240,31,394,32,43,0,{"v":1317,"d":"1,317"},565,null,{"v":2141,"d":"2,141"},{"v":1302,"d":"1,302"},141,44,{"v":2282,"d":"2,282"},{"v":1346,"d":"1,346"},{"v":3599,"d":"3,599"},{"v":1911,"d":"1,911"}]
[2021,null,{"$f":"C56","v":258},568,{"v":1946,"d":"1,946"},{"v":2368,"d":"2,368"},138,50,287,183,833,0,{"v":3462,"d":"3,462"},{"v":3169,"d":"3,169"},null,{"v":2116,"d":"2,116"},{"v":2101,"d":"2,101"},57,210,{"v":2173,"d":"2,173"},{"v":2311,"d":"2,311"},{"v":5635,"d":"5,635"},{"v":5480,"d":"5,480"}]
[2022,null,{"$f":"C57","v":934},987,{"v":3185,"d":"3,185"},454,357,86,60,15,24,0,{"v":4560,"d":"4,560"},{"v":1542,"d":"1,542"},null,{"v":3533,"d":"3,533"},{"v":1481,"d":"1,481"},33,34,{"v":3566,"d":"3,566"},{"v":1515,"d":"1,515"},{"v":8126,"d":"8,126"},{"v":3057,"d":"3,057"}]
[2023,null,{"$f":"C58","v":{"v":15859,"d":"15,859"}},{"v":2972,"d":"2,972"},{"v":1399,"d":"1,399"},218,{"v":1154,"d":"1,154"},187,{"v":2220,"d":"2,220"},151,990,0,{"v":21622,"d":"21,622"},{"v":3528,"d":"3,528"},null,{"$f":"P58","v":{"v":7093,"d":"7,093"}},{"v":2773,"d":"2,773"},764,130,{"v":7857,"d":"7,857"},{"v":2903,"d":"2,903"},{"v":29479,"d":"29,479"},{"v":6431,"d":"6,431"}]
["2024e/",null,{"v":17833,"d":"17,833"},{"v":5869,"d":"5,869"},{"v":2550,"d":"2,550"},485,{"v":1610,"d":"1,610"},518,400,142,1638,0,{"v":24031,"d":"24,031"},{"v":7014,"d":"7,014"},null,{"v":8142,"d":"8,142"},{"v":3541,"d":"3,541"},73,33,{"v":8215,"d":"8,215"},{"v":3574,"d":"3,574"},{"v":32246,"d":"32,246"},{"v":10588,"d":"10,588"}]
["GOALSf/",null,"-","-","-","-","-","-","-","-","-","-","-","-",null,"3,000g/","-",{"v":1000,"d":"1,000"},"-",{"v":4000,"d":"4,000"},"-","-","-"]
[{"$f":"A61","v":"a/  In 2004, CDFW reviewed and updated 1971-2003 escapement estimates to reflect final project reports. "}]
["b/  Most natural area estimates based on carcass surveys with a jack length cut-off."]
["c/  Other San Joaquin tributary escapement includes Cosumnes and Calaveras Rivers when surveys were conducted. In some years no survey was conducted due to logistical or environmental limitations."]
["d/  Calculating jack proportions was not possible in some years due to sampling and/or environmental limitations. In those years jacks are included in the adult escapement values.  "]
["e/  Preliminary."]
["f/  Current hatchery-specific goals, not PFMC goals."]
["g/  Due to modernization of the hatchery facility and improved efficiencies, the Mokelumne Hatchery escapement goal was reduced from 5,000 to 3,000 adults in 2010."]

{"sheet":"B-3","index":3,"n_rows":131,"n_cols":20,"rows_kept":131,"merged":[[0,0,0,19],[1,1,1,14],[2,1,2,3],[2,5,2,9],[2,11,2,18],[2,20,2,21],[3,0,4,0],[3,5,3,6],[3,7,3,9],[3,11,3,12],[3,13,3,14],[3,16,3,18],[4,11,4,12],[60,0,60,19],[61,0,61,21],[62,0,62,21],[63,0,63,19],[64,0,64,19],[65,0,66,19],[67,0,68,19],[69,0,69,19],[70,0,70,19],[71,0,71,19],[72,0,72,19],[89,0,89,19],[90,1,90,14],[91,1,91,3],[91,5,91,9],[91,11,91,18],[91,20,91,21],[92,0,93,0],[92,5,92,6],[92,7,92,9],[92,13,92,14],[92,16,92,18],[114,0,114,19],[115,0,115,19],[116,0,116,19],[117,0,117,19],[118,0,118,19],[119,0,120,19],[121,0,122,19],[123,0,123,19],[124,0,124,19],[125,0,125,19],[126,0,126,19],[127,0,127,19],[128,0,128,19],[129,0,129,19],[130,0,130,19],[131,0,131,19]]}
["TABLE B-3.  Sacramento River late-fall, winter, and spring Chinook salmon spawning escapement in numbers of fish."]
[null,"Upper Sacramento River"]
[null,"          Late Falla/b/c/",{"$nulls":3},"Winterc/d/",{"$nulls":5},"Spring"]
[" Year or Average",{"$nulls":4},"RBDDa/",null,"Carcass Survey",{"$nulls":3},"Tributarye/",null,"      Sacramento Rivera/f/",null,null,"        Feather Riverg/"]
[null,"Adults",null,"Jacks",null,"Adults","Jacks","Adults",null,"Jacks",null,"Adults and Jacksh/",null,"Adults","Jacks",null,"Adults",null,"Jacks"]
[1970,"--",null,"--",null,{"v":32085,"d":"32,085"},{"v":8324,"d":"8,324"},"--",null,"--",null,{"v":3785,"d":"3,785"},null,{"v":3652,"d":"3,652"},0,null,235,null,"--"]
[1971,{"v":16741,"d":"16,741"},null,"--",null,{"v":32225,"d":"32,225"},{"v":20863.977,"d":"20,864"},"--",null,"--",null,{"v":2970,"d":"2,970"},null,{"v":4197.6,"d":"4,198"},{"v":1632.4,"d":"1,632"},null,481,null,"--"]
[1972,{"v":29160.516,"d":"29,161"},null,{"v":2398.484,"d":"2,398"},null,{"v":28592,"d":"28,592"},{"v":8541,"d":"8,541"},"--",null,"--",null,{"v":1050,"d":"1,050"},null,{"v":5911.92,"d":"5,912"},{"v":1126.08,"d":"1,126"},null,256,null,"--"]
[1973,{"v":20975.103,"d":"20,975"},null,{"v":696.992,"d":"697"},null,{"v":19456,"d":"19,456"},{"v":4623,"d":"4,623"},"--",null,"--",null,{"v":4050,"d":"4,050"},null,{"v":5905.025,"d":"5,905"},{"v":1269.975,"d":"1,270"},null,205,null,"--"]
[1974,{"v":5772.767000000001,"d":"5,773"},null,{"v":310.233,"d":"310"},null,{"v":18109,"d":"18,109"},{"v":3788,"d":"3,788"},"--",null,"--",null,{"v":5250,"d":"5,250"},null,{"v":2606.8,"d":"2,607"},{"v":1193.2,"d":"1,193"},null,198,null,"--"]
[1975,{"v":18317.211,"d":"18,317"},null,{"v":943.789,"d":"944"},null,{"v":15932,"d":"15,932"},{"v":7498,"d":"7,498"},"--",null,"--",null,{"v":12650,"d":"12,650"},null,{"v":6867.013999999999,"d":"6,867"},{"v":3366.9859999999994,"d":"3,367"},null,691,null,"--"]
[1976,{"v":9862.96,"d":"9,863"},null,{"v":6045.04,"d":"6,045"},null,{"v":26462,"d":"26,462"},{"v":8634,"d":"8,634"},"--",null,"--",null,46,null,{"v":21180.18,"d":"21,180"},{"v":3914.82,"d":"3,915"},null,699,null,"--"]
[1977,{"v":8655.94,"d":"8,656"},null,{"v":884.16,"d":"884"},null,{"v":15028,"d":"15,028"},{"v":2186,"d":"2,186"},"--",null,"--",null,{"v":1000,"d":"1,000"},null,{"v":7019.36,"d":"7,019"},{"v":4525.64,"d":"4,526"},null,185,null,"--"]
[1978,{"v":11131.268,"d":"11,131"},null,{"v":1347.7320000000002,"d":"1,348"},null,{"v":23669,"d":"23,669"},{"v":1193,"d":"1,193"},"--",null,"--",null,{"v":2255,"d":"2,255"},null,{"v":4909.354,"d":"4,909"},{"v":759.6460000000001,"d":"760"},null,204,null,"--"]
[1979,{"v":10232.58,"d":"10,233"},null,{"v":51.42,"d":"51"},null,{"v":2251,"d":"2,251"},113,"--",null,"--",null,10,null,{"v":2161.992,"d":"2,162"},{"v":694.008,"d":"694"},null,250,null,"--"]
[1980,{"v":8429.211000000001,"d":"8,429"},null,{"v":663.789,"d":"664"},null,84,{"v":1072,"d":"1,072"},"--",null,"--",null,{"v":2695,"d":"2,695"},null,{"v":6404.292,"d":"6,404"},{"v":2958.708,"d":"2,959"},null,538,null,"--"]
[1981,{"v":6028.045,"d":"6,028"},null,{"v":689.955,"d":"690"},null,{"v":18297,"d":"18,297"},{"v":1744,"d":"1,744"},"--",null,"--",null,981,null,{"v":12682.17,"d":"12,682"},{"v":7972.83,"d":"7,973"},null,{"v":886.971,"d":"887"},null,{"v":113.029,"d":"113"}]
[1982,{"v":6250.097,"d":"6,250"},null,{"v":648.903,"d":"649"},null,972,270,"--",null,"--",null,{"v":2824,"d":"2,824"},null,{"v":19150.012,"d":"19,150"},{"v":4005.988,"d":"4,006"},null,{"v":1809,"d":"1,809"},null,191]
[1983,{"v":13710.471999999998,"d":"13,710"},null,{"v":1378.528,"d":"1,379"},null,{"v":1439,"d":"1,439"},392,"--",null,"--",null,609,null,{"v":4799.95,"d":"4,800"},{"v":847.05,"d":"847"},null,{"v":1630.516,"d":"1,631"},null,{"v":71.484,"d":"71"}]
[1984,{"v":6520.802,"d":"6,521"},null,{"v":3831.198,"d":"3,831"},null,794,{"v":1868.724,"d":"1,869"},"--",null,"--",null,214,null,{"v":3731.571,"d":"3,732"},{"v":4091.429,"d":"4,091"},null,{"v":1311,"d":"1,311"},null,251]
[1985,{"v":8000.218,"d":"8,000"},null,{"v":2179.782,"d":"2,180"},null,{"v":3633,"d":"3,633"},329,"--",null,"--",null,676,null,{"v":8625.884,"d":"8,626"},{"v":4287.116,"d":"4,287"},null,{"v":1592,"d":"1,592"},null,38]
[1986,{"v":7709.408,"d":"7,709"},null,{"v":591.592,"d":"592"},null,{"v":2101,"d":"2,101"},496,"--",null,"--",null,{"v":2205,"d":"2,205"},null,{"v":20183.07,"d":"20,183"},{"v":1874.93,"d":"1,875"},null,{"v":1242.411,"d":"1,242"},null,{"v":190.589,"d":"191"}]
[1987,{"v":15711.234,"d":"15,711"},null,{"v":859.766,"d":"860"},null,{"v":1909,"d":"1,909"},277,"--",null,"--",null,304,null,{"v":7880.327,"d":"7,880"},{"v":4490.673,"d":"4,491"},null,{"v":925.519,"d":"926"},null,{"v":287.481,"d":"287"}]
[1988,{"v":10637.66,"d":"10,638"},null,{"v":2580.34,"d":"2,580"},null,{"v":1878,"d":"1,878"},{"v":1008,"d":"1,008"},"--",null,"--",null,{"v":2233,"d":"2,233"},null,{"v":8061.339,"d":"8,061"},{"v":1805.661,"d":"1,806"},null,{"v":6559.68,"d":"6,560"},null,{"v":273.32,"d":"273"}]
[1989,{"v":9209.198,"d":"9,209"},null,{"v":3662.8020000000006,"d":"3,663"},null,571,125,"--",null,"--",null,{"v":1954,"d":"1,954"},null,{"v":4330.564,"d":"4,331"},{"v":800.436,"d":"800"},null,{"v":4387.392,"d":"4,387"},null,{"v":690.608,"d":"691"}]
[1990,{"v":6967.946,"d":"6,968"},null,{"v":1110.054,"d":"1,110"},null,387,43,"--",null,"--",null,{"v":1592,"d":"1,592"},null,{"v":3517.924,"d":"3,518"},{"v":680.076,"d":"680"},null,{"v":1306.17,"d":"1,306"},null,{"v":586.83,"d":"587"}]
[1991,{"v":7404,"d":"7,404"},"i/",859,"i/",192,19,"--",null,"--",null,798,null,{"v":607.2,"d":"607"},{"v":217.8,"d":"218"},null,{"v":4148.092,"d":"4,148"},null,{"v":154.908,"d":"155"}]
[1992,{"v":9664.650475562374,"d":"9,665"},"i/",{"v":727.4468099885657,"d":"727"},"i/",{"v":1160,"d":"1,160"},80,"--",null,"--",null,{"v":1176,"d":"1,176"},null,{"v":320.173,"d":"320"},{"v":50.827,"d":"51"},null,{"v":1323.348,"d":"1,323"},null,{"v":173.652,"d":"174"}]
[1993,{"v":1093,"d":"1,093"},"i/",{"v":174.24,"d":"174"},"i/",250,137,"--",null,"--",null,{"v":1007.12,"d":"1,007"},null,275,116,null,{"v":3943.168,"d":"3,943"},null,{"v":728.832,"d":"729"}]
[1994,751,"i/",{"v":137.54,"d":"138"},"i/",62,124,"--",null,"--",null,{"v":1684,"d":"1,684"},null,{"v":508.58,"d":"509"},{"v":353.42,"d":"353"},null,{"v":2785.365,"d":"2,785"},null,{"v":855.635,"d":"856"}]
[1995,{"v":306.85,"d":"307"},"i/",{"v":16.15,"d":"16"},"i/",{"v":1267,"d":"1,267"},30,"--",null,"--",null,{"v":9398,"d":"9,398"},null,{"v":340.8,"d":"341"},{"v":85.2,"d":"85"},null,{"v":5002.536,"d":"5,003"},null,{"v":411.464,"d":"411"}]
[1996,{"v":1003,"d":"1,003"},"i/",{"v":382.382,"d":"382"},"i/",708,629,"--",null,"--",null,{"v":2322,"d":"2,322"},null,314,64,null,{"v":5570.613,"d":"5,571"},null,{"v":810.387,"d":"810"}]
[1997,{"v":4165.98,"d":"4,166"},"i/",{"v":412.02,"d":"412"},"i/",528,352,"--",null,"--",null,{"v":1303,"d":"1,303"},null,36,90,null,{"v":2969.889,"d":"2,970"},null,{"v":683.111,"d":"683"}]
[1998,{"v":40185.25139664805,"d":"40,185"},null,{"v":5054.748603351955,"d":"5,055"},null,{"v":2079,"d":"2,079"},923,"--",null,"--",null,{"v":23609,"d":"23,609"},null,{"v":624.4,"d":"624"},{"v":490.6,"d":"491"},null,{"v":6240.05,"d":"6,240"},null,{"v":505.95,"d":"506"}]
[1999,{"v":24475.21444201313,"d":"24,475"},null,{"v":3985.7855579868706,"d":"3,986"},null,822,{"v":2466,"d":"2,466"},"--",null,"--",null,{"v":6104,"d":"6,104"},null,{"v":142.45,"d":"142"},{"v":116.55,"d":"117"},null,{"v":3529.526,"d":"3,530"},null,{"v":201.47400000000002,"d":"201"}]
[2000,{"v":10478,"d":"10,478"},null,{"v":2554,"d":"2,554"},null,563,789,"--",null,"--",null,{"v":5504,"d":"5,504"},null,94,38,null,{"v":3657,"d":"3,657"},null,315]
[2001,{"v":20614,"d":"20,614"},null,{"v":1199,"d":"1,199"},null,{"v":1696,"d":"1,696"},{"v":3827,"d":"3,827"},{"v":7443,"d":"7,443"},null,781,null,{"v":21623,"d":"21,623"},"j/",981,0,"h/",{"v":4052.3,"d":"4,052"},null,{"v":82.7,"d":"83"}]
[2002,{"v":39818,"d":"39,818"},null,765,null,{"v":7614,"d":"7,614"},{"v":1555,"d":"1,555"},{"v":7047,"d":"7,047"},null,417,null,{"v":20198,"d":"20,198"},"j/",{"v":429.87,"d":"430"},53,null,{"v":3982,"d":"3,982"},null,207]
[2003,{"v":8122,"d":"8,122"},null,613,null,{"v":6172,"d":"6,172"},{"v":3585,"d":"3,585"},{"v":7675,"d":"7,675"},null,543,null,{"v":21798,"d":"21,798"},"j/",0,0,null,{"v":8373,"d":"8,373"},null,389]
[2004,{"v":12458,"d":"12,458"},null,{"v":1574,"d":"1,574"},null,{"v":2588,"d":"2,588"},{"v":4604,"d":"4,604"},{"v":5786,"d":"5,786"},null,{"v":2083,"d":"2,083"},null,{"v":12556,"d":"12,556"},"j/",763,326,null,{"v":3630,"d":"3,630"},null,572]
[2005,{"v":14047,"d":"14,047"},null,{"v":2141,"d":"2,141"},null,{"v":3521,"d":"3,521"},{"v":1778,"d":"1,778"},{"v":14684,"d":"14,684"},null,{"v":1155,"d":"1,155"},null,{"v":21319,"d":"21,319"},"j/",21,9,null,{"v":1811,"d":"1,811"},"k/",24,"k/"]
[2006,{"v":14708.864133263925,"d":"14,709"},null,{"v":351.13586673607495,"d":"351"},null,{"v":4792,"d":"4,792"},{"v":2623,"d":"2,623"},{"v":16911,"d":"16,911"},null,379,null,{"v":10669,"d":"10,669"},"j/",0,0,null,{"v":2052,"d":"2,052"},"k/",9,"k/"]
[2007,{"v":11954.272071552221,"d":"11,954"},null,{"v":713.7279284477784,"d":"714"},null,{"v":3004,"d":"3,004"},{"v":3140,"d":"3,140"},{"v":2402,"d":"2,402"},null,139,null,{"v":8951,"d":"8,951"},"j/",226,22,null,{"v":2669,"d":"2,669"},"k/",5,"k/"]
[2008,{"v":9946,"d":"9,946"},null,381,null,{"v":1504,"d":"1,504"},{"v":2131,"d":"2,131"},{"v":2623,"d":"2,623"},null,207,null,{"v":11943,"d":"11,943"},"j/",0,0,null,{"v":1056,"d":"1,056"},"k/",10,"k/"]
[2009,{"v":9515,"d":"9,515"},null,460,null,"l/","l/",{"v":4483,"d":"4,483"},null,54,null,{"v":3517,"d":"3,517"},"j/","l/","l/",null,867,"k/",122,"k/"]
[2010,{"v":8894,"d":"8,894"},null,{"v":1001,"d":"1,001"},null,"l/","l/",{"v":1554,"d":"1,554"},null,42,null,{"v":2951,"d":"2,951"},"j/","l/","l/",null,{"v":1655,"d":"1,655"},"k/",6,"k/"]
[2011,{"v":7129,"d":"7,129"},null,{"v":1161,"d":"1,161"},null,"l/","l/",637,null,187,null,{"v":5547,"d":"5,547"},"j/","l/","l/",null,{"v":1831,"d":"1,831"},"k/",138,"k/"]
[2012,{"v":5153,"d":"5,153"},null,909,null,"m/","m/",{"v":2527,"d":"2,527"},null,144,null,{"v":18694,"d":"18,694"},"j/","m/","m/",null,{"v":3510,"d":"3,510"},"k/",228,"k/"]
[2013,{"v":8365,"d":"8,365"},null,644,null,"m/","m/",{"v":5622,"d":"5,622"},"n/",462,null,{"v":18507,"d":"18,507"},"j/","m/","m/",null,{"v":4247,"d":"4,247"},"k/",44,"k/"]
[2014,{"v":11792,"d":"11,792"},null,{"v":1453,"d":"1,453"},null,"m/","m/",{"v":2688,"d":"2,688"},null,327,null,{"v":7127,"d":"7,127"},"j/","m/","m/",null,{"v":2599,"d":"2,599"},"k/",177,"k/"]
[2015,{"v":9306,"d":"9,306"},null,134,null,"m/","m/",{"v":3382,"d":"3,382"},null,57,null,{"v":1039,"d":"1,039"},"j/","m/","m/",null,{"v":3333,"d":"3,333"},"k/",53,"k/"]
[2016,{"v":4708,"d":"4,708"},null,949,null,"m/","m/",924,null,622,null,{"v":6458,"d":"6,458"},"j/","m/","m/",null,{"v":1595,"d":"1,595"},"k/",55,"k/"]
[2017,{"v":4466,"d":"4,466"},null,389,null,"m/","m/",490,null,485,null,{"v":1055,"d":"1,055"},"j/","m/","m/",null,266,"k/",314,"k/"]
[2018,{"v":2023,"d":"2,023"},null,{"v":3189,"d":"3,189"},null,"m/","m/",{"v":1884,"d":"1,884"},null,754,null,{"v":2806,"d":"2,806"},"j/","m/","m/",null,{"v":1870,"d":"1,870"},"k/",240,"k/"]
[2019,{"v":9965,"d":"9,965"},null,{"v":1550,"d":"1,550"},null,"m/","m/",{"v":7570,"d":"7,570"},null,559,null,{"v":16145,"d":"16,145"},"j/","m/","m/",null,{"v":3554,"d":"3,554"},"k/",313,"k/"]
[2020,{"v":5109,"d":"5,109"},null,113,null,"m/","m/",{"v":6743,"d":"6,743"},null,686,null,{"v":1675,"d":"1,675"},"j/","m/","m/",null,{"v":1444,"d":"1,444"},"k/",110,"k/"]
[2021,{"v":3626,"d":"3,626"},null,267,null,"m/","m/",{"v":10239,"d":"10,239"},null,277,null,{"v":5210,"d":"5,210"},"j/","m/","m/",null,{"v":2596,"d":"2,596"},"k/",47,"k/"]
[2022,{"v":7035,"d":"7,035"},null,228,null,"m/","m/",{"v":5561,"d":"5,561"},null,477,null,{"v":5010,"d":"5,010"},"j/","m/","m/",null,{"v":1761,"d":"1,761"},"k/",11,"k/"]
[2023,{"v":2986,"d":"2,986"},null,281,null,"m/","m/",{"v":2420,"d":"2,420"},null,62,null,170,"j/","m/","m/",null,991,"k/",81,"k/"]
["2024o/",{"v":4237,"d":"4,237"},null,111,null,"m/","m/",789,null,578,null,176,"j/","m/","m/",null,{"v":2306,"d":"2,306"},"k/",164,"k/"]
["a/ Jacks and adults based on sampling at Red Bluff Diversion Dam (RBDD) from unpublished CDFW data.  Beginning in 1987 for late-fall and winter run, estimates based on historical run patterns and partial counts at RBDD due to raising of dam gates during the last part of the late-fall run and first part of the winter run."]
["b/  Since 1998, late-fall adult and jack estimates are based on carcass counts of natural spawners plus fish spawned at Coleman National Fish Hatchery."]
["c/   Estimates of late-fall and winter run include Chinook trapped at Keswick Dam for use as broodstock at Coleman or Livingston Stone National Fish hatcheries. Beginning in 2019, winter run estimates also include Chinook that returned to Battle Creek as part of the Coleman National Fish Hatchery captive broodstock \"jumpstart\" reintroduction effort."]
["d/  RBDD and carcass survey estimates represent alternative methods for determining winter run Chinook escapement."]
["e/  Natural spawning spring run which are isolated from fall run; primarily Mill Creek, Deer Creek, and Butte Creek escapement."]
["f/   Sacramento River spring run estimates are the total RBDD counts minus the spring run numbers in the upper Sacramento tributaries.  If this number is less than or equal to zero, the upper Sacramento River spring run estimates are zero."]
[]
["g/  Feather River spring run estimates are primarily fish returning to Feather River Hatchery. Spring run are not distinguished from fall run in the natural spawning surveys and are reported in the fall run natural escapement numbers."]
[]
["h/  Jack proportion could not be determined in 2001."]
["i/   Primarily number of spawners at Coleman National Fish Hatchery 1991-97.  No data available for natural spawners, RBDD gates were raised during time coinciding with the late-fall run."]
["j/   Methodology change from using snorkel survey to carcass survey for Butte Creek spring run estimates."]
["k/  Methodology change for distinguishing spring run Chinook at Feather River Hatchery in 2005. Fish arriving prior to the spring Chinook spawning period were tagged and returned to the river. Spring Chinook escapement estimate is the number of these tagged fish that subsequently returned during the spring Chinook spawning period."]
["l/  RBDD did not go into operation until June 15, a month later than normal; thus RBDD winter and spring run estimates are unavailable."]
["m/  RBDD gates were permanently removed on September 1, 2012; thus RBDD winter and spring run estimates are no longer available."]
["n/  Includes 47 adults that were transferred from the Colusa Basin Drain to Livingston Stone National Fish Hatchery for use as broodstock. "]
["o/  Preliminary."]
{"$rows_empty":12}
["TABLE B-3.  Sacramento River late-fall, winter, and spring Chinook salmon spawning escapement in numbers of fish."]
[null,"Upper Sacramento River"]
[null,"          Late-Falla/b/c/",{"$nulls":3},"Winterc/d/",{"$nulls":5},"Spring"]
[" Year or Average",{"$nulls":4},"RBDDa/",null,"Carcass Survey",{"$nulls":3},"Tributarye/",null,"      Sacramento Rivera/f/",null,null,"        Feather Riverg/"]
[null,"Adults",null,"Jacks",null,"Adults","Jacks","Adults",null,"Jacks",null,"Adults and Jacksh/",null,"Adults","Jacks",null,"Adults",null,"Jacks"]
["1981-1985",{"$f":"AVERAGE(B17:B21)","v":{"v":8101.926799999999,"d":"8,102"}},null,{"$f":"AVERAGE(D17:D21)","v":{"v":1745.6732000000004,"d":"1,746"}},null,{"$f":"AVERAGE(F17:F21)","v":{"v":5027,"d":"5,027"}},{"$f":"AVERAGE(G17:G21)","v":{"v":920.7448,"d":"921"}},"--",null,"--",null,{"$f":"AVERAGE(L17:L21)","v":{"v":1060.8,"d":"1,061"}},null,{"$f":"AVERAGE(N17:N21)","v":{"v":9797.917399999998,"d":"9,798"}},{"$f":"AVERAGE(O17:O21)","v":{"v":4240.8826,"d":"4,241"}},null,{"$f":"AVERAGE(Q17:Q21)","v":{"v":1445.8974,"d":"1,446"}},null,{"$f":"AVERAGE(S17:S21)","v":{"v":132.90259999999998,"d":"133"}}]
["1986-1990",{"$f":"AVERAGE(B22:B26)","v":{"v":10047.089199999999,"d":"10,047"}},null,{"$f":"AVERAGE(D22:D26)","v":{"v":1760.9108,"d":"1,761"}},null,{"$f":"AVERAGE(F22:F26)","v":{"v":1369.2,"d":"1,369"}},{"$f":"AVERAGE(G22:G26)","v":{"v":389.8,"d":"390"}},"--",null,"--",null,{"$f":"AVERAGE(L22:L26)","v":{"v":1657.6,"d":"1,658"}},null,{"$f":"AVERAGE(N22:N26)","v":{"v":8794.6448,"d":"8,795"}},{"$f":"AVERAGE(O22:O26)","v":{"v":1930.3552000000004,"d":"1,930"}},null,{"$f":"AVERAGE(Q22:Q26)","v":{"v":2884.2344000000003,"d":"2,884"}},null,{"$f":"AVERAGE(S22:S26)","v":{"v":405.7656,"d":"406"}}]
["1991-1995",{"$f":"AVERAGE(B27:B31)","v":{"v":3843.900095112475,"d":"3,844"}},{"$f":"C31","v":"i/"},{"$f":"AVERAGE(D27:D31)","v":{"v":382.8753619977132,"d":"383"}},{"$f":"E31","v":"i/"},{"$f":"AVERAGE(F27:F31)","v":{"v":586.2,"d":"586"}},{"$f":"AVERAGE(G27:G31)","v":78},"--",null,"--",null,{"$f":"AVERAGE(L27:L31)","v":{"v":2812.624,"d":"2,813"}},null,{"$f":"AVERAGE(N27:N31)","v":{"v":410.35060000000004,"d":"410"}},{"$f":"AVERAGE(O27:O31)","v":{"v":164.6494,"d":"165"}},null,{"$f":"AVERAGE(Q27:Q31)","v":{"v":3440.5017999999995,"d":"3,441"}},null,{"$f":"AVERAGE(S27:S31)","v":{"v":464.8982,"d":"465"}}]
["1996-2000",{"$f":"AVERAGE(B32:B36)","v":{"v":16061.489167732234,"d":"16,061"}},{"$f":"C32","v":"i/"},{"$f":"AVERAGE(D32:D36)","v":{"v":2477.7872322677654,"d":"2,478"}},{"$f":"E32","v":"i/"},{"$f":"AVERAGE(F32:F36)","v":940},{"$f":"AVERAGE(G32:G36)","v":{"v":1031.8,"d":"1,032"}},"--",null,"--",null,{"$f":"AVERAGE(L32:L36)","v":{"v":7768.4,"d":"7,768"}},null,{"$f":"AVERAGE(N32:N36)","v":{"v":242.17,"d":"242"}},{"$f":"AVERAGE(O32:O36)","v":{"v":159.82999999999998,"d":"160"}},null,{"$f":"AVERAGE(Q32:Q36)","v":{"v":4393.4156,"d":"4,393"}},null,{"$f":"AVERAGE(S32:S36)","v":{"v":503.1844,"d":"503"}}]
["2001-2005",{"$f":"AVERAGE(B37:B41)","v":{"v":19011.8,"d":"19,012"}},null,{"$f":"AVERAGE(D37:D41)","v":{"v":1258.4,"d":"1,258"}},null,{"$f":"AVERAGE(F37:F41)","v":{"v":4318.2,"d":"4,318"}},{"v":3069.8,"d":"3,070"},{"v":8527,"d":"8,527"},null,{"v":995.8,"d":"996"},null,{"v":19498.8,"d":"19,499"},{"$f":"M37","v":"j/"},{"v":438.974,"d":"439"},{"v":77.6,"d":"78"},{"$f":"P37","v":"h/"},{"v":4369.66,"d":"4,370"},{"$f":"R41","v":"k/"},{"v":254.94,"d":"255"},{"$f":"T41","v":"k/"}]
["2006-2010",{"$f":"AVERAGE(B42:B46)","v":{"v":11003.62724096323,"d":"11,004"}},null,{"$f":"AVERAGE(D42:D46)","v":{"v":581.3727590367706,"d":"581"}},null,{"$f":"AVERAGE(F42:F46)","v":{"v":3100,"d":"3,100"}},{"v":2631.3333333333335,"d":"2,631"},{"v":5594.6,"d":"5,595"},null,{"$f":"AVERAGE(J42:J46)","v":{"v":164.2,"d":"164"}},null,{"$f":"AVERAGE(L42:L46)","v":{"v":7606.2,"d":"7,606"}},{"$f":"M38","v":"j/"},{"$f":"AVERAGE(N42:N46)","v":{"v":75.33333333333333,"d":"75"}},{"v":7.333333333333333,"d":"7"},null,{"$f":"AVERAGE(Q42:Q46)","v":{"v":1659.8,"d":"1,660"}},{"$f":"R42","v":"k/"},{"v":30.4,"d":"30"},{"$f":"T42","v":"k/"}]
[2011,{"$f":"B47","v":{"v":7129,"d":"7,129"}},null,{"$f":"D47","v":{"v":1161,"d":"1,161"}},null,{"$f":"F47","v":"l/"},"l/",637,null,{"$f":"J47","v":187},null,{"$f":"L47","v":{"v":5547,"d":"5,547"}},"j/","l/","l/",null,{"$f":"Q47","v":{"v":1831,"d":"1,831"}},"k/",138,"k/"]
[2012,{"v":5153,"d":"5,153"},null,909,null,"m/","m/",{"v":2527,"d":"2,527"},null,144,null,{"v":18694,"d":"18,694"},"j/","m/","m/",null,{"v":3510,"d":"3,510"},"k/",228,"k/"]
[2013,{"v":8365,"d":"8,365"},null,644,null,"m/","m/",{"v":5622,"d":"5,622"},{"$f":"I49","v":"n/"},462,null,{"v":18507,"d":"18,507"},"j/","m/","m/",null,{"v":4247,"d":"4,247"},"k/",44,"k/"]
[2014,{"v":11792,"d":"11,792"},null,{"v":1453,"d":"1,453"},null,"m/","m/",{"v":2688,"d":"2,688"},null,327,null,{"v":7127,"d":"7,127"},"j/","m/","m/",null,{"v":2599,"d":"2,599"},"k/",177,"k/"]
[2015,{"v":9306,"d":"9,306"},null,134,null,"m/","m/",{"v":3382,"d":"3,382"},null,57,null,{"v":1039,"d":"1,039"},"j/","m/","m/",null,{"v":3333,"d":"3,333"},"k/",53,"k/"]
[2016,{"v":4708,"d":"4,708"},null,949,null,"m/","m/",924,null,622,null,{"v":6458,"d":"6,458"},"j/","m/","m/",null,{"v":1595,"d":"1,595"},"k/",55,"k/"]
[2017,{"v":4466,"d":"4,466"},null,389,null,"m/","m/",490,null,485,null,{"v":1055,"d":"1,055"},"j/","m/","m/",null,266,"k/",314,"k/"]
[2018,{"v":2023,"d":"2,023"},null,{"v":3189,"d":"3,189"},null,"m/","m/",{"v":1884,"d":"1,884"},null,754,null,{"v":2806,"d":"2,806"},"j/","m/","m/",null,{"v":1870,"d":"1,870"},"k/",240,"k/"]
[2019,{"v":9965,"d":"9,965"},null,{"v":1550,"d":"1,550"},null,"m/","m/",{"v":7570,"d":"7,570"},null,559,null,{"v":16145,"d":"16,145"},"j/","m/","m/",null,{"v":3554,"d":"3,554"},"k/",313,"k/"]
[2020,{"v":5109,"d":"5,109"},null,113,null,"m/","m/",{"v":6743,"d":"6,743"},null,686,null,{"v":1675,"d":"1,675"},"j/","m/","m/",null,{"v":1444,"d":"1,444"},"k/",110,"k/"]
[2021,{"v":3626,"d":"3,626"},null,267,null,"m/","m/",{"v":10239,"d":"10,239"},null,277,null,{"v":5210,"d":"5,210"},"j/","m/","m/",null,{"v":2596,"d":"2,596"},"k/",47,"k/"]
[2022,{"v":7035,"d":"7,035"},null,228,null,"m/","m/",{"v":5561,"d":"5,561"},null,477,null,{"v":5010,"d":"5,010"},"j/","m/","m/",null,{"v":1761,"d":"1,761"},"k/",11,"k/"]
[2023,{"$f":"B59","v":{"v":2986,"d":"2,986"}},null,{"$f":"D59","v":281},null,{"$f":"F59","v":"m/"},"m/",{"v":2420,"d":"2,420"},null,{"$f":"J59","v":62},null,{"$f":"L59","v":170},"j/","m/","m/",null,{"$f":"Q59","v":991},"k/",81,"k/"]
["2024o/",{"v":4237,"d":"4,237"},null,111,null,"m/","m/",789,null,578,null,176,"j/","m/","m/",null,{"v":2306,"d":"2,306"},"k/",164,"k/"]
[{"$f":"A61","v":"a/ Jacks and adults based on sampling at Red Bluff Diversion Dam (RBDD) from unpublished CDFW data.  Beginning in 1987 for late-fall and winter run, estimates based on historical run patterns and partial counts at RBDD due to raising of dam gates during the last part of the late-fall run and first part of the winter run."}]
["b/  Since 1998, late-fall adult and jack estimates are based on carcass counts of natural spawners plus fish spawned at Coleman National Fish Hatchery."]
["c/   Estimates of late-fall and winter run include Chinook trapped at Keswick Dam for use as broodstock at Coleman or Livingston Stone National Fish hatcheries. Beginning in 2019, winter run estimates also include Chinook that returned to Battle Creek as part of the Coleman National Fish Hatchery captive broodstock \"jumpstart\" reintroduction effort."]
["d/  RBDD and carcass survey estimates represent alternative methods for determining winter run Chinook escapement."]
["e/  Natural spawning spring run which are isolated from fall run; primarily Mill Creek, Deer Creek, and Butte Creek escapement."]
["f/   Sacramento River spring run estimates are the total RBDD counts minus the spring run numbers in the upper Sacramento tributaries.  If this number is less than or equal to zero, the upper Sacramento River spring run estimates are zero."]
[]
[{"$f":"A68","v":"g/  Feather River spring run estimates are primarily fish returning to Feather River Hatchery. Spring run are not distinguished from fall run in the natural spawning surveys and are reported in the fall run natural escapement numbers."}]
[]
[{"$f":"A70","v":"h/  Jack proportion could not be determined in 2001."}]
["i/   Primarily number of spawners at Coleman National Fish Hatchery 1991-97.  No data available for natural spawners, RBDD gates were raised during time coinciding with the late-fall run."]
["j/   Methodology change from using snorkel survey to carcass survey for Butte Creek spring run estimates."]
["k/  Methodology change for distinguishing spring run Chinook at Feather River Hatchery in 2005. Fish arriving prior to the spring Chinook spawning period were tagged and returned to the river. Spring Chinook escapement estimate is the number of these tagged fish that subsequently returned during the spring Chinook spawning period."]
["l/  RBDD did not go into operation until June 15, a month later than normal; thus RBDD winter and spring run estimates are unavailable."]
["m/  RBDD gates were permanently removed on September 1, 2012; thus RBDD winter and spring run estimates are no longer available."]
["n/  Includes 47 adults that were transferred from the Colusa Basin Drain to Livingston Stone National Fish Hatchery for use as broodstock. "]
["o/  Preliminary."]

{"sheet":"B-4","index":4,"n_rows":169,"n_cols":22,"rows_kept":169,"merged":[[0,0,0,21],[1,2,3,3],[1,10,3,10],[1,11,1,21],[2,0,3,0],[2,4,2,8],[2,11,2,13],[2,15,2,17],[2,19,2,21],[98,20,98,21],[99,0,99,21],[100,0,100,21],[101,0,101,21],[102,0,104,21],[105,0,105,15],[121,0,121,21],[122,2,124,3],[122,10,124,10],[122,11,122,21],[123,0,124,0],[123,4,123,8],[123,11,123,13],[123,15,123,17],[123,19,123,21],[125,0,126,0],[127,0,128,0],[129,0,130,0],[163,20,163,21],[164,0,164,21],[165,0,165,21],[166,0,166,21],[167,0,167,21],[168,0,168,21]]}
["TABLE B-4.  Summary of Klamath River fall Chinook salmon estimates in numbers of adults and jacks."]
[null,null,"Total Inriver Run",{"$nulls":7},"Nonlanded Fishery Mortality","Spawning Escapement"]
["Year or Average",{"$nulls":3},"Inriver Harvest",{"$nulls":6},"Klamath River",{"$nulls":3},"Trinity River",{"$nulls":3},"Total"]
[null,"Category",null,null,"Indian",null,"Sport",null,"Total",null,null,"Hatchery","Natural","Total",null,"Hatchery","Natural","Total",null,"Hatchery","Natural","Total"]
[1978,"Adults",{"v":92983,"d":"92,983"},null,{"v":18200,"d":"18,200"},null,{"v":1694,"d":"1,694"},null,{"v":19894,"d":"19,894"},null,{"v":1618,"d":"1,618"},{"v":6945,"d":"6,945"},{"v":27440,"d":"27,440"},{"v":34385,"d":"34,385"},null,{"v":6034,"d":"6,034"},{"v":31052,"d":"31,052"},{"v":37086,"d":"37,086"},null,{"v":12979,"d":"12,979"},{"v":58492,"d":"58,492"},{"v":71471,"d":"71,471"}]
[null,"Jacks",{"v":22745,"d":"22,745"},null,{"v":1800,"d":"1,800"},null,{"v":2082,"d":"2,082"},null,{"v":3882,"d":"3,882"},null,199,925,{"v":11702,"d":"11,702"},{"v":12627,"d":"12,627"},null,{"v":1325,"d":"1,325"},{"v":4712,"d":"4,712"},{"v":6037,"d":"6,037"},null,{"v":2250,"d":"2,250"},{"v":16414,"d":"16,414"},{"v":18664,"d":"18,664"}]
[1979,"Adults",{"v":51295,"d":"51,295"},null,{"v":13650,"d":"13,650"},null,{"v":2141,"d":"2,141"},null,{"v":15791,"d":"15,791"},null,{"v":1231,"d":"1,231"},{"v":2301,"d":"2,301"},{"v":22609,"d":"22,609"},{"v":24910,"d":"24,910"},null,{"v":1335,"d":"1,335"},{"v":8028,"d":"8,028"},{"v":9363,"d":"9,363"},null,{"v":3636,"d":"3,636"},{"v":30637,"d":"30,637"},{"v":34273,"d":"34,273"}]
[null,"Jacks",{"v":11675,"d":"11,675"},null,{"v":1350,"d":"1,350"},null,{"v":2181,"d":"2,181"},null,{"v":3531,"d":"3,531"},null,162,257,{"v":2825,"d":"2,825"},{"v":3082,"d":"3,082"},null,964,{"v":3936,"d":"3,936"},{"v":4900,"d":"4,900"},null,{"v":1221,"d":"1,221"},{"v":6761,"d":"6,761"},{"v":7982,"d":"7,982"}]
[1980,"Adults",{"v":45640,"d":"45,640"},null,{"v":12013,"d":"12,013"},null,{"v":4496,"d":"4,496"},null,{"v":16509,"d":"16,509"},null,{"v":1137,"d":"1,137"},{"v":2412,"d":"2,412"},{"v":13783,"d":"13,783"},{"v":16195,"d":"16,195"},null,{"v":4099,"d":"4,099"},{"v":7700,"d":"7,700"},{"v":11799,"d":"11,799"},null,{"v":6511,"d":"6,511"},{"v":21483,"d":"21,483"},{"v":27994,"d":"27,994"}]
[null,"Jacks",{"v":36773,"d":"36,773"},null,987,null,{"v":5891,"d":"5,891"},null,{"v":6878,"d":"6,878"},null,206,451,{"v":10145,"d":"10,145"},{"v":10596,"d":"10,596"},null,{"v":2256,"d":"2,256"},{"v":16837,"d":"16,837"},{"v":19093,"d":"19,093"},null,{"v":2707,"d":"2,707"},{"v":26982,"d":"26,982"},{"v":29689,"d":"29,689"}]
[1981,"Adults",{"v":80292,"d":"80,292"},null,{"v":33033,"d":"33,033"},null,{"v":5983,"d":"5,983"},null,{"v":39016,"d":"39,016"},null,{"v":2994,"d":"2,994"},{"v":2055,"d":"2,055"},{"v":18517,"d":"18,517"},{"v":20572,"d":"20,572"},null,{"v":2370,"d":"2,370"},{"v":15340,"d":"15,340"},{"v":17710,"d":"17,710"},null,{"v":4425,"d":"4,425"},{"v":33857,"d":"33,857"},{"v":38282,"d":"38,282"}]
[null,"Jacks",{"v":28130,"d":"28,130"},null,{"v":2465,"d":"2,465"},null,{"v":7252,"d":"7,252"},null,{"v":9717,"d":"9,717"},null,362,540,{"v":10601,"d":"10,601"},{"v":11141,"d":"11,141"},null,{"v":1004,"d":"1,004"},{"v":5906,"d":"5,906"},{"v":6910,"d":"6,910"},null,{"v":1544,"d":"1,544"},{"v":16507,"d":"16,507"},{"v":18051,"d":"18,051"}]
[1982,"Adults",{"v":66612,"d":"66,612"},null,{"v":14482,"d":"14,482"},null,{"v":8339,"d":"8,339"},null,{"v":22821,"d":"22,821"},null,{"v":1429,"d":"1,429"},{"v":8353,"d":"8,353"},{"v":22677,"d":"22,677"},{"v":31030,"d":"31,030"},null,{"v":2058,"d":"2,058"},{"v":9274,"d":"9,274"},{"v":11332,"d":"11,332"},null,{"v":10411,"d":"10,411"},{"v":31951,"d":"31,951"},{"v":42362,"d":"42,362"}]
[null,"Jacks",{"v":39408,"d":"39,408"},null,{"v":1799,"d":"1,799"},null,{"v":12484,"d":"12,484"},null,{"v":14283,"d":"14,283"},null,411,{"v":1833,"d":"1,833"},{"v":10497,"d":"10,497"},{"v":12330,"d":"12,330"},null,{"v":4235,"d":"4,235"},{"v":8149,"d":"8,149"},{"v":12384,"d":"12,384"},null,{"v":6068,"d":"6,068"},{"v":18646,"d":"18,646"},{"v":24714,"d":"24,714"}]
[1983,"Adults",{"v":57546,"d":"57,546"},null,{"v":7890,"d":"7,890"},null,{"v":4235,"d":"4,235"},null,{"v":12125,"d":"12,125"},null,772,{"v":8371,"d":"8,371"},{"v":13500,"d":"13,500"},{"v":21871,"d":"21,871"},null,{"v":5494,"d":"5,494"},{"v":17284,"d":"17,284"},{"v":22778,"d":"22,778"},null,{"v":13865,"d":"13,865"},{"v":30784,"d":"30,784"},{"v":44649,"d":"44,649"}]
[null,"Jacks",{"v":3846,"d":"3,846"},null,163,null,351,null,514,null,21,514,{"v":1673,"d":"1,673"},{"v":2187,"d":"2,187"},null,271,853,{"v":1124,"d":"1,124"},null,785,{"v":2526,"d":"2,526"},{"v":3311,"d":"3,311"}]
[1984,"Adults",{"v":47261,"d":"47,261"},null,{"v":18670,"d":"18,670"},null,{"v":3340,"d":"3,340"},null,{"v":22010,"d":"22,010"},null,{"v":1691,"d":"1,691"},{"v":5330,"d":"5,330"},{"v":10410,"d":"10,410"},{"v":15740,"d":"15,740"},null,{"v":2166,"d":"2,166"},{"v":5654,"d":"5,654"},{"v":7820,"d":"7,820"},null,{"v":7496,"d":"7,496"},{"v":16064,"d":"16,064"},{"v":23560,"d":"23,560"}]
[null,"Jacks",{"v":8281,"d":"8,281"},null,455,null,952,null,{"v":1407,"d":"1,407"},null,59,764,{"v":1869,"d":"1,869"},{"v":2633,"d":"2,633"},null,766,{"v":3416,"d":"3,416"},{"v":4182,"d":"4,182"},null,{"v":1530,"d":"1,530"},{"v":5285,"d":"5,285"},{"v":6815,"d":"6,815"}]
[1985,"Adults",{"v":64438,"d":"64,438"},null,{"v":11566,"d":"11,566"},null,{"v":3582,"d":"3,582"},null,{"v":15148,"d":"15,148"},null,{"v":1079,"d":"1,079"},{"v":19951,"d":"19,951"},{"v":16460,"d":"16,460"},{"v":36411,"d":"36,411"},null,{"v":2583,"d":"2,583"},{"v":9217,"d":"9,217"},{"v":11800,"d":"11,800"},null,{"v":22534,"d":"22,534"},{"v":25677,"d":"25,677"},{"v":48211,"d":"48,211"}]
[null,"Jacks",{"v":69389,"d":"69,389"},null,{"v":1555,"d":"1,555"},null,{"v":11195,"d":"11,195"},null,{"v":12750,"d":"12,750"},null,363,{"v":2159,"d":"2,159"},{"v":6497,"d":"6,497"},{"v":8656,"d":"8,656"},null,{"v":18166,"d":"18,166"},{"v":29454,"d":"29,454"},{"v":47620,"d":"47,620"},null,{"v":20325,"d":"20,325"},{"v":35951,"d":"35,951"},{"v":56276,"d":"56,276"}]
[1986,"Adults",{"v":195019,"d":"195,019"},null,{"v":25127,"d":"25,127"},null,{"v":21027,"d":"21,027"},null,{"v":46154,"d":"46,154"},null,{"v":2614,"d":"2,614"},{"v":17096,"d":"17,096"},{"v":20812,"d":"20,812"},{"v":37908,"d":"37,908"},null,{"v":15795,"d":"15,795"},{"v":92548,"d":"92,548"},{"v":108343,"d":"108,343"},null,{"v":32891,"d":"32,891"},{"v":113360,"d":"113,360"},{"v":146251,"d":"146,251"}]
[null,"Jacks",{"v":44540,"d":"44,540"},null,854,null,{"v":9408,"d":"9,408"},null,{"v":10262,"d":"10,262"},null,266,{"v":1461,"d":"1,461"},{"v":8483,"d":"8,483"},{"v":9944,"d":"9,944"},null,{"v":3609,"d":"3,609"},{"v":20459,"d":"20,459"},{"v":24068,"d":"24,068"},null,{"v":5070,"d":"5,070"},{"v":28942,"d":"28,942"},{"v":34012,"d":"34,012"}]
[1987,"Adults",{"v":209134,"d":"209,134"},null,{"v":53096,"d":"53,096"},null,{"v":20169,"d":"20,169"},null,{"v":73265,"d":"73,265"},null,{"v":5029,"d":"5,029"},{"v":15189,"d":"15,189"},{"v":29797,"d":"29,797"},{"v":44986,"d":"44,986"},null,{"v":13934,"d":"13,934"},{"v":71920,"d":"71,920"},{"v":85854,"d":"85,854"},null,{"v":29123,"d":"29,123"},{"v":101717,"d":"101,717"},{"v":130840,"d":"130,840"}]
[null,"Jacks",{"v":19048,"d":"19,048"},null,415,null,{"v":5436,"d":"5,436"},null,{"v":5851,"d":"5,851"},null,147,{"v":1825,"d":"1,825"},{"v":2823,"d":"2,823"},{"v":4648,"d":"4,648"},null,{"v":2453,"d":"2,453"},{"v":5949,"d":"5,949"},{"v":8402,"d":"8,402"},null,{"v":4278,"d":"4,278"},{"v":8772,"d":"8,772"},{"v":13050,"d":"13,050"}]
[1988,"Adults",{"v":191642,"d":"191,642"},null,{"v":51651,"d":"51,651"},null,{"v":22203,"d":"22,203"},null,{"v":73854,"d":"73,854"},null,{"v":4944,"d":"4,944"},{"v":16106,"d":"16,106"},{"v":34770,"d":"34,770"},{"v":50876,"d":"50,876"},null,{"v":17352,"d":"17,352"},{"v":44616,"d":"44,616"},{"v":61968,"d":"61,968"},null,{"v":33458,"d":"33,458"},{"v":79386,"d":"79,386"},{"v":112844,"d":"112,844"}]
[null,"Jacks",{"v":24054,"d":"24,054"},null,578,null,{"v":5411,"d":"5,411"},null,{"v":5989,"d":"5,989"},null,160,609,{"v":1918,"d":"1,918"},{"v":2527,"d":"2,527"},null,{"v":4752,"d":"4,752"},{"v":10626,"d":"10,626"},{"v":15378,"d":"15,378"},null,{"v":5361,"d":"5,361"},{"v":12544,"d":"12,544"},{"v":17905,"d":"17,905"}]
[1989,"Adults",{"v":124340,"d":"124,340"},null,{"v":45565,"d":"45,565"},null,{"v":8775,"d":"8,775"},null,{"v":54340,"d":"54,340"},null,{"v":4141,"d":"4,141"},{"v":10859,"d":"10,859"},{"v":14423,"d":"14,423"},{"v":25282,"d":"25,282"},null,{"v":11132,"d":"11,132"},{"v":29445,"d":"29,445"},{"v":40577,"d":"40,577"},null,{"v":21991,"d":"21,991"},{"v":43868,"d":"43,868"},{"v":65859,"d":"65,859"}]
[null,"Jacks",{"v":9100,"d":"9,100"},null,191,null,{"v":2267,"d":"2,267"},null,{"v":2458,"d":"2,458"},null,63,831,{"v":2966,"d":"2,966"},{"v":3797,"d":"3,797"},null,239,{"v":2543,"d":"2,543"},{"v":2782,"d":"2,782"},null,{"v":1070,"d":"1,070"},{"v":5509,"d":"5,509"},{"v":6579,"d":"6,579"}]
[1990,"Adults",{"v":35882,"d":"35,882"},null,{"v":7906,"d":"7,906"},null,{"v":3553,"d":"3,553"},null,{"v":11459,"d":"11,459"},null,760,{"v":6719,"d":"6,719"},{"v":7914,"d":"7,914"},{"v":14633,"d":"14,633"},null,{"v":1348,"d":"1,348"},{"v":7682,"d":"7,682"},{"v":9030,"d":"9,030"},null,{"v":8067,"d":"8,067"},{"v":15596,"d":"15,596"},{"v":23663,"d":"23,663"}]
[null,"Jacks",{"v":4392,"d":"4,392"},null,190,null,{"v":2100,"d":"2,100"},null,{"v":2290,"d":"2,290"},null,60,321,{"v":1109,"d":"1,109"},{"v":1430,"d":"1,430"},null,371,241,612,null,692,{"v":1350,"d":"1,350"},{"v":2042,"d":"2,042"}]
[1991,"Adults",{"v":32670,"d":"32,670"},null,{"v":10198,"d":"10,198"},null,{"v":3383,"d":"3,383"},null,{"v":13581,"d":"13,581"},null,956,{"v":4002,"d":"4,002"},{"v":6782,"d":"6,782"},{"v":10784,"d":"10,784"},null,{"v":2482,"d":"2,482"},{"v":4867,"d":"4,867"},{"v":7349,"d":"7,349"},null,{"v":6484,"d":"6,484"},{"v":11649,"d":"11,649"},{"v":18133,"d":"18,133"}]
[null,"Jacks",{"v":1755,"d":"1,755"},null,62,null,686,null,748,null,19,65,336,401,null,205,382,587,null,270,718,988]
[1992,"Adults",{"v":26698,"d":"26,698"},null,{"v":5785,"d":"5,785"},null,{"v":1002,"d":"1,002"},null,{"v":6787,"d":"6,787"},null,523,{"v":3581,"d":"3,581"},{"v":4889,"d":"4,889"},{"v":8470,"d":"8,470"},null,{"v":3779,"d":"3,779"},{"v":7139,"d":"7,139"},{"v":10918,"d":"10,918"},null,{"v":7360,"d":"7,360"},{"v":12028,"d":"12,028"},{"v":19388,"d":"19,388"}]
[null,"Jacks",{"v":13693,"d":"13,693"},null,366,null,{"v":4120,"d":"4,120"},null,{"v":4486,"d":"4,486"},null,116,{"v":3737,"d":"3,737"},{"v":2580,"d":"2,580"},{"v":6317,"d":"6,317"},null,211,{"v":2563,"d":"2,563"},{"v":2774,"d":"2,774"},null,{"v":3948,"d":"3,948"},{"v":5143,"d":"5,143"},{"v":9091,"d":"9,091"}]
[1993,"Adults",{"v":57212,"d":"57,212"},null,{"v":9636,"d":"9,636"},null,{"v":3172,"d":"3,172"},null,{"v":12808,"d":"12,808"},null,903,{"v":20828,"d":"20,828"},{"v":15953,"d":"15,953"},{"v":36781,"d":"36,781"},null,815,{"v":5905,"d":"5,905"},{"v":6720,"d":"6,720"},null,{"v":21643,"d":"21,643"},{"v":21858,"d":"21,858"},{"v":43501,"d":"43,501"}]
[null,"Jacks",{"v":7598,"d":"7,598"},null,175,null,{"v":1925,"d":"1,925"},null,{"v":2100,"d":"2,100"},null,54,883,{"v":1360,"d":"1,360"},{"v":2243,"d":"2,243"},null,736,{"v":2465,"d":"2,465"},{"v":3201,"d":"3,201"},null,{"v":1619,"d":"1,619"},{"v":3825,"d":"3,825"},{"v":5444,"d":"5,444"}]
[1994,"Adults",{"v":63983,"d":"63,983"},null,{"v":11692,"d":"11,692"},null,{"v":1832,"d":"1,832"},null,{"v":13524,"d":"13,524"},null,{"v":1054,"d":"1,054"},{"v":13808,"d":"13,808"},{"v":21427,"d":"21,427"},{"v":35235,"d":"35,235"},null,{"v":3264,"d":"3,264"},{"v":10906,"d":"10,906"},{"v":14170,"d":"14,170"},null,{"v":17072,"d":"17,072"},{"v":32333,"d":"32,333"},{"v":49405,"d":"49,405"}]
[null,"Jacks",{"v":14371,"d":"14,371"},null,293,null,{"v":2556,"d":"2,556"},null,{"v":2849,"d":"2,849"},null,77,758,{"v":3740,"d":"3,740"},{"v":4498,"d":"4,498"},null,{"v":4442,"d":"4,442"},{"v":2505,"d":"2,505"},{"v":6947,"d":"6,947"},null,{"v":5200,"d":"5,200"},{"v":6245,"d":"6,245"},{"v":11445,"d":"11,445"}]
[1995,"Adults",{"v":222768,"d":"222,768"},null,{"v":15557,"d":"15,557"},null,{"v":6081,"d":"6,081"},null,{"v":21638,"d":"21,638"},null,{"v":1477,"d":"1,477"},{"v":22681,"d":"22,681"},{"v":83918,"d":"83,918"},{"v":106599,"d":"106,599"},null,{"v":15178,"d":"15,178"},{"v":77876,"d":"77,876"},{"v":93054,"d":"93,054"},null,{"v":37859,"d":"37,859"},{"v":161794,"d":"161,794"},{"v":199653,"d":"199,653"}]
[null,"Jacks",{"v":22774,"d":"22,774"},null,557,null,{"v":4420,"d":"4,420"},null,{"v":4977,"d":"4,977"},null,138,259,{"v":8062,"d":"8,062"},{"v":8321,"d":"8,321"},null,76,{"v":9262,"d":"9,262"},{"v":9338,"d":"9,338"},null,335,{"v":17324,"d":"17,324"},{"v":17659,"d":"17,659"}]
[1996,"Adults",{"v":175773,"d":"175,773"},null,{"v":56476,"d":"56,476"},null,{"v":12766,"d":"12,766"},null,{"v":69242,"d":"69,242"},null,{"v":5172,"d":"5,172"},{"v":13622,"d":"13,622"},{"v":38680,"d":"38,680"},{"v":52302,"d":"52,302"},null,{"v":6411,"d":"6,411"},{"v":42646,"d":"42,646"},{"v":49057,"d":"49,057"},null,{"v":20033,"d":"20,033"},{"v":81326,"d":"81,326"},{"v":101359,"d":"101,359"}]
[null,"Jacks",{"v":9532,"d":"9,532"},null,190,null,{"v":2312,"d":"2,312"},null,{"v":2502,"d":"2,502"},null,64,543,{"v":1696,"d":"1,696"},{"v":2239,"d":"2,239"},null,249,{"v":4478,"d":"4,478"},{"v":4727,"d":"4,727"},null,792,{"v":6174,"d":"6,174"},{"v":6966,"d":"6,966"}]
[1997,"Adults",{"v":83736,"d":"83,736"},null,{"v":12087,"d":"12,087"},null,{"v":5676,"d":"5,676"},null,{"v":17763,"d":"17,763"},null,{"v":1167,"d":"1,167"},{"v":13275,"d":"13,275"},{"v":34637,"d":"34,637"},{"v":47912,"d":"47,912"},null,{"v":5387,"d":"5,387"},{"v":11507,"d":"11,507"},{"v":16894,"d":"16,894"},null,{"v":18662,"d":"18,662"},{"v":46144,"d":"46,144"},{"v":64806,"d":"64,806"}]
[null,"Jacks",{"v":7993,"d":"7,993"},null,35,null,{"v":2409,"d":"2,409"},null,{"v":2444,"d":"2,444"},null,52,452,{"v":1380,"d":"1,380"},{"v":1832,"d":"1,832"},null,820,{"v":2845,"d":"2,845"},{"v":3665,"d":"3,665"},null,{"v":1272,"d":"1,272"},{"v":4225,"d":"4,225"},{"v":5497,"d":"5,497"}]
[1998,"Adults",{"v":90647,"d":"90,647"},null,{"v":10187,"d":"10,187"},null,{"v":7710,"d":"7,710"},null,{"v":17897,"d":"17,897"},null,{"v":1043,"d":"1,043"},{"v":14923,"d":"14,923"},{"v":18028,"d":"18,028"},{"v":32951,"d":"32,951"},null,{"v":14296,"d":"14,296"},{"v":24460,"d":"24,460"},{"v":38756,"d":"38,756"},null,{"v":29219,"d":"29,219"},{"v":42488,"d":"42,488"},{"v":71707,"d":"71,707"}]
[null,"Jacks",{"v":4639,"d":"4,639"},null,53,null,{"v":1108,"d":"1,108"},null,{"v":1161,"d":"1,161"},null,28,403,881,{"v":1284,"d":"1,284"},null,192,{"v":1974,"d":"1,974"},{"v":2166,"d":"2,166"},null,595,{"v":2855,"d":"2,855"},{"v":3450,"d":"3,450"}]
[1999,"Adults",{"v":51048,"d":"51,048"},null,{"v":14660,"d":"14,660"},null,{"v":2282,"d":"2,282"},null,{"v":16942,"d":"16,942"},null,{"v":1322,"d":"1,322"},{"v":9290,"d":"9,290"},{"v":11660,"d":"11,660"},{"v":20950,"d":"20,950"},null,{"v":5037,"d":"5,037"},{"v":6797,"d":"6,797"},{"v":11834,"d":"11,834"},null,{"v":14327,"d":"14,327"},{"v":18457,"d":"18,457"},{"v":32784,"d":"32,784"}]
[null,"Jacks",{"v":19248,"d":"19,248"},null,271,null,{"v":1616,"d":"1,616"},null,{"v":1887,"d":"1,887"},null,57,{"v":4830,"d":"4,830"},{"v":6293,"d":"6,293"},{"v":11123,"d":"11,123"},null,{"v":2027,"d":"2,027"},{"v":4154,"d":"4,154"},{"v":6181,"d":"6,181"},null,{"v":6857,"d":"6,857"},{"v":10447,"d":"10,447"},{"v":17304,"d":"17,304"}]
[2000,"Adults",{"v":218077,"d":"218,077"},null,{"v":29415,"d":"29,415"},null,{"v":5650,"d":"5,650"},null,{"v":35065,"d":"35,065"},null,{"v":2673,"d":"2,673"},{"v":71635,"d":"71,635"},{"v":58388,"d":"58,388"},{"v":130023,"d":"130,023"},null,{"v":25976,"d":"25,976"},{"v":24340,"d":"24,340"},{"v":50316,"d":"50,316"},null,{"v":97611,"d":"97,611"},{"v":82728,"d":"82,728"},{"v":180339,"d":"180,339"}]
[null,"Jacks",{"v":10246,"d":"10,246"},null,303,null,{"v":1582,"d":"1,582"},null,{"v":1885,"d":"1,885"},null,58,839,{"v":2891,"d":"2,891"},{"v":3730,"d":"3,730"},null,{"v":1070,"d":"1,070"},{"v":3503,"d":"3,503"},{"v":4573,"d":"4,573"},null,{"v":1909,"d":"1,909"},{"v":6394,"d":"6,394"},{"v":8303,"d":"8,303"}]
[2001,"Adults",{"v":187333,"d":"187,333"},null,{"v":38645,"d":"38,645"},null,{"v":12134,"d":"12,134"},null,{"v":50779,"d":"50,779"},null,{"v":3608,"d":"3,608"},{"v":37204,"d":"37,204"},{"v":40944,"d":"40,944"},{"v":78148,"d":"78,148"},null,{"v":17908,"d":"17,908"},{"v":36890,"d":"36,890"},{"v":54798,"d":"54,798"},null,{"v":55112,"d":"55,112"},{"v":77834,"d":"77,834"},{"v":132946,"d":"132,946"}]
[null,"Jacks",{"v":11343,"d":"11,343"},null,399,null,{"v":1500,"d":"1,500"},null,{"v":1899,"d":"1,899"},null,66,{"v":1364,"d":"1,364"},{"v":6378,"d":"6,378"},{"v":7742,"d":"7,742"},null,267,{"v":1369,"d":"1,369"},{"v":1636,"d":"1,636"},null,{"v":1631,"d":"1,631"},{"v":7747,"d":"7,747"},{"v":9378,"d":"9,378"}]
[2002,"Adults",{"v":160788,"d":"160,788"},"a/",{"v":24574,"d":"24,574"},null,{"v":10495,"d":"10,495"},null,{"v":35069,"d":"35,069"},null,{"v":2351,"d":"2,351"},{"v":23667,"d":"23,667"},{"v":54225,"d":"54,225"},{"v":77892,"d":"77,892"},null,{"v":3516,"d":"3,516"},{"v":11410,"d":"11,410"},{"v":14926,"d":"14,926"},null,{"v":27183,"d":"27,183"},{"v":65635,"d":"65,635"},{"v":92818,"d":"92,818"}]
[null,"Jacks",{"v":9226,"d":"9,226"},null,126,null,870,null,996,null,29,{"v":1294,"d":"1,294"},{"v":1529,"d":"1,529"},{"v":2823,"d":"2,823"},null,{"v":1037,"d":"1,037"},{"v":2338,"d":"2,338"},{"v":3375,"d":"3,375"},null,{"v":2331,"d":"2,331"},{"v":3867,"d":"3,867"},{"v":6198,"d":"6,198"}]
[2003,"Adults",{"v":191949,"d":"191,949"},null,{"v":30034,"d":"30,034"},null,{"v":9680,"d":"9,680"},null,{"v":39714,"d":"39,714"},null,{"v":2810,"d":"2,810"},{"v":31970,"d":"31,970"},{"v":55423,"d":"55,423"},{"v":87393,"d":"87,393"},null,{"v":29812,"d":"29,812"},{"v":32219,"d":"32,219"},{"v":62031,"d":"62,031"},null,{"v":61782,"d":"61,782"},{"v":87642,"d":"87,642"},{"v":149424,"d":"149,424"}]
[null,"Jacks",{"v":3845,"d":"3,845"},null,44,null,814,null,858,null,21,290,848,{"v":1138,"d":"1,138"},null,574,{"v":1254,"d":"1,254"},{"v":1828,"d":"1,828"},null,864,{"v":2102,"d":"2,102"},{"v":2966,"d":"2,966"}]
[2004,"Adults",{"v":78943,"d":"78,943"},null,{"v":25803,"d":"25,803"},null,{"v":4003,"d":"4,003"},null,{"v":29806,"d":"29,806"},null,{"v":2325,"d":"2,325"},{"v":10582,"d":"10,582"},{"v":10711,"d":"10,711"},{"v":21293,"d":"21,293"},null,{"v":12399,"d":"12,399"},{"v":13120,"d":"13,120"},{"v":25519,"d":"25,519"},null,{"v":22982,"d":"22,982"},{"v":23831,"d":"23,831"},{"v":46813,"d":"46,813"}]
[null,"Jacks",{"v":9646,"d":"9,646"},null,168,null,{"v":2741,"d":"2,741"},null,{"v":2909,"d":"2,909"},null,71,937,846,{"v":1783,"d":"1,783"},null,{"v":1044,"d":"1,044"},{"v":3839,"d":"3,839"},{"v":4883,"d":"4,883"},null,{"v":1980,"d":"1,980"},{"v":4685,"d":"4,685"},{"v":6665,"d":"6,665"}]
[2005,"Adults",{"v":65227,"d":"65,227"},null,{"v":8016,"d":"8,016"},null,{"v":1985,"d":"1,985"},null,{"v":10001,"d":"10,001"},null,738,{"v":13955,"d":"13,955"},{"v":13554,"d":"13,554"},{"v":27509,"d":"27,509"},null,{"v":13744,"d":"13,744"},{"v":13235,"d":"13,235"},{"v":26979,"d":"26,979"},null,{"v":27699,"d":"27,699"},{"v":26789,"d":"26,789"},{"v":54488,"d":"54,488"}]
[null,"Jacks",{"v":2296,"d":"2,296"},null,70,null,{"v":1030,"d":"1,030"},null,{"v":1100,"d":"1,100"},null,27,42,398,440,null,59,670,729,null,101,{"v":1068,"d":"1,068"},{"v":1169,"d":"1,169"}]
[2006,"Adults",{"v":61374,"d":"61,374"},null,{"v":10283,"d":"10,283"},null,62,null,{"v":10345,"d":"10,345"},null,{"v":1344,"d":"1,344"},{"v":11604,"d":"11,604"},{"v":14264,"d":"14,264"},{"v":25868,"d":"25,868"},null,{"v":7918,"d":"7,918"},{"v":15899,"d":"15,899"},{"v":23817,"d":"23,817"},null,{"v":19522,"d":"19,522"},{"v":30163,"d":"30,163"},{"v":49685,"d":"49,685"}]
[null,"Jacks",{"v":26935,"d":"26,935"},null,415,null,{"v":5527,"d":"5,527"},null,{"v":5942,"d":"5,942"},null,149,{"v":2386,"d":"2,386"},{"v":6516,"d":"6,516"},{"v":8902,"d":"8,902"},null,{"v":4076,"d":"4,076"},{"v":7866,"d":"7,866"},{"v":11942,"d":"11,942"},null,{"v":6462,"d":"6,462"},{"v":14382,"d":"14,382"},{"v":20844,"d":"20,844"}]
[2007,"Adults",{"v":132131,"d":"132,131"},null,{"v":27572.699510282862,"d":"27,573"},null,{"v":6312,"d":"6,312"},null,{"v":33884.699510282866,"d":"33,885"},null,{"v":2526,"d":"2,526"},{"v":16968.80099558877,"d":"16,969"},{"v":21292,"d":"21,292"},{"v":38260.80099558877,"d":"38,261"},null,{"v":18081,"d":"18,081"},{"v":39378,"d":"39,378"},{"v":57459,"d":"57,459"},null,{"v":35049.80099558877,"d":"35,050"},{"v":60670,"d":"60,670"},{"v":95719.80099558877,"d":"95,720"}]
[null,"Jacks",{"v":1684,"d":"1,684"},null,{"v":21.30048971713964,"d":"21"},null,369,null,{"v":390.3004897171396,"d":"390"},null,10,{"v":180.199004411234,"d":"180"},232,{"v":412.199004411234,"d":"412"},null,33,839,872,null,{"v":213.199004411234,"d":"213"},{"v":1071,"d":"1,071"},{"v":1284.199004411234,"d":"1,284"}]
[2008,"Adults",{"v":70554,"d":"70,554"},null,{"v":22259.250248791373,"d":"22,259"},null,{"v":1919,"d":"1,919"},null,{"v":24178,"d":"24,178"},null,{"v":1974,"d":"1,974"},{"v":9101.048590719653,"d":"9,101"},{"v":19020,"d":"19,020"},{"v":28121.048590719653,"d":"28,121"},null,{"v":4451,"d":"4,451"},{"v":11830,"d":"11,830"},{"v":16281,"d":"16,281"},null,{"v":13552.048590719653,"d":"13,552"},{"v":30850,"d":"30,850"},{"v":44402,"d":"44,402"}]
[null,"Jacks",{"v":25247,"d":"25,247"},null,{"v":640.7497512086248,"d":"641"},null,{"v":4308,"d":"4,308"},null,{"v":4949,"d":"4,949"},null,144,{"v":2129.9514092803483,"d":"2,130"},{"v":9425,"d":"9,425"},{"v":11554.951409280347,"d":"11,555"},null,801,{"v":7798,"d":"7,798"},{"v":8599,"d":"8,599"},null,{"v":2931,"d":"2,931"},{"v":17223,"d":"17,223"},{"v":20154,"d":"20,154"}]
[2009,"Adults",{"v":100644,"d":"100,644"},null,{"v":28387,"d":"28,387"},null,{"v":5651,"d":"5,651"},null,{"v":34038,"d":"34,038"},null,{"v":2583,"d":"2,583"},{"v":12263,"d":"12,263"},{"v":27743,"d":"27,743"},{"v":40006,"d":"40,006"},null,{"v":7351,"d":"7,351"},{"v":16666,"d":"16,666"},{"v":24017,"d":"24,017"},null,{"v":19614,"d":"19,614"},{"v":44409,"d":"44,409"},{"v":64023,"d":"64,023"}]
[null,"Jacks",{"v":11914,"d":"11,914"},null,178,null,{"v":2214,"d":"2,214"},null,{"v":2392,"d":"2,392"},null,60,{"v":1229,"d":"1,229"},{"v":1948,"d":"1,948"},{"v":3177,"d":"3,177"},null,143,{"v":6142,"d":"6,142"},{"v":6285,"d":"6,285"},null,{"v":1372,"d":"1,372"},{"v":8090,"d":"8,090"},{"v":9462,"d":"9,462"}]
[2010,"Adults",{"v":90860,"d":"90,860"},null,{"v":29887,"d":"29,887"},null,{"v":3035,"d":"3,035"},null,{"v":32922,"d":"32,922"},null,{"v":2661,"d":"2,661"},{"v":10278.279863199961,"d":"10,278"},{"v":15170,"d":"15,170"},{"v":25448.27986319996,"d":"25,448"},null,{"v":7773.92847872514,"d":"7,774"},{"v":22055,"d":"22,055"},{"v":29828.928478725138,"d":"29,829"},null,{"v":18052.2083419251,"d":"18,052"},{"v":37225,"d":"37,225"},{"v":55277.2083419251,"d":"55,277"}]
[null,"Jacks",{"v":16640,"d":"16,640"},null,428,null,{"v":1831,"d":"1,831"},null,{"v":2259,"d":"2,259"},null,74,{"v":1068.7201368000387,"d":"1,069"},{"v":1811,"d":"1,811"},{"v":2879.7201368000387,"d":"2,880"},null,{"v":1432.0715212748605,"d":"1,432"},{"v":9995,"d":"9,995"},{"v":11427.07152127486,"d":"11,427"},null,{"v":2500.7916580748993,"d":"2,501"},{"v":11806,"d":"11,806"},{"v":14306.791658074899,"d":"14,307"}]
[2011,"Adults",{"v":101977,"d":"101,977"},null,{"v":26353,"d":"26,353"},null,{"v":4147,"d":"4,147"},null,{"v":30500,"d":"30,500"},null,{"v":2377,"d":"2,377"},{"v":8489.854652576822,"d":"8,490"},{"v":17973,"d":"17,973"},{"v":26462.85465257682,"d":"26,463"},null,{"v":13847.222530703355,"d":"13,847"},{"v":28790,"d":"28,790"},{"v":42637.22253070335,"d":"42,637"},null,{"v":22337.077183280177,"d":"22,337"},{"v":46763,"d":"46,763"},{"v":69100.07718328017,"d":"69,100"}]
[null,"Jacks",{"v":84895,"d":"84,895"},null,{"v":1322,"d":"1,322"},null,{"v":9981,"d":"9,981"},null,{"v":11303,"d":"11,303"},null,319,{"v":9549.145347423178,"d":"9,549"},{"v":24746,"d":"24,746"},{"v":34295.14534742318,"d":"34,295"},null,{"v":1874.7774692966443,"d":"1,875"},{"v":37103,"d":"37,103"},{"v":38977.77746929664,"d":"38,978"},null,{"v":11423.922816719823,"d":"11,424"},{"v":61849,"d":"61,849"},{"v":73272.92281671983,"d":"73,273"}]
[2012,"Adults",{"v":295322,"d":"295,322"},null,{"v":95386,"d":"95,386"},null,{"v":13876,"d":"13,876"},null,{"v":109262,"d":"109,262"},null,{"v":8578,"d":"8,578"},{"v":38478,"d":"38,478"},{"v":72786,"d":"72,786"},{"v":111264,"d":"111,264"},null,{"v":17461,"d":"17,461"},{"v":48757,"d":"48,757"},{"v":66218,"d":"66,218"},null,{"v":55939,"d":"55,939"},{"v":121543,"d":"121,543"},{"v":177481.9676314311,"d":"177,482"}]
[null,"Jacks",{"v":21433,"d":"21,433"},null,177,null,{"v":3875,"d":"3,875"},null,{"v":4052,"d":"4,052"},null,94,{"v":1537.2952215471905,"d":"1,537"},{"v":8289,"d":"8,289"},{"v":9826,"d":"9,826"},null,{"v":91.73714702171677,"d":"92"},{"v":7369,"d":"7,369"},{"v":7461,"d":"7,461"},null,{"v":1629,"d":"1,629"},{"v":15658,"d":"15,658"},{"v":17287.032368568907,"d":"17,287"}]
[2013,"Adults",{"v":165025,"d":"165,025"},null,{"v":63036,"d":"63,036"},null,{"v":19800,"d":"19,800"},null,{"v":82836,"d":"82,836"},null,{"v":5885,"d":"5,885"},{"v":13431,"d":"13,431"},{"v":31711,"d":"31,711"},{"v":45142,"d":"45,142"},null,{"v":3717,"d":"3,717"},{"v":27445,"d":"27,445"},{"v":31162,"d":"31,162"},null,{"v":17148,"d":"17,148"},{"v":59156,"d":"59,156"},{"v":76304,"d":"76,304"}]
[null,"Jacks",{"v":14356,"d":"14,356"},null,259,null,{"v":2260,"d":"2,260"},null,{"v":2519,"d":"2,519"},null,69,{"v":1323,"d":"1,323"},{"v":3274,"d":"3,274"},{"v":4597,"d":"4,597"},null,135,{"v":7036,"d":"7,036"},{"v":7171,"d":"7,171"},null,{"v":1458,"d":"1,458"},{"v":10310,"d":"10,310"},{"v":11768,"d":"11,768"}]
["2014b/","Adults",{"v":160396,"d":"160,396"},"b/",{"v":25967,"d":"25,967"},null,{"v":5386,"d":"5,386"},null,{"v":31353,"d":"31,353"},null,{"v":2392,"d":"2,392"},{"v":24300.435376927566,"d":"24,300"},{"v":70709,"d":"70,709"},{"v":95009.43537692756,"d":"95,009"},null,{"v":6975.356495468278,"d":"6,975"},{"v":24395,"d":"24,395"},{"v":31370.356495468277,"d":"31,370"},null,{"v":31275.791872395843,"d":"31,276"},{"v":95104,"d":"95,104"},{"v":126379.79187239584,"d":"126,380"}]
[null,"Jacks",{"v":22321,"d":"22,321"},null,348,null,{"v":3364,"d":"3,364"},null,{"v":3712,"d":"3,712"},null,100,{"v":1038.5646230724356,"d":"1,039"},{"v":10520,"d":"10,520"},{"v":11558.564623072436,"d":"11,559"},null,{"v":220.64350453172207,"d":"221"},{"v":6719,"d":"6,719"},{"v":6939.643504531722,"d":"6,940"},null,{"v":1259.2081276041577,"d":"1,259"},{"v":17239,"d":"17,239"},{"v":18498.208127604157,"d":"18,498"}]
["2015b/","Adults",{"v":77821,"d":"77,821"},"b/",{"v":28048,"d":"28,048"},null,{"v":7842,"d":"7,842"},null,{"v":35890,"d":"35,890"},null,{"v":2611,"d":"2,611"},{"v":7956.013544746037,"d":"7,956"},{"v":23273,"d":"23,273"},{"v":31229.013544746038,"d":"31,229"},null,{"v":3129.005319148936,"d":"3,129"},{"v":4839,"d":"4,839"},{"v":7968,"d":"7,968"},null,{"v":11085.018863894973,"d":"11,085"},{"v":28112,"d":"28,112"},{"v":39197,"d":"39,197"}]
[null,"Jacks",{"v":6094,"d":"6,094"},null,496,null,{"v":1605,"d":"1,605"},null,{"v":2101,"d":"2,101"},null,76,{"v":219.986455253964,"d":"220"},748,968,null,{"v":223.9946808510638,"d":"224"},{"v":2724,"d":"2,724"},{"v":2948,"d":"2,948"},null,{"v":443.9811361050278,"d":"444"},{"v":3472,"d":"3,472"},{"v":3916,"d":"3,916"}]
["2016b/","Adults",{"v":24582.32135536475,"d":"24,582"},"b/",{"v":5160,"d":"5,160"},null,{"v":1310,"d":"1,310"},null,{"v":6470,"d":"6,470"},null,486,{"v":2436,"d":"2,436"},{"v":10376,"d":"10,376"},{"v":12812,"d":"12,812"},null,{"v":1142,"d":"1,142"},{"v":3561,"d":"3,561"},{"v":4703,"d":"4,703"},null,{"v":3578,"d":"3,578"},{"v":13937,"d":"13,937"},{"v":17515,"d":"17,515"}]
[null,"Jacks",{"v":2787,"d":"2,787"},null,160,null,162,null,322,null,17,151,554,705,null,401,{"v":1340,"d":"1,340"},{"v":1741,"d":"1,741"},null,552,{"v":1894,"d":"1,894"},{"v":2446,"d":"2,446"}]
[2017,"Adults",{"v":33232,"d":"33,232"},null,{"v":1880,"d":"1,880"},null,71,null,{"v":1951,"d":"1,951"},null,164,{"v":7443,"d":"7,443"},{"v":13832,"d":"13,832"},{"v":21275,"d":"21,275"},null,{"v":3770,"d":"3,770"},{"v":6072,"d":"6,072"},{"v":9842,"d":"9,842"},null,{"v":11213,"d":"11,213"},{"v":19904,"d":"19,904"},{"v":31117,"d":"31,117"}]
[null,"Jacks",{"v":20318,"d":"20,318"},null,266,null,42,null,308,null,17,{"v":3193,"d":"3,193"},{"v":10621,"d":"10,621"},{"v":13814,"d":"13,814"},null,{"v":1863,"d":"1,863"},{"v":4316,"d":"4,316"},{"v":6179,"d":"6,179"},null,{"v":5056,"d":"5,056"},{"v":14937,"d":"14,937"},{"v":19993,"d":"19,993"}]
[2018,"Adults",{"v":91060,"d":"91,060"},null,{"v":14769,"d":"14,769"},null,{"v":4110,"d":"4,110"},null,{"v":18879,"d":"18,879"},null,{"v":1262,"d":"1,262"},{"v":11425,"d":"11,425"},{"v":37505,"d":"37,505"},{"v":48930,"d":"48,930"},null,{"v":7142,"d":"7,142"},{"v":14847,"d":"14,847"},{"v":21989,"d":"21,989"},null,{"v":18567,"d":"18,567"},{"v":52352,"d":"52,352"},{"v":70919,"d":"70,919"}]
[null,"Jacks",{"v":10872,"d":"10,872"},null,308,null,{"v":2237,"d":"2,237"},null,{"v":2545,"d":"2,545"},null,58,435,{"v":3491,"d":"3,491"},{"v":3926,"d":"3,926"},null,171,{"v":4172,"d":"4,172"},{"v":4343,"d":"4,343"},null,606,{"v":7663,"d":"7,663"},{"v":8269,"d":"8,269"}]
["2019b/","Adults",{"v":37084,"d":"37,084"},null,{"v":5989,"d":"5,989"},null,{"v":5376,"d":"5,376"},null,{"v":11365,"d":"11,365"},null,511,{"v":3797,"d":"3,797"},{"v":13528,"d":"13,528"},{"v":17325,"d":"17,325"},null,{"v":1381,"d":"1,381"},{"v":6494,"d":"6,494"},{"v":7875,"d":"7,875"},null,{"v":5178,"d":"5,178"},{"v":20022,"d":"20,022"},{"v":25200,"d":"25,200"}]
[null,"Jacks",{"v":9951,"d":"9,951"},null,592,null,{"v":2785,"d":"2,785"},null,{"v":3377,"d":"3,377"},null,73,249,{"v":2314,"d":"2,314"},{"v":2563,"d":"2,563"},null,205,{"v":3732,"d":"3,732"},{"v":3937,"d":"3,937"},null,454,{"v":6046,"d":"6,046"},{"v":6500,"d":"6,500"}]
[2020,"Adults",{"v":45409,"d":"45,409"},null,{"v":5212,"d":"5,212"},null,{"v":5123,"d":"5,123"},null,{"v":10335,"d":"10,335"},null,558,{"v":4042,"d":"4,042"},{"v":11818,"d":"11,818"},{"v":15860,"d":"15,860"},null,{"v":4289,"d":"4,289"},{"v":14367,"d":"14,367"},{"v":18656,"d":"18,656"},null,{"v":8331,"d":"8,331"},{"v":26185,"d":"26,185"},{"v":34516,"d":"34,516"}]
[null,"Jacks",{"v":9077,"d":"9,077"},null,328,null,533,null,861,null,40,413,929,{"v":1342,"d":"1,342"},null,{"v":2815,"d":"2,815"},{"v":4019,"d":"4,019"},{"v":6834,"d":"6,834"},null,{"v":3228,"d":"3,228"},{"v":4948,"d":"4,948"},{"v":8176,"d":"8,176"}]
["2021b/","Adults",{"v":53954,"d":"53,954"},null,{"v":8066,"d":"8,066"},null,{"v":2265,"d":"2,265"},null,{"v":10331,"d":"10,331"},null,717,{"v":7012,"d":"7,012"},{"v":16690,"d":"16,690"},{"v":23702,"d":"23,702"},null,{"v":5838,"d":"5,838"},{"v":13252,"d":"13,252"},{"v":19090,"d":"19,090"},null,{"v":12850,"d":"12,850"},{"v":29942,"d":"29,942"},{"v":42792,"d":"42,792"}]
[null,"Jacks",{"v":10334,"d":"10,334"},null,612,null,{"v":2397,"d":"2,397"},null,{"v":3009,"d":"3,009"},null,75,494,{"v":3283,"d":"3,283"},{"v":3777,"d":"3,777"},null,129,{"v":3339,"d":"3,339"},{"v":3468,"d":"3,468"},null,623,{"v":6622,"d":"6,622"},{"v":7245,"d":"7,245"}]
["2022b/","Adults",{"v":46595,"d":"46,595"},null,{"v":8035.285996111673,"d":"8,035"},null,{"v":2461,"d":"2,461"},null,{"v":10496.285996111674,"d":"10,496"},null,744,{"v":9269,"d":"9,269"},{"v":14769,"d":"14,769"},{"v":24038,"d":"24,038"},null,{"v":3965,"d":"3,965"},{"v":7187,"d":"7,187"},{"v":11152,"d":"11,152"},null,{"v":13234,"d":"13,234"},{"v":21956,"d":"21,956"},{"v":35190,"d":"35,190"}]
[null,"Jacks",{"v":7547,"d":"7,547"},null,{"v":333.7140038883272,"d":"334"},null,{"v":1870,"d":"1,870"},null,{"v":2203.714003888327,"d":"2,204"},null,48,206,989,{"v":1195,"d":"1,195"},null,973,{"v":3128,"d":"3,128"},{"v":4101,"d":"4,101"},null,{"v":1179,"d":"1,179"},{"v":4117,"d":"4,117"},{"v":5296,"d":"5,296"}]
[2023,"Adults",{"v":65651,"d":"65,651"},null,{"v":2091.036931629359,"d":"2,091"},null,53,null,{"v":2144.036931629359,"d":"2,144"},null,172,{"v":10145,"d":"10,145"},{"v":19476,"d":"19,476"},{"v":29621,"d":"29,621"},null,{"v":11819,"d":"11,819"},{"v":21894,"d":"21,894"},{"v":33713,"d":"33,713"},null,{"v":21964,"d":"21,964"},{"v":41370,"d":"41,370"},{"v":63334,"d":"63,334"}]
[null,"Jacks",{"v":11673,"d":"11,673"},null,{"v":1135.963068370641,"d":"1,136"},null,9,null,{"v":1144.963068370641,"d":"1,145"},null,11,200,{"v":1559,"d":"1,559"},{"v":1759,"d":"1,759"},null,848,{"v":7911,"d":"7,911"},{"v":8759,"d":"8,759"},null,{"v":1048,"d":"1,048"},{"v":9470,"d":"9,470"},{"v":10518,"d":"10,518"}]
["2024c/","Adults",{"v":36568,"d":"36,568"},null,{"v":7249,"d":"7,249"},null,136,null,{"v":7385,"d":"7,385"},null,570,299,{"v":10749,"d":"10,749"},{"v":11048,"d":"11,048"},null,{"v":4190,"d":"4,190"},{"v":13283,"d":"13,283"},{"v":17473,"d":"17,473"},null,{"v":4489,"d":"4,489"},{"v":24032,"d":"24,032"},{"v":28521,"d":"28,521"}]
[null,"Jacks",{"v":7085,"d":"7,085"},null,471,null,3,null,474,null,12,18,568,586,null,622,{"v":5391,"d":"5,391"},{"v":6013,"d":"6,013"},null,640,{"v":5959,"d":"5,959"},{"v":6599,"d":"6,599"}]
["GOAL","Adults",{"$nulls":18},"≥40,700d/e/"]
["a/  Total inriver run in 2002 includes an estimated 30,550 fish that died prior to spawning in September."]
["b/  Total inriver run includes fish collected from the Klamath and Trinity rivers by the Yurok and Hoopa Valley tribes, respectively, to test for the presence of the parasite Ichthyophthirius multifiliis during the following years: 2014 - 282 fish; 2015 - 124 fish; 2016 - 113 fish; 2019 - 9 fish; 2021 - 113 adults and 6 jacks; 2022 - 164 adults."]
["c/  Preliminary.  "]
["d/  In December 2011, Amendment 16 to the Salmon Fishery Management Plan was approved, which replaced the 35,000 spawning escapement floor with an SMSY management objective of 40,700 natural area adult spawners.  The 35,000 spawner floor was in effect from 1989-2007 and in 2011. In 2008-2010, fisheries were managed for a natural area spawning escapement of 40,700 adults under requirements of a rebuilding plan."]
[]
[]
["e/  Annual escapement goals may be more or less than SMSY in some years due to meeting SACL requirements and de minimis fishing provisions."]
{"$rows_empty":15}
["TABLE B-4.  Summary of Klamath River fall Chinook salmon estimates in numbers of adults and jacks."]
[null,null,"Total Inriver Run",{"$nulls":7},"Nonlanded Fishery Mortality","Spawning Escapement"]
["Year or Average",{"$nulls":3},"Inriver Harvest",{"$nulls":6},"Klamath River",{"$nulls":3},"Trinity River",{"$nulls":3},"Total"]
[null,"Category",null,null,"Indian",null,"Sport",null,"Total",null,null,"Hatchery","Natural","Total",null,"Hatchery","Natural","Total",null,"Hatchery","Natural","Total"]
["1986-1990","Adults",{"$f":"AVERAGE(C21,C23,C25,C27, C29)","v":{"v":151203.4,"d":"151,203"}},null,{"$f":"AVERAGE(E21,E23,E25,E27, E29)","v":{"v":36669,"d":"36,669"}},null,{"$f":"AVERAGE(G21,G23,G25,G27, G29)","v":{"v":15145.4,"d":"15,145"}},null,{"$f":"AVERAGE(I21,I23,I25,I27, I29)","v":{"v":51814.4,"d":"51,814"}},null,{"$f":"AVERAGE(K21,K23,K25,K27, K29)","v":{"v":3497.6,"d":"3,498"}},{"v":13193.8,"d":"13,194"},{"v":21543.2,"d":"21,543"},{"v":34737,"d":"34,737"},null,{"$f":"AVERAGE(P21,P23,P25,P27, P29)","v":{"v":11912.2,"d":"11,912"}},{"v":49242.2,"d":"49,242"},{"v":61154.4,"d":"61,154"},null,{"$f":"AVERAGE(T21,T23,T25,T27, T29)","v":{"v":25106,"d":"25,106"}},{"v":70785.4,"d":"70,785"},{"v":95891.4,"d":"95,891"}]
[null,"Jacks",{"$f":"AVERAGE(C22,C24,C26,C28, C30)","v":{"v":20226.8,"d":"20,227"}},null,{"$f":"AVERAGE(E22,E24,E26,E28, E30)","v":{"v":445.6,"d":"446"}},null,{"$f":"AVERAGE(G22,G24,G26,G28, G30)","v":{"v":4924.4,"d":"4,924"}},null,{"$f":"AVERAGE(I22,I24,I26,I28, I30)","v":{"v":5370,"d":"5,370"}},null,{"v":139.2,"d":"139"},{"v":1009.4,"d":"1,009"},{"v":3459.8,"d":"3,460"},{"v":4469.2,"d":"4,469"},null,{"v":2284.8,"d":"2,285"},{"v":7963.6,"d":"7,964"},{"v":10248.4,"d":"10,248"},null,{"v":3294.2,"d":"3,294"},{"v":11423.4,"d":"11,423"},{"v":14717.6,"d":"14,718"}]
["1991-1995","Adults",{"$f":"AVERAGE(C31,C33,C35,C37, C39)","v":{"v":80666.2,"d":"80,666"}},null,{"$f":"AVERAGE(E31,E33,E35,E37, E39)","v":{"v":10573.6,"d":"10,574"}},null,{"$f":"AVERAGE(G31,G33,G35,G37, G39)","v":{"v":3094,"d":"3,094"}},null,{"$f":"AVERAGE(I31,I33,I35,I37, I39)","v":{"v":13667.6,"d":"13,668"}},null,{"$f":"AVERAGE(K31,K33,K35,K37, K39)","v":{"v":982.6,"d":"983"}},{"$f":"AVERAGE(L31,L33,L35,L37, L39)","v":{"v":12980,"d":"12,980"}},{"$f":"AVERAGE(M31,M33,M35,M37, M39)","v":{"v":26593.8,"d":"26,594"}},{"$f":"AVERAGE(N31,N33,N35,N37, N39)","v":{"v":39573.8,"d":"39,574"}},null,{"$f":"AVERAGE(P31,P33,P35,P37, P39)","v":{"v":5103.6,"d":"5,104"}},{"$f":"AVERAGE(Q31,Q33,Q35,Q37, Q39)","v":{"v":21338.6,"d":"21,339"}},{"$f":"AVERAGE(R31,R33,R35,R37, R39)","v":{"v":26442.2,"d":"26,442"}},null,{"$f":"AVERAGE(T31,T33,T35,T37, T39)","v":{"v":18083.6,"d":"18,084"}},{"$f":"AVERAGE(U31,U33,U35,U37, U39)","v":{"v":47932.4,"d":"47,932"}},{"$f":"AVERAGE(V31,V33,V35,V37, V39)","v":{"v":66016,"d":"66,016"}}]
[null,"Jacks",{"$f":"AVERAGE(C32,C34,C36,C38,C40)","v":{"v":12038.2,"d":"12,038"}},null,{"$f":"AVERAGE(E32,E34,E36,E38,E40)","v":{"v":290.6,"d":"291"}},null,{"$f":"AVERAGE(G32,G34,G36,G38,G40)","v":{"v":2741.4,"d":"2,741"}},null,{"$f":"AVERAGE(I32,I34,I36,I38,I40)","v":{"v":3032,"d":"3,032"}},null,{"$f":"AVERAGE(K32,K34,K36,K38,K40)","v":{"v":80.8,"d":"81"}},{"$f":"AVERAGE(L32,L34,L36,L38,L40)","v":{"v":1140.4,"d":"1,140"}},{"$f":"AVERAGE(M32,M34,M36,M38,M40)","v":{"v":3215.6,"d":"3,216"}},{"$f":"AVERAGE(N32,N34,N36,N38,N40)","v":{"v":4356,"d":"4,356"}},null,{"$f":"AVERAGE(P32,P34,P36,P38,P40)","v":{"v":1134,"d":"1,134"}},{"$f":"AVERAGE(Q32,Q34,Q36,Q38,Q40)","v":{"v":3435.4,"d":"3,435"}},{"$f":"AVERAGE(R32,R34,R36,R38,R40)","v":{"v":4569.4,"d":"4,569"}},null,{"$f":"AVERAGE(T32,T34,T36,T38,T40)","v":{"v":2274.4,"d":"2,274"}},{"$f":"AVERAGE(U32,U34,U36,U38,U40)","v":{"v":6651,"d":"6,651"}},{"$f":"AVERAGE(V32,V34,V36,V38,V40)","v":{"v":8925.4,"d":"8,925"}}]
["1996-2000","Adults",{"$f":"AVERAGE(C41,C43,C45,C47, C49)","v":{"v":123856.2,"d":"123,856"}},null,{"$f":"AVERAGE(E41,E43,E45,E47, E49)","v":{"v":24565,"d":"24,565"}},null,{"$f":"AVERAGE(G41,G43,G45,G47, G49)","v":{"v":6816.8,"d":"6,817"}},null,{"$f":"AVERAGE(I41,I43,I45,I47, I49)","v":{"v":31381.8,"d":"31,382"}},null,{"$f":"AVERAGE(K41,K43,K45,K47, K49)","v":{"v":2275.4,"d":"2,275"}},{"$f":"AVERAGE(L41,L43,L45,L47, L49)","v":{"v":24549,"d":"24,549"}},{"$f":"AVERAGE(M41,M43,M45,M47, M49)","v":{"v":32278.6,"d":"32,279"}},{"$f":"AVERAGE(N41,N43,N45,N47, N49)","v":{"v":56827.6,"d":"56,828"}},null,{"$f":"AVERAGE(P41,P43,P45,P47, P49)","v":{"v":11421.4,"d":"11,421"}},{"$f":"AVERAGE(Q41,Q43,Q45,Q47, Q49)","v":{"v":21950,"d":"21,950"}},{"$f":"AVERAGE(R41,R43,R45,R47, R49)","v":{"v":33371.4,"d":"33,371"}},null,{"$f":"AVERAGE(T41,T43,T45,T47, T49)","v":{"v":35970.4,"d":"35,970"}},{"$f":"AVERAGE(U41,U43,U45,U47, U49)","v":{"v":54228.6,"d":"54,229"}},{"$f":"AVERAGE(V41,V43,V45,V47, V49)","v":{"v":90199,"d":"90,199"}}]
[null,"Jacks",{"$f":"AVERAGE(C42,C44,C46,C48,C50)","v":{"v":10331.6,"d":"10,332"}},null,{"$f":"AVERAGE(E42,E44,E46,E48,E50)","v":{"v":170.4,"d":"170"}},null,{"$f":"AVERAGE(G42,G44,G46,G48,G50)","v":{"v":1805.4,"d":"1,805"}},null,{"$f":"AVERAGE(I42,I44,I46,I48,I50)","v":{"v":1975.8,"d":"1,976"}},null,{"$f":"AVERAGE(K42,K44,K46,K48,K50)","v":{"v":51.8,"d":"52"}},{"$f":"AVERAGE(L42,L44,L46,L48,L50)","v":{"v":1413.4,"d":"1,413"}},{"$f":"AVERAGE(M42,M44,M46,M48,M50)","v":{"v":2628.2,"d":"2,628"}},{"$f":"AVERAGE(N42,N44,N46,N48,N50)","v":{"v":4041.6,"d":"4,042"}},null,{"$f":"AVERAGE(P42,P44,P46,P48,P50)","v":{"v":871.6,"d":"872"}},{"$f":"AVERAGE(Q42,Q44,Q46,Q48,Q50)","v":{"v":3390.8,"d":"3,391"}},{"$f":"AVERAGE(R42,R44,R46,R48,R50)","v":{"v":4262.4,"d":"4,262"}},null,{"$f":"AVERAGE(T42,T44,T46,T48,T50)","v":{"v":2285,"d":"2,285"}},{"$f":"AVERAGE(U42,U44,U46,U48,U50)","v":{"v":6019,"d":"6,019"}},{"$f":"AVERAGE(V42,V44,V46,V48,V50)","v":{"v":8304,"d":"8,304"}}]
["2001-2005a/","Adults",{"$f":"AVERAGE(C51,C53,C55,C57, C59)","v":{"v":136848,"d":"136,848"}},null,{"$f":"AVERAGE(E51,E53,E55,E57, E59)","v":{"v":25414.4,"d":"25,414"}},null,{"$f":"AVERAGE(G51,G53,G55,G57, G59)","v":{"v":7659.4,"d":"7,659"}},null,{"$f":"AVERAGE(I51,I53,I55,I57, I59)","v":{"v":33073.8,"d":"33,074"}},null,{"$f":"AVERAGE(K51,K53,K55,K57, K59)","v":{"v":2366.4,"d":"2,366"}},{"$f":"AVERAGE(L51,L53,L55,L57, L59)","v":{"v":23475.6,"d":"23,476"}},{"$f":"AVERAGE(M51,M53,M55,M57, M59)","v":{"v":34971.4,"d":"34,971"}},{"$f":"AVERAGE(N51,N53,N55,N57, N59)","v":{"v":58447,"d":"58,447"}},null,{"$f":"AVERAGE(P51,P53,P55,P57, P59)","v":{"v":15475.8,"d":"15,476"}},{"$f":"AVERAGE(Q51,Q53,Q55,Q57, Q59)","v":{"v":21374.8,"d":"21,375"}},{"$f":"AVERAGE(R51,R53,R55,R57, R59)","v":{"v":36850.6,"d":"36,851"}},null,{"$f":"AVERAGE(T51,T53,T55,T57, T59)","v":{"v":38951.6,"d":"38,952"}},{"$f":"AVERAGE(U51,U53,U55,U57, U59)","v":{"v":56346.2,"d":"56,346"}},{"$f":"AVERAGE(V51,V53,V55,V57, V59)","v":{"v":95297.8,"d":"95,298"}}]
[null,"Jacks",{"$f":"AVERAGE(C52,C54,C56,C58,C60)","v":{"v":7271.2,"d":"7,271"}},null,{"$f":"AVERAGE(E52,E54,E56,E58,E60)","v":{"v":161.4,"d":"161"}},null,{"$f":"AVERAGE(G52,G54,G56,G58,G60)","v":{"v":1391,"d":"1,391"}},null,{"$f":"AVERAGE(I52,I54,I56,I58,I60)","v":{"v":1552.4,"d":"1,552"}},null,{"$f":"AVERAGE(K52,K54,K56,K58,K60)","v":{"v":42.8,"d":"43"}},{"$f":"AVERAGE(L52,L54,L56,L58,L60)","v":{"v":785.4,"d":"785"}},{"$f":"AVERAGE(M52,M54,M56,M58,M60)","v":{"v":1999.8,"d":"2,000"}},{"$f":"AVERAGE(N52,N54,N56,N58,N60)","v":{"v":2785.2,"d":"2,785"}},null,{"$f":"AVERAGE(P52,P54,P56,P58,P60)","v":{"v":596.2,"d":"596"}},{"$f":"AVERAGE(Q52,Q54,Q56,Q58,Q60)","v":{"v":1894,"d":"1,894"}},{"$f":"AVERAGE(R52,R54,R56,R58,R60)","v":{"v":2490.2,"d":"2,490"}},null,{"$f":"AVERAGE(T52,T54,T56,T58,T60)","v":{"v":1381.4,"d":"1,381"}},{"$f":"AVERAGE(U52,U54,U56,U58,U60)","v":{"v":3893.8,"d":"3,894"}},{"$f":"AVERAGE(V52,V54,V56,V58,V60)","v":{"v":5275.2,"d":"5,275"}}]
["2006-2010","Adults",{"$f":"AVERAGE(C61,C63,C65,C67, C69)","v":{"v":91112.6,"d":"91,113"}},null,{"$f":"AVERAGE(E61,E63,E65,E67, E69)","v":{"v":23677.789951814848,"d":"23,678"}},null,{"$f":"AVERAGE(G61,G63,G65,G67, G69)","v":{"v":3395.8,"d":"3,396"}},null,{"$f":"AVERAGE(I61,I63,I65,I67, I69)","v":{"v":27073.539902056575,"d":"27,074"}},null,{"$f":"AVERAGE(K61,K63,K65,K67, K69)","v":{"v":2217.6,"d":"2,218"}},{"v":12043.025889901677,"d":"12,043"},{"v":19497.8,"d":"19,498"},{"v":31540.825889901676,"d":"31,541"},null,{"$f":"AVERAGE(P61,P63,P65,P67, P69)","v":{"v":9114.985695745028,"d":"9,115"}},{"v":21165.6,"d":"21,166"},{"v":30280.585695745027,"d":"30,281"},null,{"$f":"AVERAGE(T61,T63,T65,T67, T69)","v":{"v":21158.011585646705,"d":"21,158"}},{"v":40663.4,"d":"40,663"},{"v":61821.40186750278,"d":"61,821"}]
[null,"Jacks",{"$f":"AVERAGE(C62,C64,C66,C68, C70)","v":{"v":16484,"d":"16,484"}},null,{"$f":"AVERAGE(E62,E64,E66,E68, E70)","v":{"v":336.6100481851529,"d":"337"}},null,{"$f":"AVERAGE(G62,G64,G66,G68, G70)","v":{"v":2849.8,"d":"2,850"}},null,{"$f":"AVERAGE(I62,I64,I66,I68, I70)","v":{"v":3186.460097943428,"d":"3,186"}},null,{"$f":"AVERAGE(K62,K64,K66,K68, K70)","v":{"v":87.4,"d":"87"}},{"v":1398.7741100983244,"d":"1,399"},{"v":3986.4,"d":"3,986"},{"v":5385.1741100983245,"d":"5,385"},null,{"$f":"AVERAGE(P62,P64,P66,P68, P70)","v":{"v":1297.014304254972,"d":"1,297"}},{"v":6528,"d":"6,528"},{"v":7825.014304254973,"d":"7,825"},null,{"$f":"AVERAGE(T62,T64,T66,T68, T70)","v":{"v":2695.7981324972266,"d":"2,696"}},{"v":10514.4,"d":"10,514"},{"v":13210.198132497226,"d":"13,210"}]
[2011,"Adults",{"$f":"C71","v":{"v":101977,"d":"101,977"}},null,{"$f":"E71","v":{"v":26353,"d":"26,353"}},null,{"$f":"G71","v":{"v":4147,"d":"4,147"}},null,{"$f":"I71","v":{"v":30500,"d":"30,500"}},null,{"$f":"K71","v":{"v":2377,"d":"2,377"}},{"v":8489.854652576822,"d":"8,490"},{"v":17973,"d":"17,973"},{"v":26462.85465257682,"d":"26,463"},null,{"$f":"P71","v":{"v":13847.222530703355,"d":"13,847"}},{"v":28790,"d":"28,790"},{"v":42637.22253070335,"d":"42,637"},null,{"$f":"T71","v":{"v":22337.077183280177,"d":"22,337"}},{"v":46763,"d":"46,763"},{"v":69100.07718328017,"d":"69,100"}]
[null,"Jacks",{"v":84895,"d":"84,895"},null,{"v":1322,"d":"1,322"},null,{"v":9981,"d":"9,981"},null,{"v":11303,"d":"11,303"},null,319,{"v":9549.145347423178,"d":"9,549"},{"v":24746,"d":"24,746"},{"v":34295.14534742318,"d":"34,295"},null,{"v":1874.7774692966443,"d":"1,875"},{"v":37103,"d":"37,103"},{"v":38977.77746929664,"d":"38,978"},null,{"v":11423.922816719823,"d":"11,424"},{"v":61849,"d":"61,849"},{"v":73272.92281671983,"d":"73,273"}]
[2012,"Adults",{"v":295322,"d":"295,322"},null,{"v":95386,"d":"95,386"},null,{"v":13876,"d":"13,876"},null,{"v":109262,"d":"109,262"},null,{"v":8578,"d":"8,578"},{"v":38478,"d":"38,478"},{"v":72786,"d":"72,786"},{"v":111264,"d":"111,264"},null,{"v":17461,"d":"17,461"},{"v":48757,"d":"48,757"},{"v":66218,"d":"66,218"},null,{"v":55939,"d":"55,939"},{"v":121543,"d":"121,543"},{"v":177481.9676314311,"d":"177,482"}]
[null,"Jacks",{"v":21433,"d":"21,433"},null,177,null,{"v":3875,"d":"3,875"},null,{"v":4052,"d":"4,052"},null,94,{"v":1537.2952215471905,"d":"1,537"},{"v":8289,"d":"8,289"},{"v":9826,"d":"9,826"},null,{"v":91.73714702171677,"d":"92"},{"v":7369,"d":"7,369"},{"v":7461,"d":"7,461"},null,{"v":1629,"d":"1,629"},{"v":15658,"d":"15,658"},{"v":17287.032368568907,"d":"17,287"}]
[2013,"Adults",{"v":165025,"d":"165,025"},null,{"v":63036,"d":"63,036"},null,{"v":19800,"d":"19,800"},null,{"v":82836,"d":"82,836"},null,{"v":5885,"d":"5,885"},{"v":13431,"d":"13,431"},{"v":31711,"d":"31,711"},{"v":45142,"d":"45,142"},null,{"v":3717,"d":"3,717"},{"v":27445,"d":"27,445"},{"v":31162,"d":"31,162"},null,{"v":17148,"d":"17,148"},{"v":59156,"d":"59,156"},{"v":76304,"d":"76,304"}]
[null,"Jacks",{"v":14356,"d":"14,356"},null,259,null,{"v":2260,"d":"2,260"},null,{"v":2519,"d":"2,519"},null,69,{"v":1323,"d":"1,323"},{"v":3274,"d":"3,274"},{"v":4597,"d":"4,597"},null,135,{"v":7036,"d":"7,036"},{"v":7171,"d":"7,171"},null,{"v":1458,"d":"1,458"},{"v":10310,"d":"10,310"},{"v":11768,"d":"11,768"}]
["2014b/","Adults",{"v":160396,"d":"160,396"},null,{"v":25967,"d":"25,967"},null,{"v":5386,"d":"5,386"},null,{"v":31353,"d":"31,353"},null,{"v":2392,"d":"2,392"},{"v":24300.435376927566,"d":"24,300"},{"v":70709,"d":"70,709"},{"v":95009.43537692756,"d":"95,009"},null,{"v":6975.356495468278,"d":"6,975"},{"v":24395,"d":"24,395"},{"v":31370.356495468277,"d":"31,370"},null,{"v":31275.791872395843,"d":"31,276"},{"v":95104,"d":"95,104"},{"v":126379.79187239584,"d":"126,380"}]
[null,"Jacks",{"v":22321,"d":"22,321"},null,348,null,{"v":3364,"d":"3,364"},null,{"v":3712,"d":"3,712"},null,100,{"v":1038.5646230724356,"d":"1,039"},{"v":10520,"d":"10,520"},{"v":11558.564623072436,"d":"11,559"},null,{"v":220.64350453172207,"d":"221"},{"v":6719,"d":"6,719"},{"v":6939.643504531722,"d":"6,940"},null,{"v":1259.2081276041577,"d":"1,259"},{"v":17239,"d":"17,239"},{"v":18498.208127604157,"d":"18,498"}]
["2015b/","Adults",{"v":77821,"d":"77,821"},null,{"v":28048,"d":"28,048"},null,{"v":7842,"d":"7,842"},null,{"v":35890,"d":"35,890"},null,{"v":2611,"d":"2,611"},{"v":7956.013544746037,"d":"7,956"},{"v":23273,"d":"23,273"},{"v":31229.013544746038,"d":"31,229"},null,{"v":3129.005319148936,"d":"3,129"},{"v":4839,"d":"4,839"},{"v":7968,"d":"7,968"},null,{"v":11085.018863894973,"d":"11,085"},{"v":28112,"d":"28,112"},{"v":39197,"d":"39,197"}]
[null,"Jacks",{"v":6094,"d":"6,094"},null,496,null,{"v":1605,"d":"1,605"},null,{"v":2101,"d":"2,101"},null,76,{"v":219.986455253964,"d":"220"},748,968,null,{"v":223.9946808510638,"d":"224"},{"v":2724,"d":"2,724"},{"v":2948,"d":"2,948"},null,{"v":443.9811361050278,"d":"444"},{"v":3472,"d":"3,472"},{"v":3916,"d":"3,916"}]
["2016b/","Adults",{"v":24582.32135536475,"d":"24,582"},null,{"v":5160,"d":"5,160"},null,{"v":1310,"d":"1,310"},null,{"v":6470,"d":"6,470"},null,486,{"v":2436,"d":"2,436"},{"v":10376,"d":"10,376"},{"v":12812,"d":"12,812"},null,{"v":1142,"d":"1,142"},{"v":3561,"d":"3,561"},{"v":4703,"d":"4,703"},null,{"v":3578,"d":"3,578"},{"v":13937,"d":"13,937"},{"v":17515,"d":"17,515"}]
[null,"Jacks",{"v":2787,"d":"2,787"},null,160,null,162,null,322,null,17,151,554,705,null,401,{"v":1340,"d":"1,340"},{"v":1741,"d":"1,741"},null,552,{"v":1894,"d":"1,894"},{"v":2446,"d":"2,446"}]
[2017,"Adults",{"v":33232,"d":"33,232"},null,{"v":1880,"d":"1,880"},null,71,null,{"v":1951,"d":"1,951"},null,164,{"v":7443,"d":"7,443"},{"v":13832,"d":"13,832"},{"v":21275,"d":"21,275"},null,{"v":3770,"d":"3,770"},{"v":6072,"d":"6,072"},{"v":9842,"d":"9,842"},null,{"v":11213,"d":"11,213"},{"v":19904,"d":"19,904"},{"v":31117,"d":"31,117"}]
[null,"Jacks",{"v":20318,"d":"20,318"},null,266,null,42,null,308,null,17,{"v":3193,"d":"3,193"},{"v":10621,"d":"10,621"},{"v":13814,"d":"13,814"},null,{"v":1863,"d":"1,863"},{"v":4316,"d":"4,316"},{"v":6179,"d":"6,179"},null,{"v":5056,"d":"5,056"},{"v":14937,"d":"14,937"},{"v":19993,"d":"19,993"}]
[2018,"Adults",{"v":91060,"d":"91,060"},null,{"v":14769,"d":"14,769"},null,{"v":4110,"d":"4,110"},null,{"v":18879,"d":"18,879"},null,{"v":1262,"d":"1,262"},{"v":11425,"d":"11,425"},{"v":37505,"d":"37,505"},{"v":48930,"d":"48,930"},null,{"v":7142,"d":"7,142"},{"v":14847,"d":"14,847"},{"v":21989,"d":"21,989"},null,{"v":18567,"d":"18,567"},{"v":52352,"d":"52,352"},{"v":70919,"d":"70,919"}]
[null,"Jacks",{"v":10872,"d":"10,872"},null,308,null,{"v":2237,"d":"2,237"},null,{"v":2545,"d":"2,545"},null,58,435,{"v":3491,"d":"3,491"},{"v":3926,"d":"3,926"},null,171,{"v":4172,"d":"4,172"},{"v":4343,"d":"4,343"},null,606,{"v":7663,"d":"7,663"},{"v":8269,"d":"8,269"}]
["2019b/","Adults",{"v":37084,"d":"37,084"},null,{"v":5989,"d":"5,989"},null,{"v":5376,"d":"5,376"},null,{"v":11365,"d":"11,365"},null,511,{"v":3797,"d":"3,797"},{"v":13528,"d":"13,528"},{"v":17325,"d":"17,325"},null,{"v":1381,"d":"1,381"},{"v":6494,"d":"6,494"},{"v":7875,"d":"7,875"},null,{"v":5178,"d":"5,178"},{"v":20022,"d":"20,022"},{"v":25200,"d":"25,200"}]
[null,"Jacks",{"v":9951,"d":"9,951"},null,592,null,{"v":2785,"d":"2,785"},null,{"v":3377,"d":"3,377"},null,{"$f":"K88","v":73},249,{"v":2314,"d":"2,314"},{"v":2563,"d":"2,563"},null,{"$f":"P88","v":205},{"v":3732,"d":"3,732"},{"v":3937,"d":"3,937"},null,{"$f":"T88","v":454},{"v":6046,"d":"6,046"},{"v":6500,"d":"6,500"}]
[2020,"Adults",{"v":45409,"d":"45,409"},null,{"v":5212,"d":"5,212"},null,{"v":5123,"d":"5,123"},null,{"v":10335,"d":"10,335"},null,{"$f":"K89","v":558},{"v":4042,"d":"4,042"},{"v":11818,"d":"11,818"},{"v":15860,"d":"15,860"},null,{"$f":"P89","v":{"v":4289,"d":"4,289"}},{"v":14367,"d":"14,367"},{"v":18656,"d":"18,656"},null,{"$f":"T89","v":{"v":8331,"d":"8,331"}},{"v":26185,"d":"26,185"},{"v":34516,"d":"34,516"}]
[null,"Jacks",{"v":9077,"d":"9,077"},null,328,null,533,null,861,null,{"$f":"K90","v":40},413,929,{"v":1342,"d":"1,342"},null,{"$f":"P90","v":{"v":2815,"d":"2,815"}},{"v":4019,"d":"4,019"},{"v":6834,"d":"6,834"},null,{"$f":"T90","v":{"v":3228,"d":"3,228"}},{"v":4948,"d":"4,948"},{"v":8176,"d":"8,176"}]
["2021b/","Adults",{"v":53954,"d":"53,954"},null,{"v":8066,"d":"8,066"},null,{"v":2265,"d":"2,265"},null,{"v":10331,"d":"10,331"},null,{"$f":"K91","v":717},{"v":7012,"d":"7,012"},{"v":16690,"d":"16,690"},{"v":23702,"d":"23,702"},null,{"$f":"P91","v":{"v":5838,"d":"5,838"}},{"v":13252,"d":"13,252"},{"v":19090,"d":"19,090"},null,{"$f":"T91","v":{"v":12850,"d":"12,850"}},{"v":29942,"d":"29,942"},{"v":42792,"d":"42,792"}]
[null,"Jacks",{"v":10334,"d":"10,334"},null,612,null,{"v":2397,"d":"2,397"},null,{"v":3009,"d":"3,009"},null,{"$f":"K92","v":75},494,{"v":3283,"d":"3,283"},{"v":3777,"d":"3,777"},null,{"$f":"P92","v":129},{"v":3339,"d":"3,339"},{"v":3468,"d":"3,468"},null,{"$f":"T92","v":623},{"v":6622,"d":"6,622"},{"v":7245,"d":"7,245"}]
["2022b/","Adults",{"v":46595,"d":"46,595"},null,{"v":8035.285996111673,"d":"8,035"},null,{"v":2461,"d":"2,461"},null,{"v":10496.285996111674,"d":"10,496"},null,{"$f":"K93","v":744},{"v":9269,"d":"9,269"},{"v":14769,"d":"14,769"},{"v":24038,"d":"24,038"},null,{"$f":"P93","v":{"v":3965,"d":"3,965"}},{"v":7187,"d":"7,187"},{"v":11152,"d":"11,152"},null,{"$f":"T93","v":{"v":13234,"d":"13,234"}},{"v":21956,"d":"21,956"},{"v":35190,"d":"35,190"}]
[null,"Jacks",{"v":7547,"d":"7,547"},null,{"v":333.7140038883272,"d":"334"},null,{"v":1870,"d":"1,870"},null,{"v":2203.714003888327,"d":"2,204"},null,{"$f":"K94","v":48},206,989,{"v":1195,"d":"1,195"},null,{"$f":"P94","v":973},{"v":3128,"d":"3,128"},{"v":4101,"d":"4,101"},null,{"$f":"T94","v":{"v":1179,"d":"1,179"}},{"v":4117,"d":"4,117"},{"v":5296,"d":"5,296"}]
[2023,"Adults",{"$f":"C95","v":{"v":65651,"d":"65,651"}},null,{"$f":"E95","v":{"v":2091.036931629359,"d":"2,091"}},null,{"$f":"G95","v":53},null,{"$f":"I95","v":{"v":2144.036931629359,"d":"2,144"}},null,{"$f":"K95","v":172},{"v":10145,"d":"10,145"},{"v":19476,"d":"19,476"},{"v":29621,"d":"29,621"},null,{"$f":"P95","v":{"v":11819,"d":"11,819"}},{"v":21894,"d":"21,894"},{"v":33713,"d":"33,713"},null,{"$f":"T95","v":{"v":21964,"d":"21,964"}},{"v":41370,"d":"41,370"},{"v":63334,"d":"63,334"}]
[null,"Jacks",{"v":11673,"d":"11,673"},null,{"v":1135.963068370641,"d":"1,136"},null,9,null,{"v":1144.963068370641,"d":"1,145"},null,{"$f":"K96","v":11},200,{"v":1559,"d":"1,559"},{"v":1759,"d":"1,759"},null,{"$f":"P96","v":848},{"v":7911,"d":"7,911"},{"v":8759,"d":"8,759"},null,{"$f":"T96","v":{"v":1048,"d":"1,048"}},{"v":9470,"d":"9,470"},{"v":10518,"d":"10,518"}]
["2024c/","Adults",{"v":36568,"d":"36,568"},null,{"v":7249,"d":"7,249"},null,136,null,{"v":7385,"d":"7,385"},null,{"$f":"K97","v":570},299,{"v":10749,"d":"10,749"},{"v":11048,"d":"11,048"},null,{"$f":"P97","v":{"v":4190,"d":"4,190"}},{"v":13283,"d":"13,283"},{"v":17473,"d":"17,473"},null,{"$f":"T97","v":{"v":4489,"d":"4,489"}},{"v":24032,"d":"24,032"},{"v":28521,"d":"28,521"}]
[null,"Jacks",{"v":7085,"d":"7,085"},null,471,null,3,null,474,null,{"$f":"K98","v":12},18,568,586,null,{"$f":"P98","v":622},{"v":5391,"d":"5,391"},{"v":6013,"d":"6,013"},null,{"$f":"T98","v":640},{"v":5959,"d":"5,959"},{"v":6599,"d":"6,599"}]
["GOAL","Adults",{"$nulls":18},"≥40,700d/e/"]
["a/  Total inriver run includes an estimated 30,550 fish that died prior to spawning in September 2002."]
["b/  Total inriver run includes fish collected from the Klamath and Trinity rivers by the Yurok and Hoopa Valley tribes, respectively, to test for the presence of the parasite Ichthyophthirius multifiliis during the following years: 2014 - 282 fish; 2015 - 124 fish; 2016 - 113 fish; 2019 - 9 fish; 2021 - 113 adults and 6 jacks; 2022 - 159 adults."]
["c/  Preliminary.  "]
["d/  In December 2011, Amendment 16 to the Salmon Fishery Management Plan was approved, which replaced the 35,000 spawning escapement floor with an SMSY management objective of 40,700 natural area adult spawners.  The 35,000 spawner floor was in effect from 1989-2007 and in 2011. In 2008-2010, fisheries were managed for a natural area spawning escapement of 40,700 adults under requirements of a rebuilding plan."]
["e/  Annual escapement goals may be more or less than SMSY in some years due to meeting SACL requirements and de minimis fishing provisions."]

{"sheet":"B-5","index":5,"n_rows":412,"n_cols":9,"rows_kept":412,"merged":[[0,0,0,8],[1,2,1,4],[1,6,1,8],[336,0,337,8],[338,0,338,8],[339,0,339,8],[340,0,340,8],[341,0,341,8],[347,0,347,8],[348,2,348,4],[348,6,348,8],[406,0,407,8],[408,0,408,8],[409,0,409,8],[410,0,410,8],[411,0,411,8]]}
["TABLE B-5.  Estimates of Yurok and Hoopa Valley reservation Indian Chinook harvest in numbers of fish."]
[null,null,"Spring Run",{"$nulls":3},"Fall Run"]
["Year","Areaa/","Jack","Adult","Total",null,"Jack","Adult","Total"]
[1977,"Total","b/","b/ ","b/ ",null,{"v":2700,"d":"2,700"},{"v":27300,"d":"27,300"},{"v":30000,"d":"30,000"}]
[]
[1978,"Total","b/","b/ ","b/ ",null,{"v":1800,"d":"1,800"},{"v":18200,"d":"18,200"},{"v":20000,"d":"20,000"}]
[]
[1979,"Total","b/","b/ ","b/ ",null,{"v":1350,"d":"1,350"},{"v":13650,"d":"13,650"},{"v":15000,"d":"15,000"}]
[]
[1980,"Total",20,980,{"v":1000,"d":"1,000"},null,987,{"v":12013,"d":"12,013"},{"v":13000,"d":"13,000"}]
[]
[1981,"Estuary",21,{"v":1320,"d":"1,320"},{"v":1341,"d":"1,341"},null,912,{"v":23097,"d":"23,097"},{"v":24009,"d":"24,009"}]
[null,"Resighinni",0,16,16,null,338,{"v":4293,"d":"4,293"},{"v":4631,"d":"4,631"}]
[null,"Upper Klamath",19,381,400,null,766,{"v":4112,"d":"4,112"},{"v":4878,"d":"4,878"}]
[null,"Trinity River",17,{"v":1090,"d":"1,090"},{"v":1107,"d":"1,107"},null,449,{"v":1531,"d":"1,531"},{"v":1980,"d":"1,980"}]
[null,"Total",57,{"v":2807,"d":"2,807"},{"v":2864,"d":"2,864"},null,{"v":2465,"d":"2,465"},{"v":33033,"d":"33,033"},{"v":35498,"d":"35,498"}]
[]
[1982,"Estuary",3,172,175,null,290,{"v":4547,"d":"4,547"},{"v":4837,"d":"4,837"}]
[null,"Resighinni",11,789,800,null,368,{"v":3551,"d":"3,551"},{"v":3919,"d":"3,919"}]
[null,"Upper Klamath",21,{"v":1479,"d":"1,479"},{"v":1500,"d":"1,500"},null,827,{"v":4873,"d":"4,873"},{"v":5700,"d":"5,700"}]
[null,"Trinity River",10,715,725,null,314,{"v":1511,"d":"1,511"},{"v":1825,"d":"1,825"}]
[null,"Total",45,{"v":3155,"d":"3,155"},{"v":3200,"d":"3,200"},null,{"v":1799,"d":"1,799"},{"v":14482,"d":"14,482"},{"v":16281,"d":"16,281"}]
[]
[1983,"Estuary",1,59,60,null,12,800,812]
[null,"Middle Klamath",3,322,325,null,32,{"v":2626,"d":"2,626"},{"v":2658,"d":"2,658"}]
[null,"Upper Klamath",1,129,130,null,89,{"v":3074,"d":"3,074"},{"v":3163,"d":"3,163"}]
[null,"Trinity River",5,75,80,null,30,{"v":1390,"d":"1,390"},{"v":1420,"d":"1,420"}]
[null,"Total",10,585,595,null,163,{"v":7890,"d":"7,890"},{"v":8053,"d":"8,053"}]
[]
[1984,"Estuary",2,53,55,null,132,{"v":11878,"d":"11,878"},{"v":12010,"d":"12,010"}]
[null,"Middle Klamath",8,147,155,null,81,{"v":2807,"d":"2,807"},{"v":2888,"d":"2,888"}]
[null,"Upper Klamath",2,47,49,null,102,{"v":2815,"d":"2,815"},{"v":2917,"d":"2,917"}]
[null,"Trinity River",0,380,380,null,140,{"v":1170,"d":"1,170"},{"v":1310,"d":"1,310"}]
[null,"Total",12,627,639,null,455,{"v":18670,"d":"18,670"},{"v":19125,"d":"19,125"}]
[]
["1985c/","Estuary",29,580,609,null,132,{"v":5700,"d":"5,700"},{"v":5832,"d":"5,832"}]
[null,"Middle Klamath",6,184,190,null,283,{"v":1731,"d":"1,731"},{"v":2014,"d":"2,014"}]
[null,"Upper Klamath",10,310,320,null,193,{"v":2194,"d":"2,194"},{"v":2387,"d":"2,387"}]
[null,"Trinity River",115,{"v":1000,"d":"1,000"},{"v":1115,"d":"1,115"},null,947,{"v":1941,"d":"1,941"},{"v":2888,"d":"2,888"}]
[null,"Total",160,{"v":2074,"d":"2,074"},{"v":2234,"d":"2,234"},null,{"v":1555,"d":"1,555"},{"v":11566,"d":"11,566"},{"v":13121,"d":"13,121"}]
[]
["1986c/","Estuary",1,40,41,null,191,{"v":15286,"d":"15,286"},{"v":15477,"d":"15,477"}]
[null,"Middle Klamath",3,164,167,null,176,{"v":2501,"d":"2,501"},{"v":2677,"d":"2,677"}]
[null,"Upper Klamath",10,488,498,null,201,{"v":1532,"d":"1,532"},{"v":1733,"d":"1,733"}]
[null,"Trinity River",81,{"v":2022,"d":"2,022"},{"v":2103,"d":"2,103"},null,586,{"v":4808,"d":"4,808"},{"v":5394,"d":"5,394"}]
[null,"Total",95,{"v":2714,"d":"2,714"},{"v":2809,"d":"2,809"},null,{"v":1154,"d":"1,154"},{"v":24127,"d":"24,127"},{"v":25281,"d":"25,281"}]
[]
[1987,"Commercial: Estuary",0,0,0,null,0,{"v":29040,"d":"29,040"},{"v":29040,"d":"29,040"}]
[null,"Subsistence:Estuary",23,786,809,null,36,{"v":10938,"d":"10,938"},{"v":10974,"d":"10,974"}]
[null,"  Middle Klamath",5,171,176,null,30,{"v":5079,"d":"5,079"},{"v":5109,"d":"5,109"}]
[null,"  Upper Klamath",20,689,709,null,87,{"v":3057,"d":"3,057"},{"v":3144,"d":"3,144"}]
[null,"  Trinity River",122,{"v":4146,"d":"4,146"},{"v":4268,"d":"4,268"},null,262,{"v":4982,"d":"4,982"},{"v":5244,"d":"5,244"}]
[null,"Total",176,{"v":5792,"d":"5,792"},{"v":5962,"d":"5,962"},null,415,{"v":53096,"d":"53,096"},{"v":53511,"d":"53,511"}]
[]
[1988,"Commercial: Estuary",0,0,0,null,0,{"v":25782,"d":"25,782"},{"v":25782,"d":"25,782"}]
[null,"Subsistence:Estuary",8,{"v":1669,"d":"1,669"},{"v":1677,"d":"1,677"},null,138,{"v":11132,"d":"11,132"},{"v":11270,"d":"11,270"}]
[null,"  Middle Klamath",0,710,710,null,36,{"v":6252,"d":"6,252"},{"v":6288,"d":"6,288"}]
[null,"  Upper Klamath",0,539,539,null,137,{"v":3415,"d":"3,415"},{"v":3552,"d":"3,552"}]
[null,"  Trinity River",84,{"v":2727,"d":"2,727"},{"v":2811,"d":"2,811"},null,267,{"v":5070,"d":"5,070"},{"v":5337,"d":"5,337"}]
[null,"Total",92,{"v":5645,"d":"5,645"},{"v":5737,"d":"5,737"},null,578,{"v":51651,"d":"51,651"},{"v":52229,"d":"52,229"}]
[]
[1989,"Commercial: Estuary",0,206,206,null,0,{"v":27504,"d":"27,504"},{"v":27504,"d":"27,504"}]
[null,"Subsistence:Estuary",0,644,644,null,0,{"v":9626,"d":"9,626"},{"v":9626,"d":"9,626"}]
[null,"  Middle Klamath",0,{"v":2008,"d":"2,008"},{"v":2008,"d":"2,008"},null,65,{"v":3108,"d":"3,108"},{"v":3173,"d":"3,173"}]
[null,"  Upper Klamath",0,{"v":1887,"d":"1,887"},{"v":1887,"d":"1,887"},null,55,{"v":1853,"d":"1,853"},{"v":1908,"d":"1,908"}]
[null,"  Trinity River",20,{"v":1978,"d":"1,978"},{"v":1998,"d":"1,998"},null,71,{"v":3474,"d":"3,474"},{"v":3545,"d":"3,545"}]
[null,"Total",20,{"v":6723,"d":"6,723"},{"v":6743,"d":"6,743"},null,191,{"v":45565,"d":"45,565"},{"v":45756,"d":"45,756"}]
[]
[1990,"Commercial: Estuary","-","-","-",null,"-","-","-"]
[null,"Subsistence:Estuary",0,388,388,null,13,{"v":3536,"d":"3,536"},{"v":3549,"d":"3,549"}]
[null,"  Middle Klamath",0,521,521,null,36,{"v":1116,"d":"1,116"},{"v":1152,"d":"1,152"}]
[null,"  Upper Klamath",0,504,504,null,102,{"v":2331,"d":"2,331"},{"v":2433,"d":"2,433"}]
[null,"  Trinity River",24,865,889,null,36,811,847]
[null,"Total",24,{"v":2278,"d":"2,278"},{"v":2302,"d":"2,302"},null,187,{"v":7794,"d":"7,794"},{"v":7981,"d":"7,981"}]
[]
[1991,"Commercial: Estuary","-","-","-",null,"-","-","-"]
[null,"Subsistence:Estuary",0,70,70,null,7,{"v":3902,"d":"3,902"},{"v":3909,"d":"3,909"}]
[null,"  Middle Klamath",0,46,46,null,9,{"v":1765,"d":"1,765"},{"v":1774,"d":"1,774"}]
[null,"  Upper Klamath",3,167,170,null,16,{"v":3251,"d":"3,251"},{"v":3267,"d":"3,267"}]
[null,"  Trinity River",0,263,263,null,30,{"v":1310,"d":"1,310"},{"v":1340,"d":"1,340"}]
[null,"Total",3,546,549,null,62,{"v":10228,"d":"10,228"},{"v":10290,"d":"10,290"}]
[]
[1992,"Commercial: Estuary","-","-","-",null,"-","-","-"]
[null,"Subsistence:Estuary",0,15,15,null,124,{"v":1152,"d":"1,152"},{"v":1276,"d":"1,276"}]
[null,"  Middle Klamath",0,97,97,null,52,{"v":1107,"d":"1,107"},{"v":1159,"d":"1,159"}]
[null,"  Upper Klamath",0,284,284,null,148,{"v":2580,"d":"2,580"},{"v":2728,"d":"2,728"}]
[null,"  Trinity River",0,346,346,null,42,946,988]
[null,"Total",0,742,742,null,366,{"v":5785,"d":"5,785"},{"v":6151,"d":"6,151"}]
[]
[1993,"Commercial: Estuary","-","-","-",null,"-","-","-"]
[null,"Subsistence:Estuary",0,19,19,null,62,{"v":3017,"d":"3,017"},{"v":3079,"d":"3,079"}]
[null,"  Middle Klamath",0,320,320,null,33,{"v":1632,"d":"1,632"},{"v":1665,"d":"1,665"}]
[null,"  Upper Klamath",0,211,211,null,47,{"v":3495,"d":"3,495"},{"v":3542,"d":"3,542"}]
[null,"  Trinity River",0,228,228,null,33,{"v":1492,"d":"1,492"},{"v":1525,"d":"1,525"}]
[null,"Total",0,778,778,null,175,{"v":9636,"d":"9,636"},{"v":9811,"d":"9,811"}]
[]
[1994,"Commercial: Estuary","-","-","-",null,"-","-","-"]
[null,"Subsistence:Estuary",9,152,161,null,80,{"v":4341,"d":"4,341"},{"v":4421,"d":"4,421"}]
[null,"  Middle Klamath",14,110,124,null,4,{"v":1448,"d":"1,448"},{"v":1452,"d":"1,452"}]
[null,"  Upper Klamath",3,239,242,null,71,{"v":3658,"d":"3,658"},{"v":3729,"d":"3,729"}]
[null,"  Trinity River",0,255,255,null,94,{"v":2266,"d":"2,266"},{"v":2360,"d":"2,360"}]
[null,"Total",26,756,782,null,249,{"v":11713,"d":"11,713"},{"v":11962,"d":"11,962"}]
[]
[1995,"Commercial: Estuary","-","-","-",null,"-","-","-"]
[null,"Subsistence:Estuary",0,656,656,null,117,{"v":5200,"d":"5,200"},{"v":5317,"d":"5,317"}]
[null,"  Middle Klamath",0,{"v":1312,"d":"1,312"},{"v":1312,"d":"1,312"},null,44,{"v":2415,"d":"2,415"},{"v":2459,"d":"2,459"}]
[null,"  Upper Klamath",0,624,624,null,47,{"v":4610,"d":"4,610"},{"v":4657,"d":"4,657"}]
[null,"  Trinity River",93,{"v":1175,"d":"1,175"},{"v":1268,"d":"1,268"},null,268,{"v":3383,"d":"3,383"},{"v":3651,"d":"3,651"}]
[null,"Total",93,{"v":3767,"d":"3,767"},{"v":3860,"d":"3,860"},null,476,{"v":15608,"d":"15,608"},{"v":16084,"d":"16,084"}]
[]
[1996,"Commercial: Estuary",16,{"v":3113,"d":"3,113"},{"v":3129,"d":"3,129"},null,127,{"v":40020,"d":"40,020"},{"v":40147,"d":"40,147"}]
[null,"Subsistence:Estuary",1,{"v":1851,"d":"1,851"},{"v":1852,"d":"1,852"},null,36,{"v":9093,"d":"9,093"},{"v":9129,"d":"9,129"}]
[null,"  Middle Klamath",9,673,682,null,7,{"v":1570,"d":"1,570"},{"v":1577,"d":"1,577"}]
[null,"  Upper Klamath",3,268,271,null,12,{"v":3023,"d":"3,023"},{"v":3035,"d":"3,035"}]
[null,"  Trinity River",6,{"v":1182,"d":"1,182"},{"v":1188,"d":"1,188"},null,8,{"v":2770,"d":"2,770"},{"v":2778,"d":"2,778"}]
[null,"Total",35,{"v":7087,"d":"7,087"},{"v":7122,"d":"7,122"},null,190,{"v":56476,"d":"56,476"},{"v":56666,"d":"56,666"}]
[]
[1997,"Commercial: Estuary","-","-","-",null,"-","-","-"]
[null,"Subsistence:Estuary",0,{"v":2919,"d":"2,919"},{"v":2919,"d":"2,919"},null,21,{"v":5574,"d":"5,574"},{"v":5595,"d":"5,595"}]
[null,"  Middle Klamath",0,{"v":1102,"d":"1,102"},{"v":1102,"d":"1,102"},null,3,{"v":1479,"d":"1,479"},{"v":1482,"d":"1,482"}]
[null,"  Upper Klamath",0,{"v":1419,"d":"1,419"},{"v":1419,"d":"1,419"},null,5,{"v":3796,"d":"3,796"},{"v":3801,"d":"3,801"}]
[null,"  Trinity River",1,{"v":1250,"d":"1,250"},{"v":1251,"d":"1,251"},null,6,{"v":1238,"d":"1,238"},{"v":1244,"d":"1,244"}]
[null,"Total",1,{"v":6690,"d":"6,690"},{"v":6691,"d":"6,691"},null,35,{"v":12087,"d":"12,087"},{"v":12122,"d":"12,122"}]
[]
[1998,"Commercial: Estuary","-","-","-",null,"-","-","-"]
[null,"Subsistence:Estuary",2,621,623,null,16,{"v":3454,"d":"3,454"},{"v":3470,"d":"3,470"}]
[null,"  Middle Klamath",0,937,937,null,9,{"v":1324,"d":"1,324"},{"v":1333,"d":"1,333"}]
[null,"  Upper Klamath",0,780,780,null,23,{"v":3874,"d":"3,874"},{"v":3897,"d":"3,897"}]
[null,"  Trinity River",45,426,471,null,5,{"v":1535,"d":"1,535"},{"v":1540,"d":"1,540"}]
[null,"Total",47,{"v":2764,"d":"2,764"},{"v":2811,"d":"2,811"},null,53,{"v":10187,"d":"10,187"},{"v":10240,"d":"10,240"}]
[]
[1999,"Commercial: Estuary","-","-","-",null,"-",{"v":2077,"d":"2,077"},{"v":2077,"d":"2,077"}]
[null,"Subsistence:Estuary",2,456,458,null,127,{"v":2315,"d":"2,315"},{"v":2442,"d":"2,442"}]
[null,"  Middle Klamath",0,{"v":1343,"d":"1,343"},{"v":1343,"d":"1,343"},null,49,{"v":2261,"d":"2,261"},{"v":2310,"d":"2,310"}]
[null,"  Upper Klamath",0,593,593,null,237,{"v":4784,"d":"4,784"},{"v":5021,"d":"5,021"}]
[null,"  Trinity River",13,776,789,null,96,{"v":2978,"d":"2,978"},{"v":3074,"d":"3,074"}]
[null,"Total",15,{"v":3168,"d":"3,168"},{"v":3183,"d":"3,183"},null,509,{"v":14415,"d":"14,415"},{"v":14924,"d":"14,924"}]
[]
[2000,"Commercial:Estuary","-",33,33,null,"-",{"v":4104,"d":"4,104"},{"v":4104,"d":"4,104"}]
[null,"  Middle Klamath","-",2,2,null,"-",186,186]
[null,"  Upper Klamath","-",1,1,null,"-",813,813]
[null,"Subsistence:Estuary ",5,{"v":1739,"d":"1,739"},{"v":1744,"d":"1,744"},null,35,{"v":13174,"d":"13,174"},{"v":13209,"d":"13,209"}]
[null,"  Middle Klamath",0,509,509,null,29,{"v":1049,"d":"1,049"},{"v":1078,"d":"1,078"}]
[null,"  Upper Klamath",8,909,917,null,111,{"v":4127,"d":"4,127"},{"v":4238,"d":"4,238"}]
[null,"  Trinity River",29,{"v":1325,"d":"1,325"},{"v":1354,"d":"1,354"},null,128,{"v":5962,"d":"5,962"},{"v":6090,"d":"6,090"}]
[null,"Total",42,{"v":4518,"d":"4,518"},{"v":4560,"d":"4,560"},null,303,{"v":29415,"d":"29,415"},{"v":29718,"d":"29,718"}]
[]
[2001,"Commercial:Estuary",79,{"v":4637,"d":"4,637"},{"v":4716,"d":"4,716"},null,63,{"v":7011,"d":"7,011"},{"v":7074,"d":"7,074"}]
[null,"  Upper Klamath",1,58,59,null,1,51,52]
[null,"Subsistence:Estuary ",152,{"v":8846,"d":"8,846"},{"v":8998,"d":"8,998"},null,198,{"v":21956,"d":"21,956"},{"v":22154,"d":"22,154"}]
[null,"  Middle Klamath",0,134,134,null,28,{"v":1697,"d":"1,697"},{"v":1725,"d":"1,725"}]
[null,"  Upper Klamath",19,{"v":1504,"d":"1,504"},{"v":1523,"d":"1,523"},null,49,{"v":2976,"d":"2,976"},{"v":3025,"d":"3,025"}]
[null,"  Trinity River",46,{"v":4164,"d":"4,164"},{"v":4210,"d":"4,210"},null,60,{"v":4954,"d":"4,954"},{"v":5014,"d":"5,014"}]
[null,"Total",297,{"v":19343,"d":"19,343"},{"v":19640,"d":"19,640"},null,399,{"v":38645,"d":"38,645"},{"v":39044,"d":"39,044"}]
[]
[2002,"Commercial:Estuary",7,{"v":1852,"d":"1,852"},{"v":1859,"d":"1,859"},null,7,{"v":8952,"d":"8,952"},{"v":8959,"d":"8,959"}]
[null,"  Upper Klamath","-","-","-",null,"-","-","-"]
[null,"Subsistence:Estuary ",25,{"v":6551,"d":"6,551"},{"v":6576,"d":"6,576"},null,10,{"v":11197,"d":"11,197"},{"v":11207,"d":"11,207"}]
[null,"  Middle Klamath",70,{"v":1310,"d":"1,310"},{"v":1380,"d":"1,380"},null,10,729,739]
[null,"  Upper Klamath",24,{"v":2205,"d":"2,205"},{"v":2229,"d":"2,229"},null,31,{"v":2528,"d":"2,528"},{"v":2559,"d":"2,559"}]
[null,"  Trinity River",40,{"v":3052,"d":"3,052"},{"v":3062,"d":"3,062"},null,68,{"v":1168,"d":"1,168"},{"v":1236,"d":"1,236"}]
[null,"Total",166,{"v":14970,"d":"14,970"},{"v":15136,"d":"15,136"},null,126,{"v":24574,"d":"24,574"},{"v":24700,"d":"24,700"}]
[]
[2003,"Commercial:Estuary",4,779,783,null,11,{"v":17084,"d":"17,084"},{"v":17095,"d":"17,095"}]
[null,"  Upper Klamath",0,0,0,null,0,0,0]
[null,"Subsistence:Estuary ",10,{"v":1800,"d":"1,800"},{"v":1810,"d":"1,810"},null,4,{"v":5604,"d":"5,604"},{"v":5608,"d":"5,608"}]
[null,"  Middle Klamath",0,{"v":2355,"d":"2,355"},{"v":2355,"d":"2,355"},null,5,{"v":1376,"d":"1,376"},{"v":1381,"d":"1,381"}]
[null,"  Upper Klamath",0,{"v":1730,"d":"1,730"},{"v":1730,"d":"1,730"},null,12,{"v":3199,"d":"3,199"},{"v":3211,"d":"3,211"}]
[null,"  Trinity River",7,{"v":2380,"d":"2,380"},{"v":2387,"d":"2,387"},null,12,{"v":2771,"d":"2,771"},{"v":2783,"d":"2,783"}]
[null,"Total",21,{"v":9044,"d":"9,044"},{"v":9065,"d":"9,065"},null,44,{"v":30034,"d":"30,034"},{"v":30078,"d":"30,078"}]
[]
[2004,"Commercial:Estuary",2,408,410,null,13,{"v":14251,"d":"14,251"},{"v":14264,"d":"14,264"}]
[null,"  Upper Klamath",0,0,0,null,13,540,554]
[null,"Subsistence:Estuary ",10,{"v":2178,"d":"2,178"},{"v":2188,"d":"2,188"},null,62,{"v":6787,"d":"6,787"},{"v":6848,"d":"6,848"}]
[null,"  Middle Klamath",6,{"v":2346,"d":"2,346"},{"v":2352,"d":"2,352"},null,14,577,591]
[null,"  Upper Klamath",11,{"v":1715,"d":"1,715"},{"v":1726,"d":"1,726"},null,46,{"v":1959,"d":"1,959"},{"v":2005,"d":"2,005"}]
[null,"  Trinity River",62,{"v":1944,"d":"1,944"},{"v":2006,"d":"2,006"},null,20,{"v":1689,"d":"1,689"},{"v":1709,"d":"1,709"}]
[null,"Total",91,{"v":8591,"d":"8,591"},{"v":8682,"d":"8,682"},null,168,{"v":25083,"d":"25,083"},{"v":25971,"d":"25,971"}]
[]
[2005,"Commercial:Estuary",0,0,0,null,0,0,0]
[null,"  Upper Klamath",0,0,0,null,0,0,0]
[null,"Subsistence:Estuary ",0,477,477,null,21,{"v":2293,"d":"2,293"},{"v":2314,"d":"2,314"}]
[null,"  Middle Klamath",0,518,518,null,5,464,469]
[null,"  Upper Klamath",0,{"v":1320,"d":"1,320"},{"v":1320,"d":"1,320"},null,33,{"v":2851,"d":"2,851"},{"v":2884,"d":"2,884"}]
[null,"  Trinity River",17,{"v":1858,"d":"1,858"},{"v":1858,"d":"1,858"},null,11,{"v":2409,"d":"2,409"},{"v":2420,"d":"2,420"}]
[null,"Total",33,{"v":7286,"d":"7,286"},{"v":7302,"d":"7,302"},null,70,{"v":8017,"d":"8,017"},{"v":8087,"d":"8,087"}]
[]
[2006,"Commercial:Estuary",0,0,{"$f":"SUM(C188:D188)","v":0},null,0,0,{"$f":"SUM(G188:H188)","v":0}]
[null,"  Upper Klamath",0,0,{"$f":"SUM(C189:D189)","v":0},null,0,0,0]
[null,"Subsistence:Estuary ",8,302,{"$f":"SUM(C190:D190)","v":310},null,30,{"v":2726,"d":"2,726"},{"v":2756,"d":"2,756"}]
[null,"  Middle Klamath",3,{"v":1113,"d":"1,113"},{"$f":"SUM(C191:D191)","v":{"v":1116,"d":"1,116"}},null,93,{"v":1310,"d":"1,310"},{"v":1403,"d":"1,403"}]
[null,"  Upper Klamath",36,{"v":1257,"d":"1,257"},{"$f":"SUM(C192:D192)","v":{"v":1293,"d":"1,293"}},null,147,{"v":2086,"d":"2,086"},{"v":2233,"d":"2,233"}]
[null,"  Trinity River",58,{"v":1632,"d":"1,632"},{"v":1690,"d":"1,690"},null,145,{"v":4161,"d":"4,161"},{"v":4306,"d":"4,306"}]
[null,"Total",{"$f":"SUM(C188:C193)","v":105},{"$f":"SUM(D188:D193)","v":{"v":4304,"d":"4,304"}},{"$f":"SUM(E188:E193)","v":{"v":4409,"d":"4,409"}},null,{"$f":"SUM(G188:G193)","v":415},{"$f":"SUM(H188:H193)","v":{"v":10283,"d":"10,283"}},{"$f":"SUM(I188:I193)","v":{"v":10698,"d":"10,698"}}]
[]
[2007,"Commercial:Estuary",0,{"v":2300,"d":"2,300"},{"$f":"SUM(C196:D196)","v":{"v":2300,"d":"2,300"}},null,1,{"v":21100,"d":"21,100"},{"$f":"SUM(G196:H196)","v":{"v":21101,"d":"21,101"}}]
[null,"  Upper Klamath",null,null,0,{"$nulls":3},0]
[null,"Subsistence:Estuary ",0,{"v":1363,"d":"1,363"},{"v":1363,"d":"1,363"},null,15,{"v":2375,"d":"2,375"},{"v":2390,"d":"2,390"}]
[null,"  Middle Klamath",0,200,200,null,1,425,426]
[null,"  Upper Klamath",0,631,631,null,4,{"v":1375,"d":"1,375"},{"v":1379,"d":"1,379"}]
[null,"  Trinity River",6,{"v":1349,"d":"1,349"},{"v":1355,"d":"1,355"},null,0,{"v":2298,"d":"2,298"},{"v":2298,"d":"2,298"}]
[null,"Total",{"$f":"SUM(C196:C201)","v":6},{"$f":"SUM(D196:D201)","v":{"v":5843,"d":"5,843"}},{"$f":"SUM(E196:E201)","v":{"v":5849,"d":"5,849"}},null,{"$f":"SUM(G196:G201)","v":21},{"$f":"SUM(H196:H201)","v":{"v":27573,"d":"27,573"}},{"$f":"SUM(I196:I201)","v":{"v":27594,"d":"27,594"}}]
[]
[2008,"Commercial:Estuary",0,323,{"$f":"SUM(C204:D204)","v":323},null,201,{"v":11804,"d":"11,804"},{"$f":"SUM(G204:H204)","v":{"v":12005,"d":"12,005"}}]
[null,"  Middle Klamath",null,null,0,null,11,154,165]
[null,"Subsistence:Estuary ",0,295,295,null,101,{"v":5906,"d":"5,906"},{"v":6007,"d":"6,007"}]
[null,"  Middle Klamath",0,722,722,null,62,870,932]
[null,"  Upper Klamath",9,685,694,null,114,{"v":1612,"d":"1,612"},{"v":1726,"d":"1,726"}]
[null,"  Trinity River",77,{"v":1328,"d":"1,328"},{"v":1405,"d":"1,405"},null,152,{"v":1914,"d":"1,914"},{"v":2066,"d":"2,066"}]
[null,"Total",{"$f":"SUM(C204:C209)","v":86},{"$f":"SUM(D204:D209)","v":{"v":3353,"d":"3,353"}},{"$f":"SUM(E204:E209)","v":{"v":3439,"d":"3,439"}},null,{"$f":"SUM(G204:G209)","v":641},{"$f":"SUM(H204:H209)","v":{"v":22260,"d":"22,260"}},{"$f":"SUM(I204:I209)","v":{"v":22901,"d":"22,901"}}]
[]
[2009,"Commercial:Estuary",0,21,{"$f":"SUM(C212:D212)","v":21},null,34,{"v":15463,"d":"15,463"},{"$f":"SUM(G212:H212)","v":{"v":15497,"d":"15,497"}}]
[null,"  Middle Klamath",null,null,0,null,2,243,245]
[null,"Subsistence:Estuary ",0,763,763,null,9,{"v":4002,"d":"4,002"},{"v":4011,"d":"4,011"}]
[null,"  Middle Klamath",2,487,489,null,18,{"v":2202,"d":"2,202"},{"v":2220,"d":"2,220"}]
[null,"  Upper Klamath",0,451,451,null,19,{"v":2324,"d":"2,324"},{"v":2343,"d":"2,343"}]
[null,"  Trinity River",74,{"v":1764,"d":"1,764"},{"v":1838,"d":"1,838"},null,96,{"v":4153,"d":"4,153"},{"v":4249,"d":"4,249"}]
[null,"Total",{"$f":"SUM(C212:C217)","v":76},{"$f":"SUM(D212:D217)","v":{"v":3486,"d":"3,486"}},{"$f":"SUM(E212:E217)","v":{"v":3562,"d":"3,562"}},null,{"$f":"SUM(G212:G217)","v":178},{"$f":"SUM(H212:H217)","v":{"v":28387,"d":"28,387"}},{"$f":"SUM(I212:I217)","v":{"v":28565,"d":"28,565"}}]
[]
[2010,"Commercial:Estuary",0,259,{"$f":"SUM(C220:D220)","v":259},null,{"v":14.024373419176829,"d":"14"},{"v":15233.975626580823,"d":"15,234"},{"$f":"SUM(G220:H220)","v":{"v":15248,"d":"15,248"}}]
[null,"  Middle Klamath",0,0,0,null,{"v":2.905782975958412,"d":"3"},{"v":83.09421702404158,"d":"83"},86]
[null,"Subsistence:Estuary ",0,812,812,null,{"v":5.975626580823181,"d":"6"},{"v":6491.024373419177,"d":"6,491"},{"v":6497,"d":"6,497"}]
[null,"  Middle Klamath",0,{"v":1421,"d":"1,421"},{"v":1421,"d":"1,421"},null,{"v":61.663417803768624,"d":"62"},{"v":1763.3365821962313,"d":"1,763"},{"v":1825,"d":"1,825"}]
[null,"  Upper Klamath",6,781,787,null,{"v":91.43079922027282,"d":"91"},{"v":2614.569200779727,"d":"2,615"},{"v":2706,"d":"2,706"}]
[null,"  Trinity River",4,{"v":1740,"d":"1,740"},{"v":1744,"d":"1,744"},null,252,{"v":3701,"d":"3,701"},{"v":3953,"d":"3,953"}]
[null,"Total",{"$f":"SUM(C220:C225)","v":10},{"$f":"SUM(D220:D225)","v":{"v":5013,"d":"5,013"}},{"$f":"SUM(E220:E225)","v":{"v":5023,"d":"5,023"}},null,{"$f":"SUM(G220:G225)","v":{"v":427.9999999999999,"d":"428"}},{"$f":"SUM(H220:H225)","v":{"v":29887,"d":"29,887"}},{"$f":"SUM(I220:I225)","v":{"v":30315,"d":"30,315"}}]
[]
[2011,"Commercial:Estuary",{"$f":"0.0191082802547771*E228","v":{"v":0.6305732484076443,"d":"1"}},{"$f":"E228-C228","v":{"v":32.36942675159236,"d":"32"}},33,null,{"$f":"0.0242906094915735*I228","v":{"v":372.52078716277117,"d":"373"}},{"$f":"I228-G228","v":{"v":14963.479212837228,"d":"14,963"}},{"v":15336,"d":"15,336"}]
[null,"  Middle Klamath",0,{"$f":"E229-C229","v":0},0,null,{"$f":"0.0986254628515573*I229","v":{"v":27.911005986990713,"d":"28"}},{"$f":"I229-G229","v":{"v":255.08899401300928,"d":"255"}},283]
[null,"Subsistence:Estuary ",{"$f":"0.0191082802547771*E230","v":{"v":7.834057130746962,"d":"8"}},{"$f":"E230-C230","v":{"v":402.1482660450101,"d":"402"}},{"$f":"442.982323175757-E228","v":{"v":409.982323175757,"d":"410"}},null,{"$f":"0.0242906094915735*I230","v":{"v":59.85006210712162,"d":"60"}},{"$f":"I230-G230","v":{"v":2404.067614717078,"d":"2,404"}},{"$f":"17799.9176768242-I228","v":{"v":2463.9176768241996,"d":"2,464"}}]
[null,"  Middle Klamath",12,{"$f":"E231-C231","v":{"v":1241.9679633674396,"d":"1,242"}},{"v":1253.9679633674396,"d":"1,254"},null,{"$f":"0.0986254628515573*I231","v":{"v":238.15406477536982,"d":"238"}},{"$f":"I231-G231","v":{"v":2176.57797185719,"d":"2,177"}},{"$f":"2697.73203663256-I229","v":{"v":2414.73203663256,"d":"2,415"}}]
[null,"  Upper Klamath",9,{"$f":"E232-C232","v":{"v":908.9347116102776,"d":"909"}},{"v":917.9347116102776,"d":"918"},null,{"$f":"0.0986254628515573*I232","v":{"v":226.53926472139707,"d":"227"}},{"$f":"I232-G232","v":{"v":2070.4260236683244,"d":"2,070"}},{"v":2296.9652883897215,"d":"2,297"}]
[null,"  Trinity River",108,{"v":2282,"d":"2,282"},{"$f":"SUM(C233:D233)","v":{"v":2390,"d":"2,390"}},null,426,{"v":4863,"d":"4,863"},{"$f":"SUM(G233:H233)","v":{"v":5289,"d":"5,289"}}]
[null,"Total",{"$f":"SUM(C228:C233)","v":{"v":137.4646303791546,"d":"137"}},{"$f":"SUM(D228:D233)","v":{"v":4867.42036777432,"d":"4,867"}},{"$f":"SUM(E228:E233)","v":{"v":5004.884998153474,"d":"5,005"}},null,{"$f":"SUM(G228:G233)","v":{"v":1350.9751847536504,"d":"1,351"}},{"$f":"SUM(H228:H233)","v":{"v":26732.639817092833,"d":"26,733"}},{"$f":"SUM(I228:I233)","v":{"v":28083.61500184648,"d":"28,084"}}]
[]
[2012,"Commercial:Estuary",0,{"v":856.2198557362709,"d":"856"},{"$f":"SUM(C236:D236)","v":{"v":856.2198557362709,"d":"856"}},null,0,{"$f":"83580-D236","v":{"v":82723.78014426373,"d":"82,724"}},{"$f":"SUM(G236:H236)","v":{"v":82723.78014426373,"d":"82,724"}}]
[null,"  Middle Klamath",0,0,0,null,0,156,{"$f":"SUM(G237:H237)","v":156}]
[null,"Subsistence:Estuary ",22,{"$f":"E238-C238","v":{"v":905.4706502600692,"d":"905"}},{"$f":"1783.69050599634-E236","v":{"v":927.4706502600692,"d":"927"}},null,72,{"$f":"I238-G238","v":{"v":10791.929349739978,"d":"10,792"}},{"$f":"93587.7094940037-I236","v":{"v":10863.929349739978,"d":"10,864"}}]
[null,"  Middle Klamath",3,{"$f":"E239-C239","v":{"v":908.4617446691772,"d":"908"}},{"v":911.4617446691772,"d":"911"},null,29,{"$f":"I239-G239","v":{"v":1719.03825533082,"d":"1,719"}},{"$f":"1904.03825533082-I237","v":{"v":1748.03825533082,"d":"1,748"}}]
[null,"  Upper Klamath",{"v":9.561383790075842,"d":"10"},{"$f":"E240-C240","v":{"v":1104.2424362851702,"d":"1,104"}},{"v":1113.803820075246,"d":"1,114"},null,{"$f":"0.0152180411147921*I240","v":{"v":29.979482862078278,"d":"30"}},{"$f":"I240-G240","v":{"v":1940.0166970626753,"d":"1,940"}},{"v":1969.9961799247537,"d":"1,970"}]
[null,"  Trinity River",21,{"v":2647,"d":"2,647"},{"$f":"SUM(C241:D241)","v":{"v":2668,"d":"2,668"}},null,55,{"v":4145,"d":"4,145"},{"$f":"SUM(G241:H241)","v":{"v":4200,"d":"4,200"}}]
[null,"Total",{"$f":"SUM(C236:C241)","v":{"v":55.561383790075844,"d":"56"}},{"$f":"SUM(D236:D241)","v":{"v":6421.394686950687,"d":"6,421"}},{"$f":"SUM(E236:E241)","v":{"v":6476.956070740764,"d":"6,477"}},null,{"$f":"SUM(G236:G241)","v":{"v":185.97948286207827,"d":"186"}},{"$f":"SUM(H236:H241)","v":{"v":101475.7644463972,"d":"101,476"}},{"$f":"SUM(I236:I241)","v":{"v":101661.74392925928,"d":"101,662"}}]
[]
[2013,"Commercial:Estuary",0,962,962,null,0,{"$f":"I244-G244","v":{"v":52046,"d":"52,046"}},{"v":52046,"d":"52,046"}]
[null,"  Middle Klamath",0,9,9,null,0,64,64]
[null,"Subsistence:Estuary ",7,{"v":2327,"d":"2,327"},{"v":2334,"d":"2,334"},null,205,{"v":5458,"d":"5,458"},{"v":5663,"d":"5,663"}]
[null,"  Middle Klamath",0,110,110,null,13,843,856]
[null,"  Upper Klamath",0,336,336,null,25,{"v":1606,"d":"1,606"},{"v":1631,"d":"1,631"}]
[null,"  Trinity River",19,{"v":1202,"d":"1,202"},{"v":1221,"d":"1,221"},null,16,{"v":3019,"d":"3,019"},{"v":3035,"d":"3,035"}]
[null,"Total",{"$f":"SUM(C244:C249)","v":26},{"$f":"SUM(D244:D249)","v":{"v":4946,"d":"4,946"}},{"$f":"SUM(E244:E249)","v":{"v":4972,"d":"4,972"}},null,{"$f":"SUM(G244:G249)","v":259},{"$f":"SUM(H244:H249)","v":{"v":63036,"d":"63,036"}},{"$f":"SUM(I244:I249)","v":{"v":63295,"d":"63,295"}}]
[]
[2014,"Commercial:Estuary",0,0,0,null,0,{"v":11431,"d":"11,431"},{"v":11431,"d":"11,431"}]
[null,"  Middle Klamath",0,0,0,null,0,401,401]
[null,"Subsistence:Estuary ",{"v":7.0623609261939215,"d":"7"},{"v":2437.854939073806,"d":"2,438"},{"v":2444.9172999999996,"d":"2,445"},null,{"v":153.44088718240798,"d":"153"},{"v":8664.74181281759,"d":"8,665"},{"v":8818.182699999998,"d":"8,818"}]
[null,"  Middle Klamath",0,{"v":64.27150547229178,"d":"64"},{"v":64.27150547229178,"d":"64"},null,72,{"v":1584.1284945277084,"d":"1,584"},{"v":1656.1284945277084,"d":"1,656"}]
[null,"  Upper Klamathb/",10,658,668,null,68,{"v":1719,"d":"1,719"},{"v":1787,"d":"1,787"}]
[null,"  Trinity River",85,{"v":1733,"d":"1,733"},{"v":1818,"d":"1,818"},null,65,{"v":2440,"d":"2,440"},{"v":2504,"d":"2,504"}]
[null,"Total",{"$f":"SUM(C252:C257)","v":{"v":102.06236092619392,"d":"102"}},{"v":4893.126444546097,"d":"4,893"},{"v":4995.188805472291,"d":"4,995"},null,{"v":358.440887182408,"d":"358"},{"v":26239.8703073453,"d":"26,240"},{"$f":"SUM(I252:I257)","v":{"v":26597.311194527705,"d":"26,597"}}]
[]
[2015,"Commercial:Estuary",0,0,0,null,0,{"v":16899,"d":"16,899"},{"v":16899,"d":"16,899"}]
[null,"  Middle Klamath",0,0,0,null,0,163,163]
[null,"Subsistence:Estuary ",0,{"v":1816.2499999999998,"d":"1,816"},{"v":1816.2499999999998,"d":"1,816"},null,405,{"v":5609,"d":"5,609"},{"v":6014,"d":"6,014"}]
[null,"  Middle Klamath",0,{"v":132.5,"d":"133"},{"v":132.5,"d":"133"},null,10,642,652]
[null,"  Upper Klamathb/",17,628,645,null,35,{"v":2818,"d":"2,818"},{"v":2853,"d":"2,853"}]
[null,"  Trinity Riverc/",15,{"v":1087,"d":"1,087"},{"v":1102,"d":"1,102"},null,47,{"v":2040,"d":"2,040"},{"v":2087,"d":"2,087"}]
[null,"Total",{"$f":"SUM(C260:C265)","v":32},{"$f":"SUM(D260:D265)","v":{"v":3663.75,"d":"3,664"}},{"$f":"SUM(E260:E265)","v":{"v":3695.75,"d":"3,696"}},null,{"$f":"SUM(G260:G265)","v":497},{"$f":"SUM(H260:H265)","v":{"v":28171,"d":"28,171"}},{"$f":"SUM(I260:I265)","v":{"v":28668,"d":"28,668"}}]
[]
[2016,"Commercial:Estuary",0,0,0,null,0,0,0]
[null,"  Middle Klamath",0,0,0,null,0,0,0]
[null,"Subsistence:Estuary ",1,619,620,null,121,{"v":3185,"d":"3,185"},{"v":3306,"d":"3,306"}]
[null,"  Middle Klamath",1,264,265,null,7,405,412]
[null,"  Upper Klamathb/",1,115,116,null,14,930,944]
[null,"  Trinity River",14,679,693,null,20,751,771]
[null,"Total",{"$f":"SUM(C268:C273)","v":17},{"$f":"SUM(D268:D273)","v":{"v":1677,"d":"1,677"}},{"$f":"SUM(E268:E273)","v":{"v":1694,"d":"1,694"}},null,{"$f":"SUM(G268:G273)","v":162},{"$f":"SUM(H268:H273)","v":{"v":5271,"d":"5,271"}},{"$f":"SUM(I268:I273)","v":{"v":5433,"d":"5,433"}}]
[2017,"Commercial:Estuary",0,0,0,null,0,0,0]
[null,"  Middle Klamath",0,0,0,null,0,0,0]
[null,"Subsistence:Estuary ",0,243,243,null,66,208,274]
[null,"  Middle Klamath",0,339,339,null,0,2,2]
[null,"  Upper Klamath",3,304,307,null,6,10,16]
[null,"  Trinity River",8,412,420,null,194,{"v":1660,"d":"1,660"},{"v":1854,"d":"1,854"}]
[null,"Total",{"$f":"SUM(C275:C280)","v":11},{"$f":"SUM(D275:D280)","v":{"v":1298,"d":"1,298"}},{"$f":"SUM(E275:E280)","v":{"v":1309,"d":"1,309"}},null,{"$f":"SUM(G275:G280)","v":266},{"$f":"SUM(H275:H280)","v":{"v":1880,"d":"1,880"}},{"$f":"SUM(I275:I280)","v":{"v":2146,"d":"2,146"}}]
[2018,"Commercial:Estuary",0,0,0,null,0,0,0]
[null,"  Middle Klamath",0,0,0,null,0,0,0]
[null,"Subsistence:Estuary ",3,{"v":1109,"d":"1,109"},{"v":1112,"d":"1,112"},null,86,{"v":8665,"d":"8,665"},{"v":8751,"d":"8,751"}]
[null,"  Middle Klamath",0,62,62,null,17,{"v":1518,"d":"1,518"},{"v":1535,"d":"1,535"}]
[null,"  Upper Klamath",2,135,137,null,25,{"v":2261,"d":"2,261"},{"v":2286,"d":"2,286"}]
[null,"  Trinity River",49,481,530,null,180,{"v":2325,"d":"2,325"},{"v":2505,"d":"2,505"}]
[null,"Total",{"$f":"SUM(C282:C287)","v":54},{"v":1787,"d":"1,787"},{"v":1841,"d":"1,841"},null,{"$f":"SUM(G282:G287)","v":308},{"v":14769,"d":"14,769"},{"v":15077,"d":"15,077"}]
[]
[2019,"Commercial:Estuary",0,0,0,null,23,{"v":1878,"d":"1,878"},{"v":1901,"d":"1,901"}]
[null,"  Middle Klamath",0,0,0,null,1,9,10]
[null,"Subsistence:Estuary ",1,36,37,null,17,{"v":1438,"d":"1,438"},{"v":1455,"d":"1,455"}]
[null,"  Middle Klamathb/",10,96,106,null,14,166,180]
[null,"  Upper Klamathb/",6,52,58,null,39,441,480]
[null,"  Trinity River",316,838,{"v":1154,"d":"1,154"},null,499,{"v":2065,"d":"2,065"},{"v":2564,"d":"2,564"}]
[null,"Total",{"$f":"SUM(C290:C295)","v":333},{"$f":"SUM(D290:D295)","v":{"v":1022,"d":"1,022"}},{"$f":"SUM(E290:E295)","v":{"v":1355,"d":"1,355"}},null,{"$f":"SUM(G290:G295)","v":593},{"$f":"SUM(H290:H295)","v":{"v":5997,"d":"5,997"}},{"$f":"SUM(I290:I295)","v":{"v":6590,"d":"6,590"}}]
[]
[2020,"Commercial:Estuary",0,0,0,null,0,0,0]
[null,"  Middle Klamath",0,0,0,null,0,0,0]
[null,"Subsistence:Estuary ",5,142,147,null,85,{"v":1730,"d":"1,730"},{"v":1815,"d":"1,815"}]
[null,"  Middle Klamath",2,35,37,null,45,727,772]
[null,"  Upper Klamath",3,78,81,null,111,{"v":1776,"d":"1,776"},{"v":1887,"d":"1,887"}]
[null,"  Trinity River",5,147,152,null,87,979,{"v":1066,"d":"1,066"}]
[null,"Total",{"$f":"SUM(C298:C303)","v":15},{"$f":"SUM(D298:D303)","v":402},{"$f":"SUM(E298:E303)","v":417},null,{"$f":"SUM(G298:G303)","v":328},{"$f":"SUM(H298:H303)","v":{"v":5212,"d":"5,212"}},{"$f":"SUM(I298:I303)","v":{"v":5540,"d":"5,540"}}]
[]
[2021,"Commercial:Estuary",0,0,0,null,0,0,0]
[null,"  Middle Klamath",0,0,0,null,0,0,0]
[null,"Subsistence:Estuary ",6,895,901,null,17,{"v":2598,"d":"2,598"},{"v":2615,"d":"2,615"}]
[null,"  Middle Klamath",3,50,53,null,37,706,743]
[null,"  Upper Klamath",8,146,154,null,111,{"v":2132,"d":"2,132"},{"v":2243,"d":"2,243"}]
[null,"  Trinity River",135,982,{"v":1117,"d":"1,117"},null,451,{"v":2626,"d":"2,626"},{"v":3077,"d":"3,077"}]
[null,"Total",{"$f":"SUM(C306:C311)","v":152},{"$f":"SUM(D306:D311)","v":{"v":2073,"d":"2,073"}},{"$f":"SUM(E306:E311)","v":{"v":2225,"d":"2,225"}},null,{"$f":"SUM(G306:G311)","v":616},{"$f":"SUM(H306:H311)","v":{"v":8062,"d":"8,062"}},{"$f":"SUM(I306:I311)","v":{"v":8678,"d":"8,678"}}]
[]
[2022,"Commercial:Estuary",0,0,0,null,0,0,0]
[null,"  Middle Klamath",0,0,0,null,0,0,0]
[null,"Subsistence:Estuary ",0,549,549,null,0,{"v":4557,"d":"4,557"},{"v":4557,"d":"4,557"}]
[null,"  Middle Klamath",4,159,163,null,12,520,532]
[null,"  Upper Klamath",8,345,353,null,29,{"v":1344,"d":"1,344"},{"v":1373,"d":"1,373"}]
[null,"  Trinity River",32,{"v":1538,"d":"1,538"},{"v":1570,"d":"1,570"},null,293,{"v":1778,"d":"1,778"},{"v":2071,"d":"2,071"}]
[null,"Total",{"$f":"SUM(C314:C319)","v":44},{"$f":"SUM(D314:D319)","v":{"v":2591,"d":"2,591"}},{"$f":"SUM(E314:E319)","v":{"v":2635,"d":"2,635"}},null,{"$f":"SUM(G314:G319)","v":334},{"$f":"SUM(H314:H319)","v":{"v":8199,"d":"8,199"}},{"$f":"SUM(I314:I319)","v":{"v":8533,"d":"8,533"}}]
[]
[2023,"Commercial:Estuary",0,0,0,null,0,0,0]
[null,"  Middle Klamath",0,0,0,null,0,0,0]
[null,"Subsistence:Estuary ",20,609,629,null,5,12,17]
[null,"  Middle Klamath",14,447,461,null,0,0,0]
[null,"  Upper Klamath",24,731,755,null,14,410,424]
[null,"  Trinity River",64,854,918,null,{"v":1118,"d":"1,118"},{"v":1668,"d":"1,668"},{"v":2786,"d":"2,786"}]
[null,"Total",{"$f":"SUM(C322:C327)","v":122},{"$f":"SUM(D322:D327)","v":{"v":2641,"d":"2,641"}},{"$f":"SUM(E322:E327)","v":{"v":2763,"d":"2,763"}},null,{"$f":"SUM(G322:G327)","v":{"v":1137,"d":"1,137"}},{"$f":"SUM(H322:H327)","v":{"v":2090,"d":"2,090"}},{"$f":"SUM(I322:I327)","v":{"v":3227,"d":"3,227"}}]
[]
["2024d/","Commercial:Estuary",0,0,0,null,0,0,0]
[null,"  Middle Klamath",0,0,0,null,0,0,0]
[null,"Subsistence:Estuary ",2,129,131,null,43,{"v":2417,"d":"2,417"},{"v":2460,"d":"2,460"}]
[null,"  Middle Klamath",1,104,105,null,3,309,312]
[null,"  Upper Klamath",2,199,201,null,18,{"v":2237,"d":"2,237"},{"v":2255,"d":"2,255"}]
[null,"  Trinity River",28,686,714,null,407,{"v":2286,"d":"2,286"},{"v":2693,"d":"2,693"}]
[null,"Total",{"$f":"SUM(C330:C335)","v":33},{"$f":"SUM(D330:D335)","v":{"v":1118,"d":"1,118"}},{"$f":"SUM(E330:E335)","v":{"v":1151,"d":"1,151"}},null,{"$f":"SUM(G330:G335)","v":471},{"$f":"SUM(H330:H335)","v":{"v":7249,"d":"7,249"}},{"$f":"SUM(I330:I335)","v":{"v":7720,"d":"7,720"}}]
["a/  Klamath River tribal fishing areas are defined as follows: Estuary: mouth to Highway 101 bridge; Middle Klamath: Highway 101 bridge to Surpur Creek; Upper Klamath: Surpur Creek to Weitchpec."]
[]
["b/  Harvest includes fish collected by the Yurok Tribe to test for the presence of the parasite Ichthyophthirius multifiliis during the following years: 2015 - 26 spring run and 104 fall run; 2016 - 113 fall run; 2019 - 9 fall run; 2022 - 164 fall run; 2023 - 15 fall run; 2024 - 92 fall run."]
["c/  Harvest includes 20 fall run collected from the Trinity River by the Hoopa Valley Tribe to test for the presence of the parasite Ichthyophthirius multifiliis.  "]
["d/  Preliminary."]
["e/ Data unavailable at time of print."]
[]
[]
[]
[]
[]
["TABLE B-5.  Estimates of Yurok and Hoopa Valley reservation Indian Chinook harvest in numbers of fish."]
[null,null,"Spring Run",{"$nulls":3},"Fall Run"]
["Year","Areaa/","Jack","Adult","Total",null,"Jack","Adult","Total"]
[]
[2018,"Commercial:Estuary",{"$f":"C282","v":0},0,0,null,{"$f":"G282","v":0},0,0]
[null,"  Middle Klamath",0,0,0,null,0,0,0]
[null,"Subsistence:Estuary ",3,{"v":1109,"d":"1,109"},{"v":1112,"d":"1,112"},null,86,{"v":8665,"d":"8,665"},{"v":8751,"d":"8,751"}]
[null,"  Middle Klamath",0,62,62,null,17,{"v":1518,"d":"1,518"},{"v":1535,"d":"1,535"}]
[null,"  Upper Klamath",2,135,137,null,25,{"v":2261,"d":"2,261"},{"v":2286,"d":"2,286"}]
[null,"  Trinity River",49,481,530,null,180,{"v":2325,"d":"2,325"},{"v":2505,"d":"2,505"}]
[null,{"$f":"B288","v":"Total"},54,{"v":1787,"d":"1,787"},{"v":1841,"d":"1,841"},null,308,{"v":14769,"d":"14,769"},{"v":15077,"d":"15,077"}]
[]
[2019,"Commercial:Estuary",{"$f":"C290","v":0},{"$f":"D290","v":0},0,null,{"$f":"G290","v":23},{"v":1878,"d":"1,878"},{"v":1901,"d":"1,901"}]
[null,"  Middle Klamath",0,{"$f":"D291","v":0},0,null,{"$f":"G291","v":1},9,10]
[null,"Subsistence:Estuary ",1,36,37,null,{"$f":"G292","v":17},{"v":1438,"d":"1,438"},{"v":1455,"d":"1,455"}]
[null,"  Middle Klamathb/",10,96,106,null,{"$f":"G293","v":14},166,180]
[null,"  Upper Klamathb/",6,52,58,null,{"$f":"G294","v":39},441,480]
[null,"  Trinity River",316,838,{"v":1154,"d":"1,154"},null,{"$f":"G295","v":499},{"v":2065,"d":"2,065"},{"v":2564,"d":"2,564"}]
[null,{"$f":"B296","v":"Total"},333,{"$f":"D296","v":{"v":1022,"d":"1,022"}},{"v":1355,"d":"1,355"},null,593,{"v":5997,"d":"5,997"},{"v":6590,"d":"6,590"}]
[]
[2020,"Commercial:Estuary",{"$f":"C298","v":0},{"$f":"D298","v":0},0,null,{"$f":"G298","v":0},0,0]
[null,"  Middle Klamath",{"$f":"C299","v":0},0,0,null,{"$f":"G299","v":0},0,0]
[null,"Subsistence:Estuary ",{"$f":"C300","v":5},142,147,null,{"$f":"G300","v":85},{"v":1730,"d":"1,730"},{"v":1815,"d":"1,815"}]
[null,"  Middle Klamath",{"$f":"C301","v":2},35,37,null,{"$f":"G301","v":45},727,772]
[null,"  Upper Klamath",{"$f":"C302","v":3},78,81,null,{"$f":"G302","v":111},{"v":1776,"d":"1,776"},{"v":1887,"d":"1,887"}]
[null,"  Trinity River",{"$f":"C303","v":5},147,152,null,{"$f":"G303","v":87},979,{"v":1066,"d":"1,066"}]
[null,{"$f":"B304","v":"Total"},{"$f":"C304","v":15},{"$f":"D304","v":402},417,null,{"$f":"G304","v":328},{"v":5212,"d":"5,212"},{"v":5540,"d":"5,540"}]
[]
[2021,{"$f":"B306","v":"Commercial:Estuary"},0,{"$f":"D306","v":0},0,null,{"$f":"G306","v":0},0,0]
[null,"  Middle Klamath",0,{"$f":"D307","v":0},0,null,{"$f":"G307","v":0},0,0]
[null,"Subsistence:Estuary ",6,895,901,null,{"$f":"G308","v":17},{"v":2598,"d":"2,598"},{"v":2615,"d":"2,615"}]
[null,"  Middle Klamath",3,50,53,null,{"$f":"G309","v":37},706,743]
[null,"  Upper Klamath",8,146,154,null,{"$f":"G310","v":111},{"v":2132,"d":"2,132"},{"v":2243,"d":"2,243"}]
[null,"  Trinity River",135,982,{"v":1117,"d":"1,117"},null,{"$f":"G311","v":451},{"v":2626,"d":"2,626"},{"v":3077,"d":"3,077"}]
[null,"Total",152,{"$f":"D312","v":{"v":2073,"d":"2,073"}},{"v":2225,"d":"2,225"},null,{"$f":"G312","v":616},{"v":8062,"d":"8,062"},{"v":8678,"d":"8,678"}]
[]
[2022,{"$f":"B314","v":"Commercial:Estuary"},{"$f":"C314","v":0},{"$f":"D314","v":0},0,null,{"$f":"G314","v":0},0,0]
[null,{"$f":"B315","v":"  Middle Klamath"},0,0,0,null,{"$f":"G315","v":0},0,0]
[null,{"$f":"B316","v":"Subsistence:Estuary "},0,549,549,null,{"$f":"G316","v":0},{"v":4393,"d":"4,393"},{"v":4393,"d":"4,393"}]
[null,{"$f":"B317","v":"  Middle Klamath"},4,159,163,null,{"$f":"G317","v":12},520,532]
[null,{"$f":"B318","v":"  Upper Klamath"},8,345,353,null,{"$f":"G318","v":29},{"v":1508,"d":"1,508"},{"v":1537,"d":"1,537"}]
[null,{"$f":"B319","v":"  Trinity River"},32,{"v":1538,"d":"1,538"},{"v":1570,"d":"1,570"},null,{"$f":"G319","v":293},{"v":1778,"d":"1,778"},{"v":2071,"d":"2,071"}]
[null,{"$f":"B320","v":"Total"},{"$f":"C320","v":44},{"$f":"D320","v":{"v":2591,"d":"2,591"}},{"v":2635,"d":"2,635"},null,{"$f":"G320","v":334},{"v":8199,"d":"8,199"},{"v":8533,"d":"8,533"}]
[]
[2023,{"$f":"B322","v":"Commercial:Estuary"},{"$f":"C322","v":0},{"$f":"D322","v":0},0,null,{"$f":"G322","v":0},0,0]
[null,{"$f":"B323","v":"  Middle Klamath"},0,0,0,null,{"$f":"G323","v":0},0,0]
[null,{"$f":"B324","v":"Subsistence:Estuary "},20,609,629,null,{"$f":"G324","v":5},12,17]
[null,{"$f":"B325","v":"  Middle Klamath"},14,447,461,null,{"$f":"G325","v":0},0,0]
[null,{"$f":"B326","v":"  Upper Klamath"},24,731,755,null,{"$f":"G326","v":14},410,424]
[null,{"$f":"B327","v":"  Trinity River"},64,854,918,null,{"$f":"G327","v":{"v":1118,"d":"1,118"}},{"v":1668,"d":"1,668"},{"v":2786,"d":"2,786"}]
[null,{"$f":"B328","v":"Total"},{"$f":"C328","v":122},{"$f":"D328","v":{"v":2641,"d":"2,641"}},{"v":2763,"d":"2,763"},null,{"$f":"G328","v":{"v":1137,"d":"1,137"}},{"v":2090,"d":"2,090"},{"v":3227,"d":"3,227"}]
[]
["2024d/",{"$f":"B330","v":"Commercial:Estuary"},{"$f":"C330","v":0},{"$f":"D330","v":0},0,null,0,0,0]
[null,{"$f":"B331","v":"  Middle Klamath"},0,0,0,null,0,0,0]
[null,{"$f":"B332","v":"Subsistence:Estuary "},2,129,131,null,43,{"v":2417,"d":"2,417"},{"v":2460,"d":"2,460"}]
[null,{"$f":"B333","v":"  Middle Klamath"},1,104,105,null,3,309,312]
[null,{"$f":"B334","v":"  Upper Klamath"},2,199,201,null,18,{"v":2237,"d":"2,237"},{"v":2255,"d":"2,255"}]
[null,{"$f":"B335","v":"  Trinity River"},28,686,714,null,407,{"v":2286,"d":"2,286"},{"v":2693,"d":"2,693"}]
[null,"Total",{"$f":"C336","v":33},{"$f":"D336","v":{"v":1118,"d":"1,118"}},{"v":1151,"d":"1,151"},null,{"$f":"G336","v":471},{"v":7249,"d":"7,249"},{"v":7720,"d":"7,720"}]
[{"$f":"A337","v":"a/  Klamath River tribal fishing areas are defined as follows: Estuary: mouth to Highway 101 bridge; Middle Klamath: Highway 101 bridge to Surpur Creek; Upper Klamath: Surpur Creek to Weitchpec."}]
[]
["b/  Harvest includes fish collected by the Yurok Tribe to test for the presence of the parasite Ichthyophthirius multifiliis during the following years: 2015 - 26 spring run and 104 fall run; 2016 - 113 fall run; 2019 - 9 fall run; 2022 - 164 fall run; 2023 - 15 fall run; 2024 - 92 fall run."]
["c/  Harvest includes 20 fall run collected from the Trinity River by the Hoopa Valley Tribe to test for the presence of the parasite Ichthyophthirius multifiliis.  "]
[{"$f":"A341","v":"d/  Preliminary."}]
["e/ Data unavailable at time of print."]

{"sheet":"B-6","index":6,"n_rows":159,"n_cols":9,"rows_kept":159,"merged":[[0,0,0,8],[1,1,1,2],[1,4,1,5],[1,7,1,8],[98,0,98,8],[99,0,99,8],[100,0,100,8],[101,0,101,8],[102,0,102,8],[103,0,103,8],[116,0,116,8],[117,1,117,2],[117,4,117,5],[117,7,117,8],[153,0,153,8],[154,0,154,8],[155,0,155,8],[156,0,156,8],[157,0,157,8],[158,0,158,8]]}
["TABLE B-6.  Shasta, Scott, and Salmon rivers fall Chinook salmon spawning escapement estimates in numbers of fish.a/"]
[null,"Shasta River",null,null,"Scott River",null,null,"Salmon River"]
["Year","Adults","Jacks",null,"Adults","Jacks",null,"Adults","Jacks"]
[1930,{"v":7280,"d":"7,280"},{"v":12082,"d":"12,082"},null,"-","-",null,"-","-"]
[1931,{"v":61811,"d":"61,811"},{"v":20037,"d":"20,037"},null,"-","-",null,"-","-"]
[1932,{"v":30534,"d":"30,534"},{"v":5058,"d":"5,058"},null,"-","-",null,"-","-"]
["1933b/",{"v":4700,"d":"4,700"},{"v":6886,"d":"6,886"},null,"-","-",null,"-","-"]
[1934,{"v":26614,"d":"26,614"},{"v":21807,"d":"21,807"},null,"-","-",null,"-","-"]
[1935,{"v":63711,"d":"63,711"},{"v":9660,"d":"9,660"},null,"-","-",null,"-","-"]
[1936,{"v":33264,"d":"33,264"},{"v":14669,"d":"14,669"},null,"-","-",null,"-","-"]
[1937,{"v":32027,"d":"32,027"},{"v":1229,"d":"1,229"},null,"-","-",null,"-","-"]
[1938,{"v":6497,"d":"6,497"},{"v":1118,"d":"1,118"},null,"-","-",null,"-","-"]
[1939,{"v":8313,"d":"8,313"},{"v":19670,"d":"19,670"},null,"-","-",null,"-","-"]
[1940,{"v":50725,"d":"50,725"},{"v":4431,"d":"4,431"},null,"-","-",null,"-","-"]
[1941,{"v":7372,"d":"7,372"},{"v":5860,"d":"5,860"},null,"-","-",null,"-","-"]
[1942,{"v":9342,"d":"9,342"},{"v":1834,"d":"1,834"},null,"-","-",null,"-","-"]
[1943,{"v":8048,"d":"8,048"},{"v":1974,"d":"1,974"},null,"-","-",null,"-","-"]
[1944,{"v":8604,"d":"8,604"},{"v":2686,"d":"2,686"},null,"-","-",null,"-","-"]
[1945,{"v":14905,"d":"14,905"},{"v":3291,"d":"3,291"},null,"-","-",null,"-","-"]
[1946,{"v":6949,"d":"6,949"},641,null,"-","-",null,"-","-"]
[1947,298,43,null,"-","-",null,"-","-"]
[1948,31,6,null,"-","-",null,"-","-"]
[1949,171,21,null,"-","-",null,"-","-"]
[1950,"-- Incomplete Count --",null,null,"-","-",null,"-","-"]
[1951,{"v":1565,"d":"1,565"},459,null,"-","-",null,"-","-"]
[1952,{"v":1488,"d":"1,488"},178,null,"-","-",null,"-","-"]
[1953,{"v":1444,"d":"1,444"},161,null,"-","-",null,"-","-"]
[1954,{"v":1768,"d":"1,768"},857,null,"-","-",null,"-","-"]
[1955,{"v":1620,"d":"1,620"},197,null,"-","-",null,"-","-"]
[1956,"-- No Count --",null,null,"-","-",null,"-","-"]
[1957,{"v":1781,"d":"1,781"},453,null,"-","-",null,"-","-"]
[1958,{"v":4694,"d":"4,694"},{"v":1379,"d":"1,379"},null,"-","-",null,"-","-"]
[1959,{"v":8619,"d":"8,619"},{"v":1256,"d":"1,256"},null,"-","-",null,"-","-"]
[1960,{"v":9489,"d":"9,489"},{"v":1209,"d":"1,209"},null,"-","-",null,"-","-"]
[1961,{"v":5250,"d":"5,250"},{"v":3514,"d":"3,514"},null,"-","-",null,"-","-"]
[1962,{"v":9907,"d":"9,907"},{"v":4991,"d":"4,991"},null,"-","-",null,"-","-"]
[1963,{"v":22825,"d":"22,825"},{"v":9012,"d":"9,012"},null,"-","-",null,"-","-"]
[1964,{"v":30715,"d":"30,715"},{"v":3648,"d":"3,648"},null,"-","-",null,"-","-"]
[1965,{"v":7136,"d":"7,136"},775,null,"-","-",null,"-","-"]
[1966,{"v":5573,"d":"5,573"},451,null,"-","-",null,"-","-"]
[1967,{"v":10478,"d":"10,478"},{"v":1836,"d":"1,836"},null,"-","-",null,"-","-"]
[1968,{"v":13039,"d":"13,039"},{"v":1003,"d":"1,003"},null,"-","-",null,"-","-"]
[1969,{"v":10576,"d":"10,576"},{"v":3049,"d":"3,049"},null,"-","-",null,"-","-"]
[1970,{"v":12693,"d":"12,693"},712,null,"-","-",null,"-","-"]
[1971,{"v":4970,"d":"4,970"},{"v":1649,"d":"1,649"},null,"-","-",null,"-","-"]
[1972,{"v":2802,"d":"2,802"},839,null,"-","-",null,"-","-"]
[1973,{"v":4516,"d":"4,516"},{"v":4902,"d":"4,902"},null,"-","-",null,"-","-"]
[1974,{"v":7376,"d":"7,376"},{"v":2729,"d":"2,729"},null,"-","-",null,"-","-"]
[1975,{"v":11821,"d":"11,821"},{"v":4211,"d":"4,211"},null,"-","-",null,"-","-"]
["1976c/",{"v":4154,"d":"4,154"},{"v":1919,"d":"1,919"},null,"-","-",null,"-","-"]
[1977,{"v":5478,"d":"5,478"},{"v":1969,"d":"1,969"},null,"-","-",null,"-","-"]
[1978,{"v":12024,"d":"12,024"},{"v":6707,"d":"6,707"},null,{"v":3423,"d":"3,423"},{"v":1909,"d":"1,909"},null,{"v":2600,"d":"2,600"},{"v":1400,"d":"1,400"}]
[1979,{"v":7111,"d":"7,111"},{"v":1040,"d":"1,040"},null,{"v":3396,"d":"3,396"},428,null,{"v":1000,"d":"1,000"},150]
[1980,{"v":3762,"d":"3,762"},{"v":4334,"d":"4,334"},null,{"v":2032,"d":"2,032"},{"v":2245,"d":"2,245"},null,800,200]
["1981d/",{"v":7890,"d":"7,890"},{"v":4330,"d":"4,330"},null,{"v":3147,"d":"3,147"},{"v":3409,"d":"3,409"},null,750,450]
[1982,{"v":6533,"d":"6,533"},{"v":1922,"d":"1,922"},null,{"v":5826,"d":"5,826"},{"v":4350,"d":"4,350"},null,{"v":1000,"d":"1,000"},300]
[1983,{"v":3119,"d":"3,119"},753,null,{"v":3398,"d":"3,398"},170,null,{"v":1200,"d":"1,200"},75]
[1984,{"v":2362,"d":"2,362"},480,null,{"v":1443,"d":"1,443"},358,null,{"v":1226,"d":"1,226"},216]
[1985,{"v":2897,"d":"2,897"},{"v":2227,"d":"2,227"},null,{"v":3051,"d":"3,051"},{"v":1357,"d":"1,357"},null,{"v":2259,"d":"2,259"},905]
[1986,{"v":3274,"d":"3,274"},683,null,{"v":3176,"d":"3,176"},{"v":4865,"d":"4,865"},null,{"v":2716,"d":"2,716"},949]
[1987,{"v":4299,"d":"4,299"},398,null,{"v":7769,"d":"7,769"},797,null,{"v":3832,"d":"3,832"},118]
["1988e/",{"v":2586,"d":"2,586"},256,null,{"v":4727,"d":"4,727"},473,null,{"v":3273,"d":"3,273"},327]
[1989,{"v":1440,"d":"1,440"},137,null,{"v":3000,"d":"3,000"},{"v":1188,"d":"1,188"},null,{"v":2915,"d":"2,915"},695]
[1990,415,118,null,{"v":1379,"d":"1,379"},236,null,{"v":4071,"d":"4,071"},596]
[1991,716,10,null,{"v":2019,"d":"2,019"},146,null,{"v":1337,"d":"1,337"},143]
[1992,520,66,null,{"v":1873,"d":"1,873"},965,null,778,547]
[1993,{"v":1341,"d":"1,341"},85,null,{"v":5035,"d":"5,035"},265,null,{"v":3077,"d":"3,077"},456]
[1994,{"v":3363,"d":"3,363"},{"v":1840,"d":"1,840"},null,{"v":2358,"d":"2,358"},505,null,{"v":3216,"d":"3,216"},277]
[1995,{"v":12816,"d":"12,816"},695,null,{"v":11198,"d":"11,198"},{"v":3279,"d":"3,279"},null,{"v":4140,"d":"4,140"},{"v":1335,"d":"1,335"}]
[1996,{"v":1404,"d":"1,404"},46,null,{"v":11952,"d":"11,952"},145,null,{"v":5189,"d":"5,189"},274]
[1997,{"v":1667,"d":"1,667"},334,null,{"v":8284,"d":"8,284"},277,null,{"v":5783,"d":"5,783"},217]
[1998,{"v":2466,"d":"2,466"},76,null,{"v":3061,"d":"3,061"},266,null,{"v":1337,"d":"1,337"},116]
[1999,{"v":1296,"d":"1,296"},{"v":1901,"d":"1,901"},null,{"v":3021,"d":"3,021"},563,null,670,110]
[2000,{"v":11025,"d":"11,025"},{"v":1271,"d":"1,271"},null,{"v":5729,"d":"5,729"},524,null,{"v":1544,"d":"1,544"},228]
[2001,{"v":8452,"d":"8,452"},{"v":2641,"d":"2,641"},null,{"v":5398,"d":"5,398"},744,null,{"v":2607,"d":"2,607"},743]
[2002,{"v":6432,"d":"6,432"},386,null,{"v":4261,"d":"4,261"},47,null,{"v":2669,"d":"2,669"},78]
[2003,{"v":4134,"d":"4,134"},155,null,{"v":11988,"d":"11,988"},65,null,{"v":3302,"d":"3,302"},73]
[2004,833,129,null,445,22,null,282,51]
[2005,{"v":2018,"d":"2,018"},37,null,698,58,null,401,105]
[2006,789,{"v":1395,"d":"1,395"},null,{"v":3007,"d":"3,007"},{"v":1953,"d":"1,953"},null,{"v":1278,"d":"1,278"},791]
[2007,{"v":2009,"d":"2,009"},27,null,{"v":4494,"d":"4,494"},11,null,{"v":1377,"d":"1,377"},55]
[2008,{"v":2740.5299544094264,"d":"2,741"},{"v":3621.4700455905736,"d":"3,621"},null,{"v":3445,"d":"3,445"},{"v":1228,"d":"1,228"},null,{"v":1749.104,"d":"1,749"},{"v":650.2502805694746,"d":"650"}]
[2009,{"v":6145,"d":"6,145"},151,null,{"v":2167,"d":"2,167"},44,null,{"v":2204,"d":"2,204"},516]
[2010,{"v":1259,"d":"1,259"},87,null,{"v":2114,"d":"2,114"},394,null,{"v":2478,"d":"2,478"},356]
[2011,{"v":213.10243471505964,"d":"213"},{"v":11174.89756528494,"d":"11,175"},null,{"v":3019.1152217364825,"d":"3,019"},{"v":2501.8847782635175,"d":"2,502"},null,{"v":3674.0993552432924,"d":"3,674"},{"v":1818.9006447567076,"d":"1,819"}]
[2012,{"v":27600,"d":"27,600"},{"v":1944,"d":"1,944"},null,{"v":7569,"d":"7,569"},{"v":1783,"d":"1,783"},null,{"v":3561,"d":"3,561"},829]
[2013,{"v":6925,"d":"6,925"},{"v":1096,"d":"1,096"},null,{"v":4036,"d":"4,036"},588,null,{"v":2240,"d":"2,240"},240]
[2014,{"v":14412.307385101381,"d":"14,412"},{"v":3944.6926148986217,"d":"3,945"},null,{"v":10419.15403732607,"d":"10,419"},{"v":2051.0205930518878,"d":"2,051"},null,{"v":2706.13311616497,"d":"2,706"},{"v":526.8414289766538,"d":"527"}]
[2015,{"v":6611.696368342615,"d":"6,612"},{"v":133.30363165738487,"d":"133"},null,{"v":2092.0612919011496,"d":"2,092"},{"v":20.938708098850014,"d":"21"},null,{"v":1977.5398530243074,"d":"1,978"},{"v":92.13504713839029,"d":"92"}]
[2016,{"v":2754,"d":"2,754"},135,null,{"v":1376,"d":"1,376"},139,null,{"v":1032,"d":"1,032"},26]
[2017,{"v":3287,"d":"3,287"},{"v":6618,"d":"6,618"},null,{"v":2269,"d":"2,269"},307,null,{"v":1338,"d":"1,338"},327]
[2018,{"v":18675,"d":"18,675"},{"v":2017,"d":"2,017"},null,{"v":1208,"d":"1,208"},71,null,{"v":1228,"d":"1,228"},285]
[2019,{"v":5926,"d":"5,926"},78,null,{"v":1681,"d":"1,681"},409,null,957,686]
[2020,{"v":3775,"d":"3,775"},393,null,812,43,null,972,122]
[2021,{"v":5972,"d":"5,972"},927,null,{"v":1307,"d":"1,307"},655,null,{"v":1890,"d":"1,890"},263]
[2022,{"v":4403,"d":"4,403"},106,null,927,67,null,{"v":1274,"d":"1,274"},291]
[2023,{"v":4747,"d":"4,747"},156,null,{"v":1663,"d":"1,663"},243,null,{"v":1355,"d":"1,355"},264]
["2024f/",{"v":4951,"d":"4,951"},31,null,846,29,null,{"v":1520,"d":"1,520"},245]
["a/  Estimates are made from a combination of weir counts, carcass surveys, and redd counts.  The methodology can change annually based on environmental conditions, logistical constraints, and/or the expert opinion of regional biologists.  "]
["b/  Commercial fishing in lower Klamath River closed by the state after the 1933 season."]
["c/  Gillnetting resumed in lower 20 miles of Klamath River by Hoopa Valley Indian Reservation fishers in 1976."]
["d/  Shasta adults include 276 females taken to Iron Gate Hatchery in 1981."]
["e/  Low water conditions appeared to hinder entry into the Shasta River in 1988."]
["f/  Preliminary."]
{"$rows_empty":12}
["TABLE B-6.  Shasta, Scott, and Salmon rivers fall Chinook salmon spawning escapement estimates in numbers of fish.a/"]
[null,"Shasta River",null,null,"Scott River",null,null,"Salmon River"]
["Year","Adults","Jacks",null,"Adults","Jacks",null,"Adults","Jacks"]
["1931-1940b/",{"$f":"AVERAGE(B5:B14)","v":{"v":31819.6,"d":"31,820"}},{"$f":"AVERAGE(C5:C14)","v":{"v":10456.5,"d":"10,457"}},null,"-","-","-","-","-"]
["1941-1950",{"$f":"AVERAGE(B15:B24)","v":{"v":6191.111111111111,"d":"6,191"}},{"$f":"AVERAGE(C15:C24)","v":{"v":1817.3333333333333,"d":"1,817"}},null,"-","-","-","-","-"]
["1951-1960",{"$f":"AVERAGE(B25:B34)","v":{"v":3607.5555555555557,"d":"3,608"}},{"$f":"AVERAGE(C25:C34)","v":{"v":683.2222222222222,"d":"683"}},null,"-","-","-","-","-"]
["1961-1970",{"$f":"AVERAGE(B35:B44)","v":{"v":12819.2,"d":"12,819"}},{"$f":"AVERAGE(C35:C44)","v":{"v":2899.1,"d":"2,899"}},null,"-","-","-","-","-"]
["1971-1975",{"$f":"AVERAGE(B45:B49)","v":{"v":6297,"d":"6,297"}},{"$f":"AVERAGE(C45:C49)","v":{"v":2866,"d":"2,866"}},null,"-","-","-","-","-"]
["1976-1980c/",{"$f":"AVERAGE(B50:B54)","v":{"v":6505.8,"d":"6,506"}},{"$f":"AVERAGE(C50:C54)","v":{"v":3193.8,"d":"3,194"}},null,{"v":2950.3333333333335,"d":"2,950"},{"v":1527.3333333333333,"d":"1,527"},null,{"v":1466.6666666666667,"d":"1,467"},{"v":583.3333333333334,"d":"583"}]
["1981-1985d/",{"$f":"AVERAGE(B55:B59)","v":{"v":4560.2,"d":"4,560"}},{"$f":"AVERAGE(C55:C59)","v":{"v":1942.4,"d":"1,942"}},null,{"v":3373,"d":"3,373"},{"v":1928.8,"d":"1,929"},null,{"v":1287,"d":"1,287"},{"v":389.2,"d":"389"}]
["1986-1990e/",{"$f":"AVERAGE(B60:B64)","v":{"v":2402.8,"d":"2,403"}},{"$f":"AVERAGE(C60:C64)","v":{"v":318.4,"d":"318"}},null,{"v":4010.2,"d":"4,010"},{"v":1511.8,"d":"1,512"},null,{"v":3361.4,"d":"3,361"},537]
["1991-1995",{"$f":"AVERAGE(B65:B69)","v":{"v":3751.2,"d":"3,751"}},{"$f":"AVERAGE(C65:C69)","v":{"v":539.2,"d":"539"}},null,{"v":4496.6,"d":"4,497"},{"v":1032,"d":"1,032"},null,{"v":2509.6,"d":"2,510"},{"v":551.6,"d":"552"}]
["1996-2000",{"$f":"AVERAGE(B70:B74)","v":{"v":3571.6,"d":"3,572"}},{"$f":"AVERAGE(C70:C74)","v":{"v":725.6,"d":"726"}},null,{"v":6409.4,"d":"6,409"},355,null,{"v":2904.6,"d":"2,905"},189]
[2001,{"$f":"B75","v":{"v":8452,"d":"8,452"}},{"v":2641,"d":"2,641"},null,{"$f":"E75","v":{"v":5398,"d":"5,398"}},744,null,{"$f":"H75","v":{"v":2607,"d":"2,607"}},743]
[2002,{"v":6432,"d":"6,432"},386,null,{"v":4261,"d":"4,261"},47,null,{"v":2669,"d":"2,669"},78]
[2003,{"v":4134,"d":"4,134"},155,null,{"v":11988,"d":"11,988"},65,null,{"v":3302,"d":"3,302"},73]
[2004,833,129,null,445,22,null,282,51]
[2005,{"v":2018,"d":"2,018"},37,null,698,58,null,401,105]
[2006,789,{"v":1395,"d":"1,395"},null,{"v":3007,"d":"3,007"},{"v":1953,"d":"1,953"},null,{"v":1278,"d":"1,278"},791]
[2007,{"v":2009,"d":"2,009"},27,null,{"v":4494,"d":"4,494"},11,null,{"v":1377,"d":"1,377"},55]
[2008,{"v":2740.5299544094264,"d":"2,741"},{"v":3621.4700455905736,"d":"3,621"},null,{"v":3445,"d":"3,445"},{"v":1228,"d":"1,228"},null,{"v":1749.104,"d":"1,749"},{"v":650.2502805694746,"d":"650"}]
[2009,{"v":6145,"d":"6,145"},151,null,{"v":2167,"d":"2,167"},44,null,{"v":2204,"d":"2,204"},516]
[2010,{"v":1259,"d":"1,259"},87,null,{"v":2114,"d":"2,114"},394,null,{"v":2478,"d":"2,478"},356]
[2011,{"v":213.10243471505964,"d":"213"},{"v":11174.89756528494,"d":"11,175"},null,{"v":3019.1152217364825,"d":"3,019"},{"v":2501.8847782635175,"d":"2,502"},null,{"v":3674.0993552432924,"d":"3,674"},{"v":1818.9006447567076,"d":"1,819"}]
[2012,{"v":27600,"d":"27,600"},{"v":1944,"d":"1,944"},null,{"v":7569,"d":"7,569"},{"v":1783,"d":"1,783"},null,{"v":3561,"d":"3,561"},829]
[2013,{"v":6925,"d":"6,925"},{"v":1096,"d":"1,096"},null,{"v":4036,"d":"4,036"},588,null,{"v":2240,"d":"2,240"},240]
[2014,{"v":14412.307385101381,"d":"14,412"},{"v":3944.6926148986217,"d":"3,945"},null,{"v":10419.15403732607,"d":"10,419"},{"v":2051.0205930518878,"d":"2,051"},null,{"v":2706.13311616497,"d":"2,706"},{"v":526.8414289766538,"d":"527"}]
[2015,{"v":6611.696368342615,"d":"6,612"},{"v":133.30363165738487,"d":"133"},null,{"v":2092.0612919011496,"d":"2,092"},{"v":20.938708098850014,"d":"21"},null,{"v":1977.5398530243074,"d":"1,978"},{"v":92.13504713839029,"d":"92"}]
[2016,{"v":2754,"d":"2,754"},135,null,{"v":1376,"d":"1,376"},139,null,{"v":1032,"d":"1,032"},26]
[2017,{"v":3287,"d":"3,287"},{"v":6618,"d":"6,618"},null,{"v":2269,"d":"2,269"},307,null,{"v":1338,"d":"1,338"},327]
[2018,{"v":18675,"d":"18,675"},{"v":2017,"d":"2,017"},null,{"v":1208,"d":"1,208"},71,null,{"v":1228,"d":"1,228"},285]
[2019,{"v":5926,"d":"5,926"},78,null,{"v":1681,"d":"1,681"},409,null,957,686]
[2020,{"$f":"B94","v":{"v":3775,"d":"3,775"}},393,null,{"$f":"E94","v":812},43,null,{"$f":"H94","v":972},122]
[2021,{"$f":"B95","v":{"v":5972,"d":"5,972"}},927,null,{"$f":"E95","v":{"v":1307,"d":"1,307"}},655,null,{"$f":"H95","v":{"v":1890,"d":"1,890"}},263]
[2022,{"$f":"B96","v":{"v":4403,"d":"4,403"}},106,null,{"$f":"E96","v":927},67,null,{"$f":"H96","v":{"v":1274,"d":"1,274"}},291]
[2023,{"$f":"B97","v":{"v":4747,"d":"4,747"}},156,null,{"$f":"E97","v":{"v":1663,"d":"1,663"}},243,null,{"$f":"H97","v":{"v":1355,"d":"1,355"}},264]
["2024f/",{"$f":"B98","v":{"v":4951,"d":"4,951"}},31,null,{"$f":"E98","v":846},29,null,{"$f":"H98","v":{"v":1520,"d":"1,520"}},245]
[{"$f":"A99","v":"a/  Estimates are made from a combination of weir counts, carcass surveys, and redd counts.  The methodology can change annually based on environmental conditions, logistical constraints, and/or the expert opinion of regional biologists.  "}]
[{"$f":"A100","v":"b/  Commercial fishing in lower Klamath River closed by the state after the 1933 season."}]
["c/  Gillnetting resumed in lower 20 miles of Klamath River by Hoopa Valley Indian Reservation fishers in 1976."]
["d/  Shasta adults include 276 females taken to Iron Gate Hatchery in 1981."]
["e/  Low water conditions appeared to hinder entry into the Shasta River in 1988."]
["f/  Preliminary."]

{"sheet":"old B-7","index":7,"n_rows":79,"n_cols":16,"rows_kept":79,"hidden":true,"merged":[[0,0,0,13],[1,1,1,2],[1,4,1,5],[1,7,2,8],[2,1,2,2],[2,4,2,5],[3,7,3,8],[60,0,60,13],[61,0,61,13],[62,0,62,13],[63,0,63,13],[64,0,65,13],[66,0,66,13],[67,0,67,13],[68,0,68,13],[69,0,69,13],[70,0,70,13],[71,0,72,13],[73,0,73,13],[74,0,74,13],[75,0,76,13],[77,0,77,13],[78,0,78,13]]}
["TABLE B-7.  Summary of California North Coast salmon spawning stock surveys in numbers of fish or redd counts.",{"$nulls":14},"Hidden rows show past years data"]
[null,"       Cañon Creeka/b/c/",null,null,"      Sprowl Creeka/b/d/",null,null,"Tomki Creeke/ (Eel River)",null,null,"Russianf/",null,"Lagunitasg/"]
[null," (Mad River)",null,null,"(Eel River)",{"$nulls":5}," River",null,"Watershed"]
["Year      "," Chinook"," Coho",null," Chinook"," Coho",null," Chinook",null,null,"Chinook",null,"Coho Redds"]
["1963-1964",70,55,null,"-","-",null,"-",null,null,0,null,0]
["1964-1965",45,0,null,"-","-",null,{"v":1747,"d":"1,747"},null,null,0,null,0]
["1965-1966","-","-",null,"-","-",null,607,null,null,0,null,0]
["1966-1967",334,3,null,{"v":1189,"d":"1,189"},6,null,"-",null,null,0,null,0]
["1967-1968","-","-",null,"-","-",null,"-",null,null,0,null,0]
["1968-1969","-","-",null,"-","-",null,"-",null,null,0,null,0]
["1969-1970","-","-",null,"-","-",null,"-",null,null,0,null,0]
["1970-1971",230,0,null,"-","-",null,103,null,null,0,null,0]
["1971-1972","-","-",null,"-","-",null,52,null,null,0,null,0]
["1972-1973","-","-",null,"-","-",null,"  -",null,null,0,null,0]
["1973-1974","-","-",null,"-","-",null,"-",null,null,0,null,0]
["1974-1975","-","-",null,247,0,null,"-",null,null,0,null,0]
["1975-1976","-","-",null,339,2,null,367,null,null,0,null,0]
["1976-1977","-","-",null,"-","-",null,"-",null,null,0,null,0]
["1977-1978","-","-",null,"-","-",null,"-",null,null,0,null,0]
["1978-1979","-","-",null,534,23,null,"-",null,null,0,null,0]
["1979-1980","-","-",null,572,0,null,{"v":2410,"d":"2,410"},null,null,0,null,0]
["1980-1981","-","-",null,164,4,null,317,null,null,0,null,0]
["1981-1982",23,0,null,121,0,null,{"v":1153,"d":"1,153"},null,null,0,null,0]
["1982-1983",68,0,null,169,1,null,{"v":1807,"d":"1,807"},null,null,0,null,0]
["1983-1984",137,0,null,82,0,null,"-",null,null,0,null,0]
["1984-1985h/",16,0,null,67,13,null,{"v":1292,"d":"1,292"},null,null,0,null,0]
["1985-1986",514,14,null,320,0,null,{"v":3558,"d":"3,558"},null,null,0,null,0]
["1986-1987h/",90,3,null,307,13,null,{"v":2173,"d":"2,173"},null,null,0,null,0]
["1987-1988",117,29,null,{"v":2187,"d":"2,187"},4,null,{"v":3666,"d":"3,666"},null,null,0,null,0]
["1988-1989",69,7,null,339,12,null,556,null,null,0,null,0]
["1989-1990h/",9,9,null,89,14,null,0,null,null,0,null,0]
["1990-1991",0,3,null,0,0,null,0,null,null,0,null,0]
["1991-1992h/",8,0,null,159,0,null,3,null,null,0,null,0]
["1992-1993h/",57,1,null,142,2,null,15,null,null,0,null,0]
["1993-1994",20,0,null,171,36,null,5,null,null,0,null,0]
["1994-1995",33,3,null,52,0,null,21,null,null,0,null,0]
["1995-1996h/",93,4,null,136,8,null,69,null,null,0,null,86]
["1996-1997",129,4,null,106,8,null,84,null,null,0,null,254]
["1997-1998",55,1,null,97,0,null,39,null,null,0,null,253]
["1998-1999",66,0,null,79,11,null,45,null,null,0,null,184]
["1999-2000h/",162,1,null,34,1,null,24,null,null,0,null,203]
["2000-2001h/",79,3,null,12,0,null,50,null,null,{"v":1445,"d":"1,445"},null,204]
["2001-2002",45,6,null,136,25,null,162,null,null,{"v":1383,"d":"1,383"},null,286]
["2002-2003",402,1,null,267,17,null,5,null,null,{"v":5474,"d":"5,474"},null,158]
["2003-2004h/",79,1,null,106,8,null,137,null,null,{"v":6103,"d":"6,103"},null,383]
["2004-2005h/",86,0,null,199,36,null,115,null,null,{"v":4788,"d":"4,788"},null,496]
["2005-2006",270,0,null,201,13,null,77,null,null,{"v":2572,"d":"2,572"},null,190]
["2006-2007i/",152,2,null,37,9,null,20,null,null,{"v":3410,"d":"3,410"},null,338]
["2007-2008i/",99,1,null,70,19,null,69,null,null,{"v":1963,"d":"1,963"},null,148]
["2008-2009i/",65,0,null,158,40,null,17,null,null,{"v":1125,"d":"1,125"},null,26]
["2009-2010i/",36,0,null,314,2,null,15,null,null,{"v":1801,"d":"1,801"},null,51]
["2010-2011i/",131,2,null,273,60,null,151,null,null,{"v":2516,"d":"2,516"},null,80]
["2011-2012h/i/",108,1,null,60,221,null,101,null,null,{"v":3172,"d":"3,172"},null,130]
["2012-2013i/",77,1,null,280,29,null,226,null,null,{"v":6713,"d":"6,713"},null,217]
["2013-2014i/j/",11,10,null,16,130,null,6,null,null,{"v":3145,"d":"3,145"},null,188]
["2014-2015i/",161,5,null,174,24,null,82,null,null,{"v":1420,"d":"1,420"},"k/",140]
["2015-2016i/",124,4,null,81,31,null,0,null,null,{"v":4119,"d":"4,119"},"k/",226]
["2016-2017","l/","l/","m/","m/","m/",null,71,null,null,{"v":1062,"d":"1,062"},"n/",158]
["2017-2018","l/","l/","m/","m/","m/",null,39,null,null,{"v":1892,"d":"1,892"},"p/",83]
["2018-2019o/","l/","l/","m/","m/","m/",null,39,null,null,{"v":1892,"d":"1,892"},"p/",83]
["a/  Survey frequency variable from year to year (between 1 and 10 surveys annually)."]
["b/  Numbers reflect maximum annual counts of live fish and carcasses with adults and jacks combined.  Counts are not shown in years where visibility is too poor to conduct surveys."]
["c/  Survey area was from mouth to falls (2 miles)."]
["d/  Survey area was the mainstem and West Fork (4.5 miles)."]
["e/  Total run size estimate including jacks and adults.  Survey methodology changed in 2000-2001 to using index sites, and subsequent estimates are not comparable to previous estimates."]
[]
["f/  Video counts of combined adults and jacks made at Mirabel Dam.  Image quality may be affected by turbidity."]
["g/  Numbers reported are redd counts. Olema Creek is excluded."]
["h/  Low flows appeared to increase mainstem spawning and decrease tributary spawning for Cañon, Sprowl, and Tomki creeks."]
["i/  Cañon and Sprowl creek totals exclude fish unidentifiable to species due to poor visibility or advanced decomposition."]
["j/  Extremely low flows created passage barriers that precluded or severely limited salmon access to surveyed tributaries."]
["k/  Minimum count that is not comparable to other years.  Mirabel Dam video counts were unavailable due to construction of a new counting facility. The number recorded is the sum of counts made at two facilities upstream of Mirabel Dam. "]
[]
["l/  Survey discontinued due to lack of funding."]
["m/  Previous survey methodology discontinued."]
["n/  Minimum count that is not comparable to other years.  Monitoring at the Mirabel Dam was complicated by operational challenges associated with implementation of a new counting facility in addition to adverse environmental conditions.  Atypical sampling techniques and shortened periods of operation limited estimates of passage. "]
[]
["o/  Preliminary."]
["p/  Survey incomplete at time of publication. "]

{"sheet":"B-7","index":8,"n_rows":160,"n_cols":20,"rows_kept":160,"merged":[[0,0,0,19],[29,1,29,19],[62,26,62,45],[63,0,63,19],[63,26,64,45],[64,0,65,19],[65,26,65,45],[66,0,66,19],[66,26,67,45],[67,0,68,19],[68,26,68,45],[69,0,69,19],[69,26,69,45],[70,0,70,19],[70,26,71,45],[71,0,72,19],[72,26,72,45],[73,0,73,19],[73,26,73,45],[74,0,74,19],[74,26,74,45],[75,0,75,19],[75,26,75,45],[76,0,76,19],[76,26,76,45],[77,0,77,19],[77,26,77,45],[78,0,78,19],[78,26,78,45],[79,0,79,19],[79,26,79,45],[80,0,80,19],[89,0,89,19],[91,0,92,0],[114,1,114,19],[116,0,117,0],[141,0,141,19],[142,0,142,19],[143,0,144,19],[145,0,145,19],[146,0,147,19],[148,0,148,19],[149,0,149,19],[150,0,151,19],[152,0,152,19],[153,0,153,19],[154,0,154,19],[155,0,155,19],[156,0,156,19],[157,0,157,19],[158,0,158,19],[159,0,159,19]]}
["TABLE B-7.  Summary of California North Coast salmon spawning stock surveys in numbers of fish (adults and jacks combined) or redd counts."]
["CHINOOK","Redwood",null,"Mad",null,"Eel River",null,"South Fork",null,"Eel River",null,"Mattole",null,"Russian"]
[null,"Creeka/",null,"Rivera/b/",null,"(Mainstem)a/b/",null,"Eel Rivera/b/",null,"Tributarieso/",null,"Riverc/",null,"Riverd/"]
["Year      ",{"$nulls":10},"(Redds)"]
["2000-2001","-",null,"-",null,"-",null,"-",null,"-",null,"-",null,{"v":1445.0088972015822,"d":"1,445"}]
["2001-2002","-",null,"-",null,"-",null,"-",null,"-",null,"-",null,{"v":1383,"d":"1,383"}]
["2002-2003","-",null,"-",null,"-",null,"-",null,"-",null,"-",null,{"v":5473.7467532467535,"d":"5,474"}]
["2003-2004","-",null,"-",null,"-",null,"-",null,"-",null,"-",null,{"v":6103.301362882487,"d":"6,103"}]
["2004-2005","-",null,"-",null,"-",null,"-",null,"-",null,"-",null,{"v":4788.20568933751,"d":"4,788"}]
["2005-2006","-",null,"-",null,"-",null,"-",null,"-",null,"-",null,{"v":2607.4166666666665,"d":"2,607"}]
["2006-2007","-",null,"-",null,"-",null,"-",null,"-",null,"-",null,{"v":3407.2830188679245,"d":"3,407"}]
["2007-2008","-",null,"-",null,"-",null,"-",null,"-",null,"-",null,{"v":2020.733235406488,"d":"2,021"}]
["2008-2009","-",null,"-",null,"-",null,"-",null,"-",null,"-",null,{"v":1128.5188214108298,"d":"1,129"}]
["2009-2010",{"v":2438,"d":"2,438"},null,"-",null,"-",null,"-",null,"-",null,"-",null,{"v":1799.910948262264,"d":"1,800"}]
["2010-2011","e/",null,"-",null,"-",null,"-",null,"-",null,"-",null,{"v":2501.9340454979438,"d":"2,502"}]
["2011-2012",{"v":1455,"d":"1,455"},null,"-",null,"-",null,"-",null,"-",null,"-",null,{"v":3172.9244428717284,"d":"3,173"}]
["2012-2013",{"v":3401,"d":"3,401"},null,"-",null,"-",null,"-",null,"-",null,418,null,{"v":6730.131317411715,"d":"6,730"}]
["2013-2014",{"v":3487,"d":"3,487"},null,{"v":2169,"d":"2,169"},"f/","-",null,"-",null,"-",null,988,null,{"v":3151.971366556694,"d":"3,152"}]
["2014-2015","e/",null,{"v":7489,"d":"7,489"},null,"-",null,"-",null,"-",null,535,null,{"v":1420,"d":"1,420"},"g/"]
["2015-2016",{"v":1839,"d":"1,839"},"h/",{"v":5786,"d":"5,786"},null,"-",null,"-",null,"-",null,331,null,{"v":3020,"d":"3,020"},"g/"]
["2016-2017","e/",null,{"v":7186,"d":"7,186"},null,"-",null,"-",null,"-",null,929,null,{"v":1062.1907898614795,"d":"1,062"},"i/"]
["2017-2018",{"v":4541,"d":"4,541"},null,{"v":12667,"d":"12,667"},null,"-",null,"-",null,"-",null,{"v":2202,"d":"2,202"},null,{"v":2092.866213519239,"d":"2,093"}]
["2018-2019",{"v":2820,"d":"2,820"},null,{"v":3825,"d":"3,825"},null,{"v":3844,"d":"3,844"},null,{"v":3738,"d":"3,738"},null,"-",null,633,null,{"v":1219.3490346331316,"d":"1,219"}]
["2019-2020",290,null,"k/",null,{"v":4231,"d":"4,231"},null,135,null,"-",null,"k/",null,922]
["2020-2021","e/",null,"k/",null,{"v":4632,"d":"4,632"},null,"k/",null,"-",null,"k/",null,625]
["2021-2022","e/",null,"k/",null,{"v":4710,"d":"4,710"},null,155,null,"-",null,"k/",null,"e/"]
["2022-2023","e/",null,{"v":1137,"d":"1,137"},null,{"v":8199,"d":"8,199"},null,{"v":3878,"d":"3,878"},null,{"v":1473,"d":"1,473"},null,932,null,{"v":1180,"d":"1,180"}]
["2023-2024","e/",null,{"v":4284,"d":"4,284"},null,{"v":8161,"d":"8,161"},null,{"v":7947,"d":"7,947"},null,{"v":1867,"d":"1,867"},null,305,null,{"v":2012,"d":"2,012"}]
["2024-2025j/","e/",null,"k/",null,{"v":4611,"d":"4,611"},null,{"v":6372,"d":"6,372"},null,"k/",null,650,null,{"v":1553,"d":"1,553"}]
[]
["COHO","Redwood",null,"Humboldt",null,"Freshwater",null,"South Fork",null,"Ten Mile",null,"Pudding",null,"Noyo",null,"Big",null,"Little",null,"Lagunitas"]
[null,"Creekc/",null,"Bayc/l/",null,"Creekm/",null,"Eel Riverb/c/",null,"Rivern/",null,"Creekm/",null,"Rivern/",null,"Rivern/",null,"Rivern/",null,"Watershed"]
["Year      ","(Redds)",null,"(Redds)",{"$nulls":3},"(Redds)",{"$nulls":11},"(Redds)"]
["1995-1996","-",null,"-",null,"-",null,"-",null,"-",null,"-",null,"-",null,"-",null,"-",null,86]
["1996-1997","-",null,"-",null,"-",null,"-",null,"-",null,"-",null,"-",null,"-",null,"-",null,254]
["1997-1998","-",null,"-",null,"-",null,"-",null,"-",null,"-",null,"-",null,"-",null,"-",null,387]
["1998-1999","-",null,"-",null,"-",null,"-",null,"-",null,"-",null,"-",null,"-",null,"-",null,207]
["1999-2000","-",null,"-",null,"-",null,"-",null,"-",null,"-",null,"-",null,"-",null,"-",null,213]
["2000-2001","-",null,"-",null,"-",null,"-",null,"-",null,"-",null,"-",null,"-",null,20,null,284]
["2001-2002","-",null,"-",null,"-",null,"-",null,"-",null,524,null,"-",null,"-",null,88,null,345]
["2002-2003","-",null,"-",null,{"v":1807,"d":"1,807"},null,"-",null,"-",null,367,null,"-",null,"-",null,45,null,178]
["2003-2004","-",null,"-",null,731,null,"-",null,"-",null,{"v":1204,"d":"1,204"},null,"-",null,"-",null,91,null,492]
["2004-2005","-",null,"-",null,974,null,"-",null,"-",null,{"v":1167,"d":"1,167"},null,"-",null,"-",null,152,null,634]
["2005-2006","-",null,"-",null,789,null,"-",null,"-",null,709,null,1394,null,"-",null,14,null,199]
["2006-2007","-",null,"-",null,396,null,"-",null,"-",null,401,null,330,null,"-",null,14,null,433]
["2007-2008","-",null,"-",null,262,null,"-",null,"-",null,228,null,259,null,"-",null,5,null,182]
["2008-2009","-",null,"-",null,399,null,"-",null,"-",null,50,null,294,null,80,null,4,null,26]
["2009-2010",246,null,194,null,89,null,"-",null,190,null,9,null,286,null,134,null,2,null,65]
["2010-2011",574,null,{"v":1099,"d":"1,099"},null,455,null,{"v":1284,"d":"1,284"},null,395,null,199,null,411,null,160,null,8,null,101]
["2011-2012",540,null,{"v":1738,"d":"1,738"},null,624,null,{"v":1873,"d":"1,873"},null,{"v":1127,"d":"1,127"},null,415,null,228,null,269,null,2,null,137]
["2012-2013",405,null,763,null,318,null,{"v":1340,"d":"1,340"},null,440,null,283,null,784,null,519,null,2,null,246]
["2013-2014",705,null,630,null,155,null,939,null,3,null,0,null,723,null,155,null,3,null,220]
["2014-2015",297,null,{"v":1632,"d":"1,632"},null,718,null,{"v":2069,"d":"2,069"},null,{"v":1654,"d":"1,654"},null,539,null,{"v":3468,"d":"3,468"},null,{"v":1344,"d":"1,344"},null,65,null,146]
["2015-2016",206,null,617,null,449,null,416,null,241,null,135,null,{"v":5112,"d":"5,112"},null,744,null,15,null,292]
["2016-2017","e/",null,522,null,466,null,465,null,336,null,573,null,{"v":2196,"d":"2,196"},null,250,null,34,null,170]
["2017-2018",523,null,443,null,535,null,{"v":1633,"d":"1,633"},null,{"v":1011,"d":"1,011"},null,497,null,{"v":2043,"d":"2,043"},null,963,null,30,null,110]
["2018-2019",554,null,922,null,560,null,990,null,{"v":1045,"d":"1,045"},null,755,null,{"v":1015,"d":"1,015"},null,"e/",null,13,null,369]
["2019-2020",153,null,448,null,298,null,138,null,303,null,551,null,358,null,{"v":1198,"d":"1,198"},null,5,null,63]
["2020-2021","e/",null,{"v":1132,"d":"1,132"},null,335,null,617,null,{"v":2479,"d":"2,479"},null,399,null,{"v":1541,"d":"1,541"},null,866,null,21,null,175]
["2021-2022","e/",null,"e/",null,872,null,941,null,663,null,256,null,{"v":1332,"d":"1,332"},null,513,null,20,null,339]
["2022-2023","e/",null,"e/",null,643,null,109,null,{"v":1075,"d":"1,075"},null,107,null,{"v":1299,"d":"1,299"},null,490,null,51,null,106]
["2023-2024","e/",null,"e/",null,537,null,718,null,{"v":5574,"d":"5,574"},null,255,null,{"v":5280,"d":"5,280"},null,{"v":1572,"d":"1,572"},null,15,null,343]
["2024-2025j/","e/",null,"e/",null,"k/",null,"k/",null,"k/",null,"k/",null,"k/",null,"k/",null,"k/",null,336]
["a/  Escapement estimates from expanded sonar fish counts."]
["b/  Previous versions of this table reported Chinook and coho counts for Cañon, Tomki (Chinook only), and Sprowl creeks, tributaries to the Mad, mainstem Eel, and South Fork Eel rivers, respectively.  See the Review of 2018 Ocean Salmon Fisheries for these estimates.  "]
[]
["c/  Expanded redd counts from design-based sample of reaches."]
["d/  Video counts of combined adults and jacks made at Mirabel Dam.  These are minimum counts and are not comparable between years.  Accuracy of counts may be affected by environmental conditions."]
[]
["e/  No data available."]
["f/  Minimum count; sonar installed mid-season."]
["g/  Mirabel Dam video counts were unavailable due to construction of a new counting facility.  The number recorded is the sum of minimum counts made at two facilities upstream of Mirabel Dam. "]
[]
["h/  Minimum abundance due to unexpanded, missing data."]
["i/  Monitoring at Mirabel Dam was complicated by operational challenges associated with the implementation of a new counting facility. "]
["j/  Available estimates are incomplete and preliminary; surveys are still in progress at time of publication."]
["k/  Estimates not yet available; data analysis in progress."]
["l/  Redd surveys conducted in the four largest tributaries to Humboldt Bay: Jacoby Creek, Freshwater Creek, Elk River, and Salmon Creek.  "]
["m/  Escapement estimates from mark-recapture experiments.  "]
["n/  Escapement estimates derived by multiplying expanded redd counts from design-based sample of reaches by annual fish/redd ratios.  "]
["o/  Includes spawning ground surveys in the Van Duzen beginning in 2023."]
{"$rows_empty":8}
["TABLE B-7.  Summary of California North Coast salmon spawning stock surveys in numbers of fish (adults and jacks combined) or redd counts.   (Page 1 of 2)"]
["CHINOOK","Redwood",null,"Mad",null,"Eel River",null,"South Fork",null,"Eel River",null,"Mattole",null,"Russian"]
["Run Year or Ave.      ","Creeka/",null,"Rivera/b/",null,"(Mainstem)a/b/",null,"Eel Rivera/b/",null,"Tributarieso/",null,"Riverc/",null,"Riverd/"]
[{"$nulls":11},"(Redds)"]
["2000-2005",{"$f":"B5","v":"-"},null,{"$f":"D5","v":"-"},null,"-",null,"-",null,{"$f":"J5","v":"-"},null,{"$f":"L5","v":"-"},null,{"$f":"AVERAGE(N5:N9)","v":{"v":3838.6525405336665,"d":"3,839"}}]
["2005-2006",{"$f":"B10","v":"-"},null,{"$f":"D10","v":"-"},null,{"$f":"F10","v":"-"},null,{"$f":"H10","v":"-"},null,{"$f":"J10","v":"-"},null,{"$f":"L10","v":"-"},null,{"$f":"N10","v":{"v":2607.4166666666665,"d":"2,607"}}]
["2006-2007","-",null,"-",null,"-",null,"-",null,{"$f":"J11","v":"-"},null,"-",null,{"v":3407.2830188679245,"d":"3,407"}]
["2007-2008","-",null,"-",null,"-",null,"-",null,{"$f":"J12","v":"-"},null,"-",null,{"v":2020.733235406488,"d":"2,021"}]
["2008-2009","-",null,"-",null,"-",null,"-",null,"-",null,"-",null,{"v":1128.5188214108298,"d":"1,129"}]
["2009-2010",{"v":2438,"d":"2,438"},null,"-",null,"-",null,"-",null,"-",null,"-",null,{"v":1799.910948262264,"d":"1,800"}]
["2010-2011","e/",null,"-",null,"-",null,"-",null,"-",null,"-",null,{"v":2501.9340454979438,"d":"2,502"}]
["2011-2012",{"v":1455,"d":"1,455"},null,"-",null,"-",null,"-",null,"-",null,"-",null,{"v":3172.9244428717284,"d":"3,173"}]
["2012-2013",{"v":3401,"d":"3,401"},null,"-",null,"-",null,"-",null,"-",null,418,null,{"v":6730.131317411715,"d":"6,730"}]
["2013-2014",{"v":3487,"d":"3,487"},null,{"v":2169,"d":"2,169"},{"$f":"E18","v":"f/"},"-",null,"-",null,"-",null,988,null,{"v":3151.971366556694,"d":"3,152"}]
["2014-2015","e/",null,{"v":7489,"d":"7,489"},null,"-",null,"-",null,"-",null,535,null,{"v":1420,"d":"1,420"},{"$f":"O19","v":"g/"}]
["2015-2016",{"v":1839,"d":"1,839"},{"$f":"C20","v":"h/"},{"v":5786,"d":"5,786"},null,"-",null,"-",null,"-",null,331,null,{"v":3020,"d":"3,020"},{"$f":"O20","v":"g/"}]
["2016-2017","e/",null,{"v":7186,"d":"7,186"},null,"-",null,"-",null,"-",null,929,null,{"v":1062.1907898614795,"d":"1,062"},{"$f":"O21","v":"i/"}]
["2017-2018",{"v":4541,"d":"4,541"},null,{"v":12667,"d":"12,667"},null,"-",null,"-",null,"-",null,{"v":2202,"d":"2,202"},null,{"v":2092.866213519239,"d":"2,093"}]
["2018-2019",{"v":2820,"d":"2,820"},null,{"v":3825,"d":"3,825"},null,{"v":3844,"d":"3,844"},null,{"v":3738,"d":"3,738"},null,"-",null,633,null,{"v":1219.3490346331316,"d":"1,219"}]
["2019-2020",290,null,"k/",null,{"v":4231,"d":"4,231"},null,135,null,"-",null,"k/",null,922]
["2020-2021","e/",null,"k/",null,{"v":4632,"d":"4,632"},null,"k/",null,"-",null,"k/",null,625]
["2021-2022","e/",null,"k/",null,{"v":4710,"d":"4,710"},null,155,null,"-",null,"k/",null,"e/"]
["2022-2023","e/",null,{"v":1137,"d":"1,137"},null,{"v":8199,"d":"8,199"},null,{"v":3878,"d":"3,878"},null,{"v":1473,"d":"1,473"},null,932,null,{"v":1180,"d":"1,180"}]
["2023-2024",{"$f":"B28","v":"e/"},null,{"$f":"D28","v":{"v":4284,"d":"4,284"}},null,{"$f":"F28","v":{"v":8161,"d":"8,161"}},null,{"$f":"H28","v":{"v":7947,"d":"7,947"}},null,{"v":1867,"d":"1,867"},null,{"$f":"L28","v":305},null,{"$f":"N28","v":{"v":2012,"d":"2,012"}}]
["2024-2025j/","e/",null,"k/",null,{"v":4611,"d":"4,611"},null,{"v":6372,"d":"6,372"},null,"k/",null,650,null,{"v":1553,"d":"1,553"}]
[]
["COHO","Redwood",null,"Humboldt",null,"Freshwater",null,"South Fork",null,"Ten Mile",null,"Pudding",null,"Noyo",null,"Big",null,"Little",null,"Lagunitas"]
["Run Year or Ave.      ","Creekc/",null,"Bayc/l/",null,"Creekm/",null,"Eel Riverb/c/",null,"Rivern/",null,"Creekm/",null,"Rivern/",null,"Rivern/",null,"Rivern/",null,"Watershed"]
[null,"(Redds)",null,"(Redds)",{"$nulls":3},"(Redds)",{"$nulls":11},"(Redds)"]
["1995-2000",{"$f":"B34","v":"-"},null,{"$f":"D34","v":"-"},null,"-",null,"-",null,"-",null,"-",null,"-",null,"-",null,"-",null,{"$f":"AVERAGE(T34:T38)","v":{"v":229.4,"d":"229"}}]
["2000-2005",{"$f":"B39","v":"-"},null,{"$f":"D39","v":"-"},null,{"$f":"AVERAGE(F39:F43)","v":{"v":1170.6666666666667,"d":"1,171"}},null,{"$f":"H39","v":"-"},null,"-",null,{"v":815.5,"d":"816"},null,{"$f":"N39","v":"-"},null,"-",null,{"v":79.2,"d":"79"},null,{"v":386.6,"d":"387"}]
["2005-2006",{"$f":"B44","v":"-"},null,{"$f":"D44","v":"-"},null,{"$f":"F44","v":789},null,{"$f":"H44","v":"-"},null,{"$f":"J44","v":"-"},null,{"$f":"L44","v":709},null,{"$f":"N44","v":{"v":1394,"d":"1,394"}},null,{"$f":"P44","v":"-"},null,{"$f":"R44","v":14},null,{"$f":"T44","v":199}]
["2006-2007","-",null,"-",null,396,null,"-",null,"-",null,401,null,330,null,"-",null,14,null,433]
["2007-2008","-",null,"-",null,262,null,"-",null,"-",null,228,null,259,null,"-",null,5,null,182]
["2008-2009","-",null,"-",null,399,null,"-",null,"-",null,50,null,294,null,80,null,4,null,26]
["2009-2010",246,null,194,null,89,null,"-",null,190,null,9,null,286,null,134,null,2,null,65]
["2010-2011",574,null,{"v":1099,"d":"1,099"},null,455,null,{"v":1284,"d":"1,284"},null,395,null,199,null,411,null,160,null,8,null,101]
["2011-2012",540,null,{"v":1738,"d":"1,738"},null,624,null,{"v":1873,"d":"1,873"},null,{"v":1127,"d":"1,127"},null,415,null,228,null,269,null,2,null,137]
["2012-2013",405,null,763,null,318,null,{"v":1340,"d":"1,340"},null,440,null,283,null,784,null,519,null,2,null,246]
["2013-2014",705,null,630,null,155,null,939,null,3,null,0,null,723,null,155,null,3,null,220]
["2014-2015",297,null,{"v":1632,"d":"1,632"},null,718,null,{"v":2069,"d":"2,069"},null,{"v":1654,"d":"1,654"},null,539,null,{"v":3468,"d":"3,468"},null,{"v":1344,"d":"1,344"},null,65,null,146]
["2015-2016",206,null,617,null,449,null,416,null,241,null,135,null,{"v":5112,"d":"5,112"},null,744,null,15,null,292]
["2016-2017","e/",null,522,null,466,null,465,null,336,null,573,null,{"v":2196,"d":"2,196"},null,250,null,34,null,170]
["2017-2018",523,null,443,null,535,null,{"v":1633,"d":"1,633"},null,{"v":1011,"d":"1,011"},null,497,null,{"v":2043,"d":"2,043"},null,963,null,30,null,110]
["2018-2019",554,null,922,null,560,null,990,null,{"v":1045,"d":"1,045"},null,755,null,{"v":1015,"d":"1,015"},null,"e/",null,13,null,369]
["2019-2020",153,null,448,null,298,null,138,null,303,null,551,null,358,null,{"v":1198,"d":"1,198"},null,5,null,63]
["2020-2021","e/",null,{"v":1132,"d":"1,132"},null,335,null,617,null,{"v":2479,"d":"2,479"},null,399,null,{"v":1541,"d":"1,541"},null,866,null,21,null,175]
["2021-2022","e/",null,"e/",null,872,null,941,null,663,null,256,null,{"v":1332,"d":"1,332"},null,513,null,20,null,339]
["2022-2023","e/",null,"e/",null,643,null,109,null,{"v":1075,"d":"1,075"},null,107,null,{"v":1299,"d":"1,299"},null,490,null,51,null,106]
["2023-2024",{"$f":"B62","v":"e/"},null,{"$f":"D62","v":"e/"},null,{"$f":"F62","v":537},null,{"$f":"H62","v":718},null,{"$f":"J62","v":{"v":5574,"d":"5,574"}},null,{"$f":"L62","v":255},null,{"$f":"N62","v":{"v":5280,"d":"5,280"}},null,{"$f":"P62","v":{"v":1572,"d":"1,572"}},null,{"$f":"R62","v":15},null,{"$f":"T62","v":343}]
["2024-2025j/","e/",null,"e/",null,"k/",null,"k/",null,"k/",null,"k/",null,"k/",null,"k/",null,"k/",null,336]
[]
["TABLE B-7.  Summary of California North Coast salmon spawning stock surveys in numbers of fish (adults and jacks combined) or redd counts.    (Page 2 of 2)"]
[{"$f":"A64","v":"a/  Escapement estimates from expanded sonar fish counts."}]
[{"$f":"A65","v":"b/  Previous versions of this table reported Chinook and coho counts for Cañon, Tomki (Chinook only), and Sprowl creeks, tributaries to the Mad, mainstem Eel, and South Fork Eel rivers, respectively.  See the Review of 2018 Ocean Salmon Fisheries for these estimates.  "}]
[]
[{"$f":"A67","v":"c/  Expanded redd counts from design-based sample of reaches."}]
[{"$f":"A68","v":"d/  Video counts of combined adults and jacks made at Mirabel Dam.  These are minimum counts and are not comparable between years.  Accuracy of counts may be affected by environmental conditions."}]
[]
[{"$f":"A70","v":"e/  No data available."}]
[{"$f":"A71","v":"f/  Minimum count; sonar installed mid-season."}]
[{"$f":"A72","v":"g/  Mirabel Dam video counts were unavailable due to construction of a new counting facility.  The number recorded is the sum of minimum counts made at two facilities upstream of Mirabel Dam. "}]
[]
[{"$f":"A74","v":"h/  Minimum abundance due to unexpanded, missing data."}]
["i/  Monitoring at Mirabel Dam was complicated by operational challenges associated with the implementation of a new counting facility. "]
["j/  Available estimates are incomplete and preliminary; surveys are still in progress at time of publication."]
["k/  Estimates not yet available; data analysis in progress."]
["l/  Redd surveys conducted in the four largest tributaries to Humboldt Bay: Jacoby Creek, Freshwater Creek, Elk River, and Salmon Creek.  "]
["m/  Escapement estimates from mark-recapture experiments.  "]
["n/  Escapement estimates derived by multiplying expanded redd counts from design-based sample of reaches by annual fish/redd ratios.  "]
["o/  Includes spawning ground surveys in the Van Duzen beginning in 2023."]

{"sheet":"B-8","index":9,"n_rows":134,"n_cols":14,"rows_kept":134,"merged":[[0,0,0,13],[1,1,2,4],[1,6,2,7],[1,9,2,10],[2,12,2,13],[3,1,3,2],[3,3,3,4],[69,0,71,13],[72,0,72,13],[93,0,93,13],[94,1,94,3],[94,6,94,7],[94,9,94,10],[95,1,95,3],[95,6,95,7],[95,9,95,10],[96,1,96,3],[96,6,96,7],[96,9,96,10],[96,12,96,13],[97,1,97,2],[97,3,97,4],[130,0,132,13],[133,0,133,13]]}
["TABLE B-8.  Peak spawning counts in index areas for selected south/local migrating Oregon coastal fall Chinook stocks."]
[null,"Deep Creek (Pistol River) (0.4 mile)",{"$nulls":4},"Big Emily Creek (Chetco River) (1.0 mile)",null,null,"Bear Creek (Winchuck River) (0.8 mile)"]
[{"$nulls":12}," Index (fish per mile)"]
["Year","Adults",null,"Jacks",null,null,"Adults","Jacks",null,"Adults","Jacks",null,"Adults","Jacks"]
[1960,1,null,0,null,null,"-","-",null,"-","-",null,"-","-"]
[1961,4,null,1,null,null,"-","-",null,"-","-",null,"-","-"]
[1962,9,null,2,null,null,"-","-",null,"-","-",null,"-","-"]
[1963,7,null,0,null,null,"-","-",null,"-","-",null,"-","-"]
[1964,12,null,0,null,null,"-","-",null,30,2,null,"-","-"]
[1965,0,null,"-",null,null,"-","-",null,14,0,null,"-","-"]
[1966,82,null,6,null,null,"-","-",null,27,3,null,"-","-"]
[1967,2,null,1,null,null,"-","-",null,31,0,null,"-","-"]
[1968,9,null,1,null,null,"-","-",null,57,2,null,"-","-"]
[1969,"-",null,"-",null,null,"-","-",null,29,2,null,"-","-"]
[1970,"-",null,"-",null,null,"-","-",null,"-","-",null,"-","-"]
[1971,7,null,0,null,null,303,28,null,15,0,null,148,13]
[1972,7,null,0,null,null,344,11,null,"-","-",null,251,8]
[1973,6,null,2,null,null,98,8,null,46,6,null,68,7]
[1974,2,null,0,null,null,100,0,null,13,0,null,52,0]
[1975,2,null,0,null,null,"-","-",null,"-","-",null,"-","-"]
[1976,"-",null,"-",null,null,41,22,null,0,2,null,23,13]
[1977,3,null,2,null,null,"-","-",null,29,1,null,27,3]
[1978,"-",null,"-",null,null,245,36,null,33,0,null,154,20]
[1979,"-",null,"-",null,null,104,30,null,17,3,null,67,18]
[1980,0,null,0,null,null,107,39,null,13,0,null,55,18]
[1981,14,null,1,null,null,75,21,null,10,0,null,45,10]
[1982,25,null,1,null,null,84,12,null,13,1,null,55,6]
[1983,31,null,3,null,null,38,4,null,12,1,null,37,4]
[1984,11,null,2,null,null,23,4,null,15,1,null,22,3]
[1985,37,null,2,null,null,91,8,null,13,4,null,64,6]
[1986,"0a/",null,"0a/",null,null,73,20,null,12,3,null,39,10]
[1987,11,null,2,null,null,23,6,null,18,2,null,24,5]
[1988,27,null,3,null,null,112,25,null,15,1,null,70,13]
[1989,6,null,2,null,null,54,7,null,4,1,null,29,5]
[1990,1,null,0,null,null,26,2,null,2,1,null,13,1]
[1991,3,null,2,null,null,75,5,null,10,1,null,40,4]
[1992,9,null,0,null,null,44,13,null,16,1,null,31,6]
[1993,10,null,7,null,null,69,19,null,7,2,null,39,13]
[1994,29,null,31,null,null,71,8,null,30,4,null,59,20]
[1995,8,null,4,null,null,111,7,null,18,1,null,62,5]
[1996,81,null,9,null,null,79,7,null,27,5,null,85,10]
[1997,17,null,1,null,null,60,5,null,14,1,null,41,3]
[1998,46,null,11,null,null,52,3,null,19,2,null,53,7]
[1999,58,null,3,null,null,12,1,null,10,0,null,36,2]
[2000,26,null,3,null,null,63,6,null,11,1,null,45,5]
[2001,25,null,2,null,null,49,2,null,9,3,null,38,3]
[2002,62,null,7,null,null,70,3,null,15,9,null,67,9]
[2003,20,null,7,null,null,28,5,null,12,1,null,27,6]
[2004,97,null,19,null,null,29,4,null,11,1,null,62,11]
[2005,15,null,2,null,null,16,3,null,1,0,null,15,2]
[2006,22,null,3,null,null,24,2,null,5,1,null,23,3]
[2007,44,null,0,null,null,14,4,null,6,1,null,29,2]
[2008,10,null,1,null,null,15,29,null,3,5,null,13,16]
[2009,20,null,1,null,null,91,11,null,35,9,null,66,10]
[2010,14,null,2,null,null,75,5,null,26,2,null,52,4]
[2011,12,null,2,null,null,49,6,null,17,3,null,35,5]
[2012,8,null,2,null,null,72,11,null,5,2,null,39,7]
[2013,10,null,5,null,null,38,11,null,3,1,null,23,8]
[2014,11,null,2,null,null,52,9,null,12,3,null,34,6]
[2015,34,null,1,null,null,77,7,null,22,2,null,60,5]
[2016,5,null,1,null,null,42,5,null,27,2,null,34,4]
[2017,9,null,3,null,null,34,7,null,15,2,null,26,5]
[2018,4,null,3,null,null,16,10,null,11,7,null,14,9]
[2019,7,null,3,null,null,15,2,null,1,0,null,10,2]
[2020,28,null,8,null,null,20,11,null,1,5,null,22,11]
[2021,18,null,2,null,null,20,5,null,6,1,null,20,4]
[2022,24,null,16,null,null,65,7,null,5,1,null,43,11]
[2023,13,null,1,null,null,43,3,null,3,1,null,27,2]
["2024b/",12,null,1,null,null,43,8,null,3,0,null,26,4]
["a/  Pistol River was subject to several “slope failures” in 1986 resulting in severe short-term alterations in gravel bars and spawning index areas.  Considerable debris and siltation severely limited Chinook surveys resulting in “0\" counts in Deep Creek index areas through December."]
[]
[]
["b/  Preliminary."]
{"$rows_empty":20}
["TABLE B-8.  Peak spawning counts in index areas for selected south/local migrating Oregon coastal fall Chinook stocks."]
[null,"Deep Creek      ",{"$nulls":4},"Big Emily Creek                       ",null,null,"Bear Creek                   "]
[null,"(Pistol River) ",{"$nulls":4},"(Chetco River)",null,null,"(Winchuck River)"]
[null," (0.4 mile)",{"$nulls":4}," (1.0 mile)",null,null," (0.8 mile)",null,null," Index (fish per mile)"]
["Year or Avg.","Adults",null,"Jacks",null,null,"Adults","        Jacks",null,"Adults","Jacks",null,"Adults","Jacks"]
["1961-1965",{"$f":"AVERAGE(B6:B10)","v":{"v":6.4,"d":"6"}},null,{"$f":"AVERAGE(D6:D10)","v":{"v":0.75,"d":"1"}},null,null,"-","-",null,{"$f":"AVERAGE(J6:J10)","v":22},{"$f":"AVERAGE(K6:K10)","v":1},null,"-","-"]
["1966-1970",{"$f":"AVERAGE(B11:B15)","v":31},null,{"$f":"AVERAGE(D11:D15)","v":{"v":2.6666666666666665,"d":"3"}},null,null,"-","-",null,{"$f":"AVERAGE(J11:J15)","v":36},{"$f":"AVERAGE(K11:K15)","v":{"v":1.75,"d":"2"}},null,"-","-"]
["1971-1975",{"$f":"AVERAGE(B16:B20)","v":{"v":4.8,"d":"5"}},null,{"$f":"AVERAGE(D16:D20)","v":{"v":0.4,"d":"0"}},null,null,{"$f":"AVERAGE(G16:G20)","v":{"v":211.25,"d":"211"}},{"$f":"AVERAGE(H16:H20)","v":{"v":11.75,"d":"12"}},null,{"$f":"AVERAGE(J16:J20)","v":{"v":24.666666666666668,"d":"25"}},{"$f":"AVERAGE(K16:K20)","v":2},null,{"$f":"AVERAGE(M16:M20)","v":{"v":129.75,"d":"130"}},{"$f":"AVERAGE(N16:N20)","v":7}]
["1976-1980",{"$f":"AVERAGE(B21:B25)","v":{"v":1.5,"d":"2"}},null,{"$f":"AVERAGE(D21:D25)","v":1},null,null,{"$f":"AVERAGE(G21:G25)","v":{"v":124.25,"d":"124"}},{"$f":"AVERAGE(H21:H25)","v":{"v":31.75,"d":"32"}},null,{"$f":"AVERAGE(J21:J25)","v":{"v":18.4,"d":"18"}},{"$f":"AVERAGE(K21:K25)","v":{"v":1.2,"d":"1"}},null,{"$f":"AVERAGE(M21:M25)","v":{"v":65.2,"d":"65"}},{"$f":"AVERAGE(N21:N25)","v":{"v":14.4,"d":"14"}}]
["1981-1985",{"$f":"AVERAGE(B26:B30)","v":{"v":23.6,"d":"24"}},null,{"$f":"AVERAGE(D26:D30)","v":{"v":1.8,"d":"2"}},null,null,{"$f":"AVERAGE(G26:G30)","v":{"v":62.2,"d":"62"}},{"$f":"AVERAGE(H26:H30)","v":{"v":9.8,"d":"10"}},null,{"$f":"AVERAGE(J26:J30)","v":{"v":12.6,"d":"13"}},{"$f":"AVERAGE(K26:K30)","v":{"v":1.4,"d":"1"}},null,{"$f":"AVERAGE(M26:M30)","v":{"v":44.6,"d":"45"}},{"$f":"AVERAGE(N26:N30)","v":{"v":5.8,"d":"6"}}]
["1986-1990",{"$f":"AVERAGE(B31:B35)","v":{"v":11.25,"d":"11"}},"a/",{"$f":"AVERAGE(D31:D35)","v":{"v":1.75,"d":"2"}},"a/",null,{"$f":"AVERAGE(G31:G35)","v":{"v":57.6,"d":"58"}},{"$f":"AVERAGE(H31:H35)","v":12},null,{"$f":"AVERAGE(J31:J35)","v":{"v":10.2,"d":"10"}},{"$f":"AVERAGE(K31:K35)","v":{"v":1.6,"d":"2"}},null,{"$f":"AVERAGE(M31:M35)","v":35},{"$f":"AVERAGE(N31:N35)","v":{"v":6.8,"d":"7"}}]
["1991-1995",{"$f":"AVERAGE(B36:B40)","v":{"v":11.8,"d":"12"}},null,{"$f":"AVERAGE(D36:D40)","v":{"v":8.8,"d":"9"}},null,null,{"$f":"AVERAGE(G36:G40)","v":74},{"$f":"AVERAGE(H36:H40)","v":{"v":10.4,"d":"10"}},null,{"$f":"AVERAGE(J36:J40)","v":{"v":16.2,"d":"16"}},{"$f":"AVERAGE(K36:K40)","v":{"v":1.8,"d":"2"}},null,{"$f":"AVERAGE(M36:M40)","v":{"v":46.2,"d":"46"}},{"$f":"AVERAGE(N36:N40)","v":{"v":9.6,"d":"10"}}]
["1996-2000",{"$f":"AVERAGE(B41:B44)","v":{"v":50.5,"d":"51"}},null,{"$f":"AVERAGE(D41:D44)","v":6},{"$error":"#DIV/0!"},null,{"v":50.75,"d":"51"},4,null,{"v":17.5,"d":"18"},2,null,{"v":53.75,"d":"54"},{"v":5.5,"d":"6"}]
[2001,{"$f":"B46","v":25},null,{"$f":"D46","v":2},null,null,{"$f":"G46","v":49},2,null,{"$f":"J46","v":9},3,null,{"$f":"M46","v":38},3]
[2002,62,null,7,null,null,70,3,null,15,9,null,67,9]
[2003,20,null,7,null,null,28,5,null,12,1,null,27,6]
[2004,97,null,19,null,null,29,4,null,11,1,null,62,11]
[2005,15,null,2,null,null,16,3,null,1,0,null,15,2]
[2006,22,null,3,null,null,24,2,null,5,1,null,23,3]
[2007,44,null,0,null,null,14,4,null,6,1,null,29,2]
[2008,10,null,1,null,null,15,29,null,3,5,null,13,16]
[2009,20,null,1,null,null,91,11,null,35,9,null,66,10]
[2010,14,null,2,null,null,75,5,null,26,2,null,52,4]
[2011,12,null,2,null,null,49,6,null,17,3,null,35,5]
[2012,8,null,2,null,null,72,11,null,5,2,null,39,7]
[2013,10,null,5,null,null,38,11,null,3,1,null,23,8]
[2014,11,null,2,null,null,52,9,null,12,3,null,34,6]
[2015,34,null,1,null,null,77,7,null,22,2,null,60,5]
[2016,5,null,1,null,null,42,5,null,27,2,null,34,4]
[2017,9,null,3,null,null,34,7,null,15,2,null,26,5]
[2018,4,null,3,null,null,16,10,null,11,7,null,14,9]
[2019,7,null,3,null,null,15,2,null,1,0,null,10,2]
[2020,28,null,8,null,null,20,11,null,1,5,null,22,11]
[2021,18,null,2,null,null,20,5,null,6,1,null,20,4]
[2022,24,null,16,null,null,65,7,null,5,1,null,43,11]
[2023,{"$f":"B68","v":13},null,{"$f":"D68","v":1},null,null,{"$f":"G68","v":43},3,null,{"$f":"J68","v":3},1,null,{"$f":"M68","v":27},2]
["2024b/",12,null,1,null,null,43,8,null,3,0,null,26,4]
[{"$f":"A70","v":"a/  Pistol River was subject to several “slope failures” in 1986 resulting in severe short-term alterations in gravel bars and spawning index areas.  Considerable debris and siltation severely limited Chinook surveys resulting in “0\" counts in Deep Creek index areas through December."}]
[]
[]
[{"$f":"A73","v":"b/  Preliminary."}]

{"sheet":"B-9","index":10,"n_rows":146,"n_cols":10,"rows_kept":146,"merged":[[0,0,1,9],[2,0,3,0],[2,1,2,4],[2,6,2,9],[87,0,87,9],[88,0,89,9],[90,0,90,9],[91,0,91,9],[101,0,102,9],[103,0,104,0],[103,1,103,4],[103,6,103,9],[141,0,141,9],[142,0,143,9],[144,0,144,9],[145,0,145,9],[147,1,148,10]]}
["TABLE B-9. Counts of natural and hatchery spring Chinook salmon at Gold Ray Dam on the Rogue River and at Winchester Dam on the North Umpqua River in thousands of fish."]
[]
["Year or Avg.","Gold Ray Dam, Rogue Rivera/",{"$nulls":4},"Winchester Dam, Umpqua Rivera/"]
[null,"Naturalb/","Hatchery","Total   ","Jacksc/",null,"Natural","Hatchery","Total","Jacksc/"]
[1942,41.8,"-",{"$f":"SUM(B5:C5)","v":41.8},6.2,null,"-","-","-","-"]
[1943,36.1,"-",{"$f":"SUM(B6:C6)","v":36.1},4.5,null,"-","-","-","-"]
[1944,30.6,"-",30.6,3.7,null,"-","-","-","-"]
[1945,{"v":32,"d":"32.0"},"-",{"v":32,"d":"32.0"},5.3,null,"-","-","-","-"]
[1946,28.4,"-",28.4,4.6,null,2.5,"-",{"$f":"SUM(G9:H9)","v":2.5},0.5]
[1947,33.6,"-",33.6,3.1,null,3.8,"-",3.8,0.8]
[1948,{"v":27,"d":"27.0"},"-",{"v":27,"d":"27.0"},2.9,null,2.5,"-",2.5,0.2]
[1949,18.8,"-",18.8,1.8,null,2.6,"-",2.6,0.5]
[1950,15.5,"-",15.5,2.7,null,2.3,"-",2.3,0.3]
[1951,19.4,"-",19.4,4.9,null,3.6,"-",3.6,0.7]
[1952,15.9,"-",15.9,3.8,null,5.2,0.1,5.3,0.6]
[1953,31.5,"-",31.5,4.2,null,3.9,0.9,4.8,0.5]
[1954,24.7,"-",24.7,5.2,null,1.5,1.7,3.2,1.6]
[1955,15.7,"-",15.7,2.8,null,6.6,{"v":1,"d":"1.0"},7.6,1.4]
[1956,28.1,"-",28.1,3.9,null,{"v":8,"d":"8.0"},1.3,9.3,1.4]
[1957,17.7,"-",17.7,{"v":3,"d":"3.0"},null,{"v":4,"d":"4.0"},1.2,5.2,0.9]
[1958,{"v":15,"d":"15.0"},"-",{"v":15,"d":"15.0"},1.9,null,3.6,0.8,4.4,0.5]
[1959,{"v":14,"d":"14.0"},"-",{"v":14,"d":"14.0"},2.6,null,3.1,0.7,3.8,0.3]
[1960,24.4,"-",24.4,5.5,null,3.4,0.7,4.1,0.5]
[1961,31.8,"-",31.8,5.4,null,4.4,0.9,{"v":5.300000000000001,"d":"5.3"},0.5]
[1962,31.4,"-",31.4,5.3,null,3.3,0.9,4.2,0.6]
[1963,40.6,"-",40.6,6.9,null,8.7,2.3,{"v":11,"d":"11.0"},1.8]
[1964,37.3,"-",37.3,6.2,null,6.6,2.2,8.8,{"v":3,"d":"3.0"}]
[1965,47.6,"-",47.6,8.1,null,{"v":9,"d":"9.0"},2.7,11.7,3.1]
[1966,31.4,"-",31.4,3.5,null,6.7,0.6,7.3,1.3]
[1967,14.7,"-",14.7,2.4,null,6.5,2.6,9.1,4.9]
[1968,19.5,"-",19.5,7.5,null,6.2,3.1,9.3,4.3]
[1969,{"v":59,"d":"59.0"},"-",{"v":59,"d":"59.0"},6.7,null,10.7,9.4,20.1,{"v":3,"d":"3.0"}]
[1970,45.1,"-",45.1,7.4,null,6.1,6.9,{"v":13,"d":"13.0"},2.4]
[1971,28.3,1.1,{"v":29.400000000000002,"d":"29.4"},6.1,null,{"v":6,"d":"6.0"},3.9,9.9,2.6]
[1972,{"v":30,"d":"30.0"},0.8,30.8,5.7,null,7.9,8.5,16.4,7.4]
[1973,34.7,0.6,{"v":35.300000000000004,"d":"35.3"},{"v":5,"d":"5.0"},null,11.4,8.2,19.6,3.2]
[1974,16.5,0.5,{"v":17,"d":"17.0"},3.5,null,5.8,5.1,{"v":10.899999999999999,"d":"10.9"},2.2]
[1975,20.4,{"v":1,"d":"1.0"},21.4,4.6,null,5.4,5.2,{"v":10.600000000000001,"d":"10.6"},3.6]
[1976,20.4,1.2,{"v":21.599999999999998,"d":"21.6"},6.9,null,5.5,5.2,10.7,4.3]
[1977,14.9,1.5,16.4,{"v":3,"d":"3.0"},null,6.8,5.5,12.3,3.5]
[1978,40.2,{"v":7,"d":"7.0"},47.2,11.3,null,5.4,2.8,8.2,2.8]
[1979,29.3,8.9,38.2,5.8,null,5.5,{"v":4,"d":"4.0"},9.5,3.2]
[1980,24.2,12.7,36.9,{"v":8,"d":"8.0"},null,5.7,1.9,7.6,2.1]
[1981,12.8,4.4,{"v":17.200000000000003,"d":"17.2"},{"v":3,"d":"3.0"},null,4.6,4.1,8.7,{"v":2,"d":"2.0"}]
[1982,23.2,6.7,29.9,10.1,null,6.5,{"v":2,"d":"2.0"},8.5,3.3]
[1983,9.8,2.7,12.5,4.7,null,{"v":3,"d":"3.0"},2.9,5.9,1.8]
[1984,8.4,4.3,12.7,3.8,null,4.5,2.4,6.9,1.9]
[1985,27.8,12.7,40.5,{"v":15,"d":"15.0"},null,7.5,6.1,13.6,3.6]
[1986,40.4,49.1,89.5,30.1,null,8.3,5.3,{"v":13.600000000000001,"d":"13.6"},4.4]
[1987,37.4,44.1,81.5,16.2,null,8.3,7.2,15.5,3.4]
[1988,38.8,43.8,82.6,18.4,null,7.8,3.8,11.6,1.6]
[1989,7.9,52.4,60.3,6.6,null,7.6,2.2,9.8,1.7]
[1990,{"v":18,"d":"18.0"},6.5,24.5,3.1,null,5.5,{"v":2,"d":"2.0"},7.5,1.3]
[1991,9.3,{"v":3,"d":"3.0"},12.3,2.4,null,2.4,1.8,4.2,0.6]
[1992,2.2,3.6,{"v":5.800000000000001,"d":"5.8"},1.3,null,2.5,2.5,{"v":5,"d":"5.0"},0.9]
[1993,12.6,13.5,26.1,6.8,null,3.8,2.1,5.9,1.2]
[1994,3.6,10.5,14.1,2.6,null,2.8,2.5,5.3,1.1]
[1995,20.7,61.2,81.9,6.2,null,6.2,3.6,9.8,1.9]
[1996,10.3,26.3,36.6,3.4,null,4.3,2.2,6.5,{"v":1,"d":"1.0"}]
[1997,9.6,32.2,{"v":41.800000000000004,"d":"41.8"},2.8,null,3.3,2.5,5.8,{"v":16,"d":"16.0"}]
[1998,3.7,12.3,{"v":16,"d":"16.0"},2.8,null,{"v":4,"d":"4.0"},2.9,6.9,1.5]
[1999,{"v":6,"d":"6.0"},{"v":15,"d":"15.0"},{"v":21,"d":"21.0"},1.9,null,2.8,4.6,{"v":7.3999999999999995,"d":"7.4"},3.1]
[2000,3.4,26.8,30.2,3.1,null,3.4,9.2,12.6,4.6]
[2001,9.3,23.9,33.2,2.3,null,6.1,14.6,20.7,4.7]
[2002,{"v":7,"d":"7.0"},40.8,47.8,3.2,null,{"v":6.767,"d":"6.8"},{"v":17.435,"d":"17.4"},{"v":24.201999999999998,"d":"24.2"},3.1]
[2003,19.3,22.6,{"v":41.900000000000006,"d":"41.9"},{"v":3,"d":"3.0"},null,{"v":7.893,"d":"7.9"},{"v":12.263,"d":"12.3"},{"v":20.156,"d":"20.2"},4.1]
[2004,13.3,{"v":26,"d":"26.0"},39.3,3.8,null,{"v":5.362,"d":"5.4"},{"v":10.071,"d":"10.1"},{"v":15.433,"d":"15.4"},2.5]
[2005,{"v":5.804,"d":"5.8"},{"v":12.286,"d":"12.3"},{"v":18.09,"d":"18.1"},{"v":1.279,"d":"1.3"},null,{"v":3.554,"d":"3.6"},{"v":5.459,"d":"5.5"},{"v":9.013,"d":"9.0"},{"v":1.317,"d":"1.3"}]
[2006,{"v":4.755,"d":"4.8"},{"v":6.963,"d":"7.0"},{"v":11.718,"d":"11.7"},{"v":2.238,"d":"2.2"},null,{"v":2.575,"d":"2.6"},{"v":3.506,"d":"3.5"},{"v":6.0809999999999995,"d":"6.1"},{"v":1.682,"d":"1.7"}]
[2007,{"v":3.465,"d":"3.5"},{"v":7.706,"d":"7.7"},{"v":11.171,"d":"11.2"},{"v":1.567,"d":"1.6"},null,{"v":2.43,"d":"2.4"},{"v":4.204,"d":"4.2"},{"v":6.634,"d":"6.6"},{"v":1.682,"d":"1.7"}]
[2008,{"v":3.97,"d":"4.0"},{"v":8.578,"d":"8.6"},{"v":12.548,"d":"12.5"},{"v":3.752,"d":"3.8"},null,{"v":2.626,"d":"2.6"},{"v":5.051,"d":"5.1"},{"v":7.677,"d":"7.7"},{"v":2.651,"d":"2.7"}]
[2009,{"v":5.234,"d":"5.2"},{"v":8.329,"d":"8.3"},{"v":13.563,"d":"13.6"},{"v":2.288,"d":"2.3"},null,{"v":5.31,"d":"5.3"},{"v":8.951,"d":"9.0"},{"v":14.261,"d":"14.3"},{"v":4.823,"d":"4.8"}]
[2010,{"v":9.635,"d":"9.6"},{"v":11.481,"d":"11.5"},{"v":21.115,"d":"21.1"},{"v":1.915,"d":"1.9"},null,{"v":6.073,"d":"6.1"},{"v":7.814,"d":"7.8"},{"v":13.887,"d":"13.9"},{"v":3.816,"d":"3.8"}]
[2011,{"v":9.94,"d":"9.9"},"NA","NA","NA",null,{"v":8.927,"d":"8.9"},{"v":7.676,"d":"7.7"},{"v":16.603,"d":"16.6"},{"v":5.364,"d":"5.4"}]
[2012,{"v":14.4004,"d":"14.4"},"NA","NA","NA",null,{"v":8.232,"d":"8.2"},{"v":8.421,"d":"8.4"},{"v":16.653,"d":"16.7"},{"v":3.552,"d":"3.6"}]
[2013,{"v":12.149,"d":"12.1"},"NA","NA","NA",null,{"v":7.217,"d":"7.2"},{"v":7.94,"d":"7.9"},{"v":15.157,"d":"15.2"},{"v":2.559,"d":"2.6"}]
[2014,{"v":5.593,"d":"5.6"},"NA","NA","NA",null,{"v":6.415,"d":"6.4"},{"v":8.196,"d":"8.2"},{"v":14.611,"d":"14.6"},{"v":4.538,"d":"4.5"}]
[2015,{"v":15.32,"d":"15.3"},"NA","NA","NA",null,{"v":4.76,"d":"4.8"},{"v":4.837,"d":"4.8"},{"v":9.597,"d":"9.6"},{"v":1.87,"d":"1.9"}]
[2016,{"v":9.573,"d":"9.6"},"NA","NA","NA",null,{"v":4.32,"d":"4.3"},{"v":4.38,"d":"4.4"},8.7,{"v":2.633,"d":"2.6"}]
[2017,{"v":10.24,"d":"10.2"},"NA","NA","NA",null,{"v":4.013,"d":"4.0"},{"v":2.743,"d":"2.7"},{"v":6.755,"d":"6.8"},{"v":1.107,"d":"1.1"}]
[2018,{"v":10.35,"d":"10.4"},"NA","NA","NA",null,{"v":3.308,"d":"3.3"},{"v":1.964,"d":"2.0"},{"v":5.272,"d":"5.3"},{"v":2.666,"d":"2.7"}]
[2019,5.4,"NA","NA","NA",null,{"v":3.675,"d":"3.7"},{"v":2.154,"d":"2.2"},{"v":5.829,"d":"5.8"},{"v":1.907,"d":"1.9"}]
[2020,{"v":3.647,"d":"3.6"},"NA","NA","NA",null,{"v":4.892,"d":"4.9"},{"v":2.569,"d":"2.6"},{"v":7.461,"d":"7.5"},{"v":1.487,"d":"1.5"}]
[2021,4.6,"NA","NA","NA",null,{"v":2.822,"d":"2.8"},{"v":2.616,"d":"2.6"},{"v":5.438,"d":"5.4"},{"v":1.098,"d":"1.1"}]
[2022,8.7,"NA","NA","NA",null,{"v":3.362,"d":"3.4"},2.6,{"v":5.962,"d":"6.0"},{"v":1.388,"d":"1.4"}]
[2023,8.9,"NA","NA","NA",null,{"v":2.789,"d":"2.8"},{"v":2.393,"d":"2.4"},{"v":5.182,"d":"5.2"},{"v":2.574,"d":"2.6"}]
["2024d/",{"v":8.007,"d":"8.0"},"NA","NA","NA",null,{"v":3.125,"d":"3.1"},{"v":5.762,"d":"5.8"},{"v":8.887,"d":"8.9"},{"v":1.548,"d":"1.5"}]
["a/  Jacks included in natural, hatchery, and total counts."]
["b/  Gold Ray Dam removed October, 2010.  Natural estimate derived using relationship of 2004-2010 spawning ground surveys to Gold Ray Dam passage.  Estimate includes an unknown number of jacks."]
[]
["c/  Jacks include all Chinook less than 20 inches prior to 1978 and all Chinook less than 24 inches beginning in 1978."]
["d/  Preliminary."]
{"$rows_empty":9}
["TABLE B-9. Counts of natural and hatchery spring Chinook salmon at Gold Ray Dam on the Rogue River and at Winchester Dam on the North Umpqua River in thousands of fish.  "]
[]
["Year or Avg.","Gold Ray Dam, Rogue Rivera/",{"$nulls":4},"Winchester Dam, Umpqua Rivera/"]
[null,"Naturalb/","Hatchery","Total   ","Jacksc/",null,"Natural","Hatchery","Total","Jacksc/"]
["1942-1945",{"$f":"AVERAGE(B5:B8)","v":{"v":35.125,"d":"35.1"}},"-",{"$f":"AVERAGE(D5:D8)","v":{"v":35.125,"d":"35.1"}},{"$f":"AVERAGE(E5:E8)","v":{"v":4.925,"d":"4.9"}},null,"-","-","-","-"]
["1946-1950",{"$f":"AVERAGE(B9:B13)","v":{"v":24.66,"d":"24.7"}},"-",{"$f":"AVERAGE(D9:D13)","v":{"v":24.66,"d":"24.7"}},{"$f":"AVERAGE(E9:E13)","v":{"v":3.0200000000000005,"d":"3.0"}},null,{"$f":"AVERAGE(G9:G13)","v":{"v":2.7399999999999998,"d":"2.7"}},"-",{"$f":"AVERAGE(I9:I13)","v":{"v":2.7399999999999998,"d":"2.7"}},{"$f":"AVERAGE(J9:J13)","v":{"v":0.45999999999999996,"d":"0.5"}}]
["1951-1955",{"$f":"AVERAGE(B14:B18)","v":{"v":21.44,"d":"21.4"}},"-",{"$f":"AVERAGE(D14:D18)","v":{"v":21.44,"d":"21.4"}},{"$f":"AVERAGE(E14:E18)","v":{"v":4.18,"d":"4.2"}},null,{"$f":"AVERAGE(G14:G18)","v":{"v":4.16,"d":"4.2"}},{"$f":"AVERAGE(H14:H18)","v":{"v":0.925,"d":"0.9"}},{"$f":"AVERAGE(I14:I18)","v":4.9},{"$f":"AVERAGE(J14:J18)","v":{"v":0.96,"d":"1.0"}}]
["1956-1960",{"$f":"AVERAGE(B19:B23)","v":{"v":19.839999999999996,"d":"19.8"}},"-",{"$f":"AVERAGE(D19:D23)","v":{"v":19.839999999999996,"d":"19.8"}},{"$f":"AVERAGE(E19:E23)","v":{"v":3.38,"d":"3.4"}},null,{"$f":"AVERAGE(G19:G23)","v":{"v":4.42,"d":"4.4"}},{"$f":"AVERAGE(H19:H23)","v":{"v":0.9400000000000001,"d":"0.9"}},{"$f":"AVERAGE(I19:I23)","v":{"v":5.359999999999999,"d":"5.4"}},{"$f":"AVERAGE(J19:J23)","v":{"v":0.72,"d":"0.7"}}]
["1961-1965",{"$f":"AVERAGE(B24:B28)","v":{"v":37.74,"d":"37.7"}},"-",{"$f":"AVERAGE(D24:D28)","v":{"v":37.74,"d":"37.7"}},{"$f":"AVERAGE(E24:E28)","v":{"v":6.38,"d":"6.4"}},null,{"$f":"AVERAGE(G24:G28)","v":6.4},{"$f":"AVERAGE(H24:H28)","v":1.8},{"$f":"AVERAGE(I24:I28)","v":8.2},{"$f":"AVERAGE(J24:J28)","v":1.8}]
["1966-1970",{"$f":"AVERAGE(B29:B33)","v":{"v":33.94,"d":"33.9"}},"-",{"$f":"AVERAGE(D29:D33)","v":{"v":33.94,"d":"33.9"}},{"$f":"AVERAGE(E29:E33)","v":5.5},null,{"$f":"AVERAGE(G29:G33)","v":{"v":7.239999999999999,"d":"7.2"}},{"$f":"AVERAGE(H29:H33)","v":{"v":4.5200000000000005,"d":"4.5"}},{"$f":"AVERAGE(I29:I33)","v":{"v":11.76,"d":"11.8"}},{"$f":"AVERAGE(J29:J33)","v":{"v":3.18,"d":"3.2"}}]
["1971-1975",{"$f":"AVERAGE(B34:B38)","v":{"v":25.98,"d":"26.0"}},{"$f":"AVERAGE(C34:C38)","v":0.8},{"$f":"AVERAGE(D34:D38)","v":{"v":26.78,"d":"26.8"}},{"$f":"AVERAGE(E34:E38)","v":{"v":4.9799999999999995,"d":"5.0"}},null,{"$f":"AVERAGE(G34:G38)","v":7.3},{"$f":"AVERAGE(H34:H38)","v":{"v":6.180000000000001,"d":"6.2"}},{"$f":"AVERAGE(I34:I38)","v":{"v":13.48,"d":"13.5"}},{"$f":"AVERAGE(J34:J38)","v":3.8}]
["1976-1980",{"$f":"AVERAGE(B39:B43)","v":25.8},{"$f":"AVERAGE(C39:C43)","v":{"v":6.26,"d":"6.3"}},{"$f":"AVERAGE(D39:D43)","v":{"v":32.06,"d":"32.1"}},{"$f":"AVERAGE(E39:E43)","v":{"v":7,"d":"7.0"}},null,{"$f":"AVERAGE(G39:G43)","v":{"v":5.78,"d":"5.8"}},{"$f":"AVERAGE(H39:H43)","v":{"v":3.88,"d":"3.9"}},{"$f":"AVERAGE(I39:I43)","v":{"v":9.66,"d":"9.7"}},{"$f":"AVERAGE(J39:J43)","v":{"v":3.18,"d":"3.2"}}]
["1981-1985",{"$f":"AVERAGE(B44:B48)","v":16.4},{"$f":"AVERAGE(C44:C48)","v":{"v":6.16,"d":"6.2"}},{"$f":"AVERAGE(D44:D48)","v":{"v":22.56,"d":"22.6"}},{"$f":"AVERAGE(E44:E48)","v":{"v":7.32,"d":"7.3"}},null,{"$f":"AVERAGE(G44:G48)","v":{"v":5.220000000000001,"d":"5.2"}},{"$f":"AVERAGE(H44:H48)","v":3.5},{"$f":"AVERAGE(I44:I48)","v":{"v":8.72,"d":"8.7"}},{"$f":"AVERAGE(J44:J48)","v":{"v":2.52,"d":"2.5"}}]
["1986-1990",{"$f":"AVERAGE(B49:B53)","v":28.5},{"$f":"AVERAGE(C49:C53)","v":{"v":39.18,"d":"39.2"}},{"$f":"AVERAGE(D49:D53)","v":{"v":67.67999999999999,"d":"67.7"}},{"$f":"AVERAGE(E49:E53)","v":{"v":14.879999999999995,"d":"14.9"}},null,{"$f":"AVERAGE(G49:G53)","v":7.5},{"$f":"AVERAGE(H49:H53)","v":4.1},{"$f":"AVERAGE(I49:I53)","v":11.6},{"$f":"AVERAGE(J49:J53)","v":{"v":2.48,"d":"2.5"}}]
["1991-1995",{"$f":"AVERAGE(B54:B58)","v":{"v":9.680000000000001,"d":"9.7"}},{"$f":"AVERAGE(C54:C58)","v":{"v":18.360000000000003,"d":"18.4"}},{"$f":"AVERAGE(D54:D58)","v":{"v":28.040000000000003,"d":"28.0"}},{"$f":"AVERAGE(E54:E58)","v":{"v":3.8600000000000003,"d":"3.9"}},null,{"$f":"AVERAGE(G54:G58)","v":{"v":3.54,"d":"3.5"}},{"$f":"AVERAGE(H54:H58)","v":2.5},{"$f":"AVERAGE(I54:I58)","v":{"v":6.04,"d":"6.0"}},{"$f":"AVERAGE(J54:J58)","v":{"v":1.1400000000000001,"d":"1.1"}}]
["1996-2000",{"$f":"AVERAGE(B59:B63)","v":6.6},{"$f":"AVERAGE(C59:C63)","v":{"v":22.52,"d":"22.5"}},{"v":29.119999999999997,"d":"29.1"},2.8,null,{"v":3.5599999999999996,"d":"3.6"},{"v":4.279999999999999,"d":"4.3"},{"v":7.840000000000001,"d":"7.8"},{"v":5.24,"d":"5.2"}]
[2001,{"$f":"+B64","v":9.3},23.9,33.2,2.3,null,{"$f":"+G64","v":6.1},14.6,20.7,4.7]
[2002,{"v":7,"d":"7.0"},40.8,47.8,3.2,null,{"v":6.767,"d":"6.8"},{"v":17.435,"d":"17.4"},{"v":24.201999999999998,"d":"24.2"},3.1]
[2003,19.3,22.6,{"v":41.900000000000006,"d":"41.9"},{"v":3,"d":"3.0"},null,{"v":7.893,"d":"7.9"},{"v":12.263,"d":"12.3"},{"v":20.156,"d":"20.2"},4.1]
[2004,13.3,{"v":26,"d":"26.0"},39.3,3.8,null,{"v":5.362,"d":"5.4"},{"v":10.071,"d":"10.1"},{"v":15.433,"d":"15.4"},2.5]
[2005,{"v":5.804,"d":"5.8"},{"v":12.286,"d":"12.3"},{"v":18.09,"d":"18.1"},{"v":1.279,"d":"1.3"},null,{"v":3.554,"d":"3.6"},{"v":5.459,"d":"5.5"},{"v":9.013,"d":"9.0"},{"v":1.317,"d":"1.3"}]
[2006,{"v":4.755,"d":"4.8"},{"v":6.963,"d":"7.0"},{"v":11.718,"d":"11.7"},{"v":2.238,"d":"2.2"},null,{"v":2.575,"d":"2.6"},{"v":3.506,"d":"3.5"},{"v":6.0809999999999995,"d":"6.1"},{"v":1.682,"d":"1.7"}]
[2007,{"v":3.465,"d":"3.5"},{"v":7.706,"d":"7.7"},{"v":11.171,"d":"11.2"},{"v":1.567,"d":"1.6"},null,{"v":2.43,"d":"2.4"},{"v":4.204,"d":"4.2"},{"v":6.634,"d":"6.6"},{"v":1.682,"d":"1.7"}]
[2008,{"v":3.97,"d":"4.0"},{"v":8.578,"d":"8.6"},{"v":12.548,"d":"12.5"},{"v":3.752,"d":"3.8"},null,{"v":2.626,"d":"2.6"},{"v":5.051,"d":"5.1"},{"v":7.677,"d":"7.7"},{"v":2.651,"d":"2.7"}]
[2009,{"v":5.234,"d":"5.2"},{"v":8.329,"d":"8.3"},{"v":13.563,"d":"13.6"},{"v":2.288,"d":"2.3"},null,{"v":5.31,"d":"5.3"},{"v":8.951,"d":"9.0"},{"v":14.261,"d":"14.3"},{"v":4.823,"d":"4.8"}]
[2010,{"v":9.635,"d":"9.6"},{"v":11.481,"d":"11.5"},{"v":21.115,"d":"21.1"},{"v":1.915,"d":"1.9"},null,{"v":6.073,"d":"6.1"},{"v":7.814,"d":"7.8"},{"v":13.887,"d":"13.9"},{"v":3.816,"d":"3.8"}]
[2011,{"v":9.94,"d":"9.9"},"NA","NA","NA",null,{"v":8.927,"d":"8.9"},{"v":7.676,"d":"7.7"},{"v":16.603,"d":"16.6"},{"v":5.364,"d":"5.4"}]
[2012,{"v":14.4004,"d":"14.4"},"NA","NA","NA",null,{"v":8.232,"d":"8.2"},{"v":8.421,"d":"8.4"},{"v":16.653,"d":"16.7"},{"v":3.552,"d":"3.6"}]
[2013,{"v":12.149,"d":"12.1"},"NA","NA","NA",null,{"v":7.217,"d":"7.2"},{"v":7.94,"d":"7.9"},{"v":15.157,"d":"15.2"},{"v":2.559,"d":"2.6"}]
[2014,{"v":5.593,"d":"5.6"},"NA","NA","NA",null,{"v":6.415,"d":"6.4"},{"v":8.196,"d":"8.2"},{"v":14.611,"d":"14.6"},{"v":4.538,"d":"4.5"}]
[2015,{"v":15.32,"d":"15.3"},"NA","NA","NA",null,{"v":4.76,"d":"4.8"},{"v":4.837,"d":"4.8"},{"v":9.597,"d":"9.6"},{"v":1.87,"d":"1.9"}]
[2016,{"v":9.573,"d":"9.6"},"NA","NA","NA",null,{"v":4.32,"d":"4.3"},{"v":4.38,"d":"4.4"},8.7,{"v":2.633,"d":"2.6"}]
[2017,{"v":10.24,"d":"10.2"},"NA","NA","NA",null,{"$f":"+G80","v":{"v":4.013,"d":"4.0"}},{"v":2.743,"d":"2.7"},{"$f":"+I80","v":{"v":6.755,"d":"6.8"}},{"$f":"+J80","v":{"v":1.107,"d":"1.1"}}]
[2018,{"v":10.35,"d":"10.4"},"NA","NA","NA",null,{"v":3.308,"d":"3.3"},{"v":1.964,"d":"2.0"},{"$f":"+I81","v":{"v":5.272,"d":"5.3"}},{"v":2.666,"d":"2.7"}]
[2019,5.4,"NA","NA","NA",null,{"v":3.675,"d":"3.7"},{"v":2.154,"d":"2.2"},{"$f":"+I82","v":{"v":5.829,"d":"5.8"}},{"v":1.907,"d":"1.9"}]
[2020,{"v":3.647,"d":"3.6"},"NA","NA","NA",null,{"v":4.892,"d":"4.9"},{"v":2.569,"d":"2.6"},{"$f":"+I83","v":{"v":7.461,"d":"7.5"}},{"v":1.487,"d":"1.5"}]
[2021,4.6,"NA","NA","NA",null,{"v":2.822,"d":"2.8"},{"v":2.616,"d":"2.6"},{"$f":"+I84","v":{"v":5.438,"d":"5.4"}},{"v":1.098,"d":"1.1"}]
[2022,8.7,"NA","NA","NA",null,{"v":3.362,"d":"3.4"},2.6,{"$f":"+I85","v":{"v":5.962,"d":"6.0"}},{"v":1.388,"d":"1.4"}]
[2023,{"$f":"+B86","v":8.9},"NA","NA","NA",null,{"$f":"+G86","v":{"v":2.789,"d":"2.8"}},{"v":2.393,"d":"2.4"},{"v":5.182,"d":"5.2"},{"v":2.574,"d":"2.6"}]
["2024d/",{"v":8.007,"d":"8.0"},"NA","NA","NA",null,{"v":3.125,"d":"3.1"},{"v":5.762,"d":"5.8"},{"v":8.887,"d":"8.9"},{"v":1.548,"d":"1.5"}]
[{"$f":"A88","v":"a/  Jacks included in natural, hatchery, and total counts."}]
[{"$f":"A89","v":"b/  Gold Ray Dam removed October, 2010.  Natural estimate derived using relationship of 2004-2010 spawning ground surveys to Gold Ray Dam passage.  Estimate includes an unknown number of jacks."}]
[]
[{"$f":"A91","v":"c/  Jacks include all Chinook less than 20 inches prior to 1978 and all Chinook less than 24 inches beginning in 1978."}]
[{"$f":"A92","v":"d/  Preliminary."}]

{"sheet":"B-10","index":11,"n_rows":103,"n_cols":11,"rows_kept":103,"merged":[[1,2,1,5],[51,0,51,5],[52,0,53,8],[54,0,54,5],[68,2,68,5],[99,0,99,8],[100,0,101,8]]}
["TABLE B-10.  Rogue River fall Chinook carcass counts and Huntley Park passage of naturally produced fish."]
[null,null,"Carcass Countsa/",{"$nulls":4},"Huntley Park Passage"]
["Year or Avg.",null,"Adults",null,"Jacks","Total","Adults","Jacks","Total"]
[1977,null,{"v":1356,"d":"1,356"},null,{"v":2389,"d":"2,389"},{"$f":"SUM(C4:E4)","v":{"v":3745,"d":"3,745"}},{"v":25779.69991614074,"d":"25,780"},{"v":53835.68719715375,"d":"53,836"},{"v":79615.38711329449,"d":"79,615"}]
[{"$f":"A4+1","v":1978},null,{"v":9174,"d":"9,174"},null,{"v":1019,"d":"1,019"},{"v":10193,"d":"10,193"},{"v":155242.30127831388,"d":"155,242"},{"v":30078.80159870518,"d":"30,079"},{"v":185321.10287701906,"d":"185,321"}]
[{"$f":"A5+1","v":1979},null,{"v":8272,"d":"8,272"},null,195,{"v":8467,"d":"8,467"},{"v":163992.09146577597,"d":"163,992"},{"v":9289.041670188364,"d":"9,289"},{"v":173281.13313596434,"d":"173,281"}]
[1980,null,{"v":2221,"d":"2,221"},null,411,{"v":2632,"d":"2,632"},{"v":54511.61532296735,"d":"54,512"},{"v":28498.322598641025,"d":"28,498"},{"v":83009.93792160838,"d":"83,010"}]
[1981,null,{"v":5228,"d":"5,228"},null,{"v":1171,"d":"1,171"},{"v":6399,"d":"6,399"},{"v":75293.92016186121,"d":"75,294"},{"v":26135.059188167743,"d":"26,135"},{"v":101428.97935002897,"d":"101,429"}]
[1982,null,{"v":2812,"d":"2,812"},null,708,{"v":3520,"d":"3,520"},{"v":97820.715972524,"d":"97,821"},{"v":36862.933155584324,"d":"36,863"},{"v":134683.64912810834,"d":"134,684"}]
[1983,null,{"v":2737,"d":"2,737"},null,271,{"v":3008,"d":"3,008"},{"v":38711.795382074466,"d":"38,712"},{"v":6729.460899644218,"d":"6,729"},{"v":45441.256281718684,"d":"45,441"}]
[1984,null,{"v":3267,"d":"3,267"},null,396,{"v":3663,"d":"3,663"},{"v":32474.370397544553,"d":"32,474"},{"v":9781.077585302675,"d":"9,781"},{"v":42255.447982847225,"d":"42,255"}]
[1985,null,{"v":5486,"d":"5,486"},null,{"v":2500,"d":"2,500"},{"v":7986,"d":"7,986"},{"v":35232.75355803387,"d":"35,233"},{"v":48907.87295638769,"d":"48,908"},{"v":84140.62651442156,"d":"84,141"}]
[1986,null,{"v":17177,"d":"17,177"},null,{"v":3223,"d":"3,223"},{"v":20400,"d":"20,400"},{"v":144089.48720238952,"d":"144,089"},{"v":85768.3210820977,"d":"85,768"},{"v":229857.80828448723,"d":"229,858"}]
[1987,null,{"v":25918,"d":"25,918"},null,{"v":2532,"d":"2,532"},{"v":28450,"d":"28,450"},{"v":116875.5004508996,"d":"116,876"},{"v":31068.171005935343,"d":"31,068"},{"v":147943.67145683497,"d":"147,944"}]
[1988,null,{"v":31613,"d":"31,613"},null,{"v":1352,"d":"1,352"},{"v":32965,"d":"32,965"},{"v":67722.99291230214,"d":"67,723"},{"v":11355.302572547189,"d":"11,355"},{"v":79078.29548484934,"d":"79,078"}]
[1989,null,{"v":7408,"d":"7,408"},null,481,{"v":7889,"d":"7,889"},{"v":73958.05836919337,"d":"73,958"},{"v":15186.123014589493,"d":"15,186"},{"v":89144.18138378287,"d":"89,144"}]
[1990,null,{"v":1868,"d":"1,868"},null,46,{"v":1914,"d":"1,914"},{"v":19530.810819106926,"d":"19,531"},{"v":4384.65439268942,"d":"4,385"},{"v":23915.46521179635,"d":"23,915"}]
[1991,null,{"v":2799,"d":"2,799"},null,157,{"v":2956,"d":"2,956"},{"v":14991.189446115188,"d":"14,991"},{"v":3372.487950487959,"d":"3,372"},{"v":18363.677396603147,"d":"18,364"}]
[1992,null,{"v":2366,"d":"2,366"},null,464,{"v":2830,"d":"2,830"},{"v":44737.85964782567,"d":"44,738"},{"v":31717.973556064797,"d":"31,718"},{"v":76455.83320389048,"d":"76,456"}]
[1993,null,{"v":5447,"d":"5,447"},null,257,{"v":5704,"d":"5,704"},{"v":36025.53707591937,"d":"36,026"},{"v":10642.21290916976,"d":"10,642"},{"v":46667.749985089125,"d":"46,668"}]
[1994,null,{"v":7366,"d":"7,366"},null,529,{"v":7895,"d":"7,895"},{"v":67479.58688248128,"d":"67,480"},{"v":13226.9528558549,"d":"13,227"},{"v":80706.53973833617,"d":"80,707"}]
[1995,null,{"v":3958,"d":"3,958"},null,173,{"v":4131,"d":"4,131"},{"v":64209.698832172115,"d":"64,210"},{"v":18535.621174067346,"d":"18,536"},{"v":82745.32000623946,"d":"82,745"}]
[1996,null,{"v":2448,"d":"2,448"},null,121,{"v":2569,"d":"2,569"},{"v":48763.17225094138,"d":"48,763"},{"v":15681.72560335278,"d":"15,682"},{"v":64444.897854294155,"d":"64,445"}]
[1997,null,{"v":1643,"d":"1,643"},null,68,{"v":1711,"d":"1,711"},{"v":41072.0037212998,"d":"41,072"},{"v":17788.155387051233,"d":"17,788"},{"v":58860.15910835103,"d":"58,860"}]
[1998,null,{"v":3601,"d":"3,601"},null,40,{"v":3641,"d":"3,641"},{"v":40938.81203324037,"d":"40,939"},{"v":6793.165029457155,"d":"6,793"},{"v":47731.97706269753,"d":"47,732"}]
[1999,null,{"v":2493,"d":"2,493"},null,157,{"v":2650,"d":"2,650"},{"v":37586.56949107076,"d":"37,587"},{"v":18763.445485017117,"d":"18,763"},{"v":56350.014976087885,"d":"56,350"}]
[2000,null,{"v":3366,"d":"3,366"},null,226,{"v":3592,"d":"3,592"},{"v":87782.75253370064,"d":"87,783"},{"v":12918.442333112502,"d":"12,918"},{"v":100701.19486681314,"d":"100,701"}]
[2001,null,{"v":6380,"d":"6,380"},null,772,{"v":7152,"d":"7,152"},{"v":76376.00772716205,"d":"76,376"},{"v":26650.21791955526,"d":"26,650"},{"v":103026.22564671731,"d":"103,026"}]
[2002,null,{"v":11836,"d":"11,836"},null,905,{"v":12741,"d":"12,741"},{"v":154142.62345953216,"d":"154,143"},{"v":42805.53726349698,"d":"42,806"},{"v":196948.1607230291,"d":"196,948"}]
[2003,null,{"v":14620,"d":"14,620"},null,983,{"v":15603,"d":"15,603"},{"v":204792.73551627307,"d":"204,793"},{"v":19346.695916734065,"d":"19,347"},{"v":224139.43143300715,"d":"224,139"}]
[2004,null,{"v":5326,"d":"5,326"},"b/",250,{"v":5576,"d":"5,576"},{"v":132296.09082191592,"d":"132,296"},{"v":19785.216104160492,"d":"19,785"},{"v":152081.30692607642,"d":"152,081"}]
[2005,null,"-",null,"-","-",{"v":56474.372729902156,"d":"56,474"},{"v":4849.000135039041,"d":"4,849"},{"v":61323.37286494119,"d":"61,323"}]
[2006,null,"-",null,"-","-",{"v":35074.84156299875,"d":"35,075"},{"v":6770.264982039335,"d":"6,770"},{"v":41845.10654503808,"d":"41,845"}]
[2007,null,"-",null,"-","-",{"v":43493.37060763382,"d":"43,493"},{"v":3284.3414048986497,"d":"3,284"},{"v":46777.712012532465,"d":"46,778"}]
[2008,null,"-",null,"-","-",{"v":24309.279345748128,"d":"24,309"},{"v":15185.541962057794,"d":"15,186"},{"v":39494.82130780592,"d":"39,495"}]
[2009,null,"-",null,"-","-",{"v":60222.86689774639,"d":"60,223"},{"v":13660.139437129028,"d":"13,660"},{"v":73883.00633487542,"d":"73,883"}]
[2010,null,"-",null,"-","-",{"v":49390.208416833666,"d":"49,390"},{"v":14458.791583166332,"d":"14,459"},{"v":63848.99999999999,"d":"63,849"}]
[2011,null,"-",null,"-","-",{"v":67749.6707716401,"d":"67,750"},{"v":30125.329228359908,"d":"30,125"},{"v":97875,"d":"97,875"}]
[2012,null,"-",null,"-","-",{"v":69060.47628713396,"d":"69,060"},{"v":10399.820313121507,"d":"10,400"},{"v":79460.29660025547,"d":"79,460"}]
[2013,null,"-",null,"-","-",{"v":81654.64677380171,"d":"81,655"},{"v":23027.485850877027,"d":"23,027"},{"v":104682.13262467872,"d":"104,682"}]
[2014,null,"-",null,"-","-",{"v":53546,"d":"53,546"},{"v":11901,"d":"11,901"},{"v":65447,"d":"65,447"}]
[2015,null,"-",null,"-","-",{"v":30462,"d":"30,462"},{"v":7841,"d":"7,841"},{"v":38303,"d":"38,303"}]
[2016,null,"-",null,"-","-",{"v":27278,"d":"27,278"},{"v":16762,"d":"16,762"},{"v":44040,"d":"44,040"}]
[2017,null,"-",null,"-","-",{"v":91977,"d":"91,977"},{"v":24068,"d":"24,068"},{"v":116045,"d":"116,045"}]
[2018,null,"-",null,"-","-",{"v":39507,"d":"39,507"},{"v":23927,"d":"23,927"},{"v":63434,"d":"63,434"}]
[2019,null,"-",null,"-","-",{"v":18436,"d":"18,436"},{"v":15622,"d":"15,622"},{"v":34058,"d":"34,058"}]
[2020,null,"-",null,"-","-",{"v":29387,"d":"29,387"},{"v":16020,"d":"16,020"},{"v":45407,"d":"45,407"}]
[2021,null,"-",null,"-","-",{"v":48979,"d":"48,979"},{"v":13679,"d":"13,679"},{"v":62658,"d":"62,658"}]
[2022,null,"-",null,"-","-",{"v":17609,"d":"17,609"},{"v":13786,"d":"13,786"},{"v":31395,"d":"31,395"},null,"< 2022 Draft/estimated age comp based on 10 yr. avg., to be updated later"]
[2023,null,"-",null,"-","-",{"v":29555,"d":"29,555"},{"v":11626,"d":"11,626"},{"v":41181,"d":"41,181"}]
["2024c/",null,"-",null,"-","-",{"v":53342,"d":"53,342"},{"v":11627,"d":"11,627"},{"v":64969,"d":"64,969"}]
["a/  Surveys were discontinued in 2005."]
["b/  In 2004, one of the standard survey sections was not sampled.  In the previous two years, this section accounted for 33 percent of the total adult carcass counts."]
[]
["c/  Preliminary."]
{"$rows_empty":12}
["TABLE B-10.  Rogue River fall Chinook carcass counts and Huntley Park Passage of naturally produced fish."]
[null,null,"Carcass Countsa/",{"$nulls":4},"Huntley Park Passage"]
["Year or Avg.",null,"Adults",null,"Jacks","Total","Adults","Jacks","Total"]
["1977-1980",null,{"$f":"AVERAGE(C4:C7)","v":{"v":5255.75,"d":"5,256"}},null,{"$f":"AVERAGE(E4:E7)","v":{"v":1003.5,"d":"1,004"}},{"$f":"AVERAGE(F4:F7)","v":{"v":6259.25,"d":"6,259"}},{"$f":"AVERAGE(G4:G7)","v":{"v":99881.42699579948,"d":"99,881"}},{"$f":"AVERAGE(H4:H7)","v":{"v":30425.46326617208,"d":"30,425"}},{"$f":"AVERAGE(I4:I7)","v":{"v":130306.89026197157,"d":"130,307"}}]
["1981-1985",null,{"$f":"AVERAGE(C8:C12)","v":{"v":3906,"d":"3,906"}},null,{"$f":"AVERAGE(E8:E12)","v":{"v":1009.2,"d":"1,009"}},{"$f":"AVERAGE(F8:F12)","v":{"v":4915.2,"d":"4,915"}},{"$f":"AVERAGE(G8:G12)","v":{"v":55906.71109440762,"d":"55,907"}},{"$f":"AVERAGE(H8:H12)","v":{"v":25683.280757017328,"d":"25,683"}},{"$f":"AVERAGE(I8:I12)","v":{"v":81589.99185142494,"d":"81,590"}}]
["1986-1990",null,{"$f":"AVERAGE(C13:C17)","v":{"v":16796.8,"d":"16,797"}},null,{"$f":"AVERAGE(E13:E17)","v":{"v":1526.8,"d":"1,527"}},{"$f":"AVERAGE(F13:F17)","v":{"v":18323.6,"d":"18,324"}},{"$f":"AVERAGE(G13:G17)","v":{"v":84435.3699507783,"d":"84,435"}},{"$f":"AVERAGE(H13:H17)","v":{"v":29552.514413571822,"d":"29,553"}},{"$f":"AVERAGE(I13:I17)","v":{"v":113987.88436435016,"d":"113,988"}}]
["1990-1995",null,{"$f":"AVERAGE(C18:C22)","v":{"v":4387.2,"d":"4,387"}},null,{"$f":"AVERAGE(E18:E22)","v":316},{"$f":"AVERAGE(F18:F22)","v":{"v":4703.2,"d":"4,703"}},{"$f":"AVERAGE(G18:G22)","v":{"v":45488.77437690272,"d":"45,489"}},{"$f":"AVERAGE(H18:H22)","v":{"v":15499.049689128955,"d":"15,499"}},{"$f":"AVERAGE(I18:I22)","v":{"v":60987.82406603168,"d":"60,988"}}]
["1996-2000",null,{"$f":"AVERAGE(C23:C27)","v":{"v":2710.2,"d":"2,710"}},null,{"$f":"AVERAGE(E23:E27)","v":{"v":122.4,"d":"122"}},{"v":2832.6,"d":"2,833"},{"v":51228.66200605059,"d":"51,229"},{"v":14388.986767598157,"d":"14,389"},{"v":65617.64877364875,"d":"65,618"}]
[2001,null,{"$f":"C28","v":{"v":6380,"d":"6,380"}},null,{"$f":"E28","v":772},{"v":7152,"d":"7,152"},{"v":76376.00772716205,"d":"76,376"},{"v":26650.21791955526,"d":"26,650"},{"v":103026.22564671731,"d":"103,026"}]
[2002,null,{"v":11836,"d":"11,836"},null,905,{"v":12741,"d":"12,741"},{"v":154142.62345953216,"d":"154,143"},{"v":42805.53726349698,"d":"42,806"},{"v":196948.1607230291,"d":"196,948"}]
[2003,null,{"v":14620,"d":"14,620"},null,983,{"v":15603,"d":"15,603"},{"v":204792.73551627307,"d":"204,793"},{"v":19346.695916734065,"d":"19,347"},{"v":224139.43143300715,"d":"224,139"}]
[2004,null,{"v":5326,"d":"5,326"},{"$f":"D31","v":"b/"},250,{"v":5576,"d":"5,576"},{"v":132296.09082191592,"d":"132,296"},{"v":19785.216104160492,"d":"19,785"},{"v":152081.30692607642,"d":"152,081"}]
[2005,null,"-",null,"-","-",{"v":56474.372729902156,"d":"56,474"},{"v":4849.000135039041,"d":"4,849"},{"v":61323.37286494119,"d":"61,323"}]
[2006,null,"-",null,"-","-",{"v":35074.84156299875,"d":"35,075"},{"v":6770.264982039335,"d":"6,770"},{"v":41845.10654503808,"d":"41,845"}]
[2007,null,"-",null,"-","-",{"v":43493.37060763382,"d":"43,493"},{"v":3284.3414048986497,"d":"3,284"},{"v":46777.712012532465,"d":"46,778"}]
[2008,null,"-",null,"-","-",{"v":24309.279345748128,"d":"24,309"},{"v":15185.541962057794,"d":"15,186"},{"v":39494.82130780592,"d":"39,495"}]
[2009,null,"-",null,"-","-",{"v":60222.86689774639,"d":"60,223"},{"v":13660.139437129028,"d":"13,660"},{"v":73883.00633487542,"d":"73,883"}]
[2010,null,"-",null,"-","-",{"v":49390.208416833666,"d":"49,390"},{"v":14458.791583166332,"d":"14,459"},{"v":63848.99999999999,"d":"63,849"}]
[2011,null,"-",null,"-","-",{"v":67749.6707716401,"d":"67,750"},{"v":30125.329228359908,"d":"30,125"},{"v":97875,"d":"97,875"}]
[2012,null,"-",null,"-","-",{"v":69060.47628713396,"d":"69,060"},{"v":10399.820313121507,"d":"10,400"},{"v":79460.29660025547,"d":"79,460"}]
[2013,null,"-",null,"-","-",{"v":81654.64677380171,"d":"81,655"},{"v":23027.485850877027,"d":"23,027"},{"v":104682.13262467872,"d":"104,682"}]
[2014,null,{"$f":"C39","v":"-"},null,{"$f":"E39","v":"-"},{"$f":"F39","v":"-"},{"$f":"G41","v":{"v":53546,"d":"53,546"}},{"v":11901,"d":"11,901"},{"v":65447,"d":"65,447"}]
[2015,null,{"$f":"C39","v":"-"},null,{"$f":"E39","v":"-"},{"$f":"F39","v":"-"},{"v":30462,"d":"30,462"},{"v":7841,"d":"7,841"},{"v":38303,"d":"38,303"}]
[2016,null,{"$f":"C39","v":"-"},null,{"$f":"E39","v":"-"},{"$f":"F39","v":"-"},{"v":27278,"d":"27,278"},{"v":16762,"d":"16,762"},{"v":44040,"d":"44,040"}]
[2017,null,{"$f":"C39","v":"-"},null,{"$f":"E39","v":"-"},{"$f":"F39","v":"-"},{"v":91977,"d":"91,977"},{"v":24068,"d":"24,068"},{"v":116045,"d":"116,045"}]
[2018,null,{"$f":"C39","v":"-"},null,{"$f":"E39","v":"-"},{"$f":"F39","v":"-"},{"v":39507,"d":"39,507"},{"v":23927,"d":"23,927"},{"v":63434,"d":"63,434"}]
[2019,null,{"$f":"C39","v":"-"},null,{"$f":"E39","v":"-"},{"$f":"F39","v":"-"},{"v":18436,"d":"18,436"},{"v":15622,"d":"15,622"},{"v":34058,"d":"34,058"}]
[2020,null,{"$f":"C39","v":"-"},null,{"$f":"E39","v":"-"},{"$f":"F39","v":"-"},{"v":29387,"d":"29,387"},{"v":16020,"d":"16,020"},{"v":45407,"d":"45,407"}]
[2021,null,{"$f":"C39","v":"-"},null,{"$f":"E39","v":"-"},{"$f":"F39","v":"-"},{"v":48979,"d":"48,979"},{"v":13679,"d":"13,679"},{"v":62658,"d":"62,658"}]
[2022,null,{"$f":"C39","v":"-"},null,{"$f":"E39","v":"-"},{"$f":"F39","v":"-"},{"v":17609,"d":"17,609"},{"v":13786,"d":"13,786"},{"v":31395,"d":"31,395"}]
[2023,null,{"$f":"C39","v":"-"},null,{"$f":"E39","v":"-"},{"$f":"F39","v":"-"},{"$f":"G50","v":{"v":29555,"d":"29,555"}},{"v":11626,"d":"11,626"},{"v":41181,"d":"41,181"}]
["2024c/",null,{"$f":"C40","v":"-"},null,{"$f":"E40","v":"-"},{"$f":"F40","v":"-"},{"v":53342,"d":"53,342"},{"v":11627,"d":"11,627"},{"v":64969,"d":"64,969"}]
[{"$f":"A52","v":"a/  Surveys were discontinued in 2005."}]
[{"$f":"A53","v":"b/  In 2004, one of the standard survey sections was not sampled.  In the previous two years, this section accounted for 33 percent of the total adult carcass counts."}]
[]
[{"$f":"A55","v":"c/  Preliminary."}]

{"sheet":"B-11","index":12,"n_rows":142,"n_cols":22,"rows_kept":142,"merged":[[0,0,0,20],[1,1,1,18],[2,1,4,2],[2,3,4,4],[2,5,4,6],[2,7,4,8],[2,9,4,10],[2,11,4,12],[2,13,4,14],[2,15,4,16],[2,17,4,18],[2,19,4,20],[4,0,5,0],[70,0,70,20],[71,0,71,20],[102,0,102,20],[103,1,103,18],[104,1,106,2],[104,3,106,4],[104,5,106,6],[104,7,106,8],[104,9,106,10],[104,11,106,12],[104,13,106,14],[104,15,106,16],[104,17,106,18],[104,19,106,20],[106,0,107,0],[140,0,140,20],[141,0,141,20],[142,0,142,20]]}
["TABLE B-11.  Peak counts for north migrating Oregon coastal Chinook stocks on selected fall Chinook spawning index stream surveys."]
[null,"River Tributaries"]
[null,"Humbug (Nehalem)         (1.0 mile)",null,"    Tillamook  (1.8 mile)",null," Niagara (Nestucca)           (0.4 mile)",null," Sunshine (Siletz)\n(1.2 mile)",null," Grant (Yaquina)\n(1.7 mile)",null," Buck (Alsea)        (1.0 mile)",null,"  Lake (Siuslaw)    (0.8 mile)",null,"W.F. Millicoma (Coos) (0.5 mile)",null," Salmon (Coquille)          (0.8 mile)",null,"  Index Fish Per Mile"]
[]
["Year or Average"]
[null,"Adults","Jacks","Adults","Jacks","Adults","Jacks","Adults","Jacks","Adults","Jacks","Adults","Jacks","Adults","Jacks","Adults","Jacks","Adults","Jacks","Adults","Jacks",{"$f":"1+1.8+0.4+1.2+1.7+1+0.8+0.5+0.8","v":9.2}]
[1961,96,8,130,36,65,4,52,11,51,1,38,8,26,22,3,3,10,14,51,12,{"$f":"(B7+D7+F7+H7+J7+L7+N7+P7+R7)/9.2","v":{"v":51.19565217391305,"d":"51"}}]
[1962,69,9,95,22,39,8,131,29,32,15,8,5,12,4,2,0,1,0,42,10,{"$f":"(B8+D8+F8+H8+J8+L8+N8+P8+R8)/9.2","v":{"v":42.28260869565218,"d":"42"}}]
[1963,96,37,128,22,88,2,63,8,67,13,39,12,27,2,0,2,3,0,56,11,{"v":55.54347826086957,"d":"56"}]
[1964,112,14,134,29,45,8,18,7,22,3,22,7,212,35,1,0,9,2,63,11,{"v":62.50000000000001,"d":"63"}]
[1965,100,43,93,18,123,2,32,8,44,34,31,14,28,11,2,0,91,49,59,19,{"v":59.1304347826087,"d":"59"}]
[1966,95,8,85,25,73,7,36,6,67,15,42,20,111,11,5,1,55,19,62,12,{"v":61.84782608695652,"d":"62"}]
[1967,64,2,117,41,55,6,39,3,35,13,12,14,110,31,7,0,17,0,50,12,{"v":49.56521739130435,"d":"50"}]
[1968,44,2,81,29,41,2,19,4,32,9,18,12,52,32,0,0,16,4,33,10,{"v":32.934782608695656,"d":"33"}]
[1969,29,2,41,13,28,8,7,3,68,20,13,2,140,52,6,2,7,0,37,11,{"v":36.84782608695652,"d":"37"}]
[1970,54,3,139,29,39,8,51,9,105,10,43,34,256,76,12,0,36,23,80,21,{"v":79.8913043478261,"d":"80"}]
[1971,84,10,35,4,35,1,40,5,78,17,38,8,49,10,21,22,17,5,43,9,{"v":43.152173913043484,"d":"43"}]
[1972,71,46,54,12,82,10,27,14,36,12,3,2,88,56,8,12,8,4,41,18,{"v":40.97826086956522,"d":"41"}]
[1973,139,28,84,1,61,4,47,0,48,4,20,4,"-","-",21,1,18,0,52,5,{"$f":"(B19+D19+F19+H19+J19+L19+N19+P19+R19)/9.2","v":{"$error":"#VALUE!"}}]
[1974,141,16,45,4,42,0,47,2,93,0,13,0,131,68,16,28,13,7,59,14,{"v":58.80434782608696,"d":"59"}]
[1975,72,28,"-","-","-","-","-","-","-","-",9,1,106,60,22,4,18,9,55,25,{"$error":"#VALUE!"}]
[1976,135,39,35,5,0,0,18,12,10,6,1,0,188,74,28,24,0,0,45,17,{"v":45.108695652173914,"d":"45"}]
[1977,158,12,56,2,14,2,45,2,160,20,13,2,181,60,19,8,7,7,71,13,{"v":70.97826086956522,"d":"71"}]
[1978,166,6,62,8,31,3,28,0,175,6,12,0,115,24,42,18,40,3,73,7,{"v":72.93478260869566,"d":"73"}]
[1979,168,2,45,2,50,3,98,7,144,78,40,10,128,12,35,24,33,8,81,16,{"v":80.54347826086958,"d":"81"}]
[1980,90,3,106,14,64,1,44,2,145,4,46,2,218,24,30,65,74,31,89,16,{"v":88.80434782608697,"d":"89"}]
[1981,148,1,94,6,41,1,68,2,185,13,32,3,140,43,4,4,43,8,82,9,{"v":82.06521739130436,"d":"82"}]
[1982,70,13,107,15,89,12,40,1,160,18,54,9,206,34,8,2,95,13,90,13,{"v":90.10869565217392,"d":"90"}]
[1983,61,4,45,1,60,1,29,3,86,11,25,0,28,0,9,0,43,4,42,3,{"v":41.95652173913044,"d":"42"}]
[1984,280,31,101,9,84,6,47,3,195,17,55,2,103,7,0,1,38,6,98,9,{"v":98.15217391304348,"d":"98"}]
[1985,257,40,128,14,117,9,90,3,263,59,70,15,268,70,11,2,6,4,132,23,{"v":131.52173913043478,"d":"132"}]
[1986,108,8,153,11,161,6,46,5,172,33,54,9,255,68,5,2,46,9,109,16,{"v":108.69565217391305,"d":"109"}]
[1987,219,6,255,6,127,1,14,0,173,19,51,1,207,25,19,11,46,4,121,8,{"v":120.7608695652174,"d":"121"}]
[1988,155,4,121,8,143,1,97,1,547,35,251,11,538,52,22,6,92,10,214,14,{"v":213.69565217391306,"d":"214"}]
[1989,150,2,118,4,104,4,61,3,168,6,72,5,555,34,18,3,27,7,138,7,{"v":138.3695652173913,"d":"138"}]
[1990,50,1,122,10,55,2,50,1,139,26,71,6,578,43,12,3,32,1,121,10,{"v":120.54347826086958,"d":"121"}]
[1991,43,0,135,10,91,3,58,6,187,17,36,2,701,27,4,1,123,12,150,8,{"v":149.7826086956522,"d":"150"}]
[1992,90,4,200,15,76,7,73,1,137,6,66,9,521,32,10,5,92,6,138,9,{"v":137.5,"d":"138"}]
[1993,50,0,46,1,24,1,17,0,136,7,15,1,106,7,113,10,73,2,63,3,{"v":63.04347826086957,"d":"63"}]
[1994,83,5,36,1,201,2,113,2,"a/","a/",46,4,300,19,73,14,86,6,125,7]
[1995,57,3,41,4,124,1,41,0,"a/","a/",59,4,346,5,43,6,58,1,103,3]
[1996,86,2,60,0,40,0,122,0,"a/","a/",62,2,614,29,92,3,29,3,147,5]
[1997,162,1,47,1,24,1,60,0,"a/","a/",49,3,325,9,12,0,108,3,105,2]
[1998,93,2,42,1,42,0,83,3,"a/","a/",78,0,176,2,33,10,193,7,99,3]
[1999,116,3,38,1,60,2,36,3,"a/","a/",55,5,478,14,14,3,136,8,124,5]
[2000,175,3,40,3,32,2,63,1,"a/","a/",38,3,205,18,5,0,83,9,85,5]
[2001,220,4,62,6,53,7,195,3,"a/","a/",95,6,711,49,30,5,153,22,203,14]
[2002,311,1,137,3,124,1,221,1,"a/","a/",118,6,834,22,51,12,218,9,269,7]
[2003,215,6,135,5,27,1,120,3,341,7,145,1,{"v":1230,"d":"1,230"},37,209,31,147,2,279,10,{"v":279.2391304347826,"d":"279"}]
[2004,196,3,71,2,76,1,19,0,238,11,91,5,988,16,40,4,101,5,198,5,{"$f":"(B50+D50+F50+H50+J50+L50+N50+P50+R50)/9.2","v":{"v":197.82608695652175,"d":"198"}}]
[2005,124,3,"a/","a/",74,2,54,1,"a/","a/",40,1,302,5,17,2,61,2,118,3]
[2006,31,0,65,0,67,0,82,0,"a/","a/",22,0,165,0,7,1,129,8,76,1]
[2007,91,1,34,2,20,0,6,0,"a/","a/",17,1,132,2,14,3,2,0,42,1]
[2008,73,1,15,2,13,0,8,0,"a/","a/",11,2,135,15,20,5,28,8,40,4]
[2009,92,13,17,0,2,0,32,2,"a/","a/",50,0,179,26,34,9,"a/","a/",61,7]
[2010,57,0,24,1,27,2,56,3,"a/","a/",75,6,301,7,46,14,"a/","a/",87,5]
[2011,164,5,96,4,15,1,29,0,"a/","a/",46,2,329,21,53,1,"a/","a/",109,5]
[2012,144,3,38,2,34,0,57,3,"a/","a/",56,4,611,17,38,1,"a/","a/",146,4]
[2013,384,10,89,2,78,3,47,2,166,9,41,3,625,6,156,20,"a/","a/",189,7]
[2014,176,2,55,0,54,2,109,1,216,40,60,7,556,21,92,6,"a/","a/",157,9]
[2015,237,1,"a/","a/",31,1,122,1,391,3,130,2,625,2,93,3,"a/","a/",247,3]
[2016,154,2,"a/","a/",24,0,162,3,159,9,39,1,224,1,19,0,"a/","a/",118,2]
[2017,132,1,"a/","a/",39,1,109,1,126,5,47,4,282,3,20,1,"a/","a/",114,2]
[2018,107,6,"a/","a/",11,0,86,2,220,11,31,3,94,5,57,5,"a/","a/",92,5]
[2019,201,2,"a/","a/",8,0,48,0,79,2,27,0,46,2,19,1,"a/","a/",65,1]
[2020,348,4,"a/","a/",17,0,115,1,233,5,71,3,74,1,47,3,"a/","a/",137,3]
[2021,120,2,"a/","a/",20,0,74,1,133,9,"a/","a/",124,1,5,2,"a/","a/",85,3]
[2022,72,0,"a/","a/",21,0,57,1,127,5,"a/","a/",265,4,48,5,"a/","a/",105,3]
[2023,81,0,"a/","a/",36,0,95,0,125,8,"a/","a/",280,0,42,2,"a/","a/",118,2]
["2024b/",69,1,"a/","a/",24,0,43,0,196,8,"a/","a/",313,6,43,5,"a/","a/",123,4]
["a/  Surveys were not conducted."]
["b/  Preliminary."]
{"$rows_empty":30}
["TABLE B-11.  Peak counts for north migrating Oregon coastal Chinook stocks on selected fall Chinook spawning index stream surveys.  "]
[null,"River Tributaries"]
[null,"Humbug (Nehalem)         (1.0 mile)",null,"    Tillamook          (1.8 mile)",null," Niagara (Nestucca)           (0.4 mile)",null," Sunshine (Siletz)\n(1.2 mile)",null," Grant (Yaquina)\n(1.7 mile)",null," Buck (Alsea)        (1.0 mile)",null,"  Siuslaw (Lake)    (0.8 mile)",null,"W.F. Millicoma (Coos) (0.5 mile)",null," Salmon (Coquille)          (0.8 mile)",null,"  Index Fish Per Mile"]
[]
["Year or Average"]
[null,"Adults","Jacks","Adults","Jacks","Adults","Jacks","Adults","Jacks","Adults","Jacks","Adults","Jacks","Adults","Jacks","Adults","Jacks","Adults","Jacks","Adults","Jacks"]
["1961-1965",{"$f":"AVERAGE(B7:B11)","v":{"v":94.6,"d":"95"}},{"$f":"AVERAGE(C7:C11)","v":{"v":22.2,"d":"22"}},116,{"v":25.4,"d":"25"},72,{"v":4.8,"d":"5"},{"v":59.2,"d":"59"},{"v":12.6,"d":"13"},{"v":43.2,"d":"43"},{"v":13.2,"d":"13"},{"v":27.6,"d":"28"},{"v":9.2,"d":"9"},61,{"v":14.8,"d":"15"},{"v":1.6,"d":"2"},1,{"v":22.8,"d":"23"},13,{"v":54.2,"d":"54"},{"v":12.6,"d":"13"}]
["1966-1970",{"$f":"AVERAGE(B12:B16)","v":{"v":57.2,"d":"57"}},{"$f":"AVERAGE(C12:C16)","v":{"v":3.4,"d":"3"}},{"v":92.6,"d":"93"},{"v":27.4,"d":"27"},{"v":47.2,"d":"47"},{"v":6.2,"d":"6"},{"v":30.4,"d":"30"},5,{"v":61.4,"d":"61"},{"v":13.4,"d":"13"},{"v":25.6,"d":"26"},{"v":16.4,"d":"16"},{"v":133.8,"d":"134"},{"v":40.4,"d":"40"},6,{"v":0.6,"d":"1"},{"v":26.2,"d":"26"},{"v":9.2,"d":"9"},{"v":52.4,"d":"52"},{"v":13.2,"d":"13"}]
["1971-1975",{"$f":"AVERAGE(B17:B21)","v":{"v":101.4,"d":"101"}},{"$f":"AVERAGE(C17:C21)","v":{"v":25.6,"d":"26"}},{"v":54.5,"d":"55"},{"v":5.25,"d":"5"},55,{"v":3.75,"d":"4"},{"v":40.25,"d":"40"},{"v":5.25,"d":"5"},{"v":63.75,"d":"64"},{"v":8.25,"d":"8"},{"v":16.6,"d":"17"},3,{"v":93.5,"d":"94"},{"v":48.5,"d":"49"},{"v":17.6,"d":"18"},{"v":13.4,"d":"13"},{"v":14.8,"d":"15"},5,50,{"v":14.2,"d":"14"}]
["1976-1980",{"$f":"AVERAGE(B22:B26)","v":{"v":143.4,"d":"143"}},{"$f":"AVERAGE(C22:C26)","v":{"v":12.4,"d":"12"}},{"v":60.8,"d":"61"},{"v":6.2,"d":"6"},{"v":31.8,"d":"32"},{"v":1.8,"d":"2"},{"v":46.6,"d":"47"},{"v":4.6,"d":"5"},{"v":126.8,"d":"127"},{"v":22.8,"d":"23"},{"v":22.4,"d":"22"},{"v":2.8,"d":"3"},166,{"v":38.8,"d":"39"},{"v":30.8,"d":"31"},{"v":27.8,"d":"28"},{"v":30.8,"d":"31"},{"v":9.8,"d":"10"},{"v":71.8,"d":"72"},{"v":13.8,"d":"14"}]
["1981-1985",{"$f":"AVERAGE(B27:B31)","v":{"v":163.2,"d":"163"}},{"$f":"AVERAGE(C27:C31)","v":{"v":17.8,"d":"18"}},95,9,{"v":78.2,"d":"78"},{"v":5.8,"d":"6"},{"v":54.8,"d":"55"},{"v":2.4,"d":"2"},{"v":177.8,"d":"178"},{"v":23.6,"d":"24"},{"v":47.2,"d":"47"},{"v":5.8,"d":"6"},149,{"v":30.8,"d":"31"},{"v":6.4,"d":"6"},{"v":1.8,"d":"2"},45,7,{"$f":"AVERAGE(T27:T31)","v":{"v":88.8,"d":"89"}},{"v":11.4,"d":"11"},{"$f":"(B113+D113++H113+J113+L113+N113+P113+R113)/9.2","v":{"v":80.26086956521739,"d":"80"}}]
["1986-1990",{"$f":"AVERAGE(B32:B36)","v":{"v":136.4,"d":"136"}},{"$f":"AVERAGE(C32:C36)","v":{"v":4.2,"d":"4"}},{"v":153.8,"d":"154"},{"v":7.8,"d":"8"},118,{"v":2.8,"d":"3"},{"v":53.6,"d":"54"},2,{"v":239.8,"d":"240"},{"v":23.8,"d":"24"},{"v":99.8,"d":"100"},{"v":6.4,"d":"6"},{"v":426.6,"d":"427"},{"v":44.4,"d":"44"},{"v":15.2,"d":"15"},5,{"v":48.6,"d":"49"},{"v":6.2,"d":"6"},{"v":140.6,"d":"141"},11,{"$f":"(B114+D114++H114+J114+L114+N114+P114+R114)/9.2","v":{"v":127.58695652173914,"d":"128"}}]
["1991-1995",{"$f":"AVERAGE(B37:B41)","v":{"v":64.6,"d":"65"}},{"$f":"AVERAGE(C37:C41)","v":{"v":2.4,"d":"2"}},{"v":91.6,"d":"92"},{"v":6.2,"d":"6"},{"v":103.2,"d":"103"},{"v":2.8,"d":"3"},{"v":60.4,"d":"60"},{"v":1.8,"d":"2"},{"v":153.33333333333334,"d":"153"},10,{"v":44.4,"d":"44"},4,{"v":394.8,"d":"395"},18,{"v":48.6,"d":"49"},{"v":7.2,"d":"7"},{"v":86.4,"d":"86"},{"v":5.4,"d":"5"},{"v":115.8,"d":"116"},6,{"$f":"(B115+D115++H115+J115+L115+N115+P115+R115)/9.2","v":{"v":102.62318840579711,"d":"103"}}]
["1996-2000",{"$nulls":5},{"$f":"AVERAGE(G42:G46)","v":1},{"$f":"AVERAGE(H42:H46)","v":{"v":72.8,"d":"73"}},{"v":1.4,"d":"1"},{"$f":"K42","v":"a/"},{"$f":"L42","v":62},{"v":56.4,"d":"56"},{"v":2.6,"d":"3"},{"v":359.6,"d":"360"},{"v":14.4,"d":"14"},{"v":31.2,"d":"31"},{"v":3.2,"d":"3"},{"v":109.8,"d":"110"},6,112,4]
[2001,{"$f":"B47","v":220},4,62,6,53,7,195,3,"a/","a/",95,6,711,49,30,5,153,22,203,14]
[2002,{"$f":"B48","v":311},1,137,3,124,1,221,1,"a/","a/",118,6,834,22,51,12,218,9,269,7]
[2003,{"$f":"B49","v":215},6,135,5,27,1,120,3,341,7,145,1,{"v":1230,"d":"1,230"},37,209,31,147,2,279,10]
[2004,{"$f":"B50","v":196},3,71,2,76,1,19,0,238,11,91,5,988,16,40,4,101,5,198,5]
[2005,{"$f":"B51","v":124},3,"a/","a/",74,2,54,1,"a/","a/",40,1,302,5,17,2,61,2,118,3]
[2006,{"$f":"B52","v":31},0,65,0,67,0,82,0,"a/","a/",22,0,165,0,7,1,129,8,76,1]
[2007,{"$f":"B53","v":91},1,34,2,20,0,6,0,"a/","a/",17,1,132,2,14,3,2,0,42,1]
[2008,{"$f":"B54","v":73},1,15,2,13,0,8,0,"a/","a/",11,2,135,15,20,5,28,8,40,4]
[2009,{"$f":"B55","v":92},13,17,0,2,0,32,2,"a/","a/",50,0,179,26,34,9,"a/","a/",61,7]
[2010,{"$f":"B56","v":57},0,24,1,27,2,56,3,"a/","a/",75,6,301,7,46,14,"a/","a/",87,5]
[2011,{"$f":"B57","v":164},5,96,4,15,1,29,0,"a/","a/",46,2,329,21,53,1,"a/","a/",109,5]
[2012,{"$f":"B58","v":144},3,38,2,34,0,57,3,"a/","a/",56,4,611,17,38,1,"a/","a/",146,4]
[2013,{"$f":"B59","v":384},10,89,2,78,3,47,2,166,9,41,3,625,6,156,20,"a/","a/",189,7]
[2014,{"$f":"B60","v":176},2,55,0,54,2,109,1,216,40,60,7,556,21,92,6,"a/","a/",157,9]
[2015,{"$f":"B61","v":237},1,"a/","a/",31,1,122,1,391,3,130,2,625,2,93,3,"a/","a/",247,3]
[2016,{"$f":"B62","v":154},2,"a/","a/",24,0,162,3,159,9,39,1,224,1,19,0,"a/","a/",118,2]
[2017,{"$f":"B63","v":132},1,"a/","a/",39,1,109,1,126,5,47,4,282,3,20,1,"a/","a/",114,2]
[2018,{"$f":"B64","v":107},6,"a/","a/",11,0,86,2,220,11,31,3,94,5,57,5,"a/","a/",92,5]
[2019,{"$f":"B65","v":201},2,"a/","a/",8,0,48,0,79,2,27,0,46,2,19,1,"a/","a/",65,1]
[2020,{"$f":"B66","v":348},4,"a/","a/",17,0,115,1,233,5,71,3,74,1,47,3,"a/","a/",137,3]
[2021,{"$f":"B67","v":120},2,"a/","a/",20,0,74,1,133,9,"a/","a/",124,1,5,2,"a/","a/",85,3]
[2022,{"$f":"B68","v":72},0,"a/","a/",21,0,57,1,127,5,"a/","a/",265,4,48,5,"a/","a/",105,3]
[2023,{"$f":"B69","v":81},0,"a/","a/",36,0,95,0,125,8,"a/","a/",280,0,42,2,"a/","a/",118,2]
["2024b/",69,1,"a/","a/",24,0,43,0,196,8,"a/","a/",313,6,43,5,"a/","a/",123,4]
[{"$f":"A71","v":"a/  Surveys were not conducted."}]
[{"$f":"A72","v":"b/  Preliminary."}]

{"sheet":"B-12","index":13,"n_rows":125,"n_cols":12,"rows_kept":125,"merged":[[0,0,0,11],[1,4,1,10],[2,1,4,1],[2,2,2,3],[2,4,2,6],[3,0,4,0],[3,5,4,5],[3,6,4,6],[3,11,4,11],[59,0,59,11],[60,0,60,11],[61,0,61,11],[93,0,93,11],[94,4,94,10],[95,1,97,1],[95,2,95,3],[95,4,95,6],[96,0,97,0],[96,5,97,5],[96,6,97,6],[96,11,97,11],[120,0,120,11],[121,0,121,11],[122,0,122,11],[123,0,123,11],[124,0,124,11]]}
["TABLE B-12.  Estimates of minimum inriver run size, catch, and escapement in numbers of Columbia River adult spring Chinook destined for areas below Bonneville Dam."]
[{"$nulls":4},"Tributary Runs"]
[null,"Minimum Columbia R. Returnb/","Lower River Catcha/",null,"Willamette"]
["Year or Average",null,"Non-Indian",null,null,"L. Willamette Sport Catch"," Will. Falls Escapementb/",{"$nulls":4}," Hatchery Escapementd/"]
[null,null,"Commercial","Sport","  Run Size",null,null,"  Sandy","  Cowlitzc/","  Lewisc/","  Kalama"]
[1971,{"v":84000,"d":"84,000"},{"v":13800,"d":"13,800"},{"v":3700,"d":"3,700"},{"v":53300,"d":"53,300"},{"v":17000,"d":"17,000"},{"v":34300,"d":"34,300"},"--",{"v":11900,"d":"11,900"},200,{"v":1100,"d":"1,100"},{"v":20000,"d":"20,000"}]
[1972,{"v":84000,"d":"84,000"},{"v":13800,"d":"13,800"},{"v":3700,"d":"3,700"},{"v":53300,"d":"53,300"},{"v":17000,"d":"17,000"},{"v":34300,"d":"34,300"},"--",{"v":11900,"d":"11,900"},200,{"v":1100,"d":"1,100"},{"v":20000,"d":"20,000"}]
[1973,{"v":84000,"d":"84,000"},{"v":13800,"d":"13,800"},{"v":3700,"d":"3,700"},{"v":53300,"d":"53,300"},{"v":17000,"d":"17,000"},{"v":34300,"d":"34,300"},"--",{"v":11900,"d":"11,900"},200,{"v":1100,"d":"1,100"},{"v":20000,"d":"20,000"}]
[1974,{"v":84000,"d":"84,000"},{"v":13800,"d":"13,800"},{"v":3700,"d":"3,700"},{"v":53300,"d":"53,300"},{"v":17000,"d":"17,000"},{"v":34300,"d":"34,300"},"--",{"v":11900,"d":"11,900"},200,{"v":1100,"d":"1,100"},{"v":20000,"d":"20,000"}]
[1975,{"v":84000,"d":"84,000"},{"v":13800,"d":"13,800"},{"v":3700,"d":"3,700"},{"v":53300,"d":"53,300"},{"v":17000,"d":"17,000"},{"v":34300,"d":"34,300"},"--",{"v":11900,"d":"11,900"},200,{"v":1100,"d":"1,100"},{"v":20000,"d":"20,000"}]
[1976,{"v":80800,"d":"80,800"},{"v":4700,"d":"4,700"},{"v":3200,"d":"3,200"},{"v":38800,"d":"38,800"},{"v":15800,"d":"15,800"},{"v":21000,"d":"21,000"},"--",{"v":26600,"d":"26,600"},{"v":3100,"d":"3,100"},{"v":4300,"d":"4,300"},{"v":29900,"d":"29,900"}]
[1977,{"v":92100,"d":"92,100"},{"v":6800,"d":"6,800"},{"v":3100,"d":"3,100"},{"v":56100,"d":"56,100"},{"v":14600,"d":"14,600"},{"v":38500,"d":"38,500"},600,{"v":20900,"d":"20,900"},{"v":3300,"d":"3,300"},{"v":1300,"d":"1,300"},{"v":30200,"d":"30,200"}]
[1978,{"v":106700,"d":"106,700"},{"v":13500,"d":"13,500"},{"v":5000,"d":"5,000"},{"v":69200,"d":"69,200"},{"v":20600,"d":"20,600"},{"v":45700,"d":"45,700"},700,{"v":13800,"d":"13,800"},{"v":3700,"d":"3,700"},100,{"v":25200,"d":"25,200"}]
[1979,{"v":69212.18199532777,"d":"69,212"},{"v":5500,"d":"5,500"},{"v":1700,"d":"1,700"},{"v":49600,"d":"49,600"},{"v":13900,"d":"13,900"},{"v":25500,"d":"25,500"},800,{"v":13400,"d":"13,400"},{"v":2500,"d":"2,500"},{"v":1900,"d":"1,900"},{"v":19200,"d":"19,200"}]
[1980,{"v":73000,"d":"73,000"},300,600,{"v":42500,"d":"42,500"},{"v":7000,"d":"7,000"},{"v":26400,"d":"26,400"},{"v":1800,"d":"1,800"},{"v":23700,"d":"23,700"},{"v":2300,"d":"2,300"},{"v":2500,"d":"2,500"},{"v":28400,"d":"28,400"}]
[1981,{"v":88200,"d":"88,200"},{"v":4800,"d":"4,800"},{"v":2900,"d":"2,900"},{"v":54500,"d":"54,500"},{"v":10500,"d":"10,500"},{"v":28600,"d":"28,600"},{"v":2800,"d":"2,800"},{"v":27900,"d":"27,900"},{"v":3000,"d":"3,000"},{"v":3300,"d":"3,300"},{"v":33800,"d":"33,800"}]
[1982,{"v":106800,"d":"106,800"},{"v":3600,"d":"3,600"},{"v":1900,"d":"1,900"},{"v":76400,"d":"76,400"},{"v":18900,"d":"18,900"},{"v":45100,"d":"45,100"},{"v":1400,"d":"1,400"},{"v":19300,"d":"19,300"},{"v":3900,"d":"3,900"},{"v":8400,"d":"8,400"},{"v":31100,"d":"31,100"}]
[1983,{"v":89200,"d":"89,200"},{"v":5300,"d":"5,300"},{"v":1800,"d":"1,800"},{"v":59400,"d":"59,400"},{"v":13800,"d":"13,800"},{"v":28700,"d":"28,700"},{"v":1800,"d":"1,800"},{"v":21400,"d":"21,400"},{"v":3700,"d":"3,700"},{"v":4900,"d":"4,900"},{"v":27000,"d":"27,000"}]
[1984,{"v":107500,"d":"107,500"},{"v":8200,"d":"8,200"},{"v":1500,"d":"1,500"},{"v":82400,"d":"82,400"},{"v":19400,"d":"19,400"},{"v":42400,"d":"42,400"},{"v":2300,"d":"2,300"},{"v":21300,"d":"21,300"},{"v":6400,"d":"6,400"},{"v":1800,"d":"1,800"},{"v":33100,"d":"33,100"}]
[1985,{"v":74400,"d":"74,400"},{"v":11500,"d":"11,500"},{"v":1100,"d":"1,100"},{"v":65800,"d":"65,800"},{"v":15500,"d":"15,500"},{"v":33100,"d":"33,100"},{"v":1400,"d":"1,400"},{"v":9900,"d":"9,900"},{"v":4100,"d":"4,100"},300,{"v":19200,"d":"19,200"}]
[1986,{"v":82400,"d":"82,400"},{"v":7900,"d":"7,900"},{"v":4400,"d":"4,400"},{"v":70100,"d":"70,100"},{"v":15000,"d":"15,000"},{"v":37300,"d":"37,300"},{"v":1300,"d":"1,300"},{"v":7300,"d":"7,300"},{"v":8300,"d":"8,300"},{"v":1100,"d":"1,100"},{"v":19900,"d":"19,900"}]
[1987,{"v":124400,"d":"124,400"},{"v":10200,"d":"10,200"},{"v":2400,"d":"2,400"},{"v":90500,"d":"90,500"},{"v":18900,"d":"18,900"},{"v":52800,"d":"52,800"},{"v":2400,"d":"2,400"},{"v":18000,"d":"18,000"},{"v":16500,"d":"16,500"},{"v":2400,"d":"2,400"},{"v":33100,"d":"33,100"}]
[1988,{"v":133800,"d":"133,800"},{"v":13200,"d":"13,200"},{"v":3200,"d":"3,200"},{"v":116100,"d":"116,100"},{"v":24600,"d":"24,600"},{"v":68700,"d":"68,700"},{"v":2900,"d":"2,900"},{"v":12300,"d":"12,300"},{"v":10600,"d":"10,600"},{"v":1900,"d":"1,900"},{"v":34900,"d":"34,900"}]
[1989,{"v":128300,"d":"128,300"},{"v":12400,"d":"12,400"},{"v":2500,"d":"2,500"},{"v":110900,"d":"110,900"},{"v":24200,"d":"24,200"},{"v":65900,"d":"65,900"},{"v":2000,"d":"2,000"},{"v":8300,"d":"8,300"},{"v":12000,"d":"12,000"},{"v":2000,"d":"2,000"},{"v":35500,"d":"35,500"}]
[1990,{"v":150267.71822652634,"d":"150,268"},{"v":16200,"d":"16,200"},{"v":9149,"d":"9,149"},{"v":127900,"d":"127,900"},{"v":23000,"d":"23,000"},{"v":69100,"d":"69,100"},{"v":3527,"d":"3,527"},{"v":7555,"d":"7,555"},{"v":9299,"d":"9,299"},{"v":1987,"d":"1,987"},{"v":38900,"d":"38,900"}]
[1991,{"v":129074.3481808925,"d":"129,074"},{"v":11700,"d":"11,700"},{"v":4100,"d":"4,100"},{"v":105530,"d":"105,530"},{"v":30500,"d":"30,500"},{"v":48700,"d":"48,700"},{"v":3652,"d":"3,652"},{"v":8945,"d":"8,945"},{"v":8334,"d":"8,334"},{"v":2613,"d":"2,613"},{"v":30200,"d":"30,200"}]
[1992,{"v":99800.56115136707,"d":"99,801"},{"v":4900,"d":"4,900"},{"v":4100,"d":"4,100"},{"v":72197,"d":"72,197"},{"v":13500,"d":"13,500"},{"v":39700,"d":"39,700"},{"v":8551,"d":"8,551"},{"v":10353,"d":"10,353"},{"v":6025,"d":"6,025"},{"v":2430,"d":"2,430"},{"v":29800,"d":"29,800"}]
[1993,{"v":90303.03672109258,"d":"90,303"},{"v":1200,"d":"1,200"},{"v":1600,"d":"1,600"},{"v":62778,"d":"62,778"},{"v":20700,"d":"20,700"},{"v":29700,"d":"29,700"},{"v":6369,"d":"6,369"},{"v":9458,"d":"9,458"},{"v":8195,"d":"8,195"},{"v":2874,"d":"2,874"},{"v":26700,"d":"26,700"}]
[1994,{"v":59911.81782413223,"d":"59,912"},500,{"v":1700,"d":"1,700"},{"v":48834,"d":"48,834"},{"v":11500,"d":"11,500"},{"v":25500,"d":"25,500"},{"v":3498,"d":"3,498"},{"v":3149,"d":"3,149"},{"v":3068,"d":"3,068"},{"v":1265,"d":"1,265"},{"v":16600,"d":"16,600"}]
[1995,{"v":50095,"d":"50,095"},100,0,{"v":40854,"d":"40,854"},{"v":14700,"d":"14,700"},{"v":19300,"d":"19,300"},{"v":2529,"d":"2,529"},{"v":2102,"d":"2,102"},{"v":3726,"d":"3,726"},697,{"v":15200,"d":"15,200"}]
[1996,{"v":42008,"d":"42,008"},149,0,{"v":33358,"d":"33,358"},{"v":6100,"d":"6,100"},{"v":20400,"d":"20,400"},{"v":3801,"d":"3,801"},{"v":1787,"d":"1,787"},{"v":1730,"d":"1,730"},627,{"v":15900,"d":"15,900"}]
[1997,{"v":45125,"d":"45,125"},300,0,{"v":34536,"d":"34,536"},{"v":1900,"d":"1,900"},{"v":26200,"d":"26,200"},{"v":4410,"d":"4,410"},{"v":1877,"d":"1,877"},{"v":2196,"d":"2,196"},505,{"v":18100,"d":"18,100"}]
[1998,{"v":52181,"d":"52,181"},100,49,{"v":43497,"d":"43,497"},{"v":2800,"d":"2,800"},{"v":33100,"d":"33,100"},{"v":3577,"d":"3,577"},{"v":1055,"d":"1,055"},{"v":1611,"d":"1,611"},407,{"v":22900,"d":"22,900"}]
[1999,{"v":62313.82,"d":"62,314"},349,0,{"v":52584,"d":"52,584"},{"v":5500,"d":"5,500"},{"v":38900,"d":"38,900"},{"v":3585,"d":"3,585"},{"v":2069,"d":"2,069"},{"v":1753,"d":"1,753"},977,{"v":25900,"d":"25,900"}]
[2000,{"v":71131.79999999999,"d":"71,132"},{"v":1149,"d":"1,149"},249,{"v":55788,"d":"55,788"},{"v":9000,"d":"9,000"},{"v":37594,"d":"37,594"},{"v":3641,"d":"3,641"},{"v":2199,"d":"2,199"},{"v":2515,"d":"2,515"},{"v":1418,"d":"1,418"},{"v":24100,"d":"24,100"}]
[2001,{"v":99155,"d":"99,155"},{"v":3700,"d":"3,700"},{"v":4300,"d":"4,300"},{"v":78436,"d":"78,436"},{"v":7600,"d":"7,600"},{"v":52700,"d":"52,700"},{"v":5329,"d":"5,329"},{"v":1609,"d":"1,609"},{"v":3777,"d":"3,777"},{"v":1796,"d":"1,796"},{"v":29000,"d":"29,000"}]
[2002,{"v":146305,"d":"146,305"},{"v":7900,"d":"7,900"},{"v":5800,"d":"5,800"},{"v":120161,"d":"120,161"},{"v":10800,"d":"10,800"},{"v":83100,"d":"83,100"},{"v":5905,"d":"5,905"},{"v":5152,"d":"5,152"},{"v":3514,"d":"3,514"},{"v":2912,"d":"2,912"},{"v":58300,"d":"58,300"}]
[2003,{"v":161376.7,"d":"161,377"},{"v":1900,"d":"1,900"},{"v":8200,"d":"8,200"},{"v":123355,"d":"123,355"},{"v":13500,"d":"13,500"},{"v":87600,"d":"87,600"},{"v":5615,"d":"5,615"},{"v":15954,"d":"15,954"},{"v":5040,"d":"5,040"},{"v":4556,"d":"4,556"},{"v":50286,"d":"50,286"}]
[2004,{"v":194366.72,"d":"194,367"},{"v":8500,"d":"8,500"},{"v":7500,"d":"7,500"},{"v":143240,"d":"143,240"},{"v":12000,"d":"12,000"},{"v":95200,"d":"95,200"},{"v":12680,"d":"12,680"},{"v":16511,"d":"16,511"},{"v":7475,"d":"7,475"},{"v":4286,"d":"4,286"},{"v":70880,"d":"70,880"}]
[2005,{"v":85876.345,"d":"85,876"},{"v":3400,"d":"3,400"},{"v":4400,"d":"4,400"},{"v":59471,"d":"59,471"},{"v":5800,"d":"5,800"},{"v":35453,"d":"35,453"},{"v":7668,"d":"7,668"},{"v":9379,"d":"9,379"},{"v":3512,"d":"3,512"},{"v":3367,"d":"3,367"},{"v":35865,"d":"35,865"}]
[2006,{"v":90416.66,"d":"90,417"},{"v":3000,"d":"3,000"},{"v":2900,"d":"2,900"},{"v":59311,"d":"59,311"},{"v":7200,"d":"7,200"},{"v":36851,"d":"36,851"},{"v":4382,"d":"4,382"},{"v":6963,"d":"6,963"},{"v":7301,"d":"7,301"},{"v":5458,"d":"5,458"},{"v":38623,"d":"38,623"}]
[2007,{"v":68796.435,"d":"68,796"},{"v":1900,"d":"1,900"},{"v":2600,"d":"2,600"},{"v":39943,"d":"39,943"},{"v":5700,"d":"5,700"},{"v":22818,"d":"22,818"},{"v":2813,"d":"2,813"},{"v":3975,"d":"3,975"},{"v":7596,"d":"7,596"},{"v":8030,"d":"8,030"},{"v":27756,"d":"27,756"}]
[2008,{"v":42740.043000000005,"d":"42,740"},100,700,{"v":26615,"d":"26,615"},{"v":4600,"d":"4,600"},{"v":14151,"d":"14,151"},{"v":5994,"d":"5,994"},{"v":2986,"d":"2,986"},{"v":2215,"d":"2,215"},{"v":1623,"d":"1,623"},{"v":18407,"d":"18,407"}]
[2009,{"v":48907.100999999995,"d":"48,907"},300,{"v":2000,"d":"2,000"},{"v":35432,"d":"35,432"},{"v":4500,"d":"4,500"},{"v":25795,"d":"25,795"},{"v":2428.6626,"d":"2,429"},{"v":6034,"d":"6,034"},{"v":1493,"d":"1,493"},404,{"v":22496,"d":"22,496"}]
[2010,{"v":150374.17699999997,"d":"150,374"},{"v":3300,"d":"3,300"},{"v":6200,"d":"6,200"},{"v":107675,"d":"107,675"},{"v":22700,"d":"22,700"},{"v":65293,"d":"65,293"},{"v":7652,"d":"7,652"},{"v":8887,"d":"8,887"},{"v":2347,"d":"2,347"},977,{"v":42646,"d":"42,646"}]
[2011,{"v":98605.16699999999,"d":"98,605"},{"v":2300,"d":"2,300"},{"v":2500,"d":"2,500"},{"v":76549,"d":"76,549"},{"v":22800,"d":"22,800"},{"v":43748,"d":"43,748"},{"v":5721,"d":"5,721"},{"v":5860,"d":"5,860"},{"v":1310,"d":"1,310"},776,{"v":31030,"d":"31,030"}]
[2012,{"v":92142.4,"d":"92,142"},{"v":2300,"d":"2,300"},{"v":3700,"d":"3,700"},{"v":63037,"d":"63,037"},{"v":15800,"d":"15,800"},{"v":35899,"d":"35,899"},{"v":5037.9216154780615,"d":"5,038"},{"v":12644.851999999999,"d":"12,645"},{"v":1895,"d":"1,895"},{"v":889.0263,"d":"889"},{"v":32106,"d":"32,106"}]
[2013,{"v":66728.854,"d":"66,729"},{"v":1800,"d":"1,800"},{"v":1798,"d":"1,798"},{"v":44880,"d":"44,880"},{"v":7400,"d":"7,400"},{"v":27897,"d":"27,897"},{"v":5700,"d":"5,700"},{"v":8656,"d":"8,656"},{"v":1574,"d":"1,574"},{"v":1014,"d":"1,014"},{"v":26892,"d":"26,892"}]
[2014,{"v":69006.16500000001,"d":"69,006"},{"v":1300,"d":"1,300"},{"v":2700,"d":"2,700"},{"v":49765,"d":"49,765"},{"v":7900,"d":"7,900"},{"v":30071,"d":"30,071"},{"v":5971,"d":"5,971"},{"v":8957,"d":"8,957"},{"v":1482,"d":"1,482"},{"v":1013,"d":"1,013"},{"v":27783,"d":"27,783"}]
[2015,{"v":131393.587,"d":"131,394"},{"v":2649,"d":"2,649"},{"v":4266,"d":"4,266"},{"v":84532,"d":"84,532"},{"v":13552,"d":"13,552"},{"v":53088,"d":"53,088"},{"v":4000,"d":"4,000"},{"v":23933,"d":"23,933"},{"v":1006,"d":"1,006"},{"v":3149,"d":"3,149"},{"v":52237,"d":"52,237"}]
[2016,{"v":87976.20300000001,"d":"87,976"},{"v":1200,"d":"1,200"},{"v":2600,"d":"2,600"},{"v":47225,"d":"47,225"},{"v":6000,"d":"6,000"},{"v":30317,"d":"30,317"},{"v":4179,"d":"4,179"},{"v":22478,"d":"22,478"},473,{"v":3980,"d":"3,980"},{"v":31303,"d":"31,303"}]
[2017,{"v":96060,"d":"96,060"},{"v":1300,"d":"1,300"},{"v":1800,"d":"1,800"},{"v":50774,"d":"50,774"},{"v":7400,"d":"7,400"},{"v":34186,"d":"34,186"},{"v":7803,"d":"7,803"},{"v":14639,"d":"14,639"},{"v":2338,"d":"2,338"},{"v":3515,"d":"3,515"},{"v":25445,"d":"25,445"}]
[2018,{"v":62743,"d":"62,743"},500,{"v":1621,"d":"1,621"},{"v":37441,"d":"37,441"},{"v":6200,"d":"6,200"},{"v":24543,"d":"24,543"},{"v":4838,"d":"4,838"},{"v":4076,"d":"4,076"},{"v":3454,"d":"3,454"},{"v":2371,"d":"2,371"},{"v":18540,"d":"18,540"}]
[2019,{"v":37007,"d":"37,007"},300,239,{"v":27292,"d":"27,292"},{"v":4700,"d":"4,700"},{"v":18882,"d":"18,882"},{"v":3424,"d":"3,424"},{"v":1563,"d":"1,563"},{"v":1047,"d":"1,047"},997,{"v":11271,"d":"11,271"}]
[2020,{"v":61716,"d":"61,716"},312,220,{"v":45965,"d":"45,965"},{"v":6078,"d":"6,078"},{"v":33888,"d":"33,888"},{"v":7782,"d":"7,782"},908,{"v":1900,"d":"1,900"},{"v":1158,"d":"1,158"},{"v":21207,"d":"21,207"}]
[2021,{"v":62228,"d":"62,228"},262,{"v":1411,"d":"1,411"},{"v":41308,"d":"41,308"},{"v":6473,"d":"6,473"},{"v":28646,"d":"28,646"},{"v":5676,"d":"5,676"},{"v":3700,"d":"3,700"},{"v":2938,"d":"2,938"},{"v":1857,"d":"1,857"},{"v":19974,"d":"19,974"}]
[2022,{"v":102035,"d":"102,035"},849,{"v":2052,"d":"2,052"},{"v":55391,"d":"55,391"},{"v":9028,"d":"9,028"},{"v":37057,"d":"37,057"},{"v":10289,"d":"10,289"},{"v":7146,"d":"7,146"},{"v":6875,"d":"6,875"},{"v":3148,"d":"3,148"},{"v":34058,"d":"34,058"}]
[2023,{"v":78086,"d":"78,086"},596,{"v":1122,"d":"1,122"},{"v":38373,"d":"38,373"},{"v":6425,"d":"6,425"},{"v":23422,"d":"23,422"},{"v":6312,"d":"6,312"},{"v":6217,"d":"6,217"},{"v":3191,"d":"3,191"},{"v":2525,"d":"2,525"},{"v":21563,"d":"21,563"}]
["2024e/",{"v":73227,"d":"73,227"},449,{"v":1290,"d":"1,290"},{"v":37737,"d":"37,737"},{"v":5144,"d":"5,144"},{"v":21989,"d":"21,989"},{"v":5358,"d":"5,358"},{"v":8983,"d":"8,983"},{"v":2722,"d":"2,722"},{"v":2474,"d":"2,474"},{"v":24209,"d":"24,209"}]
["a/  Includes some upriver origin spring Chinook through 1980.  Beginning in 1981, the lower river catch of lower river spring Chinook is based on mark recoveries rather than the timing of the catch, as in previous years.  Since 1986, GSI and VSI techniques have been used for stock composition analysis.  Commercial catch includes Select Area fisheries.  Sport catch is mainstem Columbia River, does not include tributaries. Catch may include small numbers of jacks.  Sport fishery closed in 1995 to 1997."]
["b/  Prior to 1988, the escapement goal at Willamette Falls was 30,000 to 35,000.  Beginning in 1988, the goal was dependent on run size under the Willamette Basin Fish Management Plan.  Since 2001, hatchery escapement targets are set in the Fisheries Management and Evaluation Plan developed by ODFW.  Lower Willamette sport catch may include small numbers of jacks."]
["c/  Includes hatchery escapement, tributary recreational catch, and natural spawning escapement for 1975 to present.  The years 1971-1973 are based on using the 1975-1976 Cowlitz River recreational fishery adult harvest rates."]
["d/  Includes hatcheries operated by all agencies.  Values are included in the totals for the tributary runs."]
["e/  Preliminary."]
{"$rows_empty":29}
["TABLE B-12.  Estimates of minimum inriver run size, catch, and escapement in numbers of Columbia River adult spring Chinook destined for areas below Bonneville Dam."]
[{"$nulls":4},"Tributary Runs"]
[null,"Minimum Columbia R. Returnb/","Lower River Catcha/",null,"Willamette"]
["Year or Average",null,"Non-Indian",null,null,"L. Willamette Sport Catch"," Will. Falls Escapementb/",{"$nulls":4}," Hatchery Escapementd/"]
[null,null,"Commercial","Sport","  Run Size",null,null,"  Sandy","  Cowlitzc/","  Lewisc/","  Kalama"]
["1971-1975",{"$f":"AVERAGE(B6:B10)","v":{"v":84000,"d":"84,000"}},{"$f":"AVERAGE(C6:C10)","v":{"v":13800,"d":"13,800"}},{"v":3700,"d":"3,700"},{"v":53300,"d":"53,300"},{"v":17000,"d":"17,000"},{"v":34300,"d":"34,300"},"--",{"v":11900,"d":"11,900"},200,{"v":1100,"d":"1,100"},{"v":20000,"d":"20,000"}]
["1976-1980",{"$f":"AVERAGE(B11:B15)","v":{"v":84362.43639906555,"d":"84,362"}},{"$f":"AVERAGE(C11:C15)","v":{"v":6160,"d":"6,160"}},{"v":2720,"d":"2,720"},{"v":51240,"d":"51,240"},{"v":14380,"d":"14,380"},{"v":31420,"d":"31,420"},975,{"v":19680,"d":"19,680"},{"v":2980,"d":"2,980"},{"v":2020,"d":"2,020"},{"v":26580,"d":"26,580"}]
["1981-1985",{"$f":"AVERAGE(B16:B20)","v":{"v":93220,"d":"93,220"}},{"$f":"AVERAGE(C16:C20)","v":{"v":6680,"d":"6,680"}},{"v":1840,"d":"1,840"},{"v":67700,"d":"67,700"},{"v":15620,"d":"15,620"},{"v":35580,"d":"35,580"},{"v":1940,"d":"1,940"},{"v":19960,"d":"19,960"},{"v":4220,"d":"4,220"},{"v":3740,"d":"3,740"},{"v":28840,"d":"28,840"}]
["1986-1990",{"$f":"AVERAGE(B21:B25)","v":{"v":123833.54364530528,"d":"123,834"}},{"$f":"AVERAGE(C21:C25)","v":{"v":11980,"d":"11,980"}},{"v":4329.8,"d":"4,330"},{"v":103100,"d":"103,100"},{"v":21140,"d":"21,140"},{"v":58760,"d":"58,760"},{"v":2425.4,"d":"2,425"},{"v":10691,"d":"10,691"},{"v":11339.8,"d":"11,340"},{"v":1877.4,"d":"1,877"},{"v":32460,"d":"32,460"}]
["1991-1995",{"$f":"AVERAGE(B26:B30)","v":{"v":85836.95277549687,"d":"85,837"}},{"$f":"AVERAGE(C26:C30)","v":{"v":3680,"d":"3,680"}},{"v":2300,"d":"2,300"},{"v":66038.6,"d":"66,039"},{"v":18180,"d":"18,180"},{"v":32580,"d":"32,580"},{"v":4919.8,"d":"4,920"},{"v":6801.4,"d":"6,801"},{"v":5869.6,"d":"5,870"},{"v":1975.8,"d":"1,976"},{"v":23700,"d":"23,700"}]
["1996-2000",{"$f":"AVERAGE(B31:B35)","v":{"v":54551.924,"d":"54,552"}},{"$f":"AVERAGE(C31:C35)","v":{"v":409.4,"d":"409"}},{"v":59.6,"d":"60"},{"v":43952.6,"d":"43,953"},{"v":5060,"d":"5,060"},{"v":31238.8,"d":"31,239"},{"v":3802.8,"d":"3,803"},{"v":1797.4,"d":"1,797"},{"v":1961,"d":"1,961"},{"v":786.8,"d":"787"},{"v":21380,"d":"21,380"}]
["2001-2005",{"$f":"AVERAGE(B36:B40)","v":{"v":137415.953,"d":"137,416"}},{"$f":"AVERAGE(C36:C40)","v":{"v":5080,"d":"5,080"}},{"v":6040,"d":"6,040"},{"v":104932.6,"d":"104,933"},{"v":9940,"d":"9,940"},{"v":70810.6,"d":"70,811"},{"v":7439.4,"d":"7,439"},{"v":9721,"d":"9,721"},{"v":4663.6,"d":"4,664"},{"v":3383.4,"d":"3,383"},{"v":48866.2,"d":"48,866"}]
["2006-2010",{"$f":"AVERAGE(B41:B45)","v":{"v":80246.8832,"d":"80,247"}},{"$f":"AVERAGE(C41:C45)","v":{"v":1720,"d":"1,720"}},{"v":2880,"d":"2,880"},{"v":53795.2,"d":"53,795"},{"v":8940,"d":"8,940"},{"v":32981.6,"d":"32,982"},{"v":4653.93252,"d":"4,654"},{"v":5769,"d":"5,769"},{"v":4190.4,"d":"4,190"},{"v":3298.4,"d":"3,298"},{"v":29985.6,"d":"29,986"}]
[2011,{"$f":"B46","v":{"v":98605.16699999999,"d":"98,605"}},{"v":2300,"d":"2,300"},{"v":2500,"d":"2,500"},{"v":76549,"d":"76,549"},{"v":22800,"d":"22,800"},{"v":43748,"d":"43,748"},{"v":5721,"d":"5,721"},{"v":5860,"d":"5,860"},{"v":1310,"d":"1,310"},776,{"v":31030,"d":"31,030"}]
[2012,{"$f":"B47","v":{"v":92142.4,"d":"92,142"}},{"v":2300,"d":"2,300"},{"v":3700,"d":"3,700"},{"v":63037,"d":"63,037"},{"v":15800,"d":"15,800"},{"v":35899,"d":"35,899"},{"v":5037.9216154780615,"d":"5,038"},{"v":12644.851999999999,"d":"12,645"},{"v":1895,"d":"1,895"},{"v":889.0263,"d":"889"},{"v":32106,"d":"32,106"}]
[2013,{"$f":"B48","v":{"v":66728.854,"d":"66,729"}},{"v":1800,"d":"1,800"},{"v":1798,"d":"1,798"},{"v":44880,"d":"44,880"},{"v":7400,"d":"7,400"},{"v":27897,"d":"27,897"},{"v":5700,"d":"5,700"},{"v":8656,"d":"8,656"},{"v":1574,"d":"1,574"},{"v":1014,"d":"1,014"},{"v":26892,"d":"26,892"}]
[2014,{"$f":"B49","v":{"v":69006.16500000001,"d":"69,006"}},{"v":1300,"d":"1,300"},{"v":2700,"d":"2,700"},{"v":49765,"d":"49,765"},{"v":7900,"d":"7,900"},{"v":30071,"d":"30,071"},{"v":5971,"d":"5,971"},{"v":8957,"d":"8,957"},{"v":1482,"d":"1,482"},{"v":1013,"d":"1,013"},{"v":27783,"d":"27,783"}]
[2015,{"$f":"B50","v":{"v":131393.587,"d":"131,394"}},{"v":2649,"d":"2,649"},{"v":4266,"d":"4,266"},{"v":84532,"d":"84,532"},{"v":13552,"d":"13,552"},{"v":53088,"d":"53,088"},{"v":4000,"d":"4,000"},{"v":23933,"d":"23,933"},{"v":1006,"d":"1,006"},{"v":3149,"d":"3,149"},{"v":52237,"d":"52,237"}]
[2016,{"$f":"B51","v":{"v":87976.20300000001,"d":"87,976"}},{"v":1200,"d":"1,200"},{"v":2600,"d":"2,600"},{"v":47225,"d":"47,225"},{"v":6000,"d":"6,000"},{"v":30317,"d":"30,317"},{"v":4179,"d":"4,179"},{"v":22478,"d":"22,478"},473,{"v":3980,"d":"3,980"},{"v":31303,"d":"31,303"}]
[2017,{"$f":"B52","v":{"v":96060,"d":"96,060"}},{"v":1300,"d":"1,300"},{"v":1800,"d":"1,800"},{"v":50774,"d":"50,774"},{"v":7400,"d":"7,400"},{"v":34186,"d":"34,186"},{"v":7803,"d":"7,803"},{"v":14639,"d":"14,639"},{"v":2338,"d":"2,338"},{"v":3515,"d":"3,515"},{"v":25445,"d":"25,445"}]
[2018,{"$f":"B53","v":{"v":62743,"d":"62,743"}},500,{"v":1621,"d":"1,621"},{"v":37441,"d":"37,441"},{"v":6200,"d":"6,200"},{"v":24543,"d":"24,543"},{"v":4838,"d":"4,838"},{"v":4076,"d":"4,076"},{"v":3454,"d":"3,454"},{"v":2371,"d":"2,371"},{"v":18540,"d":"18,540"}]
[2019,{"$f":"B54","v":{"v":37007,"d":"37,007"}},300,239,{"v":27292,"d":"27,292"},{"v":4700,"d":"4,700"},{"v":18882,"d":"18,882"},{"v":3424,"d":"3,424"},{"v":1563,"d":"1,563"},{"v":1047,"d":"1,047"},997,{"v":11271,"d":"11,271"}]
[2020,{"$f":"B55","v":{"v":61716,"d":"61,716"}},312,220,{"v":45965,"d":"45,965"},{"v":6078,"d":"6,078"},{"v":33888,"d":"33,888"},{"v":7782,"d":"7,782"},908,{"v":1900,"d":"1,900"},{"v":1158,"d":"1,158"},{"v":21207,"d":"21,207"}]
[2021,{"$f":"B56","v":{"v":62228,"d":"62,228"}},262,{"v":1411,"d":"1,411"},{"v":41308,"d":"41,308"},{"v":6473,"d":"6,473"},{"v":28646,"d":"28,646"},{"v":5676,"d":"5,676"},{"v":3700,"d":"3,700"},{"v":2938,"d":"2,938"},{"v":1857,"d":"1,857"},{"v":19974,"d":"19,974"}]
[2022,{"$f":"B57","v":{"v":102035,"d":"102,035"}},849,{"v":2052,"d":"2,052"},{"v":55391,"d":"55,391"},{"v":9028,"d":"9,028"},{"v":37057,"d":"37,057"},{"v":10289,"d":"10,289"},{"v":7146,"d":"7,146"},{"v":6875,"d":"6,875"},{"v":3148,"d":"3,148"},{"v":34058,"d":"34,058"}]
[2023,{"$f":"B58","v":{"v":78086,"d":"78,086"}},596,{"v":1122,"d":"1,122"},{"v":38373,"d":"38,373"},{"v":6425,"d":"6,425"},{"v":23422,"d":"23,422"},{"v":6312,"d":"6,312"},{"v":6217,"d":"6,217"},{"v":3191,"d":"3,191"},{"v":2525,"d":"2,525"},{"v":21563,"d":"21,563"}]
["2024e/",{"v":73227,"d":"73,227"},449,{"v":1290,"d":"1,290"},{"v":37737,"d":"37,737"},{"v":5144,"d":"5,144"},{"v":21989,"d":"21,989"},{"v":5358,"d":"5,358"},{"v":8983,"d":"8,983"},{"v":2722,"d":"2,722"},{"v":2474,"d":"2,474"},{"v":24209,"d":"24,209"}]
[{"$f":"A60","v":"a/  Includes some upriver origin spring Chinook through 1980.  Beginning in 1981, the lower river catch of lower river spring Chinook is based on mark recoveries rather than the timing of the catch, as in previous years.  Since 1986, GSI and VSI techniques have been used for stock composition analysis.  Commercial catch includes Select Area fisheries.  Sport catch is mainstem Columbia River, does not include tributaries. Catch may include small numbers of jacks.  Sport fishery closed in 1995 to 1997."}]
[{"$f":"A61","v":"b/  Prior to 1988, the escapement goal at Willamette Falls was 30,000 to 35,000.  Beginning in 1988, the goal was dependent on run size under the Willamette Basin Fish Management Plan.  Since 2001, hatchery escapement targets are set in the Fisheries Management and Evaluation Plan developed by ODFW.  Lower Willamette sport catch may include small numbers of jacks."}]
["c/  Includes hatchery escapement, tributary recreational catch, and natural spawning escapement for 1975 to present.  The years 1971-1973 are based on using the 1975-1976 Cowlitz River recreational fishery adult harvest rates."]
["d/  Includes hatcheries operated by all agencies.  Values are included in the totals for the tributary runs."]
["e/  Preliminary."]

{"sheet":"B-13","index":14,"n_rows":118,"n_cols":12,"rows_kept":118,"merged":[[2,2,2,3],[3,2,4,2],[86,2,87,2],[116,3392,116,3404],[116,3405,116,3417],[116,3457,116,3469],[116,3470,116,3482],[116,3483,116,3495],[116,3496,116,3508],[116,3509,116,3521],[116,3522,116,3534],[116,3535,116,3547],[116,3548,116,3560],[116,3561,116,3573],[116,3574,116,3586],[116,3587,116,3599],[116,3600,116,3612],[116,3613,116,3625],[116,3626,116,3638],[116,3639,116,3651],[116,3652,116,3664],[116,3665,116,3677],[116,3678,116,3690],[116,3691,116,3703],[116,3704,116,3716],[116,3717,116,3729],[116,3730,116,3742],[116,3743,116,3755],[116,3756,116,3768],[116,3769,116,3781],[116,3782,116,3794],[116,3795,116,3807],[116,3808,116,3820],[116,3821,116,3833],[116,3834,116,3846],[116,3847,116,3859],[116,3860,116,3872],[116,3873,116,3885],[116,3886,116,3898],[116,3899,116,3911],[116,3912,116,3924],[116,3925,116,3937],[116,3938,116,3950],[116,3951,116,3963],[116,3964,116,3976],[116,3977,116,3989],[116,3990,116,4002],[116,4003,116,4015],[116,4016,116,4028],[116,4029,116,4041],[116,4042,116,4054],[116,4055,116,4067],[116,4068,116,4080],[116,4081,116,4093],[116,4094,116,4106],[116,4107,116,4119],[116,4120,116,4132],[116,4133,116,4145],[116,4146,116,4158],[116,4159,116,4171],[116,4172,116,4184],[116,4185,116,4197],[116,4198,116,4210],[116,4211,116,4223],[116,4224,116,4236],[116,4237,116,4249],[116,4250,116,4262],[116,4263,116,4275],[116,4276,116,4288],[116,4289,116,4301],[116,4302,116,4314],[116,4315,116,4327],[116,4328,116,4340],[116,4341,116,4353],[116,4354,116,4366],[116,4367,116,4379],[116,4380,116,4392],[116,4393,116,4405],[116,4406,116,4418],[116,4419,116,4431],[116,4432,116,4444],[116,4445,116,4457],[116,4458,116,4470],[116,4471,116,4483],[116,4484,116,4496],[116,4497,116,4509],[116,4510,116,4522],[116,4523,116,4535],[116,4536,116,4548],[116,4549,116,4561],[116,4562,116,4574],[116,4575,116,4587],[116,4588,116,4600],[116,4601,116,4613],[116,4614,116,4626],[116,4627,116,4639],[116,4640,116,4652],[116,4653,116,4665],[116,4666,116,4678],[116,4679,116,4691],[116,4692,116,4704],[116,4705,116,4717],[116,4718,116,4730],[116,4731,116,4743],[116,4744,116,4756],[116,4757,116,4769],[116,4770,116,4782],[116,4783,116,4795],[116,4796,116,4808],[116,4809,116,4821],[116,4822,116,4834],[116,4835,116,4847],[116,4848,116,4860],[116,4861,116,4873],[116,4874,116,4886],[116,4887,116,4899],[116,4900,116,4912],[116,4913,116,4925],[116,4926,116,4938],[116,4939,116,4951],[116,4952,116,4964],[116,4965,116,4977],[116,4978,116,4990],[116,4991,116,5003],[116,5004,116,5016],[116,5017,116,5029],[116,5030,116,5042],[116,5043,116,5055],[116,5056,116,5068],[116,5069,116,5081],[116,5082,116,5094],[116,5095,116,5107],[116,5108,116,5120],[116,5121,116,5133],[116,5134,116,5146],[116,5147,116,5159],[116,5160,116,5172],[116,5173,116,5185],[116,5186,116,5198],[116,5199,116,5211],[116,5212,116,5224],[116,5225,116,5237],[116,5238,116,5250],[116,5251,116,5263],[116,5264,116,5276],[116,5277,116,5289],[116,5290,116,5302],[116,5303,116,5315],[116,5316,116,5328],[116,5329,116,5341],[116,5342,116,5354],[116,5355,116,5367],[116,5368,116,5380],[116,5381,116,5393],[116,5394,116,5406],[116,5407,116,5419],[116,5420,116,5432],[116,5433,116,5445],[116,5446,116,5458],[116,5459,116,5471],[116,5472,116,5484],[116,5485,116,5497],[116,5498,116,5510],[116,5511,116,5523],[116,5524,116,5536],[116,5537,116,5549],[116,5550,116,5562],[116,5563,116,5575],[116,5576,116,5588],[116,5589,116,5601],[116,5602,116,5614],[116,5615,116,5627],[116,5628,116,5640],[116,5641,116,5653],[116,5654,116,5666],[116,5667,116,5679],[116,5680,116,5692],[116,5693,116,5705],[116,5706,116,5718],[116,5719,116,5731],[116,5732,116,5744],[116,5745,116,5757],[116,5758,116,5770],[116,5771,116,5783],[116,5784,116,5796],[116,5797,116,5809],[116,5810,116,5822],[116,5823,116,5835],[116,5836,116,5848],[116,5849,116,5861],[116,5862,116,5874],[116,5875,116,5887],[116,5888,116,5900],[116,5901,116,5913],[116,5914,116,5926],[116,5927,116,5939],[116,5940,116,5952],[116,5953,116,5965],[116,5966,116,5978],[116,5979,116,5991],[116,5992,116,6004],[116,6005,116,6017],[116,6018,116,6030],[116,6031,116,6043],[116,6044,116,6056],[116,6057,116,6069],[116,6070,116,6082],[116,6083,116,6095],[116,6096,116,6108],[116,6109,116,6121],[116,6122,116,6134],[116,6135,116,6147],[116,6148,116,6160],[116,6161,116,6173],[116,6174,116,6186],[116,6187,116,6199],[116,6200,116,6212],[116,6213,116,6225],[116,6226,116,6238],[116,6239,116,6251],[116,6252,116,6264],[116,6265,116,6277],[116,6278,116,6290],[116,6291,116,6303],[116,6304,116,6316],[116,6317,116,6329],[116,6330,116,6342],[116,6343,116,6355],[116,6356,116,6368],[116,6369,116,6381],[116,6382,116,6394],[116,6395,116,6407],[116,6408,116,6420],[116,6421,116,6433],[116,6434,116,6446],[116,6447,116,6459],[116,6460,116,6472],[116,6473,116,6485],[116,6486,116,6498],[116,6499,116,6511],[116,6512,116,6524],[116,6525,116,6537],[116,6538,116,6550],[116,6551,116,6563],[116,6564,116,6576],[116,6577,116,6589],[116,6590,116,6602],[116,6603,116,6615],[116,6616,116,6628],[116,6629,116,6641],[116,6642,116,6654],[116,6655,116,6667],[116,6668,116,6680],[116,6681,116,6693],[116,6694,116,6706],[116,6707,116,6719],[116,6720,116,6732],[116,6733,116,6745],[116,6746,116,6758],[116,6759,116,6771],[116,6772,116,6784],[116,6785,116,6797],[116,6798,116,6810],[116,6811,116,6823],[116,6824,116,6836],[116,6837,116,6849],[116,6850,116,6862],[116,6863,116,6875],[116,6876,116,6888],[116,6889,116,6901],[116,6902,116,6914],[116,6915,116,6927],[116,6928,116,6940],[116,6941,116,6953],[116,6954,116,6966],[116,6967,116,6979],[116,6980,116,6992],[116,6993,116,7005],[116,7006,116,7018],[116,7019,116,7031],[116,7032,116,7044],[116,7045,116,7057],[116,7058,116,7070],[116,7071,116,7083],[116,7084,116,7096],[116,7097,116,7109],[116,7110,116,7122],[116,7123,116,7135],[116,7136,116,7148],[116,7149,116,7161],[116,7162,116,7174],[116,7175,116,7187],[116,7188,116,7200],[116,7201,116,7213],[116,7214,116,7226],[116,7227,116,7239],[116,7240,116,7252],[116,7253,116,7265],[116,7266,116,7278],[116,7279,116,7291],[116,7292,116,7304],[116,7305,116,7317],[116,7318,116,7330],[116,7331,116,7343],[116,7344,116,7356],[116,7357,116,7369],[116,7370,116,7382],[116,7383,116,7395],[116,7396,116,7408],[116,7409,116,7421],[116,7422,116,7434],[116,7435,116,7447],[116,7448,116,7460],[116,7461,116,7473],[116,7474,116,7486],[116,7487,116,7499],[116,7500,116,7512],[116,7513,116,7525],[116,7526,116,7538],[116,7539,116,7551],[116,7552,116,7564],[116,7565,116,7577],[116,7578,116,7590],[116,7591,116,7603],[116,7604,116,7616],[116,7617,116,7629],[116,7630,116,7642],[116,7643,116,7655],[116,7656,116,7668],[116,7669,116,7681],[116,7682,116,7694],[116,7695,116,7707],[116,7708,116,7720],[116,7721,116,7733],[116,7734,116,7746],[116,7747,116,7759],[116,7760,116,7772],[116,7773,116,7785],[116,7786,116,7798],[116,7799,116,7811],[116,7812,116,7824],[116,7825,116,7837],[116,7838,116,7850],[116,7851,116,7863],[116,7864,116,7876],[116,7877,116,7889],[116,7890,116,7902],[116,7903,116,7915],[116,7916,116,7928],[116,7929,116,7941],[116,7942,116,7954],[116,7955,116,7967],[116,7968,116,7980],[116,7981,116,7993],[116,7994,116,8006],[116,8007,116,8019],[116,8020,116,8032],[116,8033,116,8045],[116,8046,116,8058],[116,8059,116,8071],[116,8072,116,8084],[116,8085,116,8097],[116,8098,116,8110],[116,8111,116,8123],[116,8124,116,8136],[116,8137,116,8149],[116,8150,116,8162],[116,8163,116,8175],[116,8176,116,8188],[116,8189,116,8201],[116,8202,116,8214],[116,8215,116,8227],[116,8228,116,8240],[116,8241,116,8253],[116,8254,116,8266],[116,8267,116,8279],[116,8280,116,8292],[116,8293,116,8305],[116,8306,116,8318],[116,8319,116,8331],[116,8332,116,8344],[116,8345,116,8357],[116,8358,116,8370],[116,8371,116,8383],[116,8384,116,8396],[116,8397,116,8409],[116,8410,116,8422],[116,8423,116,8435],[116,8436,116,8448],[116,8449,116,8461],[116,8462,116,8474],[116,8475,116,8487],[116,8488,116,8500],[116,8501,116,8513],[116,8514,116,8526],[116,8527,116,8539],[116,8540,116,8552],[116,8553,116,8565],[116,8566,116,8578],[116,8579,116,8591],[116,8592,116,8604],[116,8605,116,8617],[116,8618,116,8630],[116,8631,116,8643],[116,8644,116,8656],[116,8657,116,8669],[116,8670,116,8682],[116,8683,116,8695],[116,8696,116,8708],[116,8709,116,8721],[116,8722,116,8734],[116,8735,116,8747],[116,8748,116,8760],[116,8761,116,8773],[116,8774,116,8786],[116,8787,116,8799],[116,8800,116,8812],[116,8813,116,8825],[116,8826,116,8838],[116,8839,116,8851],[116,8852,116,8864],[116,8865,116,8877],[116,8878,116,8890],[116,8891,116,8903],[116,8904,116,8916],[116,8917,116,8929],[116,8930,116,8942],[116,8943,116,8955],[116,8956,116,8968],[116,8969,116,8981],[116,8982,116,8994],[116,8995,116,9007],[116,9008,116,9020],[116,9021,116,9033],[116,9034,116,9046],[116,9047,116,9059],[116,9060,116,9072],[116,9073,116,9085],[116,9086,116,9098],[116,9099,116,9111],[116,9112,116,9124],[116,9125,116,9137],[116,9138,116,9150],[116,9151,116,9163],[116,9164,116,9176],[116,9177,116,9189],[116,9190,116,9202],[116,9203,116,9215],[116,9216,116,9228],[116,9229,116,9241],[116,9242,116,9254],[116,9255,116,9267],[116,9268,116,9280],[116,9281,116,9293],[116,9294,116,9306],[116,9307,116,9319],[116,9320,116,9332],[116,9333,116,9345],[116,9346,116,9358],[116,9359,116,9371],[116,9372,116,9384],[116,9385,116,9397],[116,9398,116,9410],[116,9411,116,9423],[116,9424,116,9436],[116,9437,116,9449],[116,9450,116,9462],[116,9463,116,9475],[116,9476,116,9488],[116,9489,116,9501],[116,9502,116,9514],[116,9515,116,9527],[116,9528,116,9540],[116,9541,116,9553],[116,9554,116,9566],[116,9567,116,9579],[116,9580,116,9592],[116,9593,116,9605],[116,9606,116,9618],[116,9619,116,9631],[116,9632,116,9644],[116,9645,116,9657],[116,9658,116,9670],[116,9671,116,9683],[116,9684,116,9696],[116,9697,116,9709],[116,9710,116,9722],[116,9723,116,9735],[116,9736,116,9748],[116,9749,116,9761],[116,9762,116,9774],[116,9775,116,9787],[116,9788,116,9800],[116,9801,116,9813],[116,9814,116,9826],[116,9827,116,9839],[116,9840,116,9852],[116,9853,116,9865],[116,9866,116,9878],[116,9879,116,9891],[116,9892,116,9904],[116,9905,116,9917],[116,9918,116,9930],[116,9931,116,9943],[116,9944,116,9956],[116,9957,116,9969],[116,9970,116,9982],[116,9983,116,9995],[116,9996,116,10008],[116,10009,116,10021],[116,10022,116,10034],[116,10035,116,10047],[116,10048,116,10060],[116,10061,116,10073],[116,10074,116,10086],[116,10087,116,10099],[116,10100,116,10112],[116,10113,116,10125],[116,10126,116,10138],[116,10139,116,10151],[116,10152,116,10164],[116,10165,116,10177],[116,10178,116,10190],[116,10191,116,10203],[116,10204,116,10216],[116,10217,116,10229],[116,10230,116,10242],[116,10243,116,10255],[116,10256,116,10268],[116,10269,116,10281],[116,10282,116,10294],[116,10295,116,10307],[116,10308,116,10320],[116,10321,116,10333],[116,10334,116,10346],[116,10347,116,10359],[116,10360,116,10372],[116,10373,116,10385],[116,10386,116,10398],[116,10399,116,10411],[116,10412,116,10424],[116,10425,116,10437],[116,10438,116,10450],[116,10451,116,10463],[116,10464,116,10476],[116,10477,116,10489],[116,10490,116,10502],[116,10503,116,10515],[116,10516,116,10528],[116,10529,116,10541],[116,10542,116,10554],[116,10555,116,10567],[116,10568,116,10580],[116,10581,116,10593],[116,10594,116,10606],[116,10607,116,10619],[116,10620,116,10632],[116,10633,116,10645],[116,10646,116,10658],[116,10659,116,10671],[116,10672,116,10684],[116,10685,116,10697],[116,10698,116,10710],[116,10711,116,10723],[116,10724,116,10736],[116,10737,116,10749],[116,10750,116,10762],[116,10763,116,10775],[116,10776,116,10788],[116,10789,116,10801],[116,10802,116,10814],[116,10815,116,10827],[116,10828,116,10840],[116,10841,116,10853],[116,10854,116,10866],[116,10867,116,10879],[116,10880,116,10892],[116,10893,116,10905],[116,10906,116,10918],[116,10919,116,10931],[116,10932,116,10944],[116,10945,116,10957],[116,10958,116,10970],[116,10971,116,10983],[116,10984,116,10996],[116,10997,116,11009],[116,11010,116,11022],[116,11023,116,11035],[116,11036,116,11048],[116,11049,116,11061],[116,11062,116,11074],[116,11075,116,11087],[116,11088,116,11100],[116,11101,116,11113],[116,11114,116,11126],[116,11127,116,11139],[116,11140,116,11152],[116,11153,116,11165],[116,11166,116,11178],[116,11179,116,11191],[116,11192,116,11204],[116,11205,116,11217],[116,11218,116,11230],[116,11231,116,11243],[116,11244,116,11256],[116,11257,116,11269],[116,11270,116,11282],[116,11283,116,11295],[116,11296,116,11308],[116,11309,116,11321],[116,11322,116,11334],[116,11335,116,11347],[116,11348,116,11360],[116,11361,116,11373],[116,11374,116,11386],[116,11387,116,11399],[116,11400,116,11412],[116,11413,116,11425],[116,11426,116,11438],[116,11439,116,11451],[116,11452,116,11464],[116,11465,116,11477],[116,11478,116,11490],[116,11491,116,11503],[116,11504,116,11516],[116,11517,116,11529],[116,11530,116,11542],[116,11543,116,11555],[116,11556,116,11568],[116,11569,116,11581],[116,11582,116,11594],[116,11595,116,11607],[116,11608,116,11620],[116,11621,116,11633],[116,11634,116,11646],[116,11647,116,11659],[116,11660,116,11672],[116,11673,116,11685],[116,11686,116,11698],[116,11699,116,11711],[116,11712,116,11724],[116,11725,116,11737],[116,11738,116,11750],[116,11751,116,11763],[116,11764,116,11776],[116,11777,116,11789],[116,11790,116,11802],[116,11803,116,11815],[116,11816,116,11828],[116,11829,116,11841],[116,11842,116,11854],[116,11855,116,11867],[116,11868,116,11880],[116,11881,116,11893],[116,11894,116,11906],[116,11907,116,11919],[116,11920,116,11932],[116,11933,116,11945],[116,11946,116,11958],[116,11959,116,11971],[116,11972,116,11984],[116,11985,116,11997],[116,11998,116,12010],[116,12011,116,12023],[116,12024,116,12036],[116,12037,116,12049],[116,12050,116,12062],[116,12063,116,12075],[116,12076,116,12088],[116,12089,116,12101],[116,12102,116,12114],[116,12115,116,12127],[116,12128,116,12140],[116,12141,116,12153],[116,12154,116,12166],[116,12167,116,12179],[116,12180,116,12192],[116,12193,116,12205],[116,12206,116,12218],[116,12219,116,12231],[116,12232,116,12244],[116,12245,116,12257],[116,12258,116,12270],[116,12271,116,12283],[116,12284,116,12296],[116,12297,116,12309],[116,12310,116,12322],[116,12323,116,12335],[116,12336,116,12348],[116,12349,116,12361],[116,12362,116,12374],[116,12375,116,12387],[116,12388,116,12400],[116,12401,116,12413],[116,12414,116,12426],[116,12427,116,12439],[116,12440,116,12452],[116,12453,116,12465],[116,12466,116,12478],[116,12479,116,12491],[116,12492,116,12504],[116,12505,116,12517],[116,12518,116,12530],[116,12531,116,12543],[116,12544,116,12556],[116,12557,116,12569],[116,12570,116,12582],[116,12583,116,12595],[116,12596,116,12608],[116,12609,116,12621],[116,12622,116,12634],[116,12635,116,12647],[116,12648,116,12660],[116,12661,116,12673],[116,12674,116,12686],[116,12687,116,12699],[116,12700,116,12712],[116,12713,116,12725],[116,12726,116,12738],[116,12739,116,12751],[116,12752,116,12764],[116,12765,116,12777],[116,12778,116,12790],[116,12791,116,12803],[116,12804,116,12816],[116,12817,116,12829],[116,12830,116,12842],[116,12843,116,12855],[116,12856,116,12868],[116,12869,116,12881],[116,12882,116,12894],[116,12895,116,12907],[116,12908,116,12920],[116,12921,116,12933],[116,12934,116,12946],[116,12947,116,12959],[116,12960,116,12972],[116,12973,116,12985],[116,12986,116,12998],[116,12999,116,13011],[116,13012,116,13024],[116,13025,116,13037],[116,13038,116,13050],[116,13051,116,13063],[116,13064,116,13076],[116,13077,116,13089],[116,13090,116,13102],[116,13103,116,13115],[116,13116,116,13128],[116,13129,116,13141],[116,13142,116,13154],[116,13155,116,13167],[116,13168,116,13180],[116,13181,116,13193],[116,13194,116,13206],[116,13207,116,13219],[116,13220,116,13232],[116,13233,116,13245],[116,13246,116,13258],[116,13259,116,13271],[116,13272,116,13284],[116,13285,116,13297],[116,13298,116,13310],[116,13311,116,13323],[116,13324,116,13336],[116,13337,116,13349],[116,13350,116,13362],[116,13363,116,13375],[116,13376,116,13388],[116,13389,116,13401],[116,13402,116,13414],[116,13415,116,13427],[116,13428,116,13440],[116,13441,116,13453],[116,13454,116,13466],[116,13467,116,13479],[116,13480,116,13492],[116,13493,116,13505],[116,13506,116,13518],[116,13519,116,13531],[116,13532,116,13544],[116,13545,116,13557],[116,13558,116,13570],[116,13571,116,13583],[116,13584,116,13596],[116,13597,116,13609],[116,13610,116,13622],[116,13623,116,13635],[116,13636,116,13648],[116,13649,116,13661],[116,13662,116,13674],[116,13675,116,13687],[116,13688,116,13700],[116,13701,116,13713],[116,13714,116,13726],[116,13727,116,13739],[116,13740,116,13752],[116,13753,116,13765],[116,13766,116,13778],[116,13779,116,13791],[116,13792,116,13804],[116,13805,116,13817],[116,13818,116,13830],[116,13831,116,13843],[116,13844,116,13856],[116,13857,116,13869],[116,13870,116,13882],[116,13883,116,13895],[116,13896,116,13908],[116,13909,116,13921],[116,13922,116,13934],[116,13935,116,13947],[116,13948,116,13960],[116,13961,116,13973],[116,13974,116,13986],[116,13987,116,13999],[116,14000,116,14012],[116,14013,116,14025],[116,14026,116,14038],[116,14039,116,14051],[116,14052,116,14064],[116,14065,116,14077],[116,14078,116,14090],[116,14091,116,14103],[116,14104,116,14116],[116,14117,116,14129],[116,14130,116,14142],[116,14143,116,14155],[116,14156,116,14168],[116,14169,116,14181],[116,14182,116,14194],[116,14195,116,14207],[116,14208,116,14220],[116,14221,116,14233],[116,14234,116,14246],[116,14247,116,14259],[116,14260,116,14272],[116,14273,116,14285],[116,14286,116,14298],[116,14299,116,14311],[116,14312,116,14324],[116,14325,116,14337],[116,14338,116,14350],[116,14351,116,14363],[116,14364,116,14376],[116,14377,116,14389],[116,14390,116,14402],[116,14403,116,14415],[116,14416,116,14428],[116,14429,116,14441],[116,14442,116,14454],[116,14455,116,14467],[116,14468,116,14480],[116,14481,116,14493],[116,14494,116,14506],[116,14507,116,14519],[116,14520,116,14532],[116,14533,116,14545],[116,14546,116,14558],[116,14559,116,14571],[116,14572,116,14584],[116,14585,116,14597],[116,14598,116,14610],[116,14611,116,14623],[116,14624,116,14636],[116,14637,116,14649],[116,14650,116,14662],[116,14663,116,14675],[116,14676,116,14688],[116,14689,116,14701],[116,14702,116,14714],[116,14715,116,14727],[116,14728,116,14740],[116,14741,116,14753],[116,14754,116,14766],[116,14767,116,14779],[116,14780,116,14792],[116,14793,116,14805],[116,14806,116,14818],[116,14819,116,14831],[116,14832,116,14844],[116,14845,116,14857],[116,14858,116,14870],[116,14871,116,14883],[116,14884,116,14896],[116,14897,116,14909],[116,14910,116,14922],[116,14923,116,14935],[116,14936,116,14948],[116,14949,116,14961],[116,14962,116,14974],[116,14975,116,14987],[116,14988,116,15000],[116,15001,116,15013],[116,15014,116,15026],[116,15027,116,15039],[116,15040,116,15052],[116,15053,116,15065],[116,15066,116,15078],[116,15079,116,15091],[116,15092,116,15104],[116,15105,116,15117],[116,15118,116,15130],[116,15131,116,15143],[116,15144,116,15156],[116,15157,116,15169],[116,15170,116,15182],[116,15183,116,15195],[116,15196,116,15208],[116,15209,116,15221],[116,15222,116,15234],[116,15235,116,15247],[116,15248,116,15260],[116,15261,116,15273],[116,15274,116,15286],[116,15287,116,15299],[116,15300,116,15312],[116,15313,116,15325],[116,15326,116,15338],[116,15339,116,15351],[116,15352,116,15364],[116,15365,116,15377],[116,15378,116,15390],[116,15391,116,15403],[116,15404,116,15416],[116,15417,116,15429],[116,15430,116,15442],[116,15443,116,15455],[116,15456,116,15468],[116,15469,116,15481],[116,15482,116,15494],[116,15495,116,15507],[116,15508,116,15520],[116,15521,116,15533],[116,15534,116,15546],[116,15547,116,15559],[116,15560,116,15572],[116,15573,116,15585],[116,15586,116,15598],[116,15599,116,15611],[116,15612,116,15624],[116,15625,116,15637],[116,15638,116,15650],[116,15651,116,15663],[116,15664,116,15676],[116,15677,116,15689],[116,15690,116,15702],[116,15703,116,15715],[116,15716,116,15728],[116,15729,116,15741],[116,15742,116,15754],[116,15755,116,15767],[116,15768,116,15780],[116,15781,116,15793],[116,15794,116,15806],[116,15807,116,15819],[116,15820,116,15832],[116,15833,116,15845],[116,15846,116,15858],[116,15859,116,15871],[116,15872,116,15884],[116,15885,116,15897],[116,15898,116,15910],[116,15911,116,15923],[116,15924,116,15936],[116,15937,116,15949],[116,15950,116,15962],[116,15963,116,15975],[116,15976,116,15988],[116,15989,116,16001],[116,16002,116,16014],[116,16015,116,16027],[116,16028,116,16040],[116,16041,116,16053],[116,16054,116,16066],[116,16067,116,16079],[116,16080,116,16092],[116,16093,116,16105],[116,16106,116,16118],[116,16119,116,16131],[116,16132,116,16144],[116,16145,116,16157],[116,16158,116,16170],[116,16171,116,16183],[116,16184,116,16196],[116,16197,116,16209],[116,16210,116,16222],[116,16223,116,16235],[116,16236,116,16248],[116,16249,116,16261],[116,16262,116,16274],[116,16275,116,16287],[116,16288,116,16300],[116,16301,116,16313],[116,16314,116,16326],[116,16327,116,16339],[116,16340,116,16352],[116,16353,116,16365],[116,16366,116,16378],[116,16379,116,16382]],"merged_total":7605,"flags":["merged_cut"]}
["TABLE B-13.  Estimates of inriver run size, catch, and escapement in numbers of Columbia River adult spring Chinook destined for areas above Bonneville Dam.a/ "]
[]
[null,"Minimum Columbia R. Returnb/","Lower River Catchc/",null,null,"Catch Above Bonneville Dam "]
["Year or Avg.",null,"Non-Indian Commercial",null," Bonneville Dam Countd/","Sporte/"," Treaty Indianf/","Non-Treaty Tribalg/","Snake River Escapementh/",null,"Rock Island Dam Count"]
[{"$nulls":3},"Sport",{"$nulls":4},"Hatchery","Wild","Hatchery","Wild"]
[1971]
[1972]
[1973]
[1974]
[1975]
[1976]
[1977]
[1978]
[1979,{"v":54227.98299999115,"d":"54,228"},{"v":248.98299999115292,"d":"249"},0,{"v":53979,"d":"53,979"},0,{"v":2090,"d":"2,090"},0,{"v":3792.222222222222,"d":"3,792"},{"v":6180.777777777777,"d":"6,181"},{"v":3232.2285151440533,"d":"3,232"},{"v":2982.7714848559467,"d":"2,983"}]
[1980,{"v":57691.63791172221,"d":"57,692"},{"v":121.6379117222123,"d":"122"},0,{"v":57570,"d":"57,570"},0,{"v":1855,"d":"1,855"},0,{"v":2014.4444444444443,"d":"2,014"},{"v":6645.555555555556,"d":"6,646"},{"v":3818.83853820598,"d":"3,819"},{"v":2772.16146179402,"d":"2,772"}]
[1981,{"v":67400.66153324176,"d":"67,401"},{"v":740.6615332417537,"d":"741"},207,{"v":66453,"d":"66,453"},0,{"v":3398,"d":"3,398"},0,{"v":5103.333333333333,"d":"5,103"},{"v":12173,"d":"12,173"},{"v":4383.577861862167,"d":"4,384"},{"v":3226.422138137833,"d":"3,226"}]
[1982,{"v":77246.32131881783,"d":"77,246"},{"v":799.321318817837,"d":"799"},559,{"v":75888,"d":"75,888"},0,{"v":5308,"d":"5,308"},0,{"v":5270,"d":"5,270"},{"v":11819,"d":"11,819"},{"v":4578.874046582725,"d":"4,579"},{"v":2989.125953417275,"d":"2,989"}]
[1983,{"v":62911.566168194164,"d":"62,912"},{"v":2472.5661681941606,"d":"2,473"},548,{"v":59891,"d":"59,891"},0,{"v":2531,"d":"2,531"},0,{"v":3566.6666666666665,"d":"3,567"},{"v":10424.333333333334,"d":"10,424"},{"v":5264.50664210976,"d":"5,265"},{"v":4234.49335789024,"d":"4,234"}]
[1984,{"v":52357.28523911791,"d":"52,357"},{"v":1528.285239117909,"d":"1,528"},285,{"v":50544,"d":"50,544"},0,{"v":3475,"d":"3,475"},0,{"v":4011.111111111111,"d":"4,011"},{"v":8265.888888888889,"d":"8,266"},{"v":6922.354101653623,"d":"6,922"},{"v":4605.645898346377,"d":"4,606"}]
[1985,{"v":92284,"d":"92,284"},{"v":2988,"d":"2,988"},364,{"v":88932,"d":"88,932"},0,{"v":3135,"d":"3,135"},0,{"v":19587.249999999996,"d":"19,587"},{"v":11272.750000000004,"d":"11,273"},{"v":16217.883806943855,"d":"16,218"},{"v":8935.116193056145,"d":"8,935"}]
[1986,{"v":128314.05047545682,"d":"128,314"},{"v":1366.0504754568217,"d":"1,366"},{"v":1288,"d":"1,288"},{"v":125660,"d":"125,660"},0,{"v":7437,"d":"7,437"},0,{"v":26517.5,"d":"26,518"},{"v":11988.5,"d":"11,989"},{"v":15022.036996123028,"d":"15,022"},{"v":5514.963003876973,"d":"5,515"}]
[1987,{"v":110771.71076093169,"d":"110,772"},{"v":1337.710760931687,"d":"1,338"},395,{"v":109039,"d":"109,039"},0,{"v":6689,"d":"6,689"},0,{"v":24586.25,"d":"24,586"},{"v":10715.75,"d":"10,716"},{"v":12091.9884839639,"d":"12,092"},{"v":6350.0115160361,"d":"6,350"}]
[1988,{"v":106003.11528755868,"d":"106,003"},{"v":5352.115287558686,"d":"5,352"},{"v":1434,"d":"1,434"},{"v":99217,"d":"99,217"},0,{"v":7006,"d":"7,006"},0,{"v":24458.249999999996,"d":"24,458"},{"v":11572.750000000004,"d":"11,573"},{"v":10213.008488453437,"d":"10,213"},{"v":5654.991511546563,"d":"5,655"}]
[1989,{"v":90031.08858753082,"d":"90,031"},{"v":1603.0885875308206,"d":"1,603"},544,{"v":87884,"d":"87,884"},0,{"v":6726,"d":"6,726"},0,{"v":9650.666666666668,"d":"9,651"},{"v":6833.333333333332,"d":"6,833"},{"v":6220.484741427101,"d":"6,220"},{"v":4129.515258572899,"d":"4,130"}]
[1990,{"v":105715.28177347367,"d":"105,715"},{"v":2232.2817734736714,"d":"2,232"},{"v":3117,"d":"3,117"},{"v":100366,"d":"100,366"},0,{"v":6928,"d":"6,928"},0,{"v":13291.111111111111,"d":"13,291"},{"v":9850.888888888889,"d":"9,851"},{"v":4797.078214011931,"d":"4,797"},{"v":2805.921785988069,"d":"2,806"}]
[1991,{"v":64478.65181910751,"d":"64,479"},{"v":1016.6518191075056,"d":"1,017"},{"v":1539,"d":"1,539"},{"v":61923,"d":"61,923"},0,{"v":3876,"d":"3,876"},0,{"v":4844.555555555556,"d":"4,845"},{"v":6013.444444444444,"d":"6,013"},{"v":3918.017422221814,"d":"3,918"},{"v":1531.982577778186,"d":"1,532"}]
[1992,{"v":95691.43884863293,"d":"95,691"},{"v":397.43884863292124,"d":"397"},{"v":1183,"d":"1,183"},{"v":94111,"d":"94,111"},0,{"v":5759,"d":"5,759"},0,{"v":12047.777777777777,"d":"12,048"},{"v":13056.222222222223,"d":"13,056"},{"v":12220.62746541182,"d":"12,221"},{"v":3161.3725345881794,"d":"3,161"}]
[1993,{"v":119962.96327890742,"d":"119,963"},{"v":610.9632789074283,"d":"611"},412,{"v":118940,"d":"118,940"},0,7296,0,{"v":16659.333333333332,"d":"16,659"},{"v":12188.666666666668,"d":"12,189"},{"v":16812.4105507557,"d":"16,812"},{"v":3097.589449244301,"d":"3,098"}]
[1994,{"v":24095.182175867772,"d":"24,095"},{"v":527.182175867772,"d":"527"},408,{"v":23160,"d":"23,160"},0,{"v":1161,"d":"1,161"},0,{"v":2095.8888888888887,"d":"2,096"},{"v":1954.1111111111113,"d":"1,954"},{"v":1390.177415980671,"d":"1,390"},{"v":611.8225840193292,"d":"612"}]
[1995,{"v":12792,"d":"12,792"},2,9,{"v":12781,"d":"12,781"},0,633,0,652,{"v":1186,"d":"1,186"},{"v":683.9580509867266,"d":"684"},{"v":108.04194901327341,"d":"108"}]
[1996,{"v":55551,"d":"55,551"},46,10,{"v":55495,"d":"55,495"},0,2911,0,{"v":3249.222222222222,"d":"3,249"},{"v":3774.777777777778,"d":"3,775"},{"v":1576.6255256257018,"d":"1,577"},{"v":310.3744743742983,"d":"310"}]
[1997,{"v":124321,"d":"124,321"},53,16,{"v":124252,"d":"124,252"},0,{"v":8323,"d":"8,323"},0,{"v":40162.48648648649,"d":"40,162"},{"v":4709.513513513513,"d":"4,710"},{"v":5276.68703961791,"d":"5,277"},{"v":630.3129603820895,"d":"630"}]
[1998,{"v":44308,"d":"44,308"},27,14,{"v":44267,"d":"44,267"},0,{"v":2225,"d":"2,225"},0,{"v":6981.222222222222,"d":"6,981"},{"v":7355.777777777778,"d":"7,356"},{"v":2657.0058054003403,"d":"2,657"},{"v":355.99419459965964,"d":"356"}]
[1999,{"v":43067.18,"d":"43,067"},28,{"v":16.18,"d":"16"},{"v":43023,"d":"43,023"},0,{"v":1984,"d":"1,984"},0,{"v":3881.136315154471,"d":"3,881"},{"v":2855.863684845529,"d":"2,856"},{"v":3020.5584644227965,"d":"3,021"},{"v":289.4415355772037,"d":"289"}]
[2000,{"v":186715.2,"d":"186,715"},{"v":251.2,"d":"251"},124,{"v":186340,"d":"186,340"},0,{"v":11352,"d":"11,352"},0,{"v":29806.831573525113,"d":"29,807"},{"v":8255.16842647489,"d":"8,255"},{"v":13889.847748496553,"d":"13,890"},{"v":962.1522515034469,"d":"962"}]
[2001,{"v":439885,"d":"439,885"},{"v":2538,"d":"2,538"},{"v":22719,"d":"22,719"},{"v":414628,"d":"414,628"},{"v":3017.3,"d":"3,017"},{"v":54775,"d":"54,775"},62,{"v":141303.3159420366,"d":"141,303"},{"v":45272.68405796341,"d":"45,273"},{"v":35003.756088728915,"d":"35,004"},{"v":4702.243911271087,"d":"4,702"}]
[2002,{"v":335306,"d":"335,306"},{"v":10150.6,"d":"10,151"},{"v":16268.4,"d":"16,268"},{"v":308887,"d":"308,887"},{"v":2815.4,"d":"2,815"},{"v":33465,"d":"33,465"},59,{"v":67956.24185003722,"d":"67,956"},{"v":30212.75814996278,"d":"30,213"},{"v":22166.11658361169,"d":"22,166"},{"v":1860.8834163883112,"d":"1,861"}]
[2003,{"v":242605.3,"d":"242,605"},{"v":3493,"d":"3,493"},{"v":9611.3,"d":"9,611"},{"v":229501,"d":"229,501"},{"v":2415.9,"d":"2,416"},{"v":18295,"d":"18,295"},15,{"v":55120.312325109866,"d":"55,120"},{"v":32323.687674890134,"d":"32,324"},{"v":15270.009423161708,"d":"15,270"},{"v":1610.9905768382926,"d":"1,611"}]
[2004,{"v":221675.28,"d":"221,675"},{"v":6232.879999999999,"d":"6,233"},{"v":17146.4,"d":"17,146"},{"v":198296,"d":"198,296"},{"v":2854.6,"d":"2,855"},{"v":17484,"d":"17,484"},14,{"v":58775.45979553508,"d":"58,775"},{"v":21366.540204464924,"d":"21,367"},{"v":9300.962042097877,"d":"9,301"},{"v":1617.0379579021223,"d":"1,617"}]
[2005,{"v":106899.655,"d":"106,900"},{"v":2288.855,"d":"2,289"},{"v":7223.8,"d":"7,224"},{"v":97387,"d":"97,387"},{"v":549.5999999999999,"d":"550"},{"v":6164,"d":"6,164"},0,{"v":23054.5236,"d":"23,055"},{"v":10131.4764,"d":"10,131"},{"v":9852.069953488372,"d":"9,852"},{"v":2055.930046511628,"d":"2,056"}]
[2006,{"v":132583.34,"d":"132,583"},{"v":2238.34,"d":"2,238"},{"v":4187,"d":"4,187"},{"v":126158,"d":"126,158"},{"v":1563.9,"d":"1,564"},8401,0,{"v":20357.25192,"d":"20,357"},{"v":9484.748080000001,"d":"9,485"},{"v":8732.575165306342,"d":"8,733"},{"v":911.4248346936578,"d":"911"}]
[2007,{"v":86246.565,"d":"86,247"},{"v":1490.665,"d":"1,491"},{"v":3926.9,"d":"3,927"},{"v":80829,"d":"80,829"},{"v":1857.3999999999999,"d":"1,857"},{"v":5627,"d":"5,627"},0,{"v":23402.2705,"d":"23,402"},{"v":7087.729500000001,"d":"7,088"},{"v":5136.275597541462,"d":"5,136"},{"v":437.7244024585381,"d":"438"}]
[2008,{"v":178626.957,"d":"178,627"},{"v":6291.957,"d":"6,292"},{"v":19612,"d":"19,612"},{"v":151893,"d":"151,893"},{"v":2624.7000000000003,"d":"2,625"},{"v":21391,"d":"21,391"},0,{"v":55772.112,"d":"55,772"},{"v":17573.888,"d":"17,574"},{"v":11840.007558940382,"d":"11,840"},{"v":652.9924410596179,"d":"653"}]
[2009,{"v":169295.899,"d":"169,296"},{"v":4542.999,"d":"4,543"},{"v":15245.9,"d":"15,246"},{"v":147489,"d":"147,489"},{"v":1237.1,"d":"1,237"},13101,0,{"v":50441.49221796538,"d":"50,441"},{"v":14946.50778203462,"d":"14,947"},{"v":11510.410697283674,"d":"11,510"},{"v":1124.589302716326,"d":"1,125"}]
[2010,{"v":315345.82300000003,"d":"315,346"},{"v":9281.422999999999,"d":"9,281"},{"v":23535.4,"d":"23,535"},{"v":277390,"d":"277,390"},{"v":5789.4,"d":"5,789"},{"v":42954,"d":"42,954"},13,{"v":98772.895,"d":"98,773"},{"v":26622.104999999996,"d":"26,622"},{"v":27246.65622630875,"d":"27,247"},{"v":2440.3437736912506,"d":"2,440"}]
[2011,{"v":221157.833,"d":"221,158"},{"v":3929.9330000000004,"d":"3,930"},{"v":9505.9,"d":"9,506"},{"v":205431,"d":"205,431"},{"v":4516.2,"d":"4,516"},{"v":15533,"d":"15,533"},0,{"v":72531.1014,"d":"72,531"},{"v":24525.8986,"d":"24,526"},{"v":11083.535563542368,"d":"11,084"},{"v":2005.4644364576325,"d":"2,005"}]
[2012,{"v":203089.6,"d":"203,090"},{"v":4821,"d":"4,821"},{"v":10421.599999999999,"d":"10,422"},{"v":186448,"d":"186,448"},{"v":3597.3,"d":"3,597"},{"v":17701,"d":"17,701"},1,{"v":55116.72161866844,"d":"55,117"},{"v":25634.278381331562,"d":"25,634"},{"v":15288.879421980288,"d":"15,289"},{"v":3838.1205780197115,"d":"3,838"}]
[2013,{"v":123136.146,"d":"123,136"},{"v":1852.6460000000002,"d":"1,853"},{"v":5342.5,"d":"5,343"},{"v":112934,"d":"112,934"},{"v":1412.5,"d":"1,413"},{"v":9282,"d":"9,282"},8,{"v":29835.317944564435,"d":"29,835"},{"v":14575.682055435565,"d":"14,576"},{"v":11524.401276595745,"d":"11,524"},{"v":1820.5987234042555,"d":"1,821"}]
[2014,{"v":242634.835,"d":"242,635"},{"v":4098.335,"d":"4,098"},{"v":13571.5,"d":"13,572"},{"v":224946,"d":"224,946"},{"v":5627,"d":"5,627"},{"v":24703,"d":"24,703"},37,{"v":62759.02879403177,"d":"62,759"},{"v":32064.971205968228,"d":"32,065"},{"v":20203.022344428366,"d":"20,203"},{"v":3043.9776555716358,"d":"3,044"}]
[2015,{"v":288994.413,"d":"288,994"},{"v":6818.4130000000005,"d":"6,818"},{"v":15689,"d":"15,689"},{"v":265558,"d":"265,558"},{"v":3101.1,"d":"3,101"},{"v":31181,"d":"31,181"},58,{"v":98819.24708493864,"d":"98,819"},{"v":22576.752915061355,"d":"22,577"},{"v":27830.1023010406,"d":"27,830"},{"v":3917.897698959402,"d":"3,918"}]
[2016,{"v":187815.797,"d":"187,816"},{"v":3508.2970000000005,"d":"3,508"},{"v":10166.5,"d":"10,167"},{"v":172614,"d":"172,614"},{"v":2480.4,"d":"2,480"},{"v":17066,"d":"17,066"},35,{"v":58619.90424541665,"d":"58,620"},{"v":16161.095754583352,"d":"16,161"},{"v":15928.875154715735,"d":"15,929"},{"v":2717.1248452842647,"d":"2,717"}]
[2017,{"v":115820.9,"d":"115,821"},{"v":1083,"d":"1,083"},{"v":7197.9,"d":"7,198"},{"v":107524,"d":"107,524"},{"v":83.5,"d":"84"},{"v":8109,"d":"8,109"},35,{"v":32229.415898904383,"d":"32,229"},{"v":4424.584101095617,"d":"4,425"},{"v":6785.453483277348,"d":"6,785"},{"v":1294.5465167226523,"d":"1,295"}]
[2018,{"v":115080.8,"d":"115,081"},692,{"v":5867.8,"d":"5,868"},{"v":108045,"d":"108,045"},{"v":1345.2000000000003,"d":"1,345"},{"v":10892,"d":"10,892"},0,{"v":32338.291346204147,"d":"32,338"},{"v":6631.708653795853,"d":"6,632"},{"v":6730.524933935726,"d":"6,731"},{"v":1163.4750660642742,"d":"1,163"}]
[2019,{"v":73104,"d":"73,104"},304,{"v":1478,"d":"1,478"},{"v":71235,"d":"71,235"},613,{"v":4702,"d":"4,702"},11,{"v":19476,"d":"19,476"},{"v":4140,"d":"4,140"},{"v":8084.4628005657705,"d":"8,084"},{"v":703.5371994342291,"d":"704"}]
[2020,{"v":81300,"d":"81,300"},86,{"v":1381,"d":"1,381"},{"v":79714,"d":"79,714"},878,{"v":4307,"d":"4,307"},8,{"v":21564,"d":"21,564"},{"v":8565,"d":"8,565"},{"v":6472.989277854547,"d":"6,473"},{"v":1122.0107221454525,"d":"1,122"}]
[2021,{"v":91756,"d":"91,756"},382,{"v":4088,"d":"4,088"},{"v":87233,"d":"87,233"},{"v":1251,"d":"1,251"},{"v":4446,"d":"4,446"},11,{"v":28906,"d":"28,906"},{"v":6408,"d":"6,408"},{"v":10073.969646324616,"d":"10,074"},{"v":2255.030353675384,"d":"2,255"}]
[2022,{"v":185379,"d":"185,379"},992,{"v":10371,"d":"10,371"},{"v":173737,"d":"173,737"},{"v":2695,"d":"2,695"},{"v":16307,"d":"16,307"},9,{"v":61286,"d":"61,286"},{"v":17103,"d":"17,103"},{"v":18488.8114,"d":"18,489"},{"v":3998.1886000000004,"d":"3,998"}]
[2023,{"v":141179,"d":"141,179"},581,{"v":3352,"d":"3,352"},{"v":136786,"d":"136,786"},{"v":1528,"d":"1,528"},{"v":12240,"d":"12,240"},20,{"v":46521,"d":"46,521"},{"v":7051,"d":"7,051"},{"v":14350,"d":"14,350"},{"v":1843,"d":"1,843"}]
["2024i/",{"v":116332,"d":"116,332"},412,{"v":4307,"d":"4,307"},{"v":111210,"d":"111,210"},{"v":2389,"d":"2,389"},{"v":6765,"d":"6,765"},13,{"v":48188,"d":"48,188"},{"v":8584,"d":"8,584"},{"v":13379,"d":"13,379"},{"v":1296,"d":"1,296"}]
["a/  Chinook formerly managed separately as Snake River summer Chinook are now grouped with all upriver spring Chinook because of overlap in run timing.   Snake River summer Chinook have been moved from Table B-14 to this table. This table includes all harvest accounted for in U.S. v. OR Spring Management Period mainstem fisheries.  Tributary harvest is not included."]
["b/ Includes adult upriver spring chinook and Snake River summer Chinook."]
["c/  Includes some lower river origin spring Chinook through 1980.  Beginning in 1981, the lower river catch of upriver spring Chinook is based on mark recoveries rather than timing of the catch as in previous years.  Since 1986, GSI techniques have been used for stock composition analysis.  Commercial catch  is from estimated miscellaneous fishery-related impacts from  commercial shad and test fisheries, Select Area fisheries beginning in 1979, and catch and release mortalities from selective fisheries beginning in 2001. Sport catch, including any release mortalities, is from mainstem and Select Area fisheries downstream of Bonneville Dam."]
["d/ Spring counting period is January 1-June 15. "]
["e/ Includes mainstem Columbia R. fisheries in Zone 6 (BON-MCN), McNary to Hwy I-395, Ringold sport (2001-2011), plus the Washington lower Snake River sport fishery."]
["f/ Includes ticketed commercial, over-the-bank sales, and ceremonial and subsistence catch.  Spring season commercial fishery closed in 1975, 1976, and from 1978 to 2000.  Spring Chinook landed during those years were from the winter season fishery and limited spring Ceremonial & Subsistence harvest.   Includes below Bonneville Dam C&S starting in 2008 along with fish taken for tribal use from lower river test fishing."]
["g/ Mainstem catch. Wanapum tribal fishery."]
["h/ Escapement estimated at Lower Granite Dam."]
["i/ Preliminary."]
{"$rows_empty":15}
["TABLE B-13.  Estimates of inriver run size, catch, and escapement in numbers of Columbia River adult spring Chinook destined for areas above Bonneville Dam.  This table includes Snake River summer Chinook.a/  "]
[]
[null,"Minimum Columbia R. Returnb/","Lower River Catchc/",null,null,"Catch Above Bonneville Dam "]
["Year or Avg.",null,"Non-Indian Commercial",null," Bonneville Dam Countd/","Sporte/"," Treaty Indianf/","Non-Treaty Tribalg/","Snake River Escapementh/",null,"Rock Island Dam Count"]
[{"$nulls":3},"Sport",{"$nulls":4},"Hatchery","Wild","Hatchery","Wild"]
["1971-1975",{"$f":"AVERAGE(B6:B10)","v":{"$error":"#DIV/0!"}},{"$f":"AVERAGE(C6:C10)","v":{"$error":"#DIV/0!"}},{"$f":"AVERAGE(D6:D10)","v":{"$error":"#DIV/0!"}},{"$f":"AVERAGE(E6:E10)","v":{"$error":"#DIV/0!"}},null,{"$f":"AVERAGE(G6:G10)","v":{"$error":"#DIV/0!"}},{"$f":"AVERAGE(H6:H10)","v":{"$error":"#DIV/0!"}},{"$f":"AVERAGE(I6:I10)","v":{"$error":"#DIV/0!"}},{"$f":"AVERAGE(J6:J10)","v":{"$error":"#DIV/0!"}},null,{"$f":"AVERAGE(L6:L10)","v":{"$error":"#DIV/0!"}}]
["1981-1985",{"$f":"AVERAGE(B16:B20)","v":{"v":70439.96685187434,"d":"70,440"}},{"v":1705.7668518743321,"d":"1,706"},{"v":392.6,"d":"393"},{"v":68341.6,"d":"68,342"},0,{"v":3569.4,"d":"3,569"},0,{"v":7507.6722222222215,"d":"7,508"},{"v":10790.994444444446,"d":"10,791"},{"$f":"AVERAGE(K16:K20)","v":{"v":7473.439291830427,"d":"7,473"}},{"$f":"AVERAGE(L16:L20)","v":{"v":4798.160708169574,"d":"4,798"}}]
["1986-1990",{"$f":"AVERAGE(B21:B25)","v":{"v":108167.04937699034,"d":"108,167"}},{"v":2378.249376990337,"d":"2,378"},{"v":1355.6,"d":"1,356"},{"v":104433.2,"d":"104,433"},0,{"v":6957.2,"d":"6,957"},0,{"v":19700.755555555555,"d":"19,701"},{"v":10192.244444444445,"d":"10,192"},{"$f":"AVERAGE(K21:K25)","v":{"v":9668.91938479588,"d":"9,669"}},{"$f":"AVERAGE(L21:L25)","v":{"v":4891.0806152041205,"d":"4,891"}}]
["1991-1995",{"$f":"AVERAGE(B26:B30)","v":{"v":63404.04722450313,"d":"63,404"}},{"v":510.84722450312546,"d":"511"},{"v":710.2,"d":"710"},{"v":62183,"d":"62,183"},0,{"v":3745,"d":"3,745"},0,{"v":7259.911111111111,"d":"7,260"},{"v":6879.688888888889,"d":"6,880"},{"$f":"AVERAGE(K26:K30)","v":{"v":7005.038181071347,"d":"7,005"}},{"$f":"AVERAGE(L26:L30)","v":{"v":1702.161818928654,"d":"1,702"}}]
["1996-2000",{"$f":"AVERAGE(B31:B35)","v":{"v":90792.476,"d":"90,792"}},{"v":81.03999999999999,"d":"81"},{"v":36.036,"d":"36"},{"v":90675.4,"d":"90,675"},0,{"v":5359,"d":"5,359"},0,{"v":16816.1797639221,"d":"16,816"},{"v":5390.220236077897,"d":"5,390"},{"$f":"AVERAGE(K31:K35)","v":{"v":5284.14491671266,"d":"5,284"}},{"$f":"AVERAGE(L31:L35)","v":{"v":509.6550832873396,"d":"510"}}]
["2001-2005",{"$f":"AVERAGE(B36:B40)","v":{"v":269274.24700000003,"d":"269,274"}},{"v":4940.6669999999995,"d":"4,941"},{"v":14593.780000000002,"d":"14,594"},{"v":249739.8,"d":"249,740"},{"v":2330.5600000000004,"d":"2,331"},{"v":26036.6,"d":"26,037"},30,{"v":69241.97070254375,"d":"69,242"},{"v":27861.42929745625,"d":"27,861"},{"$f":"AVERAGE(K36:K40)","v":{"v":18318.582818217714,"d":"18,319"}},{"$f":"AVERAGE(L36:L40)","v":{"v":2369.4171817822885,"d":"2,369"}}]
["2006-2010",{"$f":"AVERAGE(B41:B45)","v":{"v":176419.7168,"d":"176,420"}},{"$f":"AVERAGE(C41:C45)","v":{"v":4769.0768,"d":"4,769"}},{"v":13301.440000000002,"d":"13,301"},{"v":156751.8,"d":"156,752"},{"v":2614.5,"d":"2,615"},{"v":18294.8,"d":"18,295"},{"v":2.6,"d":"3"},{"v":49749.20432759308,"d":"49,749"},{"v":15142.995672406923,"d":"15,143"},{"v":12893.185049076123,"d":"12,893"},{"v":1113.4149509238782,"d":"1,113"}]
[2011,{"$f":"B46","v":{"v":221157.833,"d":"221,158"}},{"v":3929.9330000000004,"d":"3,930"},{"v":9505.9,"d":"9,506"},{"v":205431,"d":"205,431"},{"v":4516.2,"d":"4,516"},{"v":15533,"d":"15,533"},0,{"v":72531.1014,"d":"72,531"},{"v":24525.8986,"d":"24,526"},{"$f":"K46","v":{"v":11083.535563542368,"d":"11,084"}},{"v":2005.4644364576325,"d":"2,005"}]
[2012,{"$f":"B47","v":{"v":203089.6,"d":"203,090"}},{"v":4821,"d":"4,821"},{"v":10421.599999999999,"d":"10,422"},{"v":186448,"d":"186,448"},{"v":3597.3,"d":"3,597"},{"v":17701,"d":"17,701"},1,{"v":55116.72161866844,"d":"55,117"},{"v":25634.278381331562,"d":"25,634"},{"v":15288.879421980288,"d":"15,289"},{"v":3838.1205780197115,"d":"3,838"}]
[2013,{"$f":"B48","v":{"v":123136.146,"d":"123,136"}},{"v":1852.6460000000002,"d":"1,853"},{"v":5342.5,"d":"5,343"},{"v":112934,"d":"112,934"},{"v":1412.5,"d":"1,413"},{"v":9282,"d":"9,282"},8,{"v":29835.317944564435,"d":"29,835"},{"v":14575.682055435565,"d":"14,576"},{"v":11524.401276595745,"d":"11,524"},{"v":1820.5987234042555,"d":"1,821"}]
[2014,{"$f":"B49","v":{"v":242634.835,"d":"242,635"}},{"v":4098.335,"d":"4,098"},{"v":13571.5,"d":"13,572"},{"v":224946,"d":"224,946"},{"v":5627,"d":"5,627"},{"v":24703,"d":"24,703"},37,{"v":62759.02879403177,"d":"62,759"},{"v":32064.971205968228,"d":"32,065"},{"v":20203.022344428366,"d":"20,203"},{"v":3043.9776555716358,"d":"3,044"}]
[2015,{"$f":"B50","v":{"v":288994.413,"d":"288,994"}},{"v":6818.4130000000005,"d":"6,818"},{"v":15689,"d":"15,689"},{"v":265558,"d":"265,558"},{"v":3101.1,"d":"3,101"},{"v":31181,"d":"31,181"},58,{"v":98819.24708493864,"d":"98,819"},{"v":22576.752915061355,"d":"22,577"},{"v":27830.1023010406,"d":"27,830"},{"v":3917.897698959402,"d":"3,918"}]
[2016,{"$f":"B51","v":{"v":187815.797,"d":"187,816"}},{"v":3508.2970000000005,"d":"3,508"},{"v":10166.5,"d":"10,167"},{"v":172614,"d":"172,614"},{"v":2480.4,"d":"2,480"},{"v":17066,"d":"17,066"},35,{"v":58619.90424541665,"d":"58,620"},{"v":16161.095754583352,"d":"16,161"},{"v":15928.875154715735,"d":"15,929"},{"v":2717.1248452842647,"d":"2,717"}]
[2017,{"$f":"B52","v":{"v":115820.9,"d":"115,821"}},{"v":1083,"d":"1,083"},{"v":7197.9,"d":"7,198"},{"v":107524,"d":"107,524"},{"v":83.5,"d":"84"},{"v":8109,"d":"8,109"},35,{"v":32229.415898904383,"d":"32,229"},{"v":4424.584101095617,"d":"4,425"},{"v":6785.453483277348,"d":"6,785"},{"v":1294.5465167226523,"d":"1,295"}]
[2018,{"$f":"B53","v":{"v":115080.8,"d":"115,081"}},692,{"v":5867.8,"d":"5,868"},{"v":108045,"d":"108,045"},{"v":1345.2000000000003,"d":"1,345"},{"v":10892,"d":"10,892"},0,{"v":32338.291346204147,"d":"32,338"},{"v":6631.708653795853,"d":"6,632"},{"v":6730.524933935726,"d":"6,731"},{"v":1163.4750660642742,"d":"1,163"}]
[2019,{"$f":"B54","v":{"v":73104,"d":"73,104"}},304,{"v":1478,"d":"1,478"},{"v":71235,"d":"71,235"},613,{"v":4702,"d":"4,702"},11,{"v":19476,"d":"19,476"},{"v":4140,"d":"4,140"},{"v":8084.4628005657705,"d":"8,084"},{"v":703.5371994342291,"d":"704"}]
[2020,{"$f":"B55","v":{"v":81300,"d":"81,300"}},86,{"v":1381,"d":"1,381"},{"v":79714,"d":"79,714"},878,{"v":4307,"d":"4,307"},8,{"v":21564,"d":"21,564"},{"v":8565,"d":"8,565"},{"v":6472.989277854547,"d":"6,473"},{"v":1122.0107221454525,"d":"1,122"}]
[2021,{"$f":"B56","v":{"v":91756,"d":"91,756"}},382,{"v":4088,"d":"4,088"},{"v":87233,"d":"87,233"},{"v":1251,"d":"1,251"},{"v":4446,"d":"4,446"},11,{"v":28906,"d":"28,906"},{"v":6408,"d":"6,408"},{"v":10073.969646324616,"d":"10,074"},{"v":2255.030353675384,"d":"2,255"}]
[2022,{"$f":"B57","v":{"v":185379,"d":"185,379"}},992,{"v":10371,"d":"10,371"},{"v":173737,"d":"173,737"},{"v":2695,"d":"2,695"},{"v":16307,"d":"16,307"},9,{"v":61286,"d":"61,286"},{"v":17103,"d":"17,103"},{"v":18488.8114,"d":"18,489"},{"v":3998.1886000000004,"d":"3,998"}]
[2023,{"$f":"B58","v":{"v":141179,"d":"141,179"}},581,{"v":3352,"d":"3,352"},{"v":136786,"d":"136,786"},{"v":1528,"d":"1,528"},{"v":12240,"d":"12,240"},20,{"v":46521,"d":"46,521"},{"v":7051,"d":"7,051"},{"$f":"K58","v":{"v":14350,"d":"14,350"}},{"v":1843,"d":"1,843"}]
["2024i/",{"v":116332,"d":"116,332"},412,{"v":4307,"d":"4,307"},{"v":111210,"d":"111,210"},{"v":2389,"d":"2,389"},{"v":6765,"d":"6,765"},13,{"v":48188,"d":"48,188"},{"v":8584,"d":"8,584"},{"v":13379,"d":"13,379"},{"v":1296,"d":"1,296"}]
[{"$f":"A60","v":"a/  Chinook formerly managed separately as Snake River summer Chinook are now grouped with all upriver spring Chinook because of overlap in run timing.   Snake River summer Chinook have been moved from Table B-14 to this table. This table includes all harvest accounted for in U.S. v. OR Spring Management Period mainstem fisheries.  Tributary harvest is not included."}]
["b/ Includes adult upriver spring chinook and Snake River summer Chinook."]
["c/  Includes some lower river origin spring Chinook through 1980.  Beginning in 1981, the lower river catch of upriver spring Chinook is based on mark recoveries rather than timing of the catch as in previous years.  Since 1986, GSI techniques have been used for stock composition analysis.  Commercial catch  is from estimated miscellaneous fishery-related impacts from  commercial shad and test fisheries, Select Area fisheries beginning in 1979, and catch and release mortalities from selective fisheries beginning in 2001. Sport catch, including any release mortalities, is from mainstem and Select Area fisheries downstream of Bonneville Dam."]
["d/ Spring counting period is January 1-June 15. "]
["e/ Includes mainstem Columbia R. fisheries in Zone 6 (BON-MCN), McNary to Hwy I-395, Ringold sport (2001-2011), plus the Washington lower Snake River sport fishery."]
["f/ Includes ticketed commercial, over-the-bank sales, and ceremonial and subsistence catch.  Spring season commercial fishery closed in 1975, 1976, and from 1978 to 2000.  Spring Chinook landed during those years were from the winter season fishery and limited spring Ceremonial & Subsistence harvest.   Includes below Bonneville Dam C&S starting in 2008 along with fish taken for tribal use from lower river test fishing."]
["g/ Mainstem catch. Wanapum tribal fishery."]
[{"$f":"A67","v":"h/ Escapement estimated at Lower Granite Dam."}]
["i/ Preliminary."]

{"sheet":"B-14","index":15,"n_rows":124,"n_cols":9,"rows_kept":124,"merged":[[0,0,1,8],[2,1,4,1],[2,2,2,3],[2,5,2,7],[3,0,4,0],[3,2,4,2],[3,4,4,4],[3,5,4,5],[3,6,4,6],[3,7,4,7],[3,8,4,8],[60,0,61,8],[62,0,63,8],[64,0,64,8],[65,0,65,8],[67,0,67,8],[68,0,68,11],[70,0,70,8],[71,0,71,8],[72,0,72,8],[84,0,85,8],[86,1,88,1],[86,2,86,3],[86,5,86,7],[87,0,88,0],[87,2,88,2],[87,4,88,4],[87,5,88,5],[87,6,88,6],[87,7,88,7],[87,8,88,8],[111,0,112,8],[113,0,114,8],[115,0,115,8],[116,0,116,8],[117,0,117,8],[118,0,118,8],[119,0,119,8],[120,0,120,8],[121,0,121,8],[122,0,122,8],[123,0,123,8],[124,0,124,8],[125,0,125,8],[126,0,126,8],[127,0,127,8]]}
["TABLE B-14.  Estimates of inriver run size, catch, and escapement in numbers of Columbia River adult summer Chinook destined for areas above Bonneville Dam.  Excludes Snake River summer Chinook.a/"]
[]
[null,"Minimum Columbia R. Return","Lower River Catch",null,null," Catch above Bonneville Dam",null,null,"Escapement"]
["Year or Avg.",null,"Non-Indian Commercialb/",null," Bonneville Dam Countd/","Sporte/","Treaty Indianf/","Non-Treaty Tribalg/","Rock Island\nDam Counth/"]
[{"$nulls":3},"Sportc/"]
[1971]
[1972]
[1973]
[1974]
[1975]
[1976]
[1977]
[1978]
[1979,{"v":22141.570072634546,"d":"22,142"},{"v":146.57007263454534,"d":"147"},0,{"v":21995,"d":"21,995"},0,987,0,{"v":18797,"d":"18,797"}]
[1980,{"v":22498,"d":"22,498"},{"v":15.833703998311712,"d":"16"},0,{"v":22482,"d":"22,482"},0,{"v":1181,"d":"1,181"},0,{"v":13854,"d":"13,854"}]
[1981,{"v":18746.284412704194,"d":"18,746"},{"v":9.284412704192249,"d":"9"},0,{"v":18737,"d":"18,737"},0,{"v":1364,"d":"1,364"},0,{"v":8639,"d":"8,639"}]
[1982,{"v":14368.762014515496,"d":"14,369"},{"v":116.76201451549628,"d":"117"},0,{"v":14252,"d":"14,252"},0,{"v":1295,"d":"1,295"},0,{"v":6587,"d":"6,587"}]
[1983,{"v":13145.410209758595,"d":"13,145"},{"v":92.41020975859516,"d":"92"},0,{"v":13053,"d":"13,053"},0,297,0,{"v":6334,"d":"6,334"}]
[1984,{"v":18764.7735844115,"d":"18,765"},{"v":21.773584411502796,"d":"22"},0,{"v":18743,"d":"18,743"},0,457,0,{"v":13984,"d":"13,984"}]
[1985,{"v":18522,"d":"18,522"},{"v":35.920731707317074,"d":"36"},0,{"v":18486,"d":"18,486"},0,{"v":1453,"d":"1,453"},0,{"v":14505,"d":"14,505"}]
[1986,{"v":18751.83745557766,"d":"18,752"},{"v":108.83745557766099,"d":"109"},0,{"v":18643,"d":"18,643"},0,{"v":1116,"d":"1,116"},0,{"v":14850,"d":"14,850"}]
[1987,{"v":22714.5377239168,"d":"22,715"},{"v":141.13772391679788,"d":"141"},{"v":6.4,"d":"6"},{"v":22567,"d":"22,567"},0,{"v":1684,"d":"1,684"},0,{"v":13415,"d":"13,415"}]
[1988,{"v":22719.547212441314,"d":"22,720"},{"v":80.94721244131455,"d":"81"},{"v":8.6,"d":"9"},{"v":22630,"d":"22,630"},0,{"v":1497,"d":"1,497"},0,{"v":13634,"d":"13,634"}]
[1989,{"v":22201,"d":"22,201"},{"v":9.200833626863918,"d":"9"},{"v":19.9,"d":"20"},{"v":22172,"d":"22,172"},0,100,0,{"v":17484,"d":"17,484"}]
[1990,{"v":18794,"d":"18,794"},{"v":15.235821834246437,"d":"15"},{"v":3.9000000000000004,"d":"4"},{"v":18775,"d":"18,775"},0,111,0,{"v":13432,"d":"13,432"}]
[1991,{"v":14323,"d":"14,323"},{"v":9.084064316902356,"d":"9"},{"v":0.7999999999999998,"d":"1"},{"v":14313,"d":"14,313"},0,171,0,{"v":10191,"d":"10,191"}]
[1992,{"v":9428.23302636708,"d":"9,428"},{"v":35.233026367078736,"d":"35"},16,{"v":9377,"d":"9,377"},0,46,0,{"v":7706,"d":"7,706"}]
[1993,{"v":14021.477461833314,"d":"14,021"},{"v":80.77746183331243,"d":"81"},{"v":15.7,"d":"16"},{"v":13925,"d":"13,925"},0,328,0,{"v":12927,"d":"12,927"}]
[1994,{"v":14691.013438167316,"d":"14,691"},{"v":22.81343816731566,"d":"23"},{"v":28.200000000000003,"d":"28"},{"v":14640,"d":"14,640"},0,171,0,{"v":12292,"d":"12,292"}]
[1995,{"v":12454.651080550098,"d":"12,455"},{"v":0.05108055009823165,"d":"0"},{"v":13.600000000000001,"d":"14"},{"v":12441,"d":"12,441"},0,417,0,{"v":10623,"d":"10,623"}]
[1996,{"v":12080.3,"d":"12,080"},15,{"v":34.3,"d":"34"},{"v":12031,"d":"12,031"},0,374,0,{"v":9417,"d":"9,417"}]
[1997,{"v":17709,"d":"17,709"},6,{"v":15.5,"d":"16"},{"v":17687,"d":"17,687"},0,270,0,{"v":10063,"d":"10,063"}]
[1998,{"v":15536,"d":"15,536"},{"v":0.8,"d":"1"},{"v":26.799999999999997,"d":"27"},{"v":15508,"d":"15,508"},0,335,0,{"v":11225,"d":"11,225"}]
[1999,{"v":21866.8,"d":"21,867"},1,{"v":50.8,"d":"51"},{"v":21815,"d":"21,815"},0,395,0,{"v":18588,"d":"18,588"}]
[2000,{"v":22595.1,"d":"22,595"},{"v":0.10000000000000009,"d":"0"},17,{"v":22578,"d":"22,578"},0,209,481,{"v":20218,"d":"20,218"}]
[2001,{"v":52960.48,"d":"52,960"},{"v":1.48,"d":"1"},64,{"v":52895,"d":"52,895"},0,692,{"v":2428,"d":"2,428"},{"v":48844,"d":"48,844"}]
[2002,{"v":89524,"d":"89,524"},8,{"v":1446.5,"d":"1,447"},{"v":88069,"d":"88,069"},{"v":148.35,"d":"148"},{"v":2093,"d":"2,093"},{"v":2917,"d":"2,917"},{"v":86825,"d":"86,825"}]
[2003,{"v":83058,"d":"83,058"},36,{"v":1944.8,"d":"1,945"},{"v":81077,"d":"81,077"},{"v":455.4,"d":"455"},{"v":4297,"d":"4,297"},{"v":2401,"d":"2,401"},{"v":81543,"d":"81,543"}]
[2004,{"v":65623,"d":"65,623"},222,{"v":1245.6,"d":"1,246"},{"v":64155,"d":"64,155"},{"v":295.54999999999995,"d":"296"},{"v":8394,"d":"8,394"},{"v":2031,"d":"2,031"},{"v":62311,"d":"62,311"}]
[2005,{"v":60272,"d":"60,272"},{"v":2787,"d":"2,787"},{"v":1621,"d":"1,621"},{"v":55864,"d":"55,864"},{"v":424.9818181818182,"d":"425"},{"v":7642,"d":"7,642"},{"v":1232,"d":"1,232"},{"v":54033,"d":"54,033"}]
[2006,{"v":77573,"d":"77,573"},{"v":4828,"d":"4,828"},{"v":4925.6,"d":"4,926"},{"v":67819,"d":"67,819"},295,{"v":16319,"d":"16,319"},{"v":1556,"d":"1,556"},{"v":61821,"d":"61,821"}]
[2007,{"v":37035,"d":"37,035"},{"v":1122,"d":"1,122"},{"v":2214,"d":"2,214"},{"v":33699,"d":"33,699"},148,{"v":5375,"d":"5,375"},{"v":1364,"d":"1,364"},{"v":28222,"d":"28,222"}]
[2008,{"v":55532,"d":"55,532"},{"v":1429,"d":"1,429"},{"v":2140,"d":"2,140"},{"v":51963,"d":"51,963"},997,{"v":9029,"d":"9,029"},{"v":2049,"d":"2,049"},{"v":38171,"d":"38,171"}]
[2009,{"v":53881,"d":"53,881"},{"v":2546,"d":"2,546"},{"v":2341,"d":"2,341"},{"v":48994,"d":"48,994"},265,{"v":11650,"d":"11,650"},{"v":1375.01,"d":"1,375"},{"v":44295,"d":"44,295"}]
[2010,{"v":72116,"d":"72,116"},{"v":4740,"d":"4,740"},{"v":2738.2,"d":"2,738"},{"v":64638,"d":"64,638"},{"v":885.5596774193549,"d":"886"},{"v":15799,"d":"15,799"},{"v":3572.31,"d":"3,572"},{"v":47220,"d":"47,220"}]
[2011,{"v":80574,"d":"80,574"},{"v":5004,"d":"5,004"},{"v":5576,"d":"5,576"},{"v":69994,"d":"69,994"},{"v":388.6254716981132,"d":"389"},{"v":20645,"d":"20,645"},{"v":1262.88,"d":"1,263"},{"v":44432,"d":"44,432"}]
[2012,{"v":58299.7,"d":"58,300"},{"v":1715,"d":"1,715"},{"v":3280.7,"d":"3,281"},{"v":53304,"d":"53,304"},{"v":295.935593220339,"d":"296"},{"v":7824,"d":"7,824"},{"v":3423.09,"d":"3,423"},{"v":52184,"d":"52,184"}]
[2013,{"v":67603.2,"d":"67,603"},{"v":1987,"d":"1,987"},{"v":2058.2,"d":"2,058"},{"v":63508,"d":"63,508"},{"v":324.4020408163266,"d":"324"},{"v":13397,"d":"13,397"},{"v":3691.96,"d":"3,692"},{"v":68380,"d":"68,380"}]
[2014,{"v":78254.45,"d":"78,254"},{"v":2788,"d":"2,788"},{"v":2385.45,"d":"2,385"},{"v":72871,"d":"72,871"},{"v":453.2013513513514,"d":"453"},{"v":19389,"d":"19,389"},{"v":3723.52,"d":"3,724"},{"v":77982,"d":"77,982"}]
[2015,{"v":126881.65,"d":"126,882"},{"v":4043,"d":"4,043"},{"v":6151.65,"d":"6,152"},{"v":116657,"d":"116,657"},{"v":785.5500000000001,"d":"786"},{"v":37763,"d":"37,763"},{"v":10693.89,"d":"10,694"},{"v":88691,"d":"88,691"}]
[2016,{"v":91047.5,"d":"91,048"},{"v":3050,"d":"3,050"},{"v":3705.5,"d":"3,706"},{"v":84192,"d":"84,192"},{"v":565.4,"d":"565"},{"v":20515,"d":"20,515"},{"v":4198.85,"d":"4,199"},{"v":79253,"d":"79,253"}]
[2017,{"v":68204,"d":"68,204"},47,{"v":3853,"d":"3,853"},{"v":64144,"d":"64,144"},262,{"v":16328,"d":"16,328"},{"v":1735.84,"d":"1,736"},{"v":56265,"d":"56,265"}]
[2018,{"v":42120,"d":"42,120"},24,{"v":1140,"d":"1,140"},{"v":40906,"d":"40,906"},134,{"v":9498,"d":"9,498"},{"v":1335.81,"d":"1,336"},{"v":38816,"d":"38,816"}]
[2019,{"v":34556,"d":"34,556"},23,74,{"v":34472,"d":"34,472"},6,{"v":5637,"d":"5,637"},{"v":1431,"d":"1,431"},{"v":41090,"d":"41,090"}]
[2020,{"v":65466.45,"d":"65,466"},13,{"v":1389.45,"d":"1,389"},{"v":64064,"d":"64,064"},{"v":171.9,"d":"172"},{"v":8410,"d":"8,410"},{"v":1764,"d":"1,764"},{"v":70654,"d":"70,654"}]
[2021,{"v":56799.7,"d":"56,800"},7,{"v":2283.7,"d":"2,284"},{"v":54489,"d":"54,489"},102,{"v":11225,"d":"11,225"},{"v":1645,"d":"1,645"},{"v":52076,"d":"52,076"}]
[2022,{"v":78494,"d":"78,494"},65,{"v":3548.8,"d":"3,549"},{"v":74810,"d":"74,810"},302,{"v":16086,"d":"16,086"},{"v":1221,"d":"1,221"},{"v":64497,"d":"64,497"}]
[2023,{"v":54722,"d":"54,722"},51,{"v":2162,"d":"2,162"},{"v":52439,"d":"52,439"},136,{"v":11002,"d":"11,002"},{"v":1832,"d":"1,832"},{"v":49410,"d":"49,410"}]
["2024i/",{"v":42511,"d":"42,511"},0,899,{"v":41562,"d":"41,562"},122,{"v":6999,"d":"6,999"},{"v":1363,"d":"1,363"},{"v":41142,"d":"41,142"}]
["GOAL","29,000j/",{"$nulls":6},"12,143k/"]
["a/  Summer Chinook accounting begins on June 16. Chinook managed as Snake River summer Chinook prior to 2004 are now grouped with all upriver spring Chinook because of overlap in run timing.  As of 2004, Snake River summer Chinook have been moved from this table to Table B-13."]
[]
["b/  Mainstem and Select Area Fisheries.  Includes estimated miscellaneous fishery-related impacts from mainstem recreational fisheries, test fisheries, commercial shad fisheries, and terminal area commercial gillnet fisheries beginning in 1979.  Includes release mortality in selective fisheries beginning in 2002."]
[]
["c/  Includes estimated catch and release mortalities from  mainstem and Select Area recreational fisheries."]
["d/  Counting period June 16-July 31."]
["e/ Mainstem catch from Bonneville Dam upstream to Priest Rapids Dam. "]
["f/ Mainstem catch.  Includes ticketed commercial, over-the-bank sales, and ceremonial and subsistence catch. No directed commercial summer Chinook fishery from 1965 to 2003.  Landings during those years are bycatch from commercial sockeye fishery. Includes commercial and C&S catch. Includes catch downstream of Bonneville since 2010."]
["g/ Mainstem catch. Wanapum and Colville tribal fisheries."]
["h/ Summer counting period June 18 to August 17."]
["i/  Preliminary."]
["j/  Comanager goal established in 2004 associated with regrouping Snake River summer Chinook with Snake River spring Chinook."]
["k/  MSY spawning escapement objective adopted in 2011 under Amendment 16 based on Chinook Technical Committee Report 99-3."]
{"$rows_empty":11}
["TABLE B-14.  Estimates of inriver run size, catch, and escapement in numbers of adult Upper Columbia River summer Chinook destined for areas above Bonneville Dam.a/  Excludes Snake River summer Chinook."]
[]
[null,"Minimum Columbia R. Return","Lower River Catch",null,null," Catch above Bonneville Dam",null,null,"Escapement"]
["Year or Avg.",null,"Non-Indian Commercialb/",null," Bonneville Dam Countd/","Sporte/","Treaty Indianf/","Non-Treaty Tribalg/","Rock Island\nDam Counth/"]
[{"$nulls":3},"Sportc/"]
["1971-1975",{"$f":"AVERAGE(B6:B10)","v":{"$error":"#DIV/0!"}},{"$f":"AVERAGE(C6:C10)","v":{"$error":"#DIV/0!"}},{"$f":"AVERAGE(D6:D10)","v":{"$error":"#DIV/0!"}},{"$f":"AVERAGE(E6:E10)","v":{"$error":"#DIV/0!"}},null,null,{"$f":"AVERAGE(G6:G10)","v":{"$error":"#DIV/0!"}},{"$f":"AVERAGE(I6:I10)","v":{"$error":"#DIV/0!"}}]
["1981-1985",{"$f":"AVERAGE(B16:B20)","v":{"v":16709.44604427796,"d":"16,709"}},{"$f":"AVERAGE(C16:C20)","v":{"v":55.23019061942072,"d":"55"}},{"$f":"AVERAGE(D16:D20)","v":0},{"$f":"AVERAGE(E16:E20)","v":{"v":16654.2,"d":"16,654"}},"-",{"$f":"AVERAGE(G16:G20)","v":{"v":973.2,"d":"973"}},{"$f":"AVERAGE(H16:H20)","v":0},{"$f":"AVERAGE(I16:I20)","v":{"v":10009.8,"d":"10,010"}}]
["1986-1990",{"$f":"AVERAGE(B21:B25)","v":{"v":21036.184478387157,"d":"21,036"}},{"$f":"AVERAGE(C21:C25)","v":{"v":71.07180947937675,"d":"71"}},{"$f":"AVERAGE(D21:D25)","v":{"v":7.76,"d":"8"}},{"$f":"AVERAGE(E21:E25)","v":{"v":20957.4,"d":"20,957"}},"-",{"$f":"AVERAGE(G21:G25)","v":{"v":901.6,"d":"902"}},{"$f":"AVERAGE(H21:H25)","v":0},{"$f":"AVERAGE(I21:I25)","v":{"v":14563,"d":"14,563"}}]
["1991-1995",{"$f":"AVERAGE(B26:B30)","v":{"v":12983.67500138356,"d":"12,984"}},{"$f":"AVERAGE(C26:C30)","v":{"v":29.59181424694148,"d":"30"}},{"$f":"AVERAGE(D26:D30)","v":{"v":14.860000000000003,"d":"15"}},{"$f":"AVERAGE(E26:E30)","v":{"v":12939.2,"d":"12,939"}},"-",{"$f":"AVERAGE(G26:G30)","v":{"v":226.6,"d":"227"}},{"$f":"AVERAGE(H26:H30)","v":0},{"$f":"AVERAGE(I26:I30)","v":{"v":10747.8,"d":"10,748"}}]
["1996-2000",{"$f":"AVERAGE(B31:B35)","v":{"v":17957.440000000002,"d":"17,957"}},{"$f":"AVERAGE(C31:C35)","v":{"v":4.58,"d":"5"}},{"$f":"AVERAGE(D31:D35)","v":{"v":28.879999999999995,"d":"29"}},{"$f":"AVERAGE(E31:E35)","v":{"v":17923.8,"d":"17,924"}},"-",{"$f":"AVERAGE(G31:G35)","v":{"v":316.6,"d":"317"}},{"$f":"AVERAGE(H31:H35)","v":{"v":96.2,"d":"96"}},{"$f":"AVERAGE(I31:I35)","v":{"v":13902.2,"d":"13,902"}}]
["2001-2005",{"$f":"AVERAGE(B36:B40)","v":{"v":70287.496,"d":"70,287"}},{"v":610.896,"d":"611"},{"v":1264.3799999999999,"d":"1,264"},{"v":68412,"d":"68,412"},{"v":264.85636363636365,"d":"265"},{"v":4623.6,"d":"4,624"},{"v":2201.8,"d":"2,202"},{"v":66711.2,"d":"66,711"}]
["2006-2010",{"$f":"AVERAGE(B41:B45)","v":{"v":59227.4,"d":"59,227"}},{"$f":"AVERAGE(C41:C45)","v":{"v":2933,"d":"2,933"}},{"v":2871.7599999999998,"d":"2,872"},{"v":53422.6,"d":"53,423"},{"v":518.111935483871,"d":"518"},{"v":11634.4,"d":"11,634"},{"v":1983.264,"d":"1,983"},{"v":43945.8,"d":"43,946"}]
[2011,{"$f":"B46","v":{"v":80574,"d":"80,574"}},{"v":5004,"d":"5,004"},{"v":5576,"d":"5,576"},{"v":69994,"d":"69,994"},{"v":388.6254716981132,"d":"389"},{"v":20645,"d":"20,645"},{"v":1262.88,"d":"1,263"},{"v":44432,"d":"44,432"}]
[2012,{"v":58299.7,"d":"58,300"},{"v":1715,"d":"1,715"},{"v":3280.7,"d":"3,281"},{"v":53304,"d":"53,304"},{"v":295.935593220339,"d":"296"},{"v":7824,"d":"7,824"},{"v":3423.09,"d":"3,423"},{"v":52184,"d":"52,184"}]
[2013,{"v":67603.2,"d":"67,603"},{"v":1987,"d":"1,987"},{"v":2058.2,"d":"2,058"},{"v":63508,"d":"63,508"},{"v":324.4020408163266,"d":"324"},{"v":13397,"d":"13,397"},{"v":3691.96,"d":"3,692"},{"v":68380,"d":"68,380"}]
[2014,{"v":78254.45,"d":"78,254"},{"v":2788,"d":"2,788"},{"v":2385.45,"d":"2,385"},{"v":72871,"d":"72,871"},{"v":453.2013513513514,"d":"453"},{"v":19389,"d":"19,389"},{"v":3723.52,"d":"3,724"},{"v":77982,"d":"77,982"}]
[2015,{"v":126881.65,"d":"126,882"},{"v":4043,"d":"4,043"},{"v":6151.65,"d":"6,152"},{"v":116657,"d":"116,657"},{"v":785.5500000000001,"d":"786"},{"v":37763,"d":"37,763"},{"v":10693.89,"d":"10,694"},{"v":88691,"d":"88,691"}]
[2016,{"v":91047.5,"d":"91,048"},{"v":3050,"d":"3,050"},{"v":3705.5,"d":"3,706"},{"v":84192,"d":"84,192"},{"v":565.4,"d":"565"},{"v":20515,"d":"20,515"},{"v":4198.85,"d":"4,199"},{"v":79253,"d":"79,253"}]
[2017,{"v":68204,"d":"68,204"},47,{"v":3853,"d":"3,853"},{"v":64144,"d":"64,144"},262,{"v":16328,"d":"16,328"},{"v":1735.84,"d":"1,736"},{"v":56265,"d":"56,265"}]
[2018,{"v":42120,"d":"42,120"},24,{"v":1140,"d":"1,140"},{"v":40906,"d":"40,906"},134,{"v":9498,"d":"9,498"},{"v":1335.81,"d":"1,336"},{"v":38816,"d":"38,816"}]
[2019,{"v":34556,"d":"34,556"},23,74,{"v":34472,"d":"34,472"},6,{"v":5637,"d":"5,637"},{"v":1431,"d":"1,431"},{"v":41090,"d":"41,090"}]
[2020,{"v":65466.45,"d":"65,466"},13,{"v":1389.45,"d":"1,389"},{"v":64064,"d":"64,064"},{"v":171.9,"d":"172"},{"v":8410,"d":"8,410"},{"v":1764,"d":"1,764"},{"v":70654,"d":"70,654"}]
[2021,{"v":56799.7,"d":"56,800"},7,{"v":2283.7,"d":"2,284"},{"v":54489,"d":"54,489"},102,{"v":11225,"d":"11,225"},{"v":1645,"d":"1,645"},{"v":52076,"d":"52,076"}]
[2022,{"$f":"B57","v":{"v":78494,"d":"78,494"}},65,{"v":3548.8,"d":"3,549"},{"v":74810,"d":"74,810"},302,{"v":16086,"d":"16,086"},{"v":1221,"d":"1,221"},{"v":64497,"d":"64,497"}]
[2023,{"$f":"B58","v":{"v":54722,"d":"54,722"}},51,{"v":2162,"d":"2,162"},{"v":52439,"d":"52,439"},136,{"v":11002,"d":"11,002"},{"v":1832,"d":"1,832"},{"v":49410,"d":"49,410"}]
["2024i/",{"v":42511,"d":"42,511"},0,899,{"v":41562,"d":"41,562"},122,{"v":6999,"d":"6,999"},{"v":1363,"d":"1,363"},{"v":41142,"d":"41,142"}]
["GOAL","29,000j/",{"$nulls":6},"12,143k/"]
[{"$f":"A61","v":"a/  Summer Chinook accounting begins on June 16. Chinook managed as Snake River summer Chinook prior to 2004 are now grouped with all upriver spring Chinook because of overlap in run timing.  As of 2004, Snake River summer Chinook have been moved from this table to Table B-13."}]
[]
[{"$f":"A63","v":"b/  Mainstem and Select Area Fisheries.  Includes estimated miscellaneous fishery-related impacts from mainstem recreational fisheries, test fisheries, commercial shad fisheries, and terminal area commercial gillnet fisheries beginning in 1979.  Includes release mortality in selective fisheries beginning in 2002."}]
[]
[{"$f":"A65","v":"c/  Includes estimated catch and release mortalities from  mainstem and Select Area recreational fisheries."}]
["d/  Counting period June 16-July 31."]
["e/ Mainstem catch from Bonneville Dam upstream to Priest Rapids Dam. "]
["f/ Mainstem catch.  Includes ticketed commercial, over-the-bank sales, and ceremonial and subsistence catch. No directed commercial summer Chinook fishery from 1965 to 2003.  Landings during those years are bycatch from commercial sockeye fishery. Includes commercial and C&S catch. Includes catch downstream of Bonneville since 2010."]
["g/ Mainstem catch. Wanapum and Colville tribal fisheries."]
["h/ Summer counting period June 18 to August 17."]
["i/  Preliminary."]
["j/  Comanager goal established in 2004 associated with regrouping Snake River summer Chinook with Snake River spring Chinook."]
["k/  MSY spawning escapement objective adopted in 2011 under Amendment 16 based on Chinook Technical Committee Report 99-3."]

{"sheet":"B-15","index":16,"n_rows":116,"n_cols":7,"rows_kept":116,"merged":[[1,0,1,6],[2,0,4,0],[2,1,4,1],[2,2,2,4],[3,2,4,2],[3,4,4,4],[3,5,3,6],[59,0,60,0],[59,1,60,1],[59,6,60,6],[61,0,61,6],[63,0,63,6],[64,0,64,6],[65,0,65,6],[66,0,66,6],[67,0,67,6],[83,0,83,6],[84,0,86,0],[84,1,86,1],[84,2,84,4],[85,2,86,2],[85,4,86,4],[85,5,85,6],[107,0,108,0],[107,6,108,6],[109,0,109,6],[110,0,110,6],[111,0,111,6],[112,0,112,6],[113,0,113,6],[114,0,114,6],[115,0,115,6]]}
[]
["TABLE B-15.  Estimates of inriver run size, catch, and escapement in numbers of Columbia River adult lower river hatchery (LRH) stock fall Chinook.a/"]
["Year or Ave.","Minimum Columbia R. Return","Catch"]
[null,null,"Non-Indian Commercialb/",null,"Treaty Indiand/","Escapement"]
[{"$nulls":3},"Sportc/",null,"Naturale/","Hatcheryf/"]
[1971,{"v":175900,"d":"175,900"},{"v":78100,"d":"78,100"},{"v":5400,"d":"5,400"},0,{"v":49200,"d":"49,200"},{"v":43200,"d":"43,200"}]
[1972,{"v":175900,"d":"175,900"},{"v":78100,"d":"78,100"},{"v":5400,"d":"5,400"},0,{"v":49200,"d":"49,200"},{"v":43200,"d":"43,200"}]
[1973,{"v":175900,"d":"175,900"},{"v":78100,"d":"78,100"},{"v":5400,"d":"5,400"},0,{"v":49200,"d":"49,200"},{"v":43200,"d":"43,200"}]
[1974,{"v":175900,"d":"175,900"},{"v":78100,"d":"78,100"},{"v":5400,"d":"5,400"},0,{"v":49200,"d":"49,200"},{"v":43200,"d":"43,200"}]
[1975,{"v":175900,"d":"175,900"},{"v":78100,"d":"78,100"},{"v":5400,"d":"5,400"},0,{"v":49200,"d":"49,200"},{"v":43200,"d":"43,200"}]
[1976,{"v":171000,"d":"171,000"},{"v":63300,"d":"63,300"},{"v":5300,"d":"5,300"},0,{"v":50800,"d":"50,800"},{"v":51600,"d":"51,600"}]
[1977,{"v":165100,"d":"165,100"},{"v":74500,"d":"74,500"},{"v":3900,"d":"3,900"},0,{"v":44500,"d":"44,500"},{"v":42200,"d":"42,200"}]
[1978,{"v":166500,"d":"166,500"},{"v":58300,"d":"58,300"},{"v":5800,"d":"5,800"},0,{"v":43200,"d":"43,200"},{"v":59200,"d":"59,200"}]
[1979,{"v":118700,"d":"118,700"},{"v":43900,"d":"43,900"},{"v":4000,"d":"4,000"},0,{"v":25300,"d":"25,300"},{"v":45500,"d":"45,500"}]
[1980,{"v":105584,"d":"105,584"},{"v":57000,"d":"57,000"},{"v":2900,"d":"2,900"},100,{"v":20900,"d":"20,900"},{"v":24600,"d":"24,600"}]
[1981,{"v":94854,"d":"94,854"},{"v":21500,"d":"21,500"},{"v":2900,"d":"2,900"},{"v":1000,"d":"1,000"},{"v":26500,"d":"26,500"},{"v":42500,"d":"42,500"}]
[1982,{"v":139466,"d":"139,466"},{"v":47300,"d":"47,300"},{"v":3900,"d":"3,900"},{"v":1000,"d":"1,000"},{"v":44000,"d":"44,000"},{"v":42600,"d":"42,600"}]
[1983,{"v":88066,"d":"88,066"},{"v":14900,"d":"14,900"},{"v":1500,"d":"1,500"},800,{"v":33700,"d":"33,700"},{"v":36500,"d":"36,500"}]
[1984,{"v":102446,"d":"102,446"},{"v":26720,"d":"26,720"},{"v":8830,"d":"8,830"},{"v":1354,"d":"1,354"},{"v":32177,"d":"32,177"},{"v":27428,"d":"27,428"}]
[1985,{"v":110985,"d":"110,985"},{"v":17600,"d":"17,600"},{"v":5300,"d":"5,300"},100,{"v":52400,"d":"52,400"},{"v":35200,"d":"35,200"}]
[1986,{"v":154821,"d":"154,821"},{"v":75300,"d":"75,300"},{"v":10800,"d":"10,800"},700,{"v":26500,"d":"26,500"},{"v":41300,"d":"41,300"}]
[1987,{"v":344080,"d":"344,080"},{"v":179800,"d":"179,800"},{"v":32600,"d":"32,600"},600,{"v":49600,"d":"49,600"},{"v":80500,"d":"80,500"}]
[1988,{"v":309949,"d":"309,949"},{"v":178400,"d":"178,400"},{"v":22000,"d":"22,000"},{"v":1800,"d":"1,800"},{"v":53000,"d":"53,000"},{"v":53800,"d":"53,800"}]
[1989,{"v":130887,"d":"130,887"},{"v":31000,"d":"31,000"},{"v":15300,"d":"15,300"},0,{"v":45100,"d":"45,100"},{"v":39300,"d":"39,300"}]
[1990,{"v":59954,"d":"59,954"},{"v":4469,"d":"4,469"},{"v":6400,"d":"6,400"},175,{"v":19672,"d":"19,672"},{"v":29205,"d":"29,205"}]
[1991,{"v":62680,"d":"62,680"},{"v":6961,"d":"6,961"},{"v":8343,"d":"8,343"},367,{"v":19161,"d":"19,161"},{"v":27692,"d":"27,692"}]
[1992,{"v":62617,"d":"62,617"},{"v":3022,"d":"3,022"},{"v":8625,"d":"8,625"},212,{"v":24248,"d":"24,248"},{"v":26457,"d":"26,457"}]
[1993,{"v":52344,"d":"52,344"},{"v":4362,"d":"4,362"},{"v":6006,"d":"6,006"},218,{"v":19709,"d":"19,709"},{"v":21980,"d":"21,980"}]
[1994,{"v":53596,"d":"53,596"},7,232,33,{"v":22674,"d":"22,674"},{"v":30637,"d":"30,637"}]
[1995,{"v":46360,"d":"46,360"},2,{"v":1784,"d":"1,784"},358,{"v":13784,"d":"13,784"},{"v":30330,"d":"30,330"}]
[1996,{"v":75495,"d":"75,495"},{"v":3899,"d":"3,899"},{"v":4641,"d":"4,641"},360,{"v":23909,"d":"23,909"},{"v":42662,"d":"42,662"}]
[1997,{"v":57393,"d":"57,393"},{"v":2369,"d":"2,369"},{"v":7704,"d":"7,704"},0,{"v":22663,"d":"22,663"},{"v":24657,"d":"24,657"}]
[1998,{"v":45265,"d":"45,265"},844,{"v":4519,"d":"4,519"},0,{"v":16713,"d":"16,713"},{"v":23035,"d":"23,035"}]
[1999,{"v":39933,"d":"39,933"},{"v":2234,"d":"2,234"},{"v":6118,"d":"6,118"},0,{"v":12551,"d":"12,551"},{"v":19030,"d":"19,030"}]
[2000,{"v":26997,"d":"26,997"},860,{"v":3212,"d":"3,212"},0,{"v":10714,"d":"10,714"},{"v":12211,"d":"12,211"}]
[2001,{"v":94330.70408685479,"d":"94,331"},{"v":4428,"d":"4,428"},{"v":7443,"d":"7,443"},0,{"v":39434,"d":"39,434"},{"v":42996,"d":"42,996"}]
[2002,{"v":156443.61778397937,"d":"156,444"},{"v":9928,"d":"9,928"},{"v":15353,"d":"15,353"},279,{"v":80670,"d":"80,670"},{"v":50138,"d":"50,138"}]
[2003,{"v":154983,"d":"154,983"},{"v":9216,"d":"9,216"},{"v":14213,"d":"14,213"},0,{"v":97089,"d":"97,089"},{"v":34465,"d":"34,465"}]
[2004,{"v":109055.26320152165,"d":"109,055"},{"v":13122,"d":"13,122"},{"v":11870,"d":"11,870"},475,{"v":53399,"d":"53,399"},{"v":30103,"d":"30,103"}]
[2005,{"v":78293.17179308341,"d":"78,293"},{"v":9219,"d":"9,219"},{"v":10140.1,"d":"10,140"},186,{"v":33598,"d":"33,598"},{"v":25042,"d":"25,042"}]
[2006,{"v":58319,"d":"58,319"},{"v":5919,"d":"5,919"},{"v":9449,"d":"9,449"},237,{"v":26633,"d":"26,633"},{"v":15957,"d":"15,957"}]
[2007,{"v":32689,"d":"32,689"},{"v":1308,"d":"1,308"},{"v":6123,"d":"6,123"},0,{"v":10208,"d":"10,208"},{"v":15050,"d":"15,050"}]
[2008,{"v":61559,"d":"61,559"},{"v":5701,"d":"5,701"},{"v":6543,"d":"6,543"},502,{"v":21528,"d":"21,528"},{"v":27265,"d":"27,265"}]
[2009,{"v":76738,"d":"76,738"},{"v":10259,"d":"10,259"},{"v":11295,"d":"11,295"},0,{"v":23746,"d":"23,746"},{"v":31436,"d":"31,436"}]
[2010,{"v":102955,"d":"102,955"},{"v":14981,"d":"14,981"},{"v":13046,"d":"13,046"},0,{"v":33962,"d":"33,962"},{"v":40964,"d":"40,964"}]
[2011,{"v":108960.99944760435,"d":"108,961"},{"v":15417,"d":"15,417"},{"v":17248,"d":"17,248"},223,{"v":28334,"d":"28,334"},{"v":47735,"d":"47,735"}]
[2012,{"v":84978.17200071545,"d":"84,978"},{"v":16340,"d":"16,340"},{"v":16362,"d":"16,362"},457,{"v":21556,"d":"21,556"},{"v":30259,"d":"30,259"}]
[2013,{"v":104776.77826071483,"d":"104,777"},{"v":10578,"d":"10,578"},{"v":19420.499752166867,"d":"19,420"},574,{"v":40411,"d":"40,411"},{"v":33662,"d":"33,662"}]
[2014,{"v":101905.91213373104,"d":"101,906"},{"v":12810,"d":"12,810"},{"v":16346.713075326457,"d":"16,347"},135,{"v":33264,"d":"33,264"},{"v":39333,"d":"39,333"}]
[2015,{"v":128705.12208720349,"d":"128,705"},{"v":15146,"d":"15,146"},{"v":15142,"d":"15,142"},42,{"v":34588,"d":"34,588"},{"v":63784,"d":"63,784"}]
[2016,{"v":81860,"d":"81,860"},{"v":11050,"d":"11,050"},{"v":11418,"d":"11,418"},78,{"v":21974,"d":"21,974"},{"v":37340,"d":"37,340"}]
[2017,{"v":64627,"d":"64,627"},{"v":7917,"d":"7,917"},{"v":8831,"d":"8,831"},198,{"v":19737,"d":"19,737"},{"v":27929,"d":"27,929"}]
[2018,{"v":52963,"d":"52,963"},{"v":5348,"d":"5,348"},{"v":7417,"d":"7,417"},68,{"v":19093,"d":"19,093"},{"v":21037,"d":"21,037"}]
[2019,{"v":48913,"d":"48,913"},{"v":3046,"d":"3,046"},{"v":6400,"d":"6,400"},0,{"v":16795,"d":"16,795"},{"v":22536,"d":"22,536"}]
[2020,{"v":77863,"d":"77,863"},{"v":6057,"d":"6,057"},{"v":8968,"d":"8,968"},196,{"v":25058,"d":"25,058"},{"v":37336,"d":"37,336"}]
[2021,{"v":74671,"d":"74,671"},{"v":5334,"d":"5,334"},{"v":12175,"d":"12,175"},117,{"v":24495,"d":"24,495"},{"v":32533,"d":"32,533"}]
[2022,{"v":87542,"d":"87,542"},{"v":7184,"d":"7,184"},{"v":10254,"d":"10,254"},329,{"v":22593,"d":"22,593"},{"v":47134,"d":"47,134"}]
[2023,{"v":87119,"d":"87,119"},{"v":6971,"d":"6,971"},{"v":11120,"d":"11,120"},232,{"v":31548,"d":"31,548"},{"v":37182,"d":"37,182"}]
["2024g/",{"v":114430,"d":"114,430"},{"v":11242,"d":"11,242"},{"v":12052,"d":"12,052"},44,{"v":41068,"d":"41,068"},{"v":49810,"d":"49,810"}]
["GOAL",{"$nulls":5},"Hatchery  Production"]
[]
["a/  Based on Columbia River fall Chinook database (Preliminary Big Sheets), WDFW, unpublished. Adult Aged fish."]
["b/  Includes Select Area fisheries."]
["c/  Includes tributary catches."]
["d/  Commercial, ceremonial, and subsistence."]
["e/  Includes  Cowlitz, Kalama, Toutle, Lewis, and Washougal rivers."]
["f/   Does not include strays to hatcheries above Bonneville Dam or fish trapped at Bonneville Dam."]
["g/  Preliminary estimates based on preseason expectations."]
{"$rows_empty":15}
["TABLE B-15.  Estimates of inriver run size, catch, and escapement in numbers of Columbia River adult lower river hatchery (LRH) stock fall Chinook.a/"]
["Year or Ave.","Minimum Columbia R. Return","Catch"]
[null,null,"Non-Indian Commercialb/",null,"Treaty Indiand/","Escapement"]
[{"$nulls":3},"Sportc/",null,"Naturale/","Hatcheryf/"]
["1981-1985",{"$f":"AVERAGE(B16:B20)","v":{"v":107163.4,"d":"107,163"}},{"v":25604,"d":"25,604"},{"v":4486,"d":"4,486"},{"v":850.8,"d":"851"},{"v":37755.4,"d":"37,755"},{"v":36845.6,"d":"36,846"}]
["1986-1990",{"$f":"AVERAGE(B21:B25)","v":{"v":199938.2,"d":"199,938"}},{"v":93793.8,"d":"93,794"},{"v":17420,"d":"17,420"},655,{"v":38774.4,"d":"38,774"},{"v":48821,"d":"48,821"}]
["1991-1995",{"$f":"AVERAGE(B26:B30)","v":{"v":55519.4,"d":"55,519"}},{"v":2870.8,"d":"2,871"},{"v":4998,"d":"4,998"},{"v":237.6,"d":"238"},{"v":19915.2,"d":"19,915"},{"v":27419.2,"d":"27,419"}]
["1996-2000",{"$f":"AVERAGE(B31:B35)","v":{"v":49016.6,"d":"49,017"}},{"v":2041.2,"d":"2,041"},{"v":5238.8,"d":"5,239"},72,{"v":17310,"d":"17,310"},{"v":24319,"d":"24,319"}]
["2001-2005",{"$f":"AVERAGE(B36:B40)","v":{"v":118621.15137308785,"d":"118,621"}},{"v":9182.6,"d":"9,183"},{"v":11803.82,"d":"11,804"},188,{"v":60838,"d":"60,838"},{"v":36548.8,"d":"36,549"}]
["2006-2010",{"$f":"AVERAGE(B41:B45)","v":{"v":66452,"d":"66,452"}},{"$f":"AVERAGE(C41:C45)","v":{"v":7633.6,"d":"7,634"}},{"v":9291.2,"d":"9,291"},{"v":147.8,"d":"148"},{"v":23215.4,"d":"23,215"},{"v":26134.4,"d":"26,134"}]
[2011,{"$f":"B46","v":{"v":108960.99944760435,"d":"108,961"}},{"v":15417,"d":"15,417"},{"v":17248,"d":"17,248"},223,{"v":28334,"d":"28,334"},{"v":47735,"d":"47,735"}]
[2012,{"$f":"B47","v":{"v":84978.17200071545,"d":"84,978"}},{"v":16340,"d":"16,340"},{"v":16362,"d":"16,362"},457,{"v":21556,"d":"21,556"},{"v":30259,"d":"30,259"}]
[2013,{"$f":"B48","v":{"v":104776.77826071483,"d":"104,777"}},{"v":10578,"d":"10,578"},{"v":19420.499752166867,"d":"19,420"},574,{"v":40411,"d":"40,411"},{"v":33662,"d":"33,662"}]
[2014,{"$f":"B49","v":{"v":101905.91213373104,"d":"101,906"}},{"v":12810,"d":"12,810"},{"v":16346.713075326457,"d":"16,347"},135,{"v":33264,"d":"33,264"},{"v":39333,"d":"39,333"}]
[2015,{"$f":"B50","v":{"v":128705.12208720349,"d":"128,705"}},{"v":15146,"d":"15,146"},{"v":15142,"d":"15,142"},42,{"v":34588,"d":"34,588"},{"v":63784,"d":"63,784"}]
[2016,{"$f":"B51","v":{"v":81860,"d":"81,860"}},{"v":11050,"d":"11,050"},{"v":11418,"d":"11,418"},78,{"v":21974,"d":"21,974"},{"v":37340,"d":"37,340"}]
[2017,{"$f":"B52","v":{"v":64627,"d":"64,627"}},{"v":7917,"d":"7,917"},{"v":8831,"d":"8,831"},198,{"v":19737,"d":"19,737"},{"v":27929,"d":"27,929"}]
[2018,{"$f":"B53","v":{"v":52963,"d":"52,963"}},{"v":5348,"d":"5,348"},{"v":7417,"d":"7,417"},68,{"v":19093,"d":"19,093"},{"v":21037,"d":"21,037"}]
[2019,{"$f":"B54","v":{"v":48913,"d":"48,913"}},{"v":3046,"d":"3,046"},{"v":6400,"d":"6,400"},0,{"v":16795,"d":"16,795"},{"v":22536,"d":"22,536"}]
[2020,{"$f":"B55","v":{"v":77863,"d":"77,863"}},{"v":6057,"d":"6,057"},{"v":8968,"d":"8,968"},196,{"v":25058,"d":"25,058"},{"v":37336,"d":"37,336"}]
[2021,{"$f":"B56","v":{"v":74671,"d":"74,671"}},{"v":5334,"d":"5,334"},{"v":12175,"d":"12,175"},117,{"v":24495,"d":"24,495"},{"v":32533,"d":"32,533"}]
[2022,{"$f":"B57","v":{"v":87542,"d":"87,542"}},{"v":7184,"d":"7,184"},{"v":10254,"d":"10,254"},329,{"v":22593,"d":"22,593"},{"v":47134,"d":"47,134"}]
[2023,{"$f":"B58","v":{"v":87119,"d":"87,119"}},{"v":6971,"d":"6,971"},{"v":11120,"d":"11,120"},232,{"v":31548,"d":"31,548"},{"v":37182,"d":"37,182"}]
["2024g/",{"v":114430,"d":"114,430"},{"v":11242,"d":"11,242"},{"v":12052,"d":"12,052"},44,{"v":41068,"d":"41,068"},{"v":49810,"d":"49,810"}]
["GOAL",{"$nulls":5},"Hatchery  Production"]
[]
[{"$f":"A62","v":"a/  Based on Columbia River fall Chinook database (Preliminary Big Sheets), WDFW, unpublished. Adult Aged fish."}]
["b/  Includes Select Area fisheries."]
["c/  Includes tributary catches."]
["d/  Commercial, ceremonial, and subsistence."]
["e/  Includes  Cowlitz, Kalama, Toutle, Lewis, and Washougal rivers."]
["f/   Does not include strays to hatcheries above Bonneville Dam or fish trapped at Bonneville Dam."]
["g/  Preliminary estimates based on preseason expectations."]

{"sheet":"B-16","index":17,"n_rows":106,"n_cols":7,"rows_kept":106,"merged":[[0,0,0,6],[1,0,1,6],[2,0,4,0],[2,1,4,1],[2,2,2,4],[3,2,4,2],[3,4,4,4],[3,5,3,6],[60,0,60,6],[61,0,61,6],[62,0,62,6],[63,0,63,6],[65,0,65,6],[66,0,66,6],[73,0,73,6],[74,0,74,6],[75,0,77,0],[75,1,77,1],[75,2,75,4],[76,2,77,2],[76,4,77,4],[76,5,76,6],[99,0,99,6],[100,0,100,6],[101,0,101,6],[102,0,102,6],[103,0,103,6],[104,0,104,6],[105,0,105,6],[106,0,106,6]]}
[]
["TABLE B-16.  Estimates of inriver run size, catch, and escapement in numbers of Columbia River adult lower river wild (LRW) stock fall Chinook.a/"]
["Year or Ave.","Minimum Columbia R. Return","Catch"]
[null,null,"Non-Indian Commercialb/",null,"Treaty Indiand/","Escapement"]
[{"$nulls":3},"Sportc/",null,"Naturale/","Hatchery"]
[1971,{"v":59700,"d":"59,700"},{"v":27900,"d":"27,900"},{"v":2100,"d":"2,100"},0,{"v":29400,"d":"29,400"},100]
[1972,{"v":59700,"d":"59,700"},{"v":27900,"d":"27,900"},{"v":2100,"d":"2,100"},0,{"v":29400,"d":"29,400"},100]
[1973,{"v":59700,"d":"59,700"},{"v":27900,"d":"27,900"},{"v":2100,"d":"2,100"},0,{"v":29400,"d":"29,400"},100]
[1974,{"v":59700,"d":"59,700"},{"v":27900,"d":"27,900"},{"v":2100,"d":"2,100"},0,{"v":29400,"d":"29,400"},100]
[1975,{"v":59700,"d":"59,700"},{"v":27900,"d":"27,900"},{"v":2100,"d":"2,100"},0,{"v":29400,"d":"29,400"},100]
[1976,{"v":14900,"d":"14,900"},{"v":6100,"d":"6,100"},600,0,{"v":8200,"d":"8,200"},0]
[1977,{"v":29800,"d":"29,800"},{"v":14400,"d":"14,400"},{"v":1100,"d":"1,100"},0,{"v":14200,"d":"14,200"},100]
[1978,{"v":18500,"d":"18,500"},{"v":7100,"d":"7,100"},{"v":1100,"d":"1,100"},0,{"v":10100,"d":"10,100"},200]
[1979,{"v":32800,"d":"32,800"},{"v":12600,"d":"12,600"},{"v":2000,"d":"2,000"},0,{"v":17900,"d":"17,900"},300]
[1980,{"v":38814,"d":"38,814"},{"v":18400,"d":"18,400"},{"v":1300,"d":"1,300"},100,{"v":18200,"d":"18,200"},600]
[1981,{"v":25019,"d":"25,019"},{"v":1400,"d":"1,400"},{"v":1100,"d":"1,100"},0,{"v":21500,"d":"21,500"},900]
[1982,{"v":13019,"d":"13,019"},{"v":1200,"d":"1,200"},{"v":1000,"d":"1,000"},0,{"v":10400,"d":"10,400"},300]
[1983,{"v":16814,"d":"16,814"},600,{"v":1500,"d":"1,500"},0,{"v":14100,"d":"14,100"},600]
[1984,{"v":13326,"d":"13,326"},{"v":2900,"d":"2,900"},{"v":1700,"d":"1,700"},0,{"v":8500,"d":"8,500"},200]
[1985,{"v":13257,"d":"13,257"},{"v":3600,"d":"3,600"},{"v":1300,"d":"1,300"},0,{"v":7900,"d":"7,900"},400]
[1986,{"v":24462,"d":"24,462"},{"v":10100,"d":"10,100"},{"v":2000,"d":"2,000"},0,{"v":12200,"d":"12,200"},0]
[1987,{"v":37867,"d":"37,867"},{"v":16400,"d":"16,400"},{"v":3600,"d":"3,600"},200,{"v":17500,"d":"17,500"},200]
[1988,{"v":41720,"d":"41,720"},{"v":19300,"d":"19,300"},{"v":3400,"d":"3,400"},100,{"v":18700,"d":"18,700"},200]
[1989,{"v":38636,"d":"38,636"},{"v":6700,"d":"6,700"},{"v":4900,"d":"4,900"},0,{"v":26700,"d":"26,700"},300]
[1990,{"v":20317,"d":"20,317"},945,{"v":2354,"d":"2,354"},0,{"v":16815,"d":"16,815"},203]
[1991,{"v":19817,"d":"19,817"},{"v":6554,"d":"6,554"},{"v":2116,"d":"2,116"},0,{"v":11131,"d":"11,131"},16]
[1992,{"v":12508,"d":"12,508"},{"v":2327,"d":"2,327"},{"v":2256,"d":"2,256"},0,{"v":7896,"d":"7,896"},29]
[1993,{"v":13320,"d":"13,320"},{"v":1592,"d":"1,592"},{"v":2837,"d":"2,837"},0,{"v":8792,"d":"8,792"},99]
[1994,{"v":12191,"d":"12,191"},300,922,0,{"v":10921,"d":"10,921"},48]
[1995,{"v":15971,"d":"15,971"},23,{"v":4034,"d":"4,034"},0,{"v":11766,"d":"11,766"},148]
[1996,{"v":14566,"d":"14,566"},325,234,0,{"v":13914,"d":"13,914"},93]
[1997,{"v":12323,"d":"12,323"},0,{"v":1082,"d":"1,082"},0,{"v":11241,"d":"11,241"},0]
[1998,{"v":7253,"d":"7,253"},0,667,0,{"v":6493,"d":"6,493"},93]
[1999,{"v":3349,"d":"3,349"},18,0,0,{"v":3257,"d":"3,257"},74]
[2000,{"v":10234,"d":"10,234"},604,0,0,{"v":9422,"d":"9,422"},208]
[2001,{"v":15721.400656965227,"d":"15,721"},{"v":1382,"d":"1,382"},729,0,{"v":13610,"d":"13,610"},0]
[2002,{"v":25170.6380403427,"d":"25,171"},{"v":1801,"d":"1,801"},{"v":3245,"d":"3,245"},161,{"v":19654,"d":"19,654"},50]
[2003,{"v":26021,"d":"26,021"},{"v":3391,"d":"3,391"},{"v":4962,"d":"4,962"},0,{"v":17668,"d":"17,668"},0]
[2004,{"v":22327,"d":"22,327"},{"v":2343,"d":"2,343"},{"v":3638,"d":"3,638"},0,{"v":16346,"d":"16,346"},0]
[2005,{"v":16767,"d":"16,767"},{"v":2240,"d":"2,240"},{"v":2632,"d":"2,632"},0,{"v":11725,"d":"11,725"},170]
[2006,{"v":18105,"d":"18,105"},{"v":2546,"d":"2,546"},{"v":2801,"d":"2,801"},0,{"v":12758,"d":"12,758"},0]
[2007,{"v":4276,"d":"4,276"},258,138,0,{"v":3857,"d":"3,857"},23]
[2008,{"v":7120,"d":"7,120"},0,937,0,{"v":6183,"d":"6,183"},0]
[2009,{"v":7533,"d":"7,533"},293,347,0,{"v":6893,"d":"6,893"},0]
[2010,{"v":10898,"d":"10,898"},0,237,0,{"v":10661,"d":"10,661"},0]
[2011,{"v":15180,"d":"15,180"},674,{"v":3636,"d":"3,636"},0,{"v":10601,"d":"10,601"},269]
[2012,{"v":12112,"d":"12,112"},{"v":1880,"d":"1,880"},766,0,{"v":9407,"d":"9,407"},59]
[2013,{"v":25841,"d":"25,841"},{"v":2095,"d":"2,095"},{"v":5071,"d":"5,071"},0,{"v":18675,"d":"18,675"},0]
[2014,{"v":25774,"d":"25,774"},767,{"v":2107,"d":"2,107"},0,{"v":22900,"d":"22,900"},0]
[2015,{"v":32403,"d":"32,403"},{"v":3126,"d":"3,126"},{"v":2106,"d":"2,106"},0,{"v":27169,"d":"27,169"},2]
[2016,{"v":13034,"d":"13,034"},906,{"v":2713,"d":"2,713"},0,{"v":9414,"d":"9,414"},1]
[2017,{"v":7838,"d":"7,838"},0,{"v":1255,"d":"1,255"},0,{"v":6583,"d":"6,583"},0]
[2018,{"v":8270,"d":"8,270"},0,{"v":1052,"d":"1,052"},0,{"v":7218,"d":"7,218"},0]
[2019,{"v":16661,"d":"16,661"},0,{"v":1081,"d":"1,081"},0,{"v":15580,"d":"15,580"},0]
[2020,{"v":35375,"d":"35,375"},{"v":1221,"d":"1,221"},{"v":5925,"d":"5,925"},0,{"v":28226,"d":"28,226"},3]
[2021,{"v":17013,"d":"17,013"},0,{"v":2860,"d":"2,860"},0,{"v":14153,"d":"14,153"},0]
[2022,{"v":9347,"d":"9,347"},232,{"v":1074,"d":"1,074"},0,{"v":8041,"d":"8,041"},0]
[2023,{"v":11415,"d":"11,415"},0,{"v":2569,"d":"2,569"},0,{"v":8845,"d":"8,845"},1]
["2024f/",{"v":15105,"d":"15,105"},0,{"v":1081,"d":"1,081"},0,{"v":14024,"d":"14,024"},0]
["GOAL",{"$nulls":4},"5,700g/"]
["a/  Based on Columbia River fall Chinook database (Preliminary Big Sheets), WDFW, unpublished. Adult Aged fish."]
["b/  Includes Mainstem Select Area fisheries."]
["c/  Includes tributary catches."]
["d/ Includes mainstem commercial, ceremonial and subsistence."]
["e/ Natural escapement includes Sandy and Lewis rivers."]
["f/  Preliminary estimates based on preseason expectations."]
["g/ Escapement objective is for North Lewis River, but escapement numbers include other fish.  The escapement objective for the North Lewis River was met for all years except 1998, 1999, 2007, 2008, and 2009."]
{"$rows_empty":7}
["TABLE B-16.  Estimates of inriver run size, catch, and escapement in numbers of Columbia River adult lower river wild (LRW) stock fall Chinook.a/   "]
["Year or Ave.","Minimum Columbia R. Return","Catch"]
[null,null,"Non-Indian Commercialb/",null,"Treaty Indiand/","Escapement"]
[{"$nulls":3},"Sportc/",null,"Naturale/","Hatchery"]
["1981-1985",{"$f":"AVERAGE(B16:B20)","v":{"v":16287,"d":"16,287"}},{"v":1940,"d":"1,940"},{"v":1320,"d":"1,320"},0,{"v":12480,"d":"12,480"},480]
["1986-1990",{"$f":"AVERAGE(B21:B25)","v":{"v":32600.4,"d":"32,600"}},{"v":10689,"d":"10,689"},{"v":3250.8,"d":"3,251"},60,{"v":18383,"d":"18,383"},{"v":180.6,"d":"181"}]
["1991-1995",{"$f":"AVERAGE(B26:B30)","v":{"v":14761.4,"d":"14,761"}},{"v":2159.2,"d":"2,159"},{"v":2433,"d":"2,433"},0,{"v":10101.2,"d":"10,101"},68]
["1996-2000",{"$f":"AVERAGE(B31:B35)","v":{"v":9545,"d":"9,545"}},{"v":189.4,"d":"189"},{"v":396.6,"d":"397"},0,{"v":8865.4,"d":"8,865"},{"v":93.6,"d":"94"}]
["2001-2005",{"$f":"AVERAGE(B36:B40)","v":{"v":21201.407739461585,"d":"21,201"}},{"v":2231.4,"d":"2,231"},{"v":3041.2,"d":"3,041"},{"v":32.2,"d":"32"},{"v":15800.6,"d":"15,801"},44]
["2006-2010",{"$f":"AVERAGE(B41:B45)","v":{"v":9586.4,"d":"9,586"}},{"$f":"AVERAGE(C41:C45)","v":{"v":619.4,"d":"619"}},892,0,{"v":8070.4,"d":"8,070"},{"v":4.6,"d":"5"}]
[2011,{"$f":"B46","v":{"v":15180,"d":"15,180"}},674,{"v":3636,"d":"3,636"},0,{"v":10601,"d":"10,601"},269]
[2012,{"v":12112,"d":"12,112"},{"v":1880,"d":"1,880"},766,0,{"v":9407,"d":"9,407"},59]
[2013,{"v":25841,"d":"25,841"},{"v":2095,"d":"2,095"},{"v":5071,"d":"5,071"},0,{"v":18675,"d":"18,675"},0]
[2014,{"v":25774,"d":"25,774"},767,{"v":2107,"d":"2,107"},0,{"v":22900,"d":"22,900"},0]
[2015,{"v":32403,"d":"32,403"},{"v":3126,"d":"3,126"},{"v":2106,"d":"2,106"},0,{"v":27169,"d":"27,169"},2]
[2016,{"v":13034,"d":"13,034"},906,{"v":2713,"d":"2,713"},0,{"v":9414,"d":"9,414"},1]
[2017,{"v":7838,"d":"7,838"},0,{"v":1255,"d":"1,255"},0,{"v":6583,"d":"6,583"},0]
[2018,{"v":8270,"d":"8,270"},0,{"v":1052,"d":"1,052"},0,{"v":7218,"d":"7,218"},0]
[2019,{"v":16661,"d":"16,661"},0,{"v":1081,"d":"1,081"},0,{"v":15580,"d":"15,580"},0]
[2020,{"v":35375,"d":"35,375"},{"v":1221,"d":"1,221"},{"v":5925,"d":"5,925"},0,{"v":28226,"d":"28,226"},3]
[2021,{"v":17013,"d":"17,013"},0,{"v":2860,"d":"2,860"},0,{"v":14153,"d":"14,153"},0]
[2022,{"v":9347,"d":"9,347"},232,{"v":1074,"d":"1,074"},0,{"v":8041,"d":"8,041"},0]
[2023,{"$f":"B58","v":{"v":11415,"d":"11,415"}},0,{"v":2569,"d":"2,569"},0,{"v":8845,"d":"8,845"},1]
["2024f/",{"v":15105,"d":"15,105"},0,{"v":1081,"d":"1,081"},0,{"v":14024,"d":"14,024"},0]
["GOAL",{"$nulls":4},"5,700g/"]
[{"$f":"A61","v":"a/  Based on Columbia River fall Chinook database (Preliminary Big Sheets), WDFW, unpublished. Adult Aged fish."}]
[{"$f":"A62","v":"b/  Includes Mainstem Select Area fisheries."}]
["c/  Includes tributary catches."]
["d/ Includes mainstem commercial, ceremonial and subsistence."]
["e/ Natural escapement includes Sandy and Lewis rivers."]
["f/  Preliminary estimates based on preseason expectations."]
["g/ Escapement objective is for North Lewis River, but escapement numbers include other fish.  The escapement objective for the North Lewis River was met for all years except 1998, 1999, 2007, 2008, and 2009."]

{"sheet":"B-17","index":18,"n_rows":115,"n_cols":9,"rows_kept":115,"merged":[[1,0,1,8],[2,2,2,3],[3,0,4,0],[3,1,4,1],[3,2,4,2],[3,4,4,4],[3,5,3,6],[3,7,3,8],[60,0,60,6],[61,0,61,8],[68,0,68,8],[69,0,69,8],[70,0,70,8],[71,0,71,8],[80,0,80,8],[81,2,81,3],[82,0,83,0],[82,1,83,1],[82,2,83,2],[82,4,83,4],[82,5,82,6],[82,7,82,8],[105,0,105,8],[106,0,106,8],[107,0,107,8],[108,0,108,8],[109,0,109,8],[112,0,112,8]]}
[]
["TABLE B-17.  Estimates of inriver run size, catch, and escapement in numbers of Columbia River adult Spring Creek Hatchery (SCH) stock fall Chinook.a/"]
[null,null,"Lower River Catch"]
[" Year or Ave.","Minimum Columbia R. Return","Non-Indian Commercialb/ ",null,"Bonneville Dam  Countd/","Above Bonneville Dam Catch",null,"Escapement"]
[{"$nulls":3},"Sportc/",null,"Sporte/","Treaty Indianf/","Naturalg/","Hatcheryh/"]
[1971]
[1972]
[1973]
[1974,{"v":105700,"d":"105,700"},{"v":37900,"d":"37,900"},300,{"v":67600,"d":"67,600"},null,{"v":29000,"d":"29,000"},{"v":2900,"d":"2,900"},{"v":17000,"d":"17,000"}]
[1975,{"v":105700,"d":"105,700"},{"v":37900,"d":"37,900"},300,{"v":67600,"d":"67,600"},null,{"v":29000,"d":"29,000"},{"v":2900,"d":"2,900"},{"v":17000,"d":"17,000"}]
[1976,{"v":182200,"d":"182,200"},{"v":40000,"d":"40,000"},200,{"v":142100,"d":"142,100"},null,{"v":65600,"d":"65,600"},{"v":3100,"d":"3,100"},{"v":24600,"d":"24,600"}]
[1977,{"v":107700,"d":"107,700"},{"v":41500,"d":"41,500"},100,{"v":66100,"d":"66,100"},null,{"v":19400,"d":"19,400"},{"v":1300,"d":"1,300"},{"v":21500,"d":"21,500"}]
[1978,{"v":99700,"d":"99,700"},{"v":23400,"d":"23,400"},200,{"v":76200,"d":"76,200"},null,{"v":25500,"d":"25,500"},{"v":2400,"d":"2,400"},{"v":18000,"d":"18,000"}]
[1979,{"v":95200,"d":"95,200"},{"v":22300,"d":"22,300"},100,{"v":72800,"d":"72,800"},null,{"v":28800,"d":"28,800"},{"v":1900,"d":"1,900"},{"v":18800,"d":"18,800"}]
[1980,{"v":97812,"d":"97,812"},{"v":31769,"d":"31,769"},53,{"v":57800,"d":"57,800"},null,{"v":23367,"d":"23,367"},{"v":10719,"d":"10,719"},{"v":26958,"d":"26,958"}]
[1981,{"v":86315,"d":"86,315"},{"v":3435,"d":"3,435"},0,{"v":75600,"d":"75,600"},null,{"v":33087,"d":"33,087"},{"v":8856,"d":"8,856"},{"v":25073,"d":"25,073"}]
[1982,{"v":120726,"d":"120,726"},{"v":35700,"d":"35,700"},300,{"v":80700,"d":"80,700"},null,{"v":48900,"d":"48,900"},{"v":2500,"d":"2,500"},{"v":29400,"d":"29,400"}]
[1983,{"v":28899,"d":"28,899"},{"v":3600,"d":"3,600"},100,{"v":24600,"d":"24,600"},null,{"v":7900,"d":"7,900"},{"v":1000,"d":"1,000"},{"v":10100,"d":"10,100"}]
[1984,{"v":47536,"d":"47,536"},{"v":5900,"d":"5,900"},{"v":2300,"d":"2,300"},{"v":38100,"d":"38,100"},null,{"v":19200,"d":"19,200"},700,{"v":9600,"d":"9,600"}]
[1985,{"v":33234,"d":"33,234"},100,200,{"v":29900,"d":"29,900"},null,{"v":14100,"d":"14,100"},500,{"v":5600,"d":"5,600"}]
[1986,{"v":16577,"d":"16,577"},{"v":4100,"d":"4,100"},400,{"v":8700,"d":"8,700"},null,{"v":5700,"d":"5,700"},900,{"v":4100,"d":"4,100"}]
[1987,{"v":9076,"d":"9,076"},{"v":1600,"d":"1,600"},{"v":1200,"d":"1,200"},{"v":4500,"d":"4,500"},null,{"v":1700,"d":"1,700"},{"v":1300,"d":"1,300"},{"v":2700,"d":"2,700"}]
[1988,{"v":11982,"d":"11,982"},{"v":3200,"d":"3,200"},300,{"v":6000,"d":"6,000"},null,{"v":2900,"d":"2,900"},{"v":1600,"d":"1,600"},{"v":3700,"d":"3,700"}]
[1989,{"v":26842,"d":"26,842"},{"v":4600,"d":"4,600"},{"v":1577,"d":"1,577"},{"v":18300,"d":"18,300"},216,{"v":12700,"d":"12,700"},{"v":2700,"d":"2,700"},{"v":4300,"d":"4,300"}]
[1990,{"v":18890,"d":"18,890"},{"v":1100,"d":"1,100"},369,{"v":13500,"d":"13,500"},49,{"v":7400,"d":"7,400"},{"v":1000,"d":"1,000"},{"v":8200,"d":"8,200"}]
[1991,{"v":52353,"d":"52,353"},{"v":4300,"d":"4,300"},{"v":3181,"d":"3,181"},{"v":41618,"d":"41,618"},71,{"v":21000,"d":"21,000"},{"v":1300,"d":"1,300"},{"v":12400,"d":"12,400"}]
[1992,{"v":29477,"d":"29,477"},{"v":1000,"d":"1,000"},{"v":1400,"d":"1,400"},{"v":24700,"d":"24,700"},67,{"v":9700,"d":"9,700"},{"v":1300,"d":"1,300"},{"v":8800,"d":"8,800"}]
[1993,{"v":16837,"d":"16,837"},900,901,{"v":13400,"d":"13,400"},96,{"v":5100,"d":"5,100"},{"v":1400,"d":"1,400"},{"v":7900,"d":"7,900"}]
[1994,{"v":18473,"d":"18,473"},"-",0,{"v":15800,"d":"15,800"},166,{"v":5000,"d":"5,000"},{"v":1900,"d":"1,900"},{"v":10300,"d":"10,300"}]
[1995,{"v":33821,"d":"33,821"},"-",183,{"v":32300,"d":"32,300"},232,{"v":16000,"d":"16,000"},{"v":1400,"d":"1,400"},{"v":9100,"d":"9,100"}]
[1996,{"v":33137,"d":"33,137"},{"v":1700,"d":"1,700"},753,{"v":30300,"d":"30,300"},134,{"v":21100,"d":"21,100"},{"v":1300,"d":"1,300"},{"v":7700,"d":"7,700"}]
[1997,{"v":27377,"d":"27,377"},0,{"v":2611,"d":"2,611"},{"v":23300,"d":"23,300"},370,{"v":10329,"d":"10,329"},{"v":4612,"d":"4,612"},{"v":8688,"d":"8,688"}]
[1998,{"v":20158,"d":"20,158"},197,{"v":2407,"d":"2,407"},{"v":17100,"d":"17,100"},149,{"v":6592,"d":"6,592"},{"v":2731,"d":"2,731"},{"v":3224,"d":"3,224"}]
[1999,{"v":50189,"d":"50,189"},258,{"v":2238,"d":"2,238"},{"v":46800,"d":"46,800"},379,{"v":28197,"d":"28,197"},{"v":3338,"d":"3,338"},{"v":14488,"d":"14,488"}]
[2000,{"v":20527,"d":"20,527"},{"v":1141,"d":"1,141"},400,{"v":18400,"d":"18,400"},497,{"v":7902.565013666536,"d":"7,903"},{"v":4085,"d":"4,085"},{"v":6257,"d":"6,257"}]
[2001,{"v":124951,"d":"124,951"},{"v":3693,"d":"3,693"},{"v":3159,"d":"3,159"},{"v":115800,"d":"115,800"},143,{"v":52123.73909928033,"d":"52,124"},{"v":5063,"d":"5,063"},{"v":36663,"d":"36,663"}]
[2002,{"v":158299.3756535263,"d":"158,299"},{"v":11485,"d":"11,485"},{"v":5790,"d":"5,790"},{"v":145200,"d":"145,200"},864,{"v":48349.84666954868,"d":"48,350"},{"v":8069,"d":"8,069"},{"v":67436,"d":"67,436"}]
[2003,{"v":180592,"d":"180,592"},{"v":9850,"d":"9,850"},{"v":6593,"d":"6,593"},{"v":161735,"d":"161,735"},{"v":1066,"d":"1,066"},{"v":48203.949298927626,"d":"48,204"},{"v":27894,"d":"27,894"},{"v":56935,"d":"56,935"}]
[2004,{"v":175245,"d":"175,245"},{"v":3690,"d":"3,690"},{"v":5074,"d":"5,074"},{"v":164482,"d":"164,482"},540,{"v":59941.18644111599,"d":"59,941"},{"v":14084,"d":"14,084"},{"v":68932,"d":"68,932"}]
[2005,{"v":103526.11100261552,"d":"103,526"},{"v":3981,"d":"3,981"},{"v":2514.6,"d":"2,515"},{"v":98322,"d":"98,322"},534,{"v":49471,"d":"49,471"},{"v":4667,"d":"4,667"},{"v":31977,"d":"31,977"}]
[2006,{"v":27917,"d":"27,917"},{"v":1774,"d":"1,774"},195,{"v":21197,"d":"21,197"},459,{"v":13399.921009701511,"d":"13,400"},{"v":1931,"d":"1,931"},{"v":9889,"d":"9,889"}]
[2007,{"v":14549,"d":"14,549"},474,0,{"v":13072,"d":"13,072"},306,{"v":5034,"d":"5,034"},{"v":2870,"d":"2,870"},{"v":5899,"d":"5,899"}]
[2008,{"v":93859.50458130824,"d":"93,860"},{"v":7100,"d":"7,100"},{"v":3326,"d":"3,326"},{"v":82331,"d":"82,331"},200,{"v":43932.70085470085,"d":"43,933"},{"v":2765,"d":"2,765"},{"v":33722,"d":"33,722"}]
[2009,{"v":48969.61970206647,"d":"48,970"},{"v":5262,"d":"5,262"},{"v":1098,"d":"1,098"},{"v":40268,"d":"40,268"},425,{"v":21621.74727836675,"d":"21,622"},{"v":4103,"d":"4,103"},{"v":13680,"d":"13,680"}]
[2010,{"v":130767.49018037648,"d":"130,767"},{"v":11236,"d":"11,236"},{"v":2650,"d":"2,650"},{"v":114666,"d":"114,666"},649,{"v":58824.36952842145,"d":"58,824"},{"v":4843,"d":"4,843"},{"v":45279,"d":"45,279"}]
[2011,{"v":70096.14302124611,"d":"70,096"},{"v":12196,"d":"12,196"},802,{"v":53655,"d":"53,655"},440,{"v":28800.91252699784,"d":"28,801"},{"v":10283,"d":"10,283"},{"v":17092,"d":"17,092"}]
[2012,{"v":56946.71128089088,"d":"56,947"},{"v":7983,"d":"7,983"},{"v":3067,"d":"3,067"},{"v":44076,"d":"44,076"},319,{"v":14223.474703606425,"d":"14,223"},{"v":5063,"d":"5,063"},{"v":26255,"d":"26,255"}]
[2013,{"v":86707.18246434229,"d":"86,707"},{"v":15823,"d":"15,823"},{"v":3087.0842145179795,"d":"3,087"},{"v":62525,"d":"62,525"},113,{"v":29745.869383232795,"d":"29,746"},{"v":10074,"d":"10,074"},{"v":16307,"d":"16,307"}]
[2014,{"v":126999.70802598841,"d":"127,000"},{"v":22813,"d":"22,813"},{"v":4753.236432885219,"d":"4,753"},{"v":81030,"d":"81,030"},783,{"v":54740.02089139605,"d":"54,740"},{"v":16655,"d":"16,655"},{"v":24112,"d":"24,112"}]
[2015,{"v":166370.10759507658,"d":"166,370"},{"v":22767,"d":"22,767"},{"v":8309,"d":"8,309"},{"v":111900,"d":"111,900"},360,{"v":67922.22222222222,"d":"67,922"},{"v":22319,"d":"22,319"},{"v":43246,"d":"43,246"}]
[2016,{"v":44554,"d":"44,554"},{"v":8745,"d":"8,745"},{"v":1834,"d":"1,834"},{"v":31663,"d":"31,663"},543,{"v":19256,"d":"19,256"},{"v":5064,"d":"5,064"},{"v":9037,"d":"9,037"}]
[2017,{"v":48227,"d":"48,227"},{"v":4949,"d":"4,949"},{"v":5266,"d":"5,266"},{"v":38012,"d":"38,012"},707,{"v":21332,"d":"21,332"},{"v":1547,"d":"1,547"},{"v":12443,"d":"12,443"}]
[2018,{"v":28861,"d":"28,861"},{"v":2786,"d":"2,786"},{"v":2603,"d":"2,603"},{"v":23472,"d":"23,472"},33,{"v":10581,"d":"10,581"},336,{"v":12512,"d":"12,512"}]
[2019,{"v":28953,"d":"28,953"},{"v":1537,"d":"1,537"},{"v":1888,"d":"1,888"},{"v":25424,"d":"25,424"},624,{"v":10790,"d":"10,790"},{"v":1606,"d":"1,606"},{"v":11763,"d":"11,763"}]
[2020,{"v":52688,"d":"52,688"},{"v":8033,"d":"8,033"},{"v":1624,"d":"1,624"},{"v":42858,"d":"42,858"},101,{"v":18389,"d":"18,389"},{"v":1018,"d":"1,018"},{"v":15429,"d":"15,429"}]
[2021,{"v":73674,"d":"73,674"},{"v":11461,"d":"11,461"},{"v":6634,"d":"6,634"},{"v":55222,"d":"55,222"},357,{"v":21859,"d":"21,859"},{"v":1458,"d":"1,458"},{"v":27441,"d":"27,441"}]
[2022,{"v":258271,"d":"258,271"},{"v":16500,"d":"16,500"},{"v":10458,"d":"10,458"},{"v":230768,"d":"230,768"},{"v":1761,"d":"1,761"},{"v":121003,"d":"121,003"},{"v":4141,"d":"4,141"},{"v":86716,"d":"86,716"}]
[2023,{"v":198861,"d":"198,861"},{"v":18166,"d":"18,166"},{"v":7566,"d":"7,566"},{"v":173129,"d":"173,129"},538,{"v":76197,"d":"76,197"},{"v":1267,"d":"1,267"},{"v":63173,"d":"63,173"}]
["2024i/",{"v":129007,"d":"129,007"},{"v":17336,"d":"17,336"},{"v":5275,"d":"5,275"},{"v":106396,"d":"106,396"},713,{"v":29015,"d":"29,015"},{"v":2349,"d":"2,349"},{"v":49602,"d":"49,602"}]
["GOAL",{"$nulls":7},"7,000j/"]
["a/  Based on Columbia River fall Chinook database (Preliminary Big Sheets), WDFW, unpublished. Adult Aged fish.  This stock may also be referred to as Bonneville Pool Hatchery (BPH)."]
["b/  Includes Select Area fisheries."]
["c/ Includes Bouy 10, Mainstem, and tributary catch downstream of Bonneville Dam.  Includes estimates for release mortalities. 1970-1988 catch includes upriver catch."]
["d/ Fall counting period begins August 1."]
["e/ Includes mainstem and Zone 6 tributary catch. 1970-1988 catch included in lower river sport fisheries. "]
["f/ Includes mainstem commercial, ands ceremonial and subsistance catch."]
["g/ Includes White Salmon, Klickitat, and Little White Salmon rivers. "]
["h/  Does not include strays to hatcheries below Bonneville Dam.  Includes fall Chinook tules trapped at Bonneville Dam, 1986-1994 and 1998."]
["i/  Preliminary estimates based on in-season run updates."]
["j/  Escapement goal was changed from 8,200 fish to 7,000 fish, or 4,000 females, in 1994."]
{"$rows_empty":10}
["TABLE B-17.  Estimates of inriver run size, catch, and escapement in numbers of Columbia River adult Spring Creek Hatchery (SCH) stock fall Chinook.a/ "]
[null,null,"Lower River Catch"]
[" Year or Ave.","Minimum Columbia R. Return","Non-Indian Commercialb/ ",null,"Bonneville Dam  Countd/","Catch Above Bonneville Dam",null,"Escapement"]
[{"$nulls":3},"Sportc/",null,"Sporte/","Treaty Indianf/","Naturalg/","Hatcheryh/"]
["1981-1985",{"$f":"AVERAGE(B16:B20)","v":{"v":63342,"d":"63,342"}},{"v":9747,"d":"9,747"},580,{"v":49780,"d":"49,780"},"c/",{"v":24637.4,"d":"24,637"},{"v":2711.2,"d":"2,711"},{"v":15954.6,"d":"15,955"}]
["1986-1990",{"$f":"AVERAGE(B21:B25)","v":{"v":16673.4,"d":"16,673"}},{"v":2920,"d":"2,920"},{"v":769.2,"d":"769"},{"v":10200,"d":"10,200"},{"$f":"AVERAGE(F24:F25)","v":{"v":132.5,"d":"133"}},{"v":6080,"d":"6,080"},{"v":1500,"d":"1,500"},{"v":4600,"d":"4,600"}]
["1991-1995",{"$f":"AVERAGE(B26:B30)","v":{"v":30192.2,"d":"30,192"}},{"v":2066.6666666666665,"d":"2,067"},{"v":1133,"d":"1,133"},{"v":25563.6,"d":"25,564"},{"v":126.4,"d":"126"},{"v":11360,"d":"11,360"},{"v":1460,"d":"1,460"},{"v":9700,"d":"9,700"}]
["1996-2000",{"$f":"AVERAGE(B31:B35)","v":{"v":30277.6,"d":"30,278"}},{"v":659.2,"d":"659"},{"v":1681.8,"d":"1,682"},{"v":27180,"d":"27,180"},{"v":305.8,"d":"306"},{"v":14824.113002733307,"d":"14,824"},{"v":3213.2,"d":"3,213"},{"v":8071.4,"d":"8,071"}]
["2001-2005",{"$f":"AVERAGE(B36:B40)","v":{"v":148522.69733122835,"d":"148,523"}},{"v":6539.8,"d":"6,540"},{"v":4626.12,"d":"4,626"},{"v":137107.8,"d":"137,108"},{"v":629.4,"d":"629"},{"v":51617.94430177453,"d":"51,618"},{"v":11955.4,"d":"11,955"},{"v":52388.6,"d":"52,389"}]
["2006-2010",{"$f":"AVERAGE(B41:B45)","v":{"v":63212.52289275024,"d":"63,213"}},{"$f":"AVERAGE(C41:C45)","v":{"v":5169.2,"d":"5,169"}},{"v":1453.8,"d":"1,454"},{"v":54306.8,"d":"54,307"},{"v":407.8,"d":"408"},{"v":28562.547734238113,"d":"28,563"},{"v":3302.4,"d":"3,302"},{"v":21693.8,"d":"21,694"}]
[2011,{"$f":"B46","v":{"v":70096.14302124611,"d":"70,096"}},{"v":12196,"d":"12,196"},802,{"v":53655,"d":"53,655"},440,{"v":28800.91252699784,"d":"28,801"},{"v":10283,"d":"10,283"},{"v":17092,"d":"17,092"}]
[2012,{"v":56946.71128089088,"d":"56,947"},{"v":7983,"d":"7,983"},{"v":3067,"d":"3,067"},{"v":44076,"d":"44,076"},319,{"v":14223.474703606425,"d":"14,223"},{"v":5063,"d":"5,063"},{"v":26255,"d":"26,255"}]
[2013,{"v":86707.18246434229,"d":"86,707"},{"v":15823,"d":"15,823"},{"v":3087.0842145179795,"d":"3,087"},{"v":62525,"d":"62,525"},113,{"v":29745.869383232795,"d":"29,746"},{"v":10074,"d":"10,074"},{"v":16307,"d":"16,307"}]
[2014,{"v":126999.70802598841,"d":"127,000"},{"v":22813,"d":"22,813"},{"v":4753.236432885219,"d":"4,753"},{"v":81030,"d":"81,030"},783,{"v":54740.02089139605,"d":"54,740"},{"v":16655,"d":"16,655"},{"v":24112,"d":"24,112"}]
[2015,{"v":166370.10759507658,"d":"166,370"},{"v":22767,"d":"22,767"},{"v":8309,"d":"8,309"},{"v":111900,"d":"111,900"},360,{"v":67922.22222222222,"d":"67,922"},{"v":22319,"d":"22,319"},{"v":43246,"d":"43,246"}]
[2016,{"v":44554,"d":"44,554"},{"v":8745,"d":"8,745"},{"v":1834,"d":"1,834"},{"v":31663,"d":"31,663"},543,{"v":19256,"d":"19,256"},{"v":5064,"d":"5,064"},{"v":9037,"d":"9,037"}]
[2017,{"v":48227,"d":"48,227"},{"v":4949,"d":"4,949"},{"v":5266,"d":"5,266"},{"v":38012,"d":"38,012"},707,{"v":21332,"d":"21,332"},{"v":1547,"d":"1,547"},{"v":12443,"d":"12,443"}]
[2018,{"$f":"B53","v":{"v":28861,"d":"28,861"}},{"v":2786,"d":"2,786"},{"v":2603,"d":"2,603"},{"$f":"E53","v":{"v":23472,"d":"23,472"}},{"$f":"F53","v":33},{"v":10581,"d":"10,581"},336,{"v":12512,"d":"12,512"}]
[2019,{"v":28953,"d":"28,953"},{"v":1537,"d":"1,537"},{"v":1888,"d":"1,888"},{"$f":"E54","v":{"v":25424,"d":"25,424"}},624,{"v":10790,"d":"10,790"},{"v":1606,"d":"1,606"},{"v":11763,"d":"11,763"}]
[2020,{"v":52688,"d":"52,688"},{"v":8033,"d":"8,033"},{"v":1624,"d":"1,624"},{"$f":"E55","v":{"v":42858,"d":"42,858"}},101,{"v":18389,"d":"18,389"},{"v":1018,"d":"1,018"},{"v":15429,"d":"15,429"}]
[2021,{"v":73674,"d":"73,674"},{"v":11461,"d":"11,461"},{"v":6634,"d":"6,634"},{"$f":"E56","v":{"v":55222,"d":"55,222"}},357,{"v":21859,"d":"21,859"},{"v":1458,"d":"1,458"},{"v":27441,"d":"27,441"}]
[2022,{"v":258271,"d":"258,271"},{"v":16500,"d":"16,500"},{"v":10458,"d":"10,458"},{"$f":"E57","v":{"v":230768,"d":"230,768"}},{"v":1761,"d":"1,761"},{"v":121003,"d":"121,003"},{"v":4141,"d":"4,141"},{"v":86716,"d":"86,716"}]
[2023,{"$f":"B58","v":{"v":198861,"d":"198,861"}},{"v":18166,"d":"18,166"},{"v":7566,"d":"7,566"},{"$f":"E58","v":{"v":173129,"d":"173,129"}},{"$f":"F58","v":538},{"v":76197,"d":"76,197"},{"v":1267,"d":"1,267"},{"v":63173,"d":"63,173"}]
["2024i/",{"$f":"B59","v":{"v":129007,"d":"129,007"}},{"v":17336,"d":"17,336"},{"v":5275,"d":"5,275"},{"$f":"E59","v":{"v":106396,"d":"106,396"}},{"$f":"F59","v":713},{"v":29015,"d":"29,015"},{"v":2349,"d":"2,349"},{"v":49602,"d":"49,602"}]
["GOAL",{"$nulls":7},"7,000j/"]
[{"$f":"A61","v":"a/  Based on Columbia River fall Chinook database (Preliminary Big Sheets), WDFW, unpublished. Adult Aged fish.  This stock may also be referred to as Bonneville Pool Hatchery (BPH)."}]
["b/  Includes Select Area fisheries."]
["c/ Includes Bouy 10, Mainstem, and tributary catch downstream of Bonneville Dam.  Includes estimates for release mortalities. 1970-1988 catch includes upriver catch."]
["d/ Fall counting period begins August 1."]
["e/ Includes mainstem and Zone 6 tributary catch. 1970-1988 catch included in lower river sport fisheries. "]
["f/ Includes mainstem commercial, ands ceremonial and subsistance catch."]
[{"$f":"A67","v":"g/ Includes White Salmon, Klickitat, and Little White Salmon rivers. "}]
[{"$f":"A68","v":"h/  Does not include strays to hatcheries below Bonneville Dam.  Includes fall Chinook tules trapped at Bonneville Dam, 1986-1994 and 1998."}]
[{"$f":"A69","v":"i/  Preliminary estimates based on in-season run updates."}]
[{"$f":"A70","v":"j/  Escapement goal was changed from 8,200 fish to 7,000 fish, or 4,000 females, in 1994."}]

{"sheet":"B-18","index":19,"n_rows":113,"n_cols":9,"rows_kept":113,"merged":[[1,0,1,8],[2,1,4,1],[2,2,2,3],[2,5,2,6],[3,2,4,2],[3,4,4,4],[3,6,4,6],[3,7,3,8],[59,0,59,8],[60,0,60,8],[61,0,61,8],[62,0,62,8],[63,0,63,8],[64,0,64,8],[65,0,65,8],[66,0,66,8],[81,0,81,8],[82,1,84,1],[82,2,82,3],[82,5,82,6],[83,2,84,2],[83,4,84,4],[83,6,84,6],[83,7,83,8],[105,0,105,8]]}
[]
["TABLE B-18.  Estimates of inriver run size, catch, and escapement in numbers of Columbia River adult mid-Columbia bright (MCB) stock fall Chinook destined for areas below McNary Dam, not including the Deschutes River.a/"]
[null,"Minimum Columbia R. Return","Lower River Catch",null,null,"Above Bonneville Catch"]
[null,null,"Non-Indian  Commercialb/",null,"Bonneville Dam Count",null," Treaty Indiane/","Escapement"]
[" Year or Ave.",null,null,"Sportc/",null,"Sportd/",null,"Naturalf/","Hatcheryg/"]
[1971]
[1972]
[1973]
[1974]
[1975]
[1976]
[1977]
[1978]
[1979]
[1980]
[1981]
[1982,{"v":8800,"d":"8,800"},700,0,{"v":4800,"d":"4,800"},null,{"v":2000,"d":"2,000"},0,{"v":2900,"d":"2,900"}]
[1983,{"v":14400,"d":"14,400"},{"v":1100,"d":"1,100"},100,{"v":8100,"d":"8,100"},null,{"v":2700,"d":"2,700"},0,{"v":4900,"d":"4,900"}]
[1984,{"v":11800,"d":"11,800"},{"v":3200,"d":"3,200"},200,{"v":5100,"d":"5,100"},null,{"v":1600,"d":"1,600"},0,{"v":3200,"d":"3,200"}]
[1985,{"v":6100,"d":"6,100"},{"v":1700,"d":"1,700"},100,{"v":1700,"d":"1,700"},null,{"v":1200,"d":"1,200"},0,{"v":2800,"d":"2,800"}]
[1986,{"v":17400,"d":"17,400"},{"v":6500,"d":"6,500"},400,{"v":8400,"d":"8,400"},null,{"v":5900,"d":"5,900"},300,{"v":2300,"d":"2,300"}]
[1987,{"v":57000,"d":"57,000"},{"v":24400,"d":"24,400"},{"v":1400,"d":"1,400"},{"v":26100,"d":"26,100"},null,{"v":16000,"d":"16,000"},{"v":4700,"d":"4,700"},{"v":6500,"d":"6,500"}]
[1988,{"v":78000,"d":"78,000"},{"v":37900,"d":"37,900"},{"v":2800,"d":"2,800"},{"v":30900,"d":"30,900"},null,{"v":21900,"d":"21,900"},{"v":5900,"d":"5,900"},{"v":8500,"d":"8,500"}]
[1989,{"v":93100,"d":"93,100"},{"v":46200,"d":"46,200"},{"v":3331,"d":"3,331"},{"v":32000,"d":"32,000"},349,{"v":21900,"d":"21,900"},{"v":5000,"d":"5,000"},{"v":14100,"d":"14,100"}]
[1990,{"v":58970.21532729195,"d":"58,970"},{"v":17734,"d":"17,734"},{"v":2275,"d":"2,275"},{"v":26500,"d":"26,500"},812,{"v":15737.62630244699,"d":"15,738"},{"v":5366,"d":"5,366"},{"v":14569,"d":"14,569"}]
[1991,{"v":35385.55967001775,"d":"35,386"},{"v":9069,"d":"9,069"},596,{"v":18300,"d":"18,300"},525,{"v":6869.69252022402,"d":"6,870"},{"v":5586,"d":"5,586"},{"v":10282,"d":"10,282"}]
[1992,{"v":31105.375540518206,"d":"31,105"},{"v":5558,"d":"5,558"},{"v":1493,"d":"1,493"},{"v":16800,"d":"16,800"},344,{"v":5143.84,"d":"5,144"},{"v":6838,"d":"6,838"},{"v":9590,"d":"9,590"}]
[1993,{"v":27439.40538593561,"d":"27,439"},{"v":4833,"d":"4,833"},990,{"v":16700,"d":"16,700"},395,{"v":6872.293490460157,"d":"6,872"},{"v":4352,"d":"4,352"},{"v":7853,"d":"7,853"}]
[1994,{"v":33711.86219880815,"d":"33,712"},{"v":1209,"d":"1,209"},104,{"v":21500,"d":"21,500"},827,{"v":4677.3589270746015,"d":"4,677"},{"v":12192,"d":"12,192"},{"v":11411,"d":"11,411"}]
[1995,{"v":34119.992976533096,"d":"34,120"},85,{"v":1607,"d":"1,607"},{"v":23500,"d":"23,500"},{"v":1227,"d":"1,227"},{"v":6504.6839988509055,"d":"6,505"},{"v":7665,"d":"7,665"},{"v":14019,"d":"14,019"}]
[1996,{"v":59698.38547990459,"d":"59,698"},{"v":5306,"d":"5,306"},{"v":1870,"d":"1,870"},{"v":38100,"d":"38,100"},{"v":1517,"d":"1,517"},{"v":12443.146989204908,"d":"12,443"},{"v":15618,"d":"15,618"},{"v":15868,"d":"15,868"}]
[1997,{"v":58931.517244032046,"d":"58,932"},{"v":3320,"d":"3,320"},{"v":4655,"d":"4,655"},{"v":36600,"d":"36,600"},{"v":1862,"d":"1,862"},{"v":11595.662613924804,"d":"11,596"},{"v":15916,"d":"15,916"},{"v":15808,"d":"15,808"}]
[1998,{"v":37328.06499422747,"d":"37,328"},{"v":1063,"d":"1,063"},{"v":3494,"d":"3,494"},{"v":29900,"d":"29,900"},{"v":2203,"d":"2,203"},{"v":5569.61726583041,"d":"5,570"},{"v":11380,"d":"11,380"},{"v":8401,"d":"8,401"}]
[1999,{"v":50787.93898251685,"d":"50,788"},{"v":1543,"d":"1,543"},{"v":3242,"d":"3,242"},{"v":40400,"d":"40,400"},{"v":2685,"d":"2,685"},{"v":10581.287660089652,"d":"10,581"},{"v":17213,"d":"17,213"},{"v":7334,"d":"7,334"}]
[2000,{"v":37191.4116767823,"d":"37,191"},{"v":3739,"d":"3,739"},{"v":2289,"d":"2,289"},{"v":25600,"d":"25,600"},{"v":1218,"d":"1,218"},{"v":7186.088167300899,"d":"7,186"},{"v":10135,"d":"10,135"},{"v":7884,"d":"7,884"}]
[2001,{"v":76504.42722045147,"d":"76,504"},{"v":7023,"d":"7,023"},{"v":7015,"d":"7,015"},{"v":48100,"d":"48,100"},{"v":2565,"d":"2,565"},{"v":16821.281113886133,"d":"16,821"},{"v":14600,"d":"14,600"},{"v":13701,"d":"13,701"}]
[2002,{"v":108197.81050318855,"d":"108,198"},{"v":9437,"d":"9,437"},{"v":9888,"d":"9,888"},{"v":57600,"d":"57,600"},{"v":2849,"d":"2,849"},{"v":24357.93636849399,"d":"24,358"},{"v":27005,"d":"27,005"},{"v":21946,"d":"21,946"}]
[2003,{"v":150042.2155912196,"d":"150,042"},{"v":20432,"d":"20,432"},{"v":10732,"d":"10,732"},{"v":97179,"d":"97,179"},{"v":2072,"d":"2,072"},{"v":27830.30271704684,"d":"27,830"},{"v":38204,"d":"38,204"},{"v":24175,"d":"24,175"}]
[2004,{"v":122496.41128787307,"d":"122,496"},{"v":9178,"d":"9,178"},{"v":7880,"d":"7,880"},{"v":79866,"d":"79,866"},{"v":3287,"d":"3,287"},{"v":23392.420830786446,"d":"23,392"},{"v":27779,"d":"27,779"},{"v":26210,"d":"26,210"}]
[2005,{"v":100333.29005815138,"d":"100,333"},{"v":6590,"d":"6,590"},{"v":7547.099999999999,"d":"7,547"},{"v":60464,"d":"60,464"},{"v":3180,"d":"3,180"},{"v":23158,"d":"23,158"},{"v":14271,"d":"14,271"},{"v":30991,"d":"30,991"}]
[2006,{"v":80470.35906797621,"d":"80,470"},{"v":4577,"d":"4,577"},669,{"v":31402,"d":"31,402"},{"v":2898,"d":"2,898"},{"v":22704.81834422305,"d":"22,705"},{"v":12501,"d":"12,501"},{"v":19745,"d":"19,745"}]
[2007,{"v":47556.27931946669,"d":"47,556"},{"v":6665,"d":"6,665"},{"v":1155,"d":"1,155"},{"v":29029,"d":"29,029"},{"v":1373,"d":"1,373"},{"v":13369.031879382203,"d":"13,369"},{"v":5559,"d":"5,559"},{"v":13053,"d":"13,053"}]
[2008,{"v":76296.84580362777,"d":"76,297"},{"v":10349,"d":"10,349"},{"v":4025,"d":"4,025"},{"v":44210,"d":"44,210"},{"v":1623,"d":"1,623"},{"v":23260.039538779823,"d":"23,260"},{"v":6813,"d":"6,813"},{"v":21409,"d":"21,409"}]
[2009,{"v":73068.72275782147,"d":"73,069"},{"v":8508,"d":"8,508"},{"v":3965,"d":"3,965"},{"v":41298,"d":"41,298"},{"v":3468,"d":"3,468"},{"v":21212.825164573173,"d":"21,213"},{"v":9320,"d":"9,320"},{"v":22003,"d":"22,003"}]
[2010,{"v":78937.14428900133,"d":"78,937"},{"v":3719,"d":"3,719"},{"v":3390,"d":"3,390"},{"v":50878,"d":"50,878"},{"v":2570,"d":"2,570"},{"v":22009.278461057344,"d":"22,009"},{"v":7904,"d":"7,904"},{"v":33391,"d":"33,391"}]
[2011,{"v":87261.78366994625,"d":"87,262"},{"v":7596,"d":"7,596"},{"v":7232,"d":"7,232"},{"v":58775,"d":"58,775"},963,{"v":27569.48974138232,"d":"27,569"},{"v":12399,"d":"12,399"},{"v":24923,"d":"24,923"}]
[2012,{"v":63362.638826516595,"d":"63,363"},{"v":5841,"d":"5,841"},{"v":3850,"d":"3,850"},{"v":44306,"d":"44,306"},{"v":7490,"d":"7,490"},{"v":14803.94362965068,"d":"14,804"},{"v":12860,"d":"12,860"},{"v":17052,"d":"17,052"}]
[2013,{"v":243508.03654054788,"d":"243,508"},{"v":16947,"d":"16,947"},{"v":10875.371903312616,"d":"10,875"},{"v":187748,"d":"187,748"},{"v":16508,"d":"16,508"},{"v":52260.51241623948,"d":"52,261"},{"v":65999,"d":"65,999"},{"v":58045,"d":"58,045"}]
[2014,{"v":203733.72148757492,"d":"203,734"},{"v":20902,"d":"20,902"},{"v":9527.185594910185,"d":"9,527"},{"v":154971,"d":"154,971"},{"v":16874,"d":"16,874"},{"v":74476.8093191837,"d":"74,477"},{"v":34996,"d":"34,996"},{"v":34075,"d":"34,075"}]
[2015,{"v":170620.41727873698,"d":"170,620"},{"v":14536,"d":"14,536"},{"v":11910,"d":"11,910"},{"v":123722,"d":"123,722"},{"v":14037,"d":"14,037"},{"v":56404.97037037037,"d":"56,405"},{"v":31305,"d":"31,305"},{"v":30744,"d":"30,744"}]
[2016,{"v":88299,"d":"88,299"},{"v":9460,"d":"9,460"},{"v":4526,"d":"4,526"},{"v":59300,"d":"59,300"},{"v":9476,"d":"9,476"},{"v":28184,"d":"28,184"},{"v":19290,"d":"19,290"},{"$f":"7483+870+7453","v":{"v":15806,"d":"15,806"}}]
[2017,{"v":47367,"d":"47,367"},{"v":1087,"d":"1,087"},{"v":5914,"d":"5,914"},{"v":33820,"d":"33,820"},{"v":5347,"d":"5,347"},{"v":18598,"d":"18,598"},{"v":6261,"d":"6,261"},{"v":7750,"d":"7,750"}]
[2018,{"v":36009,"d":"36,009"},440,951,{"v":27972,"d":"27,972"},{"v":7623,"d":"7,623"},{"v":14858,"d":"14,858"},{"v":5646,"d":"5,646"},{"v":6354,"d":"6,354"}]
[2019,{"v":58140,"d":"58,140"},{"v":1457,"d":"1,457"},{"v":2275,"d":"2,275"},{"v":54380,"d":"54,380"},{"v":5109,"d":"5,109"},{"v":14978,"d":"14,978"},{"v":15924,"d":"15,924"},{"v":16636,"d":"16,636"}]
[2020,{"v":101928,"d":"101,928"},{"v":7026,"d":"7,026"},{"v":7184,"d":"7,184"},{"v":87621,"d":"87,621"},{"v":8325,"d":"8,325"},{"v":31937,"d":"31,937"},{"v":12357,"d":"12,357"},{"v":17216,"d":"17,216"}]
[2021,{"v":66077,"d":"66,077"},{"v":3694,"d":"3,694"},{"v":3832,"d":"3,832"},{"v":58551,"d":"58,551"},{"v":8140,"d":"8,140"},{"v":21019,"d":"21,019"},{"v":11999,"d":"11,999"},{"v":12645,"d":"12,645"}]
[2022,{"v":67661,"d":"67,661"},{"v":2944,"d":"2,944"},{"v":4766,"d":"4,766"},{"v":59951,"d":"59,951"},{"v":6814,"d":"6,814"},{"v":18078,"d":"18,078"},{"v":15033,"d":"15,033"},{"v":15790,"d":"15,790"}]
[2023,{"v":73664,"d":"73,664"},{"v":2312,"d":"2,312"},{"v":6298,"d":"6,298"},{"v":65054,"d":"65,054"},{"v":13004,"d":"13,004"},{"v":12482,"d":"12,482"},{"v":14896,"d":"14,896"},{"v":13342,"d":"13,342"}]
["2024h/",{"v":87572,"d":"87,572"},{"v":7653,"d":"7,653"},{"v":6239,"d":"6,239"},{"v":73680,"d":"73,680"},{"v":10024,"d":"10,024"},{"v":13801,"d":"13,801"},{"v":17729,"d":"17,729"},{"v":16131,"d":"16,131"}]
["a/  Based on Columbia River fall Chinook database (Preliminary Big Sheets), WDFW, unpublished. Adult Aged fish.  The MCB stock includes Bonneville upriver brights (BUBs) and Pool upriver brights (PUBs).  A portion of the BUB stock includes lower river brights (LRBs) that spawn naturally downstream of Bonneville Dam.  In 2013, hatchery production of BUBs was discontinued and production shifted to PUB.  Since 2018, the MCB stock has consisted of PUB stock and the minor LRB component."]
["b/ Mainstem and Select Areas downstream of Bonneville Dam. "]
["c/ Mainstem and tributary downstream of Bonneville Dam. 1982-88 includes catch from upriver sport."]
["d/ Mainstem and tributary between Bonneville and McNary dam (Zone 6).  1982-88 catch from upriver sport included in lowe river sport catch."]
["e/ Mainstem and tributary between Bonneville and McNary dam (Zone 6).  Includes commercial, ceremonial, and subsistence catch."]
["f/ Includes Little White Salmon, Klickitat, and Umatilla rivers."]
["g/  Includes Little White Salmon, Bonneville, Umatilla, and Klickitat hatcheries. "]
["h/  Preliminary estimates based on in-season run updates."]
{"$rows_empty":14}
["TABLE B-18.  Estimates of inriver run size, catch, and escapement in numbers of Columbia River adult mid-Columbia bright (MCB) stock fall Chinook destined for areas below McNary Dam.a/  "]
[null,"Minimum Columbia R. Return","Lower River Catch",null,null,"Above Bonneville Catch"]
[null,null,"Non-Indian  Commercialb/",null,"Bonneville Dam Count",null," Treaty Indiane/","Escapement"]
[" Year or Ave.",null,null,"Sportc/",null,"Sportd/",null,"Naturalf/","Hatcheryg/"]
["1982-1985",{"$f":"AVERAGE(B17:B20)","v":{"v":10275,"d":"10,275"}},{"$f":"AVERAGE(C17:C20)","v":{"v":1675,"d":"1,675"}},100,{"v":4925,"d":"4,925"},"c/",{"v":1875,"d":"1,875"},0,{"v":3450,"d":"3,450"}]
["1986-1990",{"$f":"AVERAGE(B21:B25)","v":{"v":60894.0430654584,"d":"60,894"}},{"$f":"AVERAGE(C21:C25)","v":{"v":26546.8,"d":"26,547"}},{"v":2041.2,"d":"2,041"},{"v":24780,"d":"24,780"},{"$f":"AVERAGE(F24:F25)","v":{"v":580.5,"d":"581"}},{"v":16287.5252604894,"d":"16,288"},{"v":4253.2,"d":"4,253"},{"v":9193.8,"d":"9,194"}]
["1991-1995",{"$f":"AVERAGE(B26:B30)","v":{"v":32352.43915436256,"d":"32,352"}},{"$f":"AVERAGE(C26:C30)","v":{"v":4150.8,"d":"4,151"}},958,{"v":19360,"d":"19,360"},{"v":663.6,"d":"664"},{"v":6013.573787321937,"d":"6,014"},{"v":7326.6,"d":"7,327"},{"v":10631,"d":"10,631"}]
["1996-2000",{"$f":"AVERAGE(B31:B35)","v":{"v":48787.46367549265,"d":"48,787"}},{"$f":"AVERAGE(C31:C35)","v":{"v":2994.2,"d":"2,994"}},{"v":3110,"d":"3,110"},{"v":34120,"d":"34,120"},{"v":1897,"d":"1,897"},{"v":9475.160539270135,"d":"9,475"},{"v":14052.4,"d":"14,052"},{"v":11059,"d":"11,059"}]
["2001-2005",{"$f":"AVERAGE(B36:B40)","v":{"v":111514.83093217682,"d":"111,515"}},{"$f":"AVERAGE(C36:C40)","v":{"v":10532,"d":"10,532"}},{"v":8612.42,"d":"8,612"},{"v":68641.8,"d":"68,642"},{"v":2790.6,"d":"2,791"},{"v":23111.988206042683,"d":"23,112"},{"v":24371.8,"d":"24,372"},{"v":23404.6,"d":"23,405"}]
["2006-2010",{"$f":"AVERAGE(B41:B45)","v":{"v":71265.87024757868,"d":"71,266"}},{"$f":"AVERAGE(C41:C45)","v":{"v":6763.6,"d":"6,764"}},{"v":2640.8,"d":"2,641"},{"v":39363.4,"d":"39,363"},{"v":2386.4,"d":"2,386"},{"v":20511.19867760312,"d":"20,511"},{"v":8419.4,"d":"8,419"},{"v":21920.2,"d":"21,920"}]
[2011,{"$f":"B46","v":{"v":87261.78366994625,"d":"87,262"}},{"v":7596,"d":"7,596"},{"v":7232,"d":"7,232"},{"v":58775,"d":"58,775"},963,{"v":27569.48974138232,"d":"27,569"},{"v":12399,"d":"12,399"},{"v":24923,"d":"24,923"}]
[2012,{"v":63362.638826516595,"d":"63,363"},{"v":5841,"d":"5,841"},{"v":3850,"d":"3,850"},{"v":44306,"d":"44,306"},{"v":7490,"d":"7,490"},{"v":14803.94362965068,"d":"14,804"},{"v":12860,"d":"12,860"},{"v":17052,"d":"17,052"}]
[2013,{"v":243508.03654054788,"d":"243,508"},{"v":16947,"d":"16,947"},{"v":10875.371903312616,"d":"10,875"},{"v":187748,"d":"187,748"},{"v":16508,"d":"16,508"},{"v":52260.51241623948,"d":"52,261"},{"v":65999,"d":"65,999"},{"v":58045,"d":"58,045"}]
[2014,{"v":203733.72148757492,"d":"203,734"},{"v":20902,"d":"20,902"},{"v":9527.185594910185,"d":"9,527"},{"v":154971,"d":"154,971"},{"v":16874,"d":"16,874"},{"v":74476.8093191837,"d":"74,477"},{"v":34996,"d":"34,996"},{"v":34075,"d":"34,075"}]
[2015,{"v":170620.41727873698,"d":"170,620"},{"v":14536,"d":"14,536"},{"v":11910,"d":"11,910"},{"v":123722,"d":"123,722"},{"v":14037,"d":"14,037"},{"v":56404.97037037037,"d":"56,405"},{"v":31305,"d":"31,305"},{"v":30744,"d":"30,744"}]
[2016,{"v":88299,"d":"88,299"},{"v":9460,"d":"9,460"},{"v":4526,"d":"4,526"},{"v":59300,"d":"59,300"},{"v":9476,"d":"9,476"},{"v":28184,"d":"28,184"},{"v":19290,"d":"19,290"},{"v":15806,"d":"15,806"}]
[2017,{"v":47367,"d":"47,367"},{"v":1087,"d":"1,087"},{"v":5914,"d":"5,914"},{"v":33820,"d":"33,820"},{"v":5347,"d":"5,347"},{"v":18598,"d":"18,598"},{"v":6261,"d":"6,261"},{"v":7750,"d":"7,750"}]
[2018,{"v":36009,"d":"36,009"},440,951,{"v":27972,"d":"27,972"},{"v":7623,"d":"7,623"},{"v":14858,"d":"14,858"},{"v":5646,"d":"5,646"},{"v":6354,"d":"6,354"}]
[2019,{"v":58140,"d":"58,140"},{"v":1457,"d":"1,457"},{"v":2275,"d":"2,275"},{"v":54380,"d":"54,380"},{"v":5109,"d":"5,109"},{"v":14978,"d":"14,978"},{"v":15924,"d":"15,924"},{"v":16636,"d":"16,636"}]
[2020,{"v":101928,"d":"101,928"},{"v":7026,"d":"7,026"},{"v":7184,"d":"7,184"},{"v":87621,"d":"87,621"},{"v":8325,"d":"8,325"},{"v":31937,"d":"31,937"},{"v":12357,"d":"12,357"},{"v":17216,"d":"17,216"}]
[2021,{"v":66077,"d":"66,077"},{"v":3694,"d":"3,694"},{"v":3832,"d":"3,832"},{"v":58551,"d":"58,551"},{"v":8140,"d":"8,140"},{"v":21019,"d":"21,019"},{"v":11999,"d":"11,999"},{"v":12645,"d":"12,645"}]
[2022,{"v":67661,"d":"67,661"},{"v":2944,"d":"2,944"},{"v":4766,"d":"4,766"},{"v":59951,"d":"59,951"},{"v":6814,"d":"6,814"},{"v":18078,"d":"18,078"},{"v":15033,"d":"15,033"},{"v":15790,"d":"15,790"}]
[2023,{"$f":"B58","v":{"v":73664,"d":"73,664"}},{"v":2312,"d":"2,312"},{"v":6298,"d":"6,298"},{"v":65054,"d":"65,054"},{"v":13004,"d":"13,004"},{"v":12482,"d":"12,482"},{"v":14896,"d":"14,896"},{"v":13342,"d":"13,342"}]
["2024h/",{"v":87572,"d":"87,572"},{"v":7653,"d":"7,653"},{"v":6239,"d":"6,239"},{"v":73680,"d":"73,680"},{"v":10024,"d":"10,024"},{"v":13801,"d":"13,801"},{"v":17729,"d":"17,729"},{"v":16131,"d":"16,131"}]
[{"$f":"A60","v":"a/  Based on Columbia River fall Chinook database (Preliminary Big Sheets), WDFW, unpublished. Adult Aged fish.  The MCB stock includes Bonneville upriver brights (BUBs) and Pool upriver brights (PUBs).  A portion of the BUB stock includes lower river brights (LRBs) that spawn naturally downstream of Bonneville Dam.  In 2013, hatchery production of BUBs was discontinued and production shifted to PUB.  Since 2018, the MCB stock has consisted of PUB stock and the minor LRB component."}]
["b/ Mainstem and Select Areas downstream of Bonneville Dam. "]
["c/ Mainstem and tributary downstream of Bonneville Dam. 1982-88 includes catch from upriver sport."]
["d/ Mainstem and tributary between Bonneville and McNary dam (Zone 6).  1982-88 catch from upriver sport included in lowe river sport catch."]
["e/ Mainstem and tributary between Bonneville and McNary dam (Zone 6).  Includes commercial, ceremonial, and subsistence catch."]
["f/ Includes Little White Salmon, Klickitat, and Umatilla rivers."]
["g/  Includes Little White Salmon, Bonneville, Umatilla, and Klickitat hatcheries. "]
["h/  Preliminary estimates based on in-season run updates."]

{"sheet":"B-19","index":20,"n_rows":129,"n_cols":16384,"rows_kept":129,"merged":[[0,0,0,11],[1,7,1,11],[1,15,4,15],[2,1,4,1],[2,2,2,3],[2,5,2,6],[2,7,4,7],[2,8,4,8],[2,9,4,9],[2,10,4,10],[2,11,4,11],[3,0,4,0],[3,2,4,2],[3,4,4,4],[3,6,4,6],[3,12,4,12],[60,0,60,11],[61,0,61,11],[62,0,62,11],[63,0,63,11],[64,0,64,11],[65,0,65,11],[66,0,66,11],[67,0,67,11],[68,0,68,11],[69,0,69,11],[70,0,70,11],[71,0,71,11],[91,0,91,11],[92,7,92,11],[92,13,95,13],[92,14,95,14],[92,15,95,15],[93,1,95,1],[93,2,93,3],[93,5,93,6],[93,7,95,7],[93,8,95,8],[93,9,95,9],[93,10,95,10],[93,11,95,11],[94,0,95,0],[94,2,95,2],[94,4,95,4],[94,6,95,6],[117,0,117,11],[120,0,120,11],[121,0,121,11],[125,0,125,11],[126,0,126,11],[127,0,127,11],[128,0,128,11]]}
["TABLE B-19.  Estimates of inriver run size, catch, and escapement in numbers of Columbia River adult upriver bright (URB) stock fall Chinook destined for areas above McNary Dam and to the Deschutes River.a/"]
[{"$nulls":7},"Escapement"]
[null,"Minimum Columbia R. Return","Lower River Catch",null,null,"Above Bonneville Catch",null," Deschutes River above/below Sheares Fallsf/","McNary Dam Countg/","Upper Columbiah/","Total   L.   Granite Dam Count","SRW\nL. Granite Dam Counti/"]
["Year or  Ave.",null,"Non-Indian  Commercialb/",null,"Bonneville Dam  Count",null," Treaty Indiane/"]
[{"$nulls":3},"Sportc/",null,"Sportd/"]
[1971,{"v":110500,"d":"110,500"},{"v":29300,"d":"29,300"},{"v":3100,"d":"3,100"},{"v":80400,"d":"80,400"},null,{"v":35100,"d":"35,100"},"NA",{"v":39500,"d":"39,500"},"NA","NA","NA"]
[1972,{"v":110500,"d":"110,500"},{"v":29300,"d":"29,300"},{"v":3100,"d":"3,100"},{"v":80400,"d":"80,400"},null,{"v":35100,"d":"35,100"},"NA",{"v":39500,"d":"39,500"},"NA","NA","NA"]
[1973,{"v":110500,"d":"110,500"},{"v":29300,"d":"29,300"},{"v":3100,"d":"3,100"},{"v":80400,"d":"80,400"},null,{"v":35100,"d":"35,100"},"NA",{"v":39500,"d":"39,500"},"NA","NA","NA"]
[1974,{"v":110500,"d":"110,500"},{"v":29300,"d":"29,300"},{"v":3100,"d":"3,100"},{"v":80400,"d":"80,400"},null,{"v":35100,"d":"35,100"},"NA",{"v":39500,"d":"39,500"},"NA","NA","NA"]
[1975,{"v":110500,"d":"110,500"},{"v":29300,"d":"29,300"},{"v":3100,"d":"3,100"},{"v":80400,"d":"80,400"},null,{"v":35100,"d":"35,100"},"NA",{"v":39500,"d":"39,500"},"NA","NA","NA"]
[1976,{"v":115100,"d":"115,100"},{"v":28000,"d":"28,000"},{"v":2100,"d":"2,100"},{"v":86600,"d":"86,600"},null,{"v":55900,"d":"55,900"},"NA",{"v":28800,"d":"28,800"},"NA",470,470]
[1977,{"v":95100,"d":"95,100"},{"v":28800,"d":"28,800"},700,{"v":65900,"d":"65,900"},null,{"v":29000,"d":"29,000"},{"v":7902.519468832,"d":"7,903"},{"v":37600,"d":"37,600"},"NA",600,600]
[1978,{"v":85300,"d":"85,300"},{"v":16300,"d":"16,300"},700,{"v":68700,"d":"68,700"},null,{"v":32600,"d":"32,600"},{"v":5393.476717706,"d":"5,393"},{"v":27900,"d":"27,900"},"NA",640,640]
[1979,{"v":89200,"d":"89,200"},{"v":17700,"d":"17,700"},500,{"v":71200,"d":"71,200"},null,{"v":32500,"d":"32,500"},{"v":5125.5863832039995,"d":"5,126"},{"v":31200,"d":"31,200"},"NA",500,500]
[1980,{"v":76806,"d":"76,806"},{"v":5100,"d":"5,100"},900,{"v":69400,"d":"69,400"},null,{"v":10800,"d":"10,800"},{"v":4105.636174740001,"d":"4,106"},{"v":29900,"d":"29,900"},"NA",455,450]
[1981,{"v":66603,"d":"66,603"},{"v":2400,"d":"2,400"},700,{"v":62800,"d":"62,800"},null,{"v":14200,"d":"14,200"},{"v":6069.5929169440005,"d":"6,070"},{"v":21100,"d":"21,100"},"NA",337,340]
[1982,{"v":78979,"d":"78,979"},{"v":4500,"d":"4,500"},200,{"v":71800,"d":"71,800"},null,{"v":7000,"d":"7,000"},{"v":5513,"d":"5,513"},{"v":31100,"d":"31,100"},"NA",724,720]
[1983,{"v":86051,"d":"86,051"},{"v":4300,"d":"4,300"},700,{"v":78000,"d":"78,000"},null,{"v":18100,"d":"18,100"},{"v":5490.802165514,"d":"5,491"},{"v":48700,"d":"48,700"},"NA",535,428]
[1984,{"v":131369,"d":"131,369"},{"v":23700,"d":"23,700"},{"v":4400,"d":"4,400"},{"v":101400,"d":"101,400"},null,{"v":35100,"d":"35,100"},{"v":2779,"d":"2,779"},{"v":61000,"d":"61,000"},"NA",637,324]
[1985,{"v":196364,"d":"196,364"},{"v":34500,"d":"34,500"},{"v":9100,"d":"9,100"},{"v":156600,"d":"156,600"},null,{"v":59100,"d":"59,100"},{"v":7901.954582138,"d":"7,902"},{"v":93308,"d":"93,308"},"NA",693,438]
[1986,{"v":281569,"d":"281,569"},{"v":59200,"d":"59,200"},{"v":12500,"d":"12,500"},{"v":214050,"d":"214,050"},null,{"v":93400,"d":"93,400"},{"v":7466.718297195999,"d":"7,467"},{"v":113265,"d":"113,265"},"NA",784,449]
[1987,{"v":420656,"d":"420,656"},{"v":104400,"d":"104,400"},{"v":18900,"d":"18,900"},{"v":303990,"d":"303,990"},null,{"v":123300,"d":"123,300"},{"v":9187,"d":"9,187"},{"v":154146,"d":"154,146"},"NA",950,253]
[1988,{"v":339915,"d":"339,915"},{"v":80200,"d":"80,200"},{"v":17500,"d":"17,500"},{"v":249723,"d":"249,723"},null,{"v":125400,"d":"125,400"},{"v":9547.564867232,"d":"9,548"},{"v":114741,"d":"114,741"},"NA",627,368]
[1989,{"v":261302,"d":"261,302"},{"v":42900,"d":"42,900"},{"v":6345,"d":"6,345"},{"v":211878,"d":"211,878"},{"v":6541,"d":"6,541"},{"v":98800,"d":"98,800"},{"v":6339,"d":"6,339"},{"v":96494,"d":"96,494"},"NA",706,295]
[1990,{"v":153593,"d":"153,593"},{"v":20793,"d":"20,793"},600,{"v":132042,"d":"132,042"},{"v":4366,"d":"4,366"},{"v":60996.87369755301,"d":"60,997"},{"v":2864,"d":"2,864"},{"v":57612,"d":"57,612"},"NA",385,78]
[1991,{"v":103286,"d":"103,286"},{"v":13773,"d":"13,773"},{"v":1637,"d":"1,637"},{"v":87307,"d":"87,307"},{"v":4304,"d":"4,304"},{"v":26249.60747977598,"d":"26,250"},{"v":5374,"d":"5,374"},{"v":46625,"d":"46,625"},"NA",630,318]
[1992,{"v":81016,"d":"81,016"},{"v":5780,"d":"5,780"},{"v":1246,"d":"1,246"},{"v":73990,"d":"73,990"},{"v":2761,"d":"2,761"},{"v":13926.2,"d":"13,926"},{"v":3668,"d":"3,668"},{"v":51189,"d":"51,189"},"NA",855,549]
[1993,{"v":102908,"d":"102,908"},{"v":5390,"d":"5,390"},{"v":2055,"d":"2,055"},{"v":95458,"d":"95,458"},{"v":3198,"d":"3,198"},{"v":20349.706509539843,"d":"20,350"},{"v":8809,"d":"8,809"},{"v":54876,"d":"54,876"},"NA",{"v":1170,"d":"1,170"},742]
[1994,{"v":132839,"d":"132,839"},10,55,{"v":132766,"d":"132,766"},{"v":4774,"d":"4,774"},{"v":24855.6410729254,"d":"24,856"},{"v":9556,"d":"9,556"},{"v":85932,"d":"85,932"},"NA",791,406]
[1995,{"v":106459,"d":"106,459"},46,761,{"v":105621,"d":"105,621"},{"v":4686,"d":"4,686"},{"v":18685.316001149095,"d":"18,685"},{"v":9304,"d":"9,304"},{"v":68186,"d":"68,186"},"NA",{"v":1067,"d":"1,067"},350]
[1996,{"v":143155,"d":"143,155"},{"v":3717,"d":"3,717"},{"v":3965,"d":"3,965"},{"v":135499,"d":"135,499"},{"v":4953,"d":"4,953"},{"v":29867.853010795094,"d":"29,868"},{"v":10233,"d":"10,233"},{"v":73929,"d":"73,929"},"NA",{"v":1308,"d":"1,308"},639]
[1997,{"v":161735,"d":"161,735"},{"v":1429,"d":"1,429"},{"v":7338,"d":"7,338"},{"v":152941,"d":"152,941"},{"v":4168,"d":"4,168"},{"v":42637,"d":"42,637"},{"v":20208,"d":"20,208"},{"v":67192,"d":"67,192"},"NA",{"v":1451,"d":"1,451"},797]
[1998,{"v":141575,"d":"141,575"},770,{"v":3868,"d":"3,868"},{"v":137509,"d":"137,509"},{"v":4269,"d":"4,269"},{"v":33760.38273416959,"d":"33,760"},{"v":15908,"d":"15,908"},{"v":63791,"d":"63,791"},"NA",{"v":1909,"d":"1,909"},306]
[1999,{"v":165888.91404197906,"d":"165,889"},{"v":2133,"d":"2,133"},{"v":9142,"d":"9,142"},{"v":155756,"d":"155,756"},{"v":6031,"d":"6,031"},{"v":38821.712339910344,"d":"38,822"},{"v":7389,"d":"7,389"},{"v":78356,"d":"78,356"},"NA",{"v":3381,"d":"3,381"},905]
[2000,{"v":156595.42179438868,"d":"156,595"},{"v":5551,"d":"5,551"},{"v":5949,"d":"5,949"},{"v":145104,"d":"145,104"},{"v":4596,"d":"4,596"},{"v":36501.412711909164,"d":"36,501"},{"v":4985,"d":"4,985"},{"v":66378,"d":"66,378"},{"v":58513,"d":"58,513"},{"v":3694,"d":"3,694"},{"v":1148,"d":"1,148"}]
[2001,{"v":232366.43997160014,"d":"232,366"},{"v":8151,"d":"8,151"},{"v":4634,"d":"4,634"},{"v":219801,"d":"219,801"},{"v":8014,"d":"8,014"},{"v":35421.89396029785,"d":"35,422"},{"v":12817,"d":"12,817"},{"v":110517,"d":"110,517"},{"v":72738,"d":"72,738"},{"v":8915,"d":"8,915"},{"v":5163,"d":"5,163"}]
[2002,{"v":279547.55145646876,"d":"279,548"},{"v":6881,"d":"6,881"},{"v":12253,"d":"12,253"},{"v":257711,"d":"257,711"},{"v":13398,"d":"13,398"},{"v":57404.96979465381,"d":"57,405"},{"v":11907,"d":"11,907"},{"v":141682,"d":"141,682"},{"v":99728,"d":"99,728"},{"v":12351,"d":"12,351"},{"v":2116,"d":"2,116"}]
[2003,{"v":374153.7844087804,"d":"374,154"},{"v":15930,"d":"15,930"},{"v":15299,"d":"15,299"},{"v":341208,"d":"341,208"},{"v":10619,"d":"10,619"},{"v":49060.219484788024,"d":"49,060"},{"v":13413,"d":"13,413"},{"v":179970,"d":"179,970"},{"v":146437,"d":"146,437"},{"v":11732,"d":"11,732"},{"v":4257,"d":"4,257"}]
[2004,{"v":362804,"d":"362,804"},{"v":19760,"d":"19,760"},{"v":11591,"d":"11,591"},{"v":336585,"d":"336,585"},{"v":10685,"d":"10,685"},{"v":46566.15300241936,"d":"46,566"},{"v":13297,"d":"13,297"},{"v":170648,"d":"170,648"},{"v":122417,"d":"122,417"},{"v":14960,"d":"14,960"},{"v":3329,"d":"3,329"}]
[2005,{"v":278538.7099418486,"d":"278,539"},{"v":8464,"d":"8,464"},{"v":14276.900000000001,"d":"14,277"},{"v":256119,"d":"256,119"},{"v":9703,"d":"9,703"},{"v":45776,"d":"45,776"},{"v":14936,"d":"14,936"},{"v":131550,"d":"131,550"},{"v":98777,"d":"98,777"},{"v":11194,"d":"11,194"},{"v":5177.271704751863,"d":"5,177"}]
[2006,{"v":230390,"d":"230,390"},{"v":8757,"d":"8,757"},{"v":8767,"d":"8,767"},{"v":132632,"d":"132,632"},{"v":5748,"d":"5,748"},{"v":44564.59832244362,"d":"44,565"},{"v":10955,"d":"10,955"},{"v":89081,"d":"89,081"},{"v":62567,"d":"62,567"},{"v":8048,"d":"8,048"},{"v":4668.7181784396935,"d":"4,669"}]
[2007,{"v":114065,"d":"114,065"},{"v":2833,"d":"2,833"},{"v":5606,"d":"5,606"},{"v":105626,"d":"105,626"},{"v":5254,"d":"5,254"},{"v":18878.32242525356,"d":"18,878"},{"v":6361,"d":"6,361"},{"v":57268,"d":"57,268"},{"v":34201,"d":"34,201"},{"v":10197,"d":"10,197"},{"v":3742.407188315731,"d":"3,742"}]
[2008,{"v":197295,"d":"197,295"},{"v":7574,"d":"7,574"},{"v":6477,"d":"6,477"},{"v":183242,"d":"183,242"},{"v":7846,"d":"7,846"},{"v":39987.88816343922,"d":"39,988"},{"v":6907.59,"d":"6,908"},{"v":101869,"d":"101,869"},{"v":51757,"d":"51,757"},{"v":16628,"d":"16,628"},{"v":3929.591139537266,"d":"3,930"}]
[2009,{"v":212047.27724217853,"d":"212,047"},{"v":11601,"d":"11,601"},{"v":9749,"d":"9,749"},{"v":190695.27724217853,"d":"190,695"},{"v":7561,"d":"7,561"},{"v":58616.17483542683,"d":"58,616"},{"v":6428.5,"d":"6,429"},{"v":104544,"d":"104,544"},{"v":62428,"d":"62,428"},{"v":15167,"d":"15,167"},{"v":4976.739439919476,"d":"4,977"}]
[2010,{"v":324907.85571099864,"d":"324,908"},{"v":13536,"d":"13,536"},{"v":11009,"d":"11,009"},{"v":300319,"d":"300,319"},{"v":13615,"d":"13,615"},{"v":59115.10815131221,"d":"59,115"},{"v":9275,"d":"9,275"},{"v":146924.0777689345,"d":"146,924"},{"v":114230,"d":"114,230"},{"v":41815,"d":"41,815"},{"v":7995.15374391942,"d":"7,995"}]
[2011,{"v":322233.21633005375,"d":"322,233"},{"v":22215,"d":"22,215"},{"v":19641,"d":"19,641"},{"v":280377,"d":"280,377"},{"v":14531,"d":"14,531"},{"v":80288.30374303694,"d":"80,288"},{"v":17117,"d":"17,117"},{"v":161191,"d":"161,191"},{"v":93510,"d":"93,510"},{"v":25248,"d":"25,248"},{"v":8778.091040296278,"d":"8,778"}]
[2012,{"v":294947.3611734834,"d":"294,947"},{"v":16895,"d":"16,895"},{"v":23033,"d":"23,033"},{"v":255420,"d":"255,420"},{"v":16778,"d":"16,778"},{"v":61422.205344591086,"d":"61,422"},{"v":17624,"d":"17,624"},{"v":173472,"d":"173,472"},{"v":94925,"d":"94,925"},{"v":34688,"d":"34,688"},{"v":12797.322260880625,"d":"12,797"}]
[2013,{"v":784115.7531024559,"d":"784,116"},{"v":47636,"d":"47,636"},{"v":34180.58827292062,"d":"34,181"},{"v":702503,"d":"702,503"},{"v":33224,"d":"33,224"},{"v":162963.6355595155,"d":"162,964"},{"v":18068,"d":"18,068"},{"v":454991,"d":"454,991"},{"v":305445,"d":"305,445"},{"v":56565,"d":"56,565"},{"v":21124,"d":"21,124"}]
[2014,{"v":684227.9574169179,"d":"684,228"},{"v":53296,"d":"53,296"},{"v":30262.493309582518,"d":"30,262"},{"v":599580,"d":"599,580"},{"v":32504,"d":"32,504"},{"v":153685.2060175009,"d":"153,685"},{"v":17933,"d":"17,933"},{"v":410786,"d":"410,786"},{"v":233934,"d":"233,934"},{"v":60687,"d":"60,687"},{"v":14171.772625522603,"d":"14,172"}]
[2015,{"v":795914.5827212629,"d":"795,915"},{"v":38375,"d":"38,375"},{"v":48015,"d":"48,015"},{"v":706440,"d":"706,440"},{"v":40516,"d":"40,516"},{"v":159717.34814814816,"d":"159,717"},{"v":17074,"d":"17,074"},{"v":396580,"d":"396,580"},{"v":323276,"d":"323,276"},{"v":59300,"d":"59,300"},{"v":16212,"d":"16,212"},{"$nulls":16371},","]
[2016,{"v":406572,"d":"406,572"},{"v":32608,"d":"32,608"},{"v":24904,"d":"24,904"},{"v":348990,"d":"348,990"},{"v":21812,"d":"21,812"},{"v":89840,"d":"89,840"},{"v":11628,"d":"11,628"},{"v":239791,"d":"239,791"},{"v":151373,"d":"151,373"},{"v":34714,"d":"34,714"},{"v":9771.697566935338,"d":"9,772"},{"$nulls":16371},","]
[2017,{"v":297123,"d":"297,123"},{"v":12671,"d":"12,671"},{"v":32654,"d":"32,654"},{"v":266283,"d":"266,283"},{"v":14770,"d":"14,770"},{"v":77280,"d":"77,280"},{"v":4943,"d":"4,943"},{"v":156927,"d":"156,927"},{"v":96096,"d":"96,096"},{"v":26430,"d":"26,430"},{"v":6966,"d":"6,966"},{"$nulls":16371},","]
[2018,{"v":149044,"d":"149,044"},{"v":3344,"d":"3,344"},{"v":10515,"d":"10,515"},{"v":134076,"d":"134,076"},{"v":9207,"d":"9,207"},{"v":30491,"d":"30,491"},{"v":4553,"d":"4,553"},{"v":100801,"d":"100,801"},{"v":58540,"d":"58,540"},{"v":16904,"d":"16,904"},{"v":6133,"d":"6,133"},{"$nulls":16371},","]
[2019,{"v":212238,"d":"212,238"},{"v":3824,"d":"3,824"},{"v":9760,"d":"9,760"},{"v":198636,"d":"198,636"},{"v":14544,"d":"14,544"},{"v":40795,"d":"40,795"},{"v":20815,"d":"20,815"},{"v":128862,"d":"128,862"},{"v":77880,"d":"77,880"},{"v":15777,"d":"15,777"},{"v":6558,"d":"6,558"},{"$nulls":16371},","]
[2020,{"v":299336,"d":"299,336"},{"v":11506,"d":"11,506"},{"v":14834,"d":"14,834"},{"v":272996,"d":"272,996"},{"v":16185,"d":"16,185"},{"v":57591,"d":"57,591"},{"v":8792,"d":"8,792"},{"v":186097,"d":"186,097"},{"v":98401,"d":"98,401"},{"v":24558,"d":"24,558"},{"v":8069,"d":"8,069"},{"$nulls":16371},","]
[2021,{"v":239855,"d":"239,855"},{"v":7412,"d":"7,412"},{"v":15383,"d":"15,383"},{"v":217060,"d":"217,060"},{"v":14276,"d":"14,276"},{"v":27121,"d":"27,121"},{"v":7471,"d":"7,471"},{"v":172259,"d":"172,259"},{"v":86644,"d":"86,644"},{"v":31358,"d":"31,358"},{"v":7162,"d":"7,162"},{"$nulls":16371},","]
[2022,{"v":254880,"d":"254,880"},{"v":8547,"d":"8,547"},{"v":18181,"d":"18,181"},{"v":228152,"d":"228,152"},{"v":17444,"d":"17,444"},{"v":41821,"d":"41,821"},{"v":13716,"d":"13,716"},{"v":156134,"d":"156,134"},{"v":53961,"d":"53,961"},{"v":46173,"d":"46,173"},{"v":13308,"d":"13,308"},{"$nulls":16371},","]
[2023,{"v":337824,"d":"337,824"},{"v":12582,"d":"12,582"},{"v":23277,"d":"23,277"},{"v":301965,"d":"301,965"},{"v":12132,"d":"12,132"},{"v":63690,"d":"63,690"},{"v":21267,"d":"21,267"},{"v":192296,"d":"192,296"},{"v":64450,"d":"64,450"},{"v":47001,"d":"47,001"},{"v":7491,"d":"7,491"},{"$nulls":16371},","]
["2024j/",{"v":318086,"d":"318,086"},{"v":14731,"d":"14,731"},{"v":28546,"d":"28,546"},{"v":274809,"d":"274,809"},{"v":18282,"d":"18,282"},{"v":60484,"d":"60,484"},{"v":15759,"d":"15,759"},{"v":163303,"d":"163,303"},{"v":57580,"d":"57,580"},{"v":35113,"d":"35,113"},{"v":6755,"d":"6,755"},{"$nulls":16371},","]
["GOAL",{"$nulls":7},"60,000k/","39,625l/"]
["a/  Based on Columbia River fall Chinook database (Preliminary Big Sheets), WDFW, unpublished.  Does not include hatchery URB Chinook reared and released below McNary Dam. Adult Aged fish except for McNary, Ice Harbor and Total Lower Granite Dam Counts which are based on adult-sized passage."]
["b/ Includes, Mainstem,Select Areas, and test fishing. "]
["c/ Includes Bouy 10, Mainstem, and Select Areas.  1971-1988 includes above Bonneville sport catch."]
["d/ Includes tributary and mainstem catch between Bonneville and Priest Rapids dams and  Hanford Reach. Does not include Snake Basin sport harvest.  1971-1988 above Bonneville sport catch included in Lower River sport catch.  "]
["e/ Includes Mainstem Commercial and C&S, plus Deschutes Subsistence."]
["f/  Deschutes esc. time series revised in 2010 to match Deschutes R. Chinook Spawner Esc. Goal using U.S. v. OR Tech. Advisory Comm. Data (Sharma et al. 2009)."]
["g/ Conting period August 9-December 31. Data from Fish Passage Center.  Does not separate out any MCB fish that stray above McNary."]
["h/  Upper Columbia escapement only:  Yakima River, Hanford Reach, and Priest Rapids Dam count."]
["i/  Snake River wild; adjusted for stray hatchery fish.  Includes wild fish hauled to Lyons Ferry Hatchery."]
["j/  Preliminary estimates based on in-season run update."]
["k/  The U.S. v. Oregon  parties managed for a McNary Dam esc. of 60,000 beginning in 2008. Starting in 1994, inriver fisheries were managed for ESA consultation standards."]
["l/  MSY spawning escapement objective adoped in FMP Amendment 16 in 2011."]
{"$rows_empty":19}
["TABLE B-19.  Estimates of inriver run size, catch, and escapement in numbers of Columbia River adult upriver bright (URB) stock fall Chinook destined for areas above McNary Dam and the Deschutes River.a/ "]
[{"$nulls":7},"Escapement"]
[null,"Minimum Columbia R. Return","Lower River Catch",null,null,"Above Bonneville Catch",null," Deschutes River above/below Sheares Fallsf/","McNary Dam Countg/","Upper Columbiah/","Total   L.   Granite Dam Count","SRW\nL. Granite Dam Counti/"]
["Year or  Ave.",null,"Non-Indian  Commercialb/",null,"Bonneville Dam  Count",null," Treaty Indiane/"]
[{"$nulls":3},"Sportc/",null,"Sportd/"]
["1981-1985",{"$f":"AVERAGE(B16:B20)","v":{"v":111873.2,"d":"111,873"}},{"$f":"AVERAGE(C16:C20)","v":{"v":13880,"d":"13,880"}},{"v":3020,"d":"3,020"},{"v":94120,"d":"94,120"},"c/",{"v":26700,"d":"26,700"},{"v":5550.8699329192,"d":"5,551"},{"v":51041.6,"d":"51,042"},"NA",{"v":585.2,"d":"585"},450]
["1986-1990",{"$f":"AVERAGE(B21:B25)","v":{"v":291407,"d":"291,407"}},{"$f":"AVERAGE(C21:C25)","v":{"v":61498.6,"d":"61,499"}},{"v":11169,"d":"11,169"},{"v":222336.6,"d":"222,337"},{"$f":"AVERAGE(F24:F25)","v":{"v":5453.5,"d":"5,454"}},{"v":100379.3747395106,"d":"100,379"},{"v":7080.8566328856,"d":"7,081"},{"v":107251.6,"d":"107,252"},"NA",{"v":690.4,"d":"690"},{"v":288.6,"d":"289"}]
["1991-1995",{"$f":"AVERAGE(B26:B30)","v":{"v":105301.6,"d":"105,302"}},{"$f":"AVERAGE(C26:C30)","v":{"v":4999.8,"d":"5,000"}},{"v":1150.8,"d":"1,151"},{"v":99028.4,"d":"99,028"},{"v":3944.6,"d":"3,945"},{"v":20813.29421267806,"d":"20,813"},{"v":7342.2,"d":"7,342"},{"v":61361.6,"d":"61,362"},"NA",{"v":902.6,"d":"903"},473]
["1996-2000",{"$f":"AVERAGE(B31:B35)","v":{"v":153789.86716727354,"d":"153,790"}},{"$f":"AVERAGE(C31:C35)","v":{"v":2720,"d":"2,720"}},{"v":6052.4,"d":"6,052"},{"v":145361.8,"d":"145,362"},{"v":4803.4,"d":"4,803"},{"v":36317.672159356836,"d":"36,318"},{"v":11744.6,"d":"11,745"},{"v":69929.2,"d":"69,929"},{"v":58513,"d":"58,513"},{"v":2348.6,"d":"2,349"},759]
["2001-2005",{"$f":"AVERAGE(B36:B40)","v":{"v":305482.0971557396,"d":"305,482"}},{"$f":"AVERAGE(C36:C40)","v":{"v":11837.2,"d":"11,837"}},{"v":11610.78,"d":"11,611"},{"v":282284.8,"d":"282,285"},{"v":10483.8,"d":"10,484"},{"v":46845.847248431804,"d":"46,846"},{"v":13274,"d":"13,274"},{"v":146873.4,"d":"146,873"},{"v":108019.4,"d":"108,019"},{"v":11830.4,"d":"11,830"},{"v":4008.4543409503726,"d":"4,008"}]
["2006-2010",{"$f":"AVERAGE(B41:B45)","v":{"v":215741.02659063545,"d":"215,741"}},{"$f":"AVERAGE(C41:C45)","v":{"v":8860.2,"d":"8,860"}},{"v":8321.6,"d":"8,322"},{"v":182502.8554484357,"d":"182,503"},{"v":8004.8,"d":"8,005"},{"v":44232.41837957509,"d":"44,232"},{"v":7985.418,"d":"7,985"},{"v":99937.21555378691,"d":"99,937"},{"v":65036.6,"d":"65,037"},{"v":18371,"d":"18,371"},{"v":5062.521938026318,"d":"5,063"}]
[2011,{"$f":"B46","v":{"v":322233.21633005375,"d":"322,233"}},{"v":22215,"d":"22,215"},{"v":19641,"d":"19,641"},{"v":280377,"d":"280,377"},{"v":14531,"d":"14,531"},{"v":80288.30374303694,"d":"80,288"},{"v":17117,"d":"17,117"},{"v":161191,"d":"161,191"},{"v":93510,"d":"93,510"},{"v":25248,"d":"25,248"},{"v":8778.091040296278,"d":"8,778"}]
[2012,{"$f":"B47","v":{"v":294947.3611734834,"d":"294,947"}},{"v":16895,"d":"16,895"},{"v":23033,"d":"23,033"},{"v":255420,"d":"255,420"},{"v":16778,"d":"16,778"},{"v":61422.205344591086,"d":"61,422"},{"v":17624,"d":"17,624"},{"v":173472,"d":"173,472"},{"v":94925,"d":"94,925"},{"v":34688,"d":"34,688"},{"v":12797.322260880625,"d":"12,797"}]
[2013,{"$f":"B48","v":{"v":784115.7531024559,"d":"784,116"}},{"v":47636,"d":"47,636"},{"v":34180.58827292062,"d":"34,181"},{"v":702503,"d":"702,503"},{"v":33224,"d":"33,224"},{"v":162963.6355595155,"d":"162,964"},{"v":18068,"d":"18,068"},{"v":454991,"d":"454,991"},{"v":305445,"d":"305,445"},{"v":56565,"d":"56,565"},{"v":21124,"d":"21,124"}]
[2014,{"$f":"B49","v":{"v":684227.9574169179,"d":"684,228"}},{"v":53296,"d":"53,296"},{"v":30262.493309582518,"d":"30,262"},{"v":599580,"d":"599,580"},{"v":32504,"d":"32,504"},{"v":153685.2060175009,"d":"153,685"},{"v":17933,"d":"17,933"},{"v":410786,"d":"410,786"},{"v":233934,"d":"233,934"},{"v":60687,"d":"60,687"},{"v":14171.772625522603,"d":"14,172"}]
[2015,{"$f":"B50","v":{"v":795914.5827212629,"d":"795,915"}},{"v":38375,"d":"38,375"},{"v":48015,"d":"48,015"},{"v":706440,"d":"706,440"},{"v":40516,"d":"40,516"},{"v":159717.34814814816,"d":"159,717"},{"v":17074,"d":"17,074"},{"v":396580,"d":"396,580"},{"v":323276,"d":"323,276"},{"v":59300,"d":"59,300"},{"v":16212,"d":"16,212"}]
[2016,{"$f":"B51","v":{"v":406572,"d":"406,572"}},{"v":32608,"d":"32,608"},{"v":24904,"d":"24,904"},{"v":348990,"d":"348,990"},{"v":21812,"d":"21,812"},{"v":89840,"d":"89,840"},{"v":11628,"d":"11,628"},{"v":239791,"d":"239,791"},{"v":151373,"d":"151,373"},{"v":34714,"d":"34,714"},{"v":9771.697566935338,"d":"9,772"}]
[2017,{"$f":"B52","v":{"v":297123,"d":"297,123"}},{"v":12671,"d":"12,671"},{"v":32654,"d":"32,654"},{"v":266283,"d":"266,283"},{"v":14770,"d":"14,770"},{"v":77280,"d":"77,280"},{"v":4943,"d":"4,943"},{"v":156927,"d":"156,927"},{"v":96096,"d":"96,096"},{"v":26430,"d":"26,430"},{"v":6966,"d":"6,966"}]
[2018,{"$f":"B53","v":{"v":149044,"d":"149,044"}},{"v":3344,"d":"3,344"},{"v":10515,"d":"10,515"},{"v":134076,"d":"134,076"},{"v":9207,"d":"9,207"},{"v":30491,"d":"30,491"},{"v":4553,"d":"4,553"},{"v":100801,"d":"100,801"},{"v":58540,"d":"58,540"},{"v":16904,"d":"16,904"},{"v":6133,"d":"6,133"}]
[2019,{"$f":"B54","v":{"v":212238,"d":"212,238"}},{"v":3824,"d":"3,824"},{"v":9760,"d":"9,760"},{"v":198636,"d":"198,636"},{"v":14544,"d":"14,544"},{"v":40795,"d":"40,795"},{"v":20815,"d":"20,815"},{"v":128862,"d":"128,862"},{"v":77880,"d":"77,880"},{"v":15777,"d":"15,777"},{"v":6558,"d":"6,558"}]
[2020,{"$f":"B55","v":{"v":299336,"d":"299,336"}},{"v":11506,"d":"11,506"},{"v":14834,"d":"14,834"},{"v":272996,"d":"272,996"},{"v":16185,"d":"16,185"},{"v":57591,"d":"57,591"},{"v":8792,"d":"8,792"},{"v":186097,"d":"186,097"},{"v":98401,"d":"98,401"},{"v":24558,"d":"24,558"},{"v":8069,"d":"8,069"}]
[2021,{"$f":"B56","v":{"v":239855,"d":"239,855"}},{"v":7412,"d":"7,412"},{"v":15383,"d":"15,383"},{"v":217060,"d":"217,060"},{"v":14276,"d":"14,276"},{"v":27121,"d":"27,121"},{"v":7471,"d":"7,471"},{"v":172259,"d":"172,259"},{"v":86644,"d":"86,644"},{"v":31358,"d":"31,358"},{"v":7162,"d":"7,162"}]
[2022,{"$f":"B57","v":{"v":254880,"d":"254,880"}},{"v":8547,"d":"8,547"},{"v":18181,"d":"18,181"},{"v":228152,"d":"228,152"},{"v":17444,"d":"17,444"},{"v":41821,"d":"41,821"},{"v":13716,"d":"13,716"},{"v":156134,"d":"156,134"},{"v":53961,"d":"53,961"},{"v":46173,"d":"46,173"},{"v":13308,"d":"13,308"}]
[2023,{"v":378000,"d":"378,000"},"NA","NA","NA","NA","NA","NA",{"$f":"I58","v":{"v":192296,"d":"192,296"}},{"v":64450,"d":"64,450"},{"v":47001,"d":"47,001"},{"v":7491,"d":"7,491"}]
["2024j/",{"v":378000,"d":"378,000"},"NA","NA","NA","NA","NA","NA",{"v":163303,"d":"163,303"},{"v":57580,"d":"57,580"},{"v":35113,"d":"35,113"},{"v":6755,"d":"6,755"}]
["GOAL",{"$nulls":7},"60,000k/","39,625l/"]
[{"$f":"A61","v":"a/  Based on Columbia River fall Chinook database (Preliminary Big Sheets), WDFW, unpublished.  Does not include hatchery URB Chinook reared and released below McNary Dam. Adult Aged fish except for McNary, Ice Harbor and Total Lower Granite Dam Counts which are based on adult-sized passage."}]
["b/ Includes, Mainstem,Select Areas, and test fishing. "]
["c/ Includes Bouy 10, Mainstem, and Select Areas.  1971-1988 includes above Bonneville sport catch."]
["d/ Includes tributary and mainstem catch between Bonneville and Priest Rapids dams and  Hanford Reach. Does not include Snake Basin sport harvest.  1971-1988 above Bonneville sport catch included in Lower River sport catch.  "]
["e/ Includes Mainstem Commercial and C&S, plus Deschutes Subsistence."]
["f/  Deschutes esc. time series revised in 2010 to match Deschutes R. Chinook Spawner Esc. Goal using U.S. v. OR Tech. Advisory Comm. Data (Sharma et al. 2009)."]
["g/ Conting period August 9-December 31. Data from Fish Passage Center.  Does not separate out any MCB fish that stray above McNary."]
["h/  Upper Columbia escapement only:  Yakima River, Hanford Reach, and Priest Rapids Dam count."]
[{"$f":"A69","v":"i/  Snake River wild; adjusted for stray hatchery fish.  Includes wild fish hauled to Lyons Ferry Hatchery."}]
[{"$f":"A70","v":"j/  Preliminary estimates based on in-season run update."}]
[{"$f":"A71","v":"k/  The U.S. v. Oregon  parties managed for a McNary Dam esc. of 60,000 beginning in 2008. Starting in 1994, inriver fisheries were managed for ESA consultation standards."}]
[{"$f":"A72","v":"l/  MSY spawning escapement objective adoped in FMP Amendment 16 in 2011."}]

{"sheet":"B-20","index":21,"n_rows":324,"n_cols":9,"rows_kept":324,"merged":[[0,0,0,8],[2,1,4,1],[2,2,2,3],[2,5,2,7],[2,8,4,8],[3,0,4,0],[3,2,4,2],[3,4,4,4],[3,6,4,6],[3,7,4,7],[5,0,5,8],[53,0,53,8],[55,1,57,1],[55,2,55,3],[55,5,55,7],[55,8,57,8],[56,0,57,0],[56,2,57,2],[56,4,57,4],[56,6,57,6],[56,7,57,7],[58,0,58,8],[106,0,106,8],[107,8,110,8],[108,1,110,1],[108,2,108,3],[108,5,108,7],[109,0,110,0],[109,2,110,2],[109,4,110,4],[109,6,110,6],[109,7,110,7],[111,0,111,8],[159,0,159,8],[161,1,163,1],[161,2,161,3],[161,5,161,7],[161,8,163,8],[162,0,163,0],[162,2,163,2],[162,4,163,4],[162,6,163,6],[162,7,163,7],[164,0,164,8],[211,0,211,8],[212,0,212,8],[213,0,213,8],[214,0,214,8],[221,0,221,8],[222,1,224,1],[222,2,222,3],[222,5,222,7],[222,8,224,8],[223,0,224,0],[223,2,224,2],[223,4,224,4],[223,6,224,6],[223,7,224,7],[225,0,225,8],[247,0,247,8],[269,0,269,8],[270,8,273,8],[271,1,273,1],[271,2,271,3],[271,5,271,7],[272,0,273,0],[272,2,273,2],[272,4,273,4],[272,6,273,6],[272,7,273,7],[274,0,274,8],[296,0,296,8],[318,0,318,8],[319,0,319,8],[320,0,320,8],[321,0,321,8],[322,0,322,8],[323,0,323,8]]}
["TABLE B-20.  Estimates of minimum inriver run size and catch in numbers of adult spring, summer, and fall Chinook from the Columbia River.a/  (Page 1 of 5)"]
[{"$nulls":8},"Minimum"]
[null,"Minimum Columbia R. Return","Lower River Catch",null,null,"Above Bonneville Catch",null,null,"Escapement (natural and hatchery)"]
[" Year or Ave.",null,"Non-Indian  Commercial",null,"Bonneville Dam Count",null," Treaty Indian","Non-Treaty Tribal"]
[{"$nulls":3},"Sport",null,"Sport"]
["Spring Chinookb/"]
[1979,{"$f":"'B-12'!B14+'B-13'!B14","v":{"v":123440.16499531892,"d":"123,440"}},{"$f":"'B-12'!C14+'B-13'!C14","v":{"v":5748.982999991153,"d":"5,749"}},{"$f":"'B-12'!D14+'B-13'!D14","v":{"v":1700,"d":"1,700"}},{"$f":"'B-13'!E14","v":{"v":53979,"d":"53,979"}},0,{"$f":"'B-13'!G14","v":{"v":2090,"d":"2,090"}},0,{"$f":"'B-12'!L14+'B-13'!I14+'B-13'!J14+'B-13'!K14+'B-13'!L14","v":{"v":35388,"d":"35,388"}}]
[1980,{"$f":"'B-12'!B15+'B-13'!B15","v":{"v":130691.63791172221,"d":"130,692"}},{"$f":"'B-12'!C15+'B-13'!C15","v":{"v":421.63791172221227,"d":"422"}},{"$f":"'B-12'!D15+'B-13'!D15","v":600},{"$f":"'B-13'!E15","v":{"v":57570,"d":"57,570"}},0,{"$f":"'B-13'!G15","v":{"v":1855,"d":"1,855"}},0,{"$f":"'B-12'!L15+'B-13'!I15+'B-13'!J15+'B-13'!K15+'B-13'!L15","v":{"v":43651,"d":"43,651"}}]
[1981,{"$f":"'B-12'!B16+'B-13'!B16","v":{"v":155600.66153324174,"d":"155,601"}},{"$f":"'B-12'!C16+'B-13'!C16","v":{"v":5540.661533241753,"d":"5,541"}},{"$f":"'B-12'!D16+'B-13'!D16","v":{"v":3107,"d":"3,107"}},{"$f":"'B-13'!E16","v":{"v":66453,"d":"66,453"}},0,{"$f":"'B-13'!G16","v":{"v":3398,"d":"3,398"}},0,{"$f":"'B-12'!L16+'B-13'!I16+'B-13'!J16+'B-13'!K16+'B-13'!L16","v":{"v":58686.333333333336,"d":"58,686"}}]
[1982,{"$f":"'B-12'!B17+'B-13'!B17","v":{"v":184046.32131881785,"d":"184,046"}},{"$f":"'B-12'!C17+'B-13'!C17","v":{"v":4399.321318817837,"d":"4,399"}},{"$f":"'B-12'!D17+'B-13'!D17","v":{"v":2459,"d":"2,459"}},{"$f":"'B-13'!E17","v":{"v":75888,"d":"75,888"}},0,{"$f":"'B-13'!G17","v":{"v":5308,"d":"5,308"}},0,{"$f":"'B-12'!L17+'B-13'!I17+'B-13'!J17+'B-13'!K17+'B-13'!L17","v":{"v":55757,"d":"55,757"}}]
[1983,{"$f":"'B-12'!B18+'B-13'!B18","v":{"v":152111.56616819417,"d":"152,112"}},{"$f":"'B-12'!C18+'B-13'!C18","v":{"v":7772.56616819416,"d":"7,773"}},{"$f":"'B-12'!D18+'B-13'!D18","v":{"v":2348,"d":"2,348"}},{"$f":"'B-13'!E18","v":{"v":59891,"d":"59,891"}},0,{"$f":"'B-13'!G18","v":{"v":2531,"d":"2,531"}},0,{"$f":"'B-12'!L18+'B-13'!I18+'B-13'!J18+'B-13'!K18+'B-13'!L18","v":{"v":50490,"d":"50,490"}}]
[1984,{"$f":"'B-12'!B19+'B-13'!B19","v":{"v":159857.28523911792,"d":"159,857"}},{"$f":"'B-12'!C19+'B-13'!C19","v":{"v":9728.28523911791,"d":"9,728"}},{"$f":"'B-12'!D19+'B-13'!D19","v":{"v":1785,"d":"1,785"}},{"$f":"'B-13'!E19","v":{"v":50544,"d":"50,544"}},0,{"$f":"'B-13'!G19","v":{"v":3475,"d":"3,475"}},0,{"$f":"'B-12'!L19+'B-13'!I19+'B-13'!J19+'B-13'!K19+'B-13'!L19","v":{"v":56905,"d":"56,905"}}]
[1985,{"$f":"'B-12'!B20+'B-13'!B20","v":{"v":166684,"d":"166,684"}},{"$f":"'B-12'!C20+'B-13'!C20","v":{"v":14488,"d":"14,488"}},{"$f":"'B-12'!D20+'B-13'!D20","v":{"v":1464,"d":"1,464"}},{"$f":"'B-13'!E20","v":{"v":88932,"d":"88,932"}},0,{"$f":"'B-13'!G20","v":{"v":3135,"d":"3,135"}},0,{"$f":"'B-12'!L20+'B-13'!I20+'B-13'!J20+'B-13'!K20+'B-13'!L20","v":{"v":75213,"d":"75,213"}}]
[1986,{"$f":"'B-12'!B21+'B-13'!B21","v":{"v":210714.0504754568,"d":"210,714"}},{"$f":"'B-12'!C21+'B-13'!C21","v":{"v":9266.050475456821,"d":"9,266"}},{"$f":"'B-12'!D21+'B-13'!D21","v":{"v":5688,"d":"5,688"}},{"$f":"'B-13'!E21","v":{"v":125660,"d":"125,660"}},0,{"$f":"'B-13'!G21","v":{"v":7437,"d":"7,437"}},0,{"$f":"'B-12'!L21+'B-13'!I21+'B-13'!J21+'B-13'!K21+'B-13'!L21","v":{"v":78943,"d":"78,943"}}]
[1987,{"$f":"'B-12'!B22+'B-13'!B22","v":{"v":235171.7107609317,"d":"235,172"}},{"$f":"'B-12'!C22+'B-13'!C22","v":{"v":11537.710760931686,"d":"11,538"}},{"$f":"'B-12'!D22+'B-13'!D22","v":{"v":2795,"d":"2,795"}},{"$f":"'B-13'!E22","v":{"v":109039,"d":"109,039"}},0,{"$f":"'B-13'!G22","v":{"v":6689,"d":"6,689"}},0,{"$f":"'B-12'!L22+'B-13'!I22+'B-13'!J22+'B-13'!K22+'B-13'!L22","v":{"v":86844,"d":"86,844"}}]
[1988,{"$f":"'B-12'!B23+'B-13'!B23","v":{"v":239803.1152875587,"d":"239,803"}},{"$f":"'B-12'!C23+'B-13'!C23","v":{"v":18552.115287558685,"d":"18,552"}},{"$f":"'B-12'!D23+'B-13'!D23","v":{"v":4634,"d":"4,634"}},{"$f":"'B-13'!E23","v":{"v":99217,"d":"99,217"}},0,{"$f":"'B-13'!G23","v":{"v":7006,"d":"7,006"}},0,{"$f":"'B-12'!L23+'B-13'!I23+'B-13'!J23+'B-13'!K23+'B-13'!L23","v":{"v":86799,"d":"86,799"}}]
[1989,{"$f":"'B-12'!B24+'B-13'!B24","v":{"v":218331.08858753083,"d":"218,331"}},{"$f":"'B-12'!C24+'B-13'!C24","v":{"v":14003.088587530821,"d":"14,003"}},{"$f":"'B-12'!D24+'B-13'!D24","v":{"v":3044,"d":"3,044"}},{"$f":"'B-13'!E24","v":{"v":87884,"d":"87,884"}},0,{"$f":"'B-13'!G24","v":{"v":6726,"d":"6,726"}},0,{"$f":"'B-12'!L24+'B-13'!I24+'B-13'!J24+'B-13'!K24+'B-13'!L24","v":{"v":62334,"d":"62,334"}}]
[1990,{"$f":"'B-12'!B25+'B-13'!B25","v":{"v":255983,"d":"255,983"}},{"$f":"'B-12'!C25+'B-13'!C25","v":{"v":18432.28177347367,"d":"18,432"}},{"$f":"'B-12'!D25+'B-13'!D25","v":{"v":12266,"d":"12,266"}},{"$f":"'B-13'!E25","v":{"v":100366,"d":"100,366"}},0,{"$f":"'B-13'!G25","v":{"v":6928,"d":"6,928"}},0,{"$f":"'B-12'!L25+'B-13'!I25+'B-13'!J25+'B-13'!K25+'B-13'!L25","v":{"v":69645,"d":"69,645"}}]
[1991,{"$f":"'B-12'!B26+'B-13'!B26","v":{"v":193553,"d":"193,553"}},{"$f":"'B-12'!C26+'B-13'!C26","v":{"v":12716.651819107505,"d":"12,717"}},{"$f":"'B-12'!D26+'B-13'!D26","v":{"v":5639,"d":"5,639"}},{"$f":"'B-13'!E26","v":{"v":61923,"d":"61,923"}},0,{"$f":"'B-13'!G26","v":{"v":3876,"d":"3,876"}},0,{"$f":"'B-12'!L26+'B-13'!I26+'B-13'!J26+'B-13'!K26+'B-13'!L26","v":{"v":46508,"d":"46,508"}}]
[1992,{"$f":"'B-12'!B27+'B-13'!B27","v":{"v":195492,"d":"195,492"}},{"$f":"'B-12'!C27+'B-13'!C27","v":{"v":5297.438848632921,"d":"5,297"}},{"$f":"'B-12'!D27+'B-13'!D27","v":{"v":5283,"d":"5,283"}},{"$f":"'B-13'!E27","v":{"v":94111,"d":"94,111"}},0,{"$f":"'B-13'!G27","v":{"v":5759,"d":"5,759"}},0,{"$f":"'B-12'!L27+'B-13'!I27+'B-13'!J27+'B-13'!K27+'B-13'!L27","v":{"v":70286,"d":"70,286"}}]
[1993,{"$f":"'B-12'!B28+'B-13'!B28","v":{"v":210266,"d":"210,266"}},{"$f":"'B-12'!C28+'B-13'!C28","v":{"v":1810.9632789074283,"d":"1,811"}},{"$f":"'B-12'!D28+'B-13'!D28","v":{"v":2012,"d":"2,012"}},{"$f":"'B-13'!E28","v":{"v":118940,"d":"118,940"}},0,{"$f":"'B-13'!G28","v":{"v":7296,"d":"7,296"}},0,{"$f":"'B-12'!L28+'B-13'!I28+'B-13'!J28+'B-13'!K28+'B-13'!L28","v":{"v":75458,"d":"75,458"}}]
[1994,{"$f":"'B-12'!B29+'B-13'!B29","v":{"v":84007,"d":"84,007"}},{"$f":"'B-12'!C29+'B-13'!C29","v":{"v":1027.182175867772,"d":"1,027"}},{"$f":"'B-12'!D29+'B-13'!D29","v":{"v":2108,"d":"2,108"}},{"$f":"'B-13'!E29","v":{"v":23160,"d":"23,160"}},0,{"$f":"'B-13'!G29","v":{"v":1161,"d":"1,161"}},0,{"$f":"'B-12'!L29+'B-13'!I29+'B-13'!J29+'B-13'!K29+'B-13'!L29","v":{"v":22652,"d":"22,652"}}]
[1995,{"$f":"'B-12'!B30+'B-13'!B30","v":{"v":62887,"d":"62,887"}},{"$f":"'B-12'!C30+'B-13'!C30","v":102},{"$f":"'B-12'!D30+'B-13'!D30","v":9},{"$f":"'B-13'!E30","v":{"v":12781,"d":"12,781"}},0,{"$f":"'B-13'!G30","v":633},0,{"$f":"'B-12'!L30+'B-13'!I30+'B-13'!J30+'B-13'!K30+'B-13'!L30","v":{"v":17830,"d":"17,830"}}]
[1996,{"$f":"'B-12'!B31+'B-13'!B31","v":{"v":97559,"d":"97,559"}},{"$f":"'B-12'!C31+'B-13'!C31","v":195},{"$f":"'B-12'!D31+'B-13'!D31","v":10},{"$f":"'B-13'!E31","v":{"v":55495,"d":"55,495"}},0,{"$f":"'B-13'!G31","v":{"v":2911,"d":"2,911"}},0,{"$f":"'B-12'!L31+'B-13'!I31+'B-13'!J31+'B-13'!K31+'B-13'!L31","v":{"v":24811,"d":"24,811"}}]
[1997,{"$f":"'B-12'!B32+'B-13'!B32","v":{"v":169446,"d":"169,446"}},{"$f":"'B-12'!C32+'B-13'!C32","v":353},{"$f":"'B-12'!D32+'B-13'!D32","v":16},{"$f":"'B-13'!E32","v":{"v":124252,"d":"124,252"}},0,{"$f":"'B-13'!G32","v":{"v":8323,"d":"8,323"}},0,{"$f":"'B-12'!L32+'B-13'!I32+'B-13'!J32+'B-13'!K32+'B-13'!L32","v":{"v":68879,"d":"68,879"}}]
[1998,{"$f":"'B-12'!B33+'B-13'!B33","v":{"v":96489,"d":"96,489"}},{"$f":"'B-12'!C33+'B-13'!C33","v":127},{"$f":"'B-12'!D33+'B-13'!D33","v":63},{"$f":"'B-13'!E33","v":{"v":44267,"d":"44,267"}},0,{"$f":"'B-13'!G33","v":{"v":2225,"d":"2,225"}},0,{"$f":"'B-12'!L33+'B-13'!I33+'B-13'!J33+'B-13'!K33+'B-13'!L33","v":{"v":40250,"d":"40,250"}}]
[1999,{"$f":"'B-12'!B34+'B-13'!B34","v":{"v":105381,"d":"105,381"}},{"$f":"'B-12'!C34+'B-13'!C34","v":377},{"$f":"'B-12'!D34+'B-13'!D34","v":{"v":16.18,"d":"16"}},{"$f":"'B-13'!E34","v":{"v":43023,"d":"43,023"}},0,{"$f":"'B-13'!G34","v":{"v":1984,"d":"1,984"}},0,{"$f":"'B-12'!L34+'B-13'!I34+'B-13'!J34+'B-13'!K34+'B-13'!L34","v":{"v":35947,"d":"35,947"}}]
[2000,{"$f":"'B-12'!B35+'B-13'!B35","v":{"v":257847,"d":"257,847"}},{"$f":"'B-12'!C35+'B-13'!C35","v":{"v":1400.2,"d":"1,400"}},{"$f":"'B-12'!D35+'B-13'!D35","v":373},{"$f":"'B-13'!E35","v":{"v":186340,"d":"186,340"}},0,{"$f":"'B-13'!G35","v":{"v":11352,"d":"11,352"}},0,{"$f":"'B-12'!L35+'B-13'!I35+'B-13'!J35+'B-13'!K35+'B-13'!L35","v":{"v":77014,"d":"77,014"}}]
[2001,{"$f":"'B-12'!B36+'B-13'!B36","v":{"v":539040,"d":"539,040"}},{"$f":"'B-12'!C36+'B-13'!C36","v":{"v":6238,"d":"6,238"}},{"$f":"'B-12'!D36+'B-13'!D36","v":{"v":27019,"d":"27,019"}},{"$f":"'B-13'!E36","v":{"v":414628,"d":"414,628"}},{"$f":"'B-13'!F36","v":{"v":3017.3,"d":"3,017"}},{"$f":"'B-13'!G36","v":{"v":54775,"d":"54,775"}},{"$f":"'B-13'!H36","v":62},{"$f":"'B-12'!L36+'B-13'!I36+'B-13'!J36+'B-13'!K36+'B-13'!L36","v":{"v":255282,"d":"255,282"}}]
[2002,{"$f":"'B-12'!B37+'B-13'!B37","v":{"v":481611,"d":"481,611"}},{"$f":"'B-12'!C37+'B-13'!C37","v":{"v":18050.6,"d":"18,051"}},{"$f":"'B-12'!D37+'B-13'!D37","v":{"v":22068.4,"d":"22,068"}},{"$f":"'B-13'!E37","v":{"v":308887,"d":"308,887"}},{"$f":"'B-13'!F37","v":{"v":2815.4,"d":"2,815"}},{"$f":"'B-13'!G37","v":{"v":33465,"d":"33,465"}},{"$f":"'B-13'!H37","v":59},{"$f":"'B-12'!L37+'B-13'!I37+'B-13'!J37+'B-13'!K37+'B-13'!L37","v":{"v":180496,"d":"180,496"}}]
[2003,{"$f":"'B-12'!B38+'B-13'!B38","v":{"v":403982,"d":"403,982"}},{"$f":"'B-12'!C38+'B-13'!C38","v":{"v":5393,"d":"5,393"}},{"$f":"'B-12'!D38+'B-13'!D38","v":{"v":17811.3,"d":"17,811"}},{"$f":"'B-13'!E38","v":{"v":229501,"d":"229,501"}},{"$f":"'B-13'!F38","v":{"v":2415.9,"d":"2,416"}},{"$f":"'B-13'!G38","v":{"v":18295,"d":"18,295"}},{"$f":"'B-13'!H38","v":15},{"$f":"'B-12'!L38+'B-13'!I38+'B-13'!J38+'B-13'!K38+'B-13'!L38","v":{"v":154611,"d":"154,611"}}]
[2004,{"$f":"'B-12'!B39+'B-13'!B39","v":{"v":416042,"d":"416,042"}},{"$f":"'B-12'!C39+'B-13'!C39","v":{"v":14732.88,"d":"14,733"}},{"$f":"'B-12'!D39+'B-13'!D39","v":{"v":24646.4,"d":"24,646"}},{"$f":"'B-13'!E39","v":{"v":198296,"d":"198,296"}},{"$f":"'B-13'!F39","v":{"v":2854.6,"d":"2,855"}},{"$f":"'B-13'!G39","v":{"v":17484,"d":"17,484"}},{"$f":"'B-13'!H39","v":14},{"$f":"'B-12'!L39+'B-13'!I39+'B-13'!J39+'B-13'!K39+'B-13'!L39","v":{"v":161940,"d":"161,940"}}]
[2005,{"$f":"'B-12'!B40+'B-13'!B40","v":{"v":192776,"d":"192,776"}},{"$f":"'B-12'!C40+'B-13'!C40","v":{"v":5688.855,"d":"5,689"}},{"$f":"'B-12'!D40+'B-13'!D40","v":{"v":11623.8,"d":"11,624"}},{"$f":"'B-13'!E40","v":{"v":97387,"d":"97,387"}},{"$f":"'B-13'!F40","v":{"v":549.5999999999999,"d":"550"}},{"$f":"'B-13'!G40","v":{"v":6164,"d":"6,164"}},0,{"$f":"'B-12'!L40+'B-13'!I40+'B-13'!J40+'B-13'!K40+'B-13'!L40","v":{"v":80959,"d":"80,959"}}]
[2006,{"$f":"'B-12'!B41+'B-13'!B41","v":{"v":223000,"d":"223,000"}},{"$f":"'B-12'!C41+'B-13'!C41","v":{"v":5238.34,"d":"5,238"}},{"$f":"'B-12'!D41+'B-13'!D41","v":{"v":7087,"d":"7,087"}},{"$f":"'B-13'!E41","v":{"v":126158,"d":"126,158"}},{"$f":"'B-13'!F41","v":{"v":1563.9,"d":"1,564"}},{"$f":"'B-13'!G41","v":{"v":8401,"d":"8,401"}},0,{"$f":"'B-12'!L41+'B-13'!I41+'B-13'!J41+'B-13'!K41+'B-13'!L41","v":{"v":78108.99999999999,"d":"78,109"}}]
[2007,{"$f":"'B-12'!B42+'B-13'!B42","v":{"v":155043,"d":"155,043"}},{"$f":"'B-12'!C42+'B-13'!C42","v":{"v":3390.665,"d":"3,391"}},{"$f":"'B-12'!D42+'B-13'!D42","v":{"v":6526.9,"d":"6,527"}},{"$f":"'B-13'!E42","v":{"v":80829,"d":"80,829"}},{"$f":"'B-13'!F42","v":{"v":1857.3999999999999,"d":"1,857"}},{"$f":"'B-13'!G42","v":{"v":5627,"d":"5,627"}},0,{"$f":"'B-12'!L42+'B-13'!I42+'B-13'!J42+'B-13'!K42+'B-13'!L42","v":{"v":63820,"d":"63,820"}}]
[2008,{"$f":"'B-12'!B43+'B-13'!B43","v":{"v":221367,"d":"221,367"}},{"$f":"'B-12'!C43+'B-13'!C43","v":{"v":6391.957,"d":"6,392"}},{"$f":"'B-12'!D43+'B-13'!D43","v":{"v":20312,"d":"20,312"}},{"$f":"'B-13'!E43","v":{"v":151893,"d":"151,893"}},{"$f":"'B-13'!F43","v":{"v":2624.7000000000003,"d":"2,625"}},{"$f":"'B-13'!G43","v":{"v":21391,"d":"21,391"}},0,{"$f":"'B-12'!L43+'B-13'!I43+'B-13'!J43+'B-13'!K43+'B-13'!L43","v":{"v":104246,"d":"104,246"}}]
[2009,{"$f":"'B-12'!B44+'B-13'!B44","v":{"v":218203,"d":"218,203"}},{"$f":"'B-12'!C44+'B-13'!C44","v":{"v":4842.999,"d":"4,843"}},{"$f":"'B-12'!D44+'B-13'!D44","v":{"v":17245.9,"d":"17,246"}},{"$f":"'B-13'!E44","v":{"v":147489,"d":"147,489"}},{"$f":"'B-13'!F44","v":{"v":1237.1,"d":"1,237"}},{"$f":"'B-13'!G44","v":{"v":13101,"d":"13,101"}},0,{"$f":"'B-12'!L44+'B-13'!I44+'B-13'!J44+'B-13'!K44+'B-13'!L44","v":{"v":100519,"d":"100,519"}}]
[2010,{"$f":"'B-12'!B45+'B-13'!B45","v":{"v":465720,"d":"465,720"}},{"$f":"'B-12'!C45+'B-13'!C45","v":{"v":12581.422999999999,"d":"12,581"}},{"$f":"'B-12'!D45+'B-13'!D45","v":{"v":29735.4,"d":"29,735"}},{"$f":"'B-13'!E45","v":{"v":277390,"d":"277,390"}},{"$f":"'B-13'!F45","v":{"v":5789.4,"d":"5,789"}},{"$f":"'B-13'!G45","v":{"v":42954,"d":"42,954"}},{"$f":"'B-13'!H45","v":13},{"$f":"'B-12'!L45+'B-13'!I45+'B-13'!J45+'B-13'!K45+'B-13'!L45","v":{"v":197728,"d":"197,728"}}]
[2011,{"$f":"'B-12'!B46+'B-13'!B46","v":{"v":319763,"d":"319,763"}},{"$f":"'B-12'!C46+'B-13'!C46","v":{"v":6229.933000000001,"d":"6,230"}},{"$f":"'B-12'!D46+'B-13'!D46","v":{"v":12005.9,"d":"12,006"}},{"$f":"'B-13'!E46","v":{"v":205431,"d":"205,431"}},{"$f":"'B-13'!F46","v":{"v":4516.2,"d":"4,516"}},{"$f":"'B-13'!G46","v":{"v":15533,"d":"15,533"}},0,{"$f":"'B-12'!L46+'B-13'!I46+'B-13'!J46+'B-13'!K46+'B-13'!L46","v":{"v":141176,"d":"141,176"}}]
[2012,{"$f":"'B-12'!B47+'B-13'!B47","v":{"v":295232,"d":"295,232"}},{"$f":"'B-12'!C47+'B-13'!C47","v":{"v":7121,"d":"7,121"}},{"$f":"'B-12'!D47+'B-13'!D47","v":{"v":14121.599999999999,"d":"14,122"}},{"$f":"'B-13'!E47","v":{"v":186448,"d":"186,448"}},{"$f":"'B-13'!F47","v":{"v":3597.3,"d":"3,597"}},{"$f":"'B-13'!G47","v":{"v":17701,"d":"17,701"}},{"$f":"'B-13'!H47","v":1},{"$f":"'B-12'!L47+'B-13'!I47+'B-13'!J47+'B-13'!K47+'B-13'!L47","v":{"v":131984,"d":"131,984"}}]
[2013,{"$f":"'B-12'!B48+'B-13'!B48","v":{"v":189865,"d":"189,865"}},{"$f":"'B-12'!C48+'B-13'!C48","v":{"v":3652.646,"d":"3,653"}},{"$f":"'B-12'!D48+'B-13'!D48","v":{"v":7140.5,"d":"7,141"}},{"$f":"'B-13'!E48","v":{"v":112934,"d":"112,934"}},{"$f":"'B-13'!F48","v":{"v":1412.5,"d":"1,413"}},{"$f":"'B-13'!G48","v":{"v":9282,"d":"9,282"}},{"$f":"'B-13'!H48","v":8},{"$f":"'B-12'!L48+'B-13'!I48+'B-13'!J48+'B-13'!K48+'B-13'!L48","v":{"v":84648,"d":"84,648"}}]
[2014,{"$f":"'B-12'!B49+'B-13'!B49","v":{"v":311641,"d":"311,641"}},{"$f":"'B-12'!C49+'B-13'!C49","v":{"v":5398.335,"d":"5,398"}},{"$f":"'B-12'!D49+'B-13'!D49","v":{"v":16271.5,"d":"16,272"}},{"$f":"'B-13'!E49","v":{"v":224946,"d":"224,946"}},{"$f":"'B-13'!F49","v":{"v":5627,"d":"5,627"}},{"$f":"'B-13'!G49","v":{"v":24703,"d":"24,703"}},{"$f":"'B-13'!H49","v":37},{"$f":"'B-12'!L49+'B-13'!I49+'B-13'!J49+'B-13'!K49+'B-13'!L49","v":{"v":145854,"d":"145,854"}}]
[2015,{"$f":"'B-12'!B50+'B-13'!B50","v":{"v":420388,"d":"420,388"}},{"$f":"'B-12'!C50+'B-13'!C50","v":{"v":9467.413,"d":"9,467"}},{"$f":"'B-12'!D50+'B-13'!D50","v":{"v":19955,"d":"19,955"}},{"$f":"'B-13'!E50","v":{"v":265558,"d":"265,558"}},{"$f":"'B-13'!F50","v":{"v":3101.1,"d":"3,101"}},{"$f":"'B-13'!G50","v":{"v":31181,"d":"31,181"}},{"$f":"'B-13'!H50","v":58},{"$f":"'B-12'!L50+'B-13'!I50+'B-13'!J50+'B-13'!K50+'B-13'!L50","v":{"v":205381,"d":"205,381"}}]
[2016,{"$f":"'B-12'!B51+'B-13'!B51","v":{"v":275792,"d":"275,792"}},{"$f":"'B-12'!C51+'B-13'!C51","v":{"v":4708.2970000000005,"d":"4,708"}},{"$f":"'B-12'!D51+'B-13'!D51","v":{"v":12766.5,"d":"12,767"}},{"$f":"'B-13'!E51","v":{"v":172614,"d":"172,614"}},{"$f":"'B-13'!F51","v":{"v":2480.4,"d":"2,480"}},{"$f":"'B-13'!G51","v":{"v":17066,"d":"17,066"}},{"$f":"'B-13'!H51","v":35},{"$f":"'B-12'!L51+'B-13'!I51+'B-13'!J51+'B-13'!K51+'B-13'!L51","v":{"v":124730,"d":"124,730"}}]
[2017,{"$f":"'B-12'!B52+'B-13'!B52","v":{"v":211880.9,"d":"211,881"}},{"$f":"'B-12'!C52+'B-13'!C52","v":{"v":2383,"d":"2,383"}},{"$f":"'B-12'!D52+'B-13'!D52","v":{"v":8997.9,"d":"8,998"}},{"$f":"'B-13'!E52","v":{"v":107524,"d":"107,524"}},{"$f":"'B-13'!F52","v":{"v":83.5,"d":"84"}},{"$f":"'B-13'!G52","v":{"v":8109,"d":"8,109"}},{"$f":"'B-13'!H52","v":35},{"$f":"'B-12'!L52+'B-13'!I52+'B-13'!J52+'B-13'!K52+'B-13'!L52","v":{"v":70179,"d":"70,179"}}]
[2018,{"$f":"'B-12'!B53+'B-13'!B53","v":{"v":177823.8,"d":"177,824"}},{"$f":"'B-12'!C53+'B-13'!C53","v":{"v":1192,"d":"1,192"}},{"$f":"'B-12'!D53+'B-13'!D53","v":{"v":7488.8,"d":"7,489"}},{"$f":"'B-13'!E53","v":{"v":108045,"d":"108,045"}},{"$f":"'B-13'!F53","v":{"v":1345.2000000000003,"d":"1,345"}},{"$f":"'B-13'!G53","v":{"v":10892,"d":"10,892"}},{"$f":"'B-13'!H53","v":0},{"$f":"'B-12'!L53+'B-13'!I53+'B-13'!J53+'B-13'!K53+'B-13'!L53","v":{"v":65404,"d":"65,404"}}]
[2019,{"$f":"'B-12'!B54+'B-13'!B54","v":{"v":110111,"d":"110,111"}},{"$f":"'B-12'!C54+'B-13'!C54","v":604},{"$f":"'B-12'!D54+'B-13'!D54","v":{"v":1717,"d":"1,717"}},{"$f":"'B-13'!E54","v":{"v":71235,"d":"71,235"}},{"$f":"'B-13'!F54","v":613},{"$f":"'B-13'!G54","v":{"v":4702,"d":"4,702"}},{"$f":"'B-13'!H54","v":11},{"$f":"'B-12'!L54+'B-13'!I54+'B-13'!J54+'B-13'!K54+'B-13'!L54","v":{"v":43675,"d":"43,675"}}]
[2020,{"$f":"'B-12'!B55+'B-13'!B55","v":{"v":143016,"d":"143,016"}},{"$f":"'B-12'!C55+'B-13'!C55","v":398},{"$f":"'B-12'!D55+'B-13'!D55","v":{"v":1601,"d":"1,601"}},{"$f":"'B-13'!E55","v":{"v":79714,"d":"79,714"}},{"$f":"'B-13'!F55","v":878},{"$f":"'B-13'!G55","v":{"v":4307,"d":"4,307"}},{"$f":"'B-13'!H55","v":8},{"$f":"'B-12'!L55+'B-13'!I55+'B-13'!J55+'B-13'!K55+'B-13'!L55","v":{"v":58931,"d":"58,931"}}]
[2021,{"$f":"'B-12'!B56+'B-13'!B56","v":{"v":153984,"d":"153,984"}},{"$f":"'B-12'!C56+'B-13'!C56","v":644},{"$f":"'B-12'!D56+'B-13'!D56","v":{"v":5499,"d":"5,499"}},{"$f":"'B-13'!E56","v":{"v":87233,"d":"87,233"}},{"$f":"'B-13'!F56","v":{"v":1251,"d":"1,251"}},{"$f":"'B-13'!G56","v":{"v":4446,"d":"4,446"}},{"$f":"'B-13'!H56","v":11},{"$f":"'B-12'!L56+'B-13'!I56+'B-13'!J56+'B-13'!K56+'B-13'!L56","v":{"v":67617,"d":"67,617"}}]
[2022,{"$f":"'B-12'!B57+'B-13'!B57","v":{"v":287414,"d":"287,414"}},{"$f":"'B-12'!C57+'B-13'!C57","v":{"v":1841,"d":"1,841"}},{"$f":"'B-12'!D57+'B-13'!D57","v":{"v":12423,"d":"12,423"}},{"$f":"'B-13'!E57","v":{"v":173737,"d":"173,737"}},{"$f":"'B-13'!F57","v":{"v":2695,"d":"2,695"}},{"$f":"'B-13'!G57","v":{"v":16307,"d":"16,307"}},{"$f":"'B-13'!H57","v":9},{"$f":"'B-12'!L57+'B-13'!I57+'B-13'!J57+'B-13'!K57+'B-13'!L57","v":{"v":134934,"d":"134,934"}}]
[2023,{"$f":"'B-12'!B58+'B-13'!B58","v":{"v":219265,"d":"219,265"}},{"$f":"'B-12'!C58+'B-13'!C58","v":{"v":1177,"d":"1,177"}},{"$f":"'B-12'!D58+'B-13'!D58","v":{"v":4474,"d":"4,474"}},{"$f":"'B-13'!E58","v":{"v":136786,"d":"136,786"}},{"$f":"'B-13'!F58","v":{"v":1528,"d":"1,528"}},{"$f":"'B-13'!G58","v":{"v":12240,"d":"12,240"}},{"$f":"'B-13'!H58","v":20},{"$f":"'B-12'!L58+'B-13'!I58+'B-13'!J58+'B-13'!K58+'B-13'!L58","v":{"v":91328,"d":"91,328"}}]
["2024e/",{"$f":"'B-12'!B59+'B-13'!B59","v":{"v":189559,"d":"189,559"}},{"$f":"'B-12'!C59+'B-13'!C59","v":861},{"$f":"'B-12'!D59+'B-13'!D59","v":{"v":5597,"d":"5,597"}},{"$f":"'B-13'!E59","v":{"v":111210,"d":"111,210"}},{"$f":"'B-13'!F59","v":{"v":2389,"d":"2,389"}},{"$f":"'B-13'!G59","v":{"v":6765,"d":"6,765"}},{"$f":"'B-13'!H59","v":13},{"$f":"'B-12'!L59+'B-13'!I59+'B-13'!J59+'B-13'!K59+'B-13'!L59","v":{"v":95656,"d":"95,656"}}]
[]
["TABLE B-20.  Estimates of minimum inriver run size and catch in numbers of adult spring, summer, and fall Chinook from the Columbia Rivera/.  (Page 2 of 5)"]
[{"$nulls":8},"Minimum"]
[null,"Minimum Columbia R. Return","Lower River Catch",null,null,"Above Bonneville Catch",null,null,"Escapement (natural and hatchery)"]
[" Year or Ave.",null,"Non-Indian  Commercial",null,"Bonneville Dam Count",null," Treaty Indian","Non-Treaty Tribal"]
[{"$nulls":3},"Sport",null,"Sport"]
["Upper Columbia Summer Chinookc/"]
[1979,{"$f":"'B-14'!B14","v":{"v":22141.570072634546,"d":"22,142"}},{"$f":"'B-14'!C14","v":{"v":146.57007263454534,"d":"147"}},{"$f":"'B-14'!D14","v":0},{"$f":"'B-14'!E14","v":{"v":21995,"d":"21,995"}},0,{"$f":"'B-14'!G14","v":987},0,{"$f":"'B-14'!I14","v":{"v":18797,"d":"18,797"}}]
[1980,{"$f":"'B-14'!B15","v":{"v":22498,"d":"22,498"}},{"$f":"'B-14'!C15","v":{"v":15.833703998311712,"d":"16"}},{"$f":"'B-14'!D15","v":0},{"$f":"'B-14'!E15","v":{"v":22482,"d":"22,482"}},0,{"$f":"'B-14'!G15","v":{"v":1181,"d":"1,181"}},0,{"$f":"'B-14'!I15","v":{"v":13854,"d":"13,854"}}]
[1981,{"$f":"'B-14'!B16","v":{"v":18746.284412704194,"d":"18,746"}},{"$f":"'B-14'!C16","v":{"v":9.284412704192249,"d":"9"}},{"$f":"'B-14'!D16","v":0},{"$f":"'B-14'!E16","v":{"v":18737,"d":"18,737"}},0,{"$f":"'B-14'!G16","v":{"v":1364,"d":"1,364"}},0,{"$f":"'B-14'!I16","v":{"v":8639,"d":"8,639"}}]
[1982,{"$f":"'B-14'!B17","v":{"v":14368.762014515496,"d":"14,369"}},{"$f":"'B-14'!C17","v":{"v":116.76201451549628,"d":"117"}},{"$f":"'B-14'!D17","v":0},{"$f":"'B-14'!E17","v":{"v":14252,"d":"14,252"}},0,{"$f":"'B-14'!G17","v":{"v":1295,"d":"1,295"}},0,{"$f":"'B-14'!I17","v":{"v":6587,"d":"6,587"}}]
[1983,{"$f":"'B-14'!B18","v":{"v":13145.410209758595,"d":"13,145"}},{"$f":"'B-14'!C18","v":{"v":92.41020975859516,"d":"92"}},{"$f":"'B-14'!D18","v":0},{"$f":"'B-14'!E18","v":{"v":13053,"d":"13,053"}},0,{"$f":"'B-14'!G18","v":297},0,{"$f":"'B-14'!I18","v":{"v":6334,"d":"6,334"}}]
[1984,{"$f":"'B-14'!B19","v":{"v":18764.7735844115,"d":"18,765"}},{"$f":"'B-14'!C19","v":{"v":21.773584411502796,"d":"22"}},{"$f":"'B-14'!D19","v":0},{"$f":"'B-14'!E19","v":{"v":18743,"d":"18,743"}},0,{"$f":"'B-14'!G19","v":457},0,{"$f":"'B-14'!I19","v":{"v":13984,"d":"13,984"}}]
[1985,{"$f":"'B-14'!B20","v":{"v":18522,"d":"18,522"}},{"$f":"'B-14'!C20","v":{"v":35.920731707317074,"d":"36"}},{"$f":"'B-14'!D20","v":0},{"$f":"'B-14'!E20","v":{"v":18486,"d":"18,486"}},0,{"$f":"'B-14'!G20","v":{"v":1453,"d":"1,453"}},0,{"$f":"'B-14'!I20","v":{"v":14505,"d":"14,505"}}]
[1986,{"$f":"'B-14'!B21","v":{"v":18751.83745557766,"d":"18,752"}},{"$f":"'B-14'!C21","v":{"v":108.83745557766099,"d":"109"}},{"$f":"'B-14'!D21","v":0},{"$f":"'B-14'!E21","v":{"v":18643,"d":"18,643"}},0,{"$f":"'B-14'!G21","v":{"v":1116,"d":"1,116"}},0,{"$f":"'B-14'!I21","v":{"v":14850,"d":"14,850"}}]
[1987,{"$f":"'B-14'!B22","v":{"v":22714.5377239168,"d":"22,715"}},{"$f":"'B-14'!C22","v":{"v":141.13772391679788,"d":"141"}},{"$f":"'B-14'!D22","v":{"v":6.4,"d":"6"}},{"$f":"'B-14'!E22","v":{"v":22567,"d":"22,567"}},0,{"$f":"'B-14'!G22","v":{"v":1684,"d":"1,684"}},0,{"$f":"'B-14'!I22","v":{"v":13415,"d":"13,415"}}]
[1988,{"$f":"'B-14'!B23","v":{"v":22719.547212441314,"d":"22,720"}},{"$f":"'B-14'!C23","v":{"v":80.94721244131455,"d":"81"}},{"$f":"'B-14'!D23","v":{"v":8.6,"d":"9"}},{"$f":"'B-14'!E23","v":{"v":22630,"d":"22,630"}},0,{"$f":"'B-14'!G23","v":{"v":1497,"d":"1,497"}},0,{"$f":"'B-14'!I23","v":{"v":13634,"d":"13,634"}}]
[1989,{"$f":"'B-14'!B24","v":{"v":22201,"d":"22,201"}},{"$f":"'B-14'!C24","v":{"v":9.200833626863918,"d":"9"}},{"$f":"'B-14'!D24","v":{"v":19.9,"d":"20"}},{"$f":"'B-14'!E24","v":{"v":22172,"d":"22,172"}},0,{"$f":"'B-14'!G24","v":100},0,{"$f":"'B-14'!I24","v":{"v":17484,"d":"17,484"}}]
[1990,{"$f":"'B-14'!B25","v":{"v":18794,"d":"18,794"}},{"$f":"'B-14'!C25","v":{"v":15.235821834246437,"d":"15"}},{"$f":"'B-14'!D25","v":{"v":3.9000000000000004,"d":"4"}},{"$f":"'B-14'!E25","v":{"v":18775,"d":"18,775"}},0,{"$f":"'B-14'!G25","v":111},0,{"$f":"'B-14'!I25","v":{"v":13432,"d":"13,432"}}]
[1991,{"$f":"'B-14'!B26","v":{"v":14323,"d":"14,323"}},{"$f":"'B-14'!C26","v":{"v":9.084064316902356,"d":"9"}},{"$f":"'B-14'!D26","v":{"v":0.7999999999999998,"d":"1"}},{"$f":"'B-14'!E26","v":{"v":14313,"d":"14,313"}},0,{"$f":"'B-14'!G26","v":171},0,{"$f":"'B-14'!I26","v":{"v":10191,"d":"10,191"}}]
[1992,{"$f":"'B-14'!B27","v":{"v":9428.23302636708,"d":"9,428"}},{"$f":"'B-14'!C27","v":{"v":35.233026367078736,"d":"35"}},{"$f":"'B-14'!D27","v":16},{"$f":"'B-14'!E27","v":{"v":9377,"d":"9,377"}},0,{"$f":"'B-14'!G27","v":46},0,{"$f":"'B-14'!I27","v":{"v":7706,"d":"7,706"}}]
[1993,{"$f":"'B-14'!B28","v":{"v":14021.477461833314,"d":"14,021"}},{"$f":"'B-14'!C28","v":{"v":80.77746183331243,"d":"81"}},{"$f":"'B-14'!D28","v":{"v":15.7,"d":"16"}},{"$f":"'B-14'!E28","v":{"v":13925,"d":"13,925"}},0,{"$f":"'B-14'!G28","v":328},0,{"$f":"'B-14'!I28","v":{"v":12927,"d":"12,927"}}]
[1994,{"$f":"'B-14'!B29","v":{"v":14691.013438167316,"d":"14,691"}},{"$f":"'B-14'!C29","v":{"v":22.81343816731566,"d":"23"}},{"$f":"'B-14'!D29","v":{"v":28.200000000000003,"d":"28"}},{"$f":"'B-14'!E29","v":{"v":14640,"d":"14,640"}},0,{"$f":"'B-14'!G29","v":171},0,{"$f":"'B-14'!I29","v":{"v":12292,"d":"12,292"}}]
[1995,{"$f":"'B-14'!B30","v":{"v":12454.651080550098,"d":"12,455"}},{"$f":"'B-14'!C30","v":{"v":0.05108055009823165,"d":"0"}},{"$f":"'B-14'!D30","v":{"v":13.600000000000001,"d":"14"}},{"$f":"'B-14'!E30","v":{"v":12441,"d":"12,441"}},0,{"$f":"'B-14'!G30","v":417},0,{"$f":"'B-14'!I30","v":{"v":10623,"d":"10,623"}}]
[1996,{"$f":"'B-14'!B31","v":{"v":12080.3,"d":"12,080"}},{"$f":"'B-14'!C31","v":15},{"$f":"'B-14'!D31","v":{"v":34.3,"d":"34"}},{"$f":"'B-14'!E31","v":{"v":12031,"d":"12,031"}},0,{"$f":"'B-14'!G31","v":374},0,{"$f":"'B-14'!I31","v":{"v":9417,"d":"9,417"}}]
[1997,{"$f":"'B-14'!B32","v":{"v":17709,"d":"17,709"}},{"$f":"'B-14'!C32","v":6},{"$f":"'B-14'!D32","v":{"v":15.5,"d":"16"}},{"$f":"'B-14'!E32","v":{"v":17687,"d":"17,687"}},0,{"$f":"'B-14'!G32","v":270},0,{"$f":"'B-14'!I32","v":{"v":10063,"d":"10,063"}}]
[1998,{"$f":"'B-14'!B33","v":{"v":15536,"d":"15,536"}},{"$f":"'B-14'!C33","v":{"v":0.8,"d":"1"}},{"$f":"'B-14'!D33","v":{"v":26.799999999999997,"d":"27"}},{"$f":"'B-14'!E33","v":{"v":15508,"d":"15,508"}},0,{"$f":"'B-14'!G33","v":335},0,{"$f":"'B-14'!I33","v":{"v":11225,"d":"11,225"}}]
[1999,{"$f":"'B-14'!B34","v":{"v":21866.8,"d":"21,867"}},{"$f":"'B-14'!C34","v":1},{"$f":"'B-14'!D34","v":{"v":50.8,"d":"51"}},{"$f":"'B-14'!E34","v":{"v":21815,"d":"21,815"}},0,{"$f":"'B-14'!G34","v":395},0,{"$f":"'B-14'!I34","v":{"v":18588,"d":"18,588"}}]
[2000,{"$f":"'B-14'!B35","v":{"v":22595.1,"d":"22,595"}},{"$f":"'B-14'!C35","v":{"v":0.10000000000000009,"d":"0"}},{"$f":"'B-14'!D35","v":17},{"$f":"'B-14'!E35","v":{"v":22578,"d":"22,578"}},0,{"$f":"'B-14'!G35","v":209},{"$f":"'B-14'!H35","v":481},{"$f":"'B-14'!I35","v":{"v":20218,"d":"20,218"}}]
[2001,{"$f":"'B-14'!B36","v":{"v":52960.48,"d":"52,960"}},{"$f":"'B-14'!C36","v":{"v":1.48,"d":"1"}},{"$f":"'B-14'!D36","v":64},{"$f":"'B-14'!E36","v":{"v":52895,"d":"52,895"}},0,{"$f":"'B-14'!G36","v":692},{"$f":"'B-14'!H36","v":{"v":2428,"d":"2,428"}},{"$f":"'B-14'!I36","v":{"v":48844,"d":"48,844"}}]
[2002,{"$f":"'B-14'!B37","v":{"v":89524,"d":"89,524"}},{"$f":"'B-14'!C37","v":8},{"$f":"'B-14'!D37","v":{"v":1446.5,"d":"1,447"}},{"$f":"'B-14'!E37","v":{"v":88069,"d":"88,069"}},{"$f":"'B-14'!F37","v":{"v":148.35,"d":"148"}},{"$f":"'B-14'!G37","v":{"v":2093,"d":"2,093"}},{"$f":"'B-14'!H37","v":{"v":2917,"d":"2,917"}},{"$f":"'B-14'!I37","v":{"v":86825,"d":"86,825"}}]
[2003,{"$f":"'B-14'!B38","v":{"v":83058,"d":"83,058"}},{"$f":"'B-14'!C38","v":36},{"$f":"'B-14'!D38","v":{"v":1944.8,"d":"1,945"}},{"$f":"'B-14'!E38","v":{"v":81077,"d":"81,077"}},{"$f":"'B-14'!F38","v":{"v":455.4,"d":"455"}},{"$f":"'B-14'!G38","v":{"v":4297,"d":"4,297"}},{"$f":"'B-14'!H38","v":{"v":2401,"d":"2,401"}},{"$f":"'B-14'!I38","v":{"v":81543,"d":"81,543"}}]
[2004,{"$f":"'B-14'!B39","v":{"v":65623,"d":"65,623"}},{"$f":"'B-14'!C39","v":222},{"$f":"'B-14'!D39","v":{"v":1245.6,"d":"1,246"}},{"$f":"'B-14'!E39","v":{"v":64155,"d":"64,155"}},{"$f":"'B-14'!F39","v":{"v":295.54999999999995,"d":"296"}},{"$f":"'B-14'!G39","v":{"v":8394,"d":"8,394"}},{"$f":"'B-14'!H39","v":{"v":2031,"d":"2,031"}},{"$f":"'B-14'!I39","v":{"v":62311,"d":"62,311"}}]
[2005,{"$f":"'B-14'!B40","v":{"v":60272,"d":"60,272"}},{"$f":"'B-14'!C40","v":{"v":2787,"d":"2,787"}},{"$f":"'B-14'!D40","v":{"v":1621,"d":"1,621"}},{"$f":"'B-14'!E40","v":{"v":55864,"d":"55,864"}},{"$f":"'B-14'!F40","v":{"v":424.9818181818182,"d":"425"}},{"$f":"'B-14'!G40","v":{"v":7642,"d":"7,642"}},{"$f":"'B-14'!H40","v":{"v":1232,"d":"1,232"}},{"$f":"'B-14'!I40","v":{"v":54033,"d":"54,033"}}]
[2006,{"$f":"'B-14'!B41","v":{"v":77573,"d":"77,573"}},{"$f":"'B-14'!C41","v":{"v":4828,"d":"4,828"}},{"$f":"'B-14'!D41","v":{"v":4925.6,"d":"4,926"}},{"$f":"'B-14'!E41","v":{"v":67819,"d":"67,819"}},{"$f":"'B-14'!F41","v":295},{"$f":"'B-14'!G41","v":{"v":16319,"d":"16,319"}},{"$f":"'B-14'!H41","v":{"v":1556,"d":"1,556"}},{"$f":"'B-14'!I41","v":{"v":61821,"d":"61,821"}}]
[2007,{"$f":"'B-14'!B42","v":{"v":37035,"d":"37,035"}},{"$f":"'B-14'!C42","v":{"v":1122,"d":"1,122"}},{"$f":"'B-14'!D42","v":{"v":2214,"d":"2,214"}},{"$f":"'B-14'!E42","v":{"v":33699,"d":"33,699"}},{"$f":"'B-14'!F42","v":148},{"$f":"'B-14'!G42","v":{"v":5375,"d":"5,375"}},{"$f":"'B-14'!H42","v":{"v":1364,"d":"1,364"}},{"$f":"'B-14'!I42","v":{"v":28222,"d":"28,222"}}]
[2008,{"$f":"'B-14'!B43","v":{"v":55532,"d":"55,532"}},{"$f":"'B-14'!C43","v":{"v":1429,"d":"1,429"}},{"$f":"'B-14'!D43","v":{"v":2140,"d":"2,140"}},{"$f":"'B-14'!E43","v":{"v":51963,"d":"51,963"}},{"$f":"'B-14'!F43","v":997},{"$f":"'B-14'!G43","v":{"v":9029,"d":"9,029"}},{"$f":"'B-14'!H43","v":{"v":2049,"d":"2,049"}},{"$f":"'B-14'!I43","v":{"v":38171,"d":"38,171"}}]
[2009,{"$f":"'B-14'!B44","v":{"v":53881,"d":"53,881"}},{"$f":"'B-14'!C44","v":{"v":2546,"d":"2,546"}},{"$f":"'B-14'!D44","v":{"v":2341,"d":"2,341"}},{"$f":"'B-14'!E44","v":{"v":48994,"d":"48,994"}},{"$f":"'B-14'!F44","v":265},{"$f":"'B-14'!G44","v":{"v":11650,"d":"11,650"}},{"$f":"'B-14'!H44","v":{"v":1375.01,"d":"1,375"}},{"$f":"'B-14'!I44","v":{"v":44295,"d":"44,295"}}]
[2010,{"$f":"'B-14'!B45","v":{"v":72116,"d":"72,116"}},{"$f":"'B-14'!C45","v":{"v":4740,"d":"4,740"}},{"$f":"'B-14'!D45","v":{"v":2738.2,"d":"2,738"}},{"$f":"'B-14'!E45","v":{"v":64638,"d":"64,638"}},{"$f":"'B-14'!F45","v":{"v":885.5596774193549,"d":"886"}},{"$f":"'B-14'!G45","v":{"v":15799,"d":"15,799"}},{"$f":"'B-14'!H45","v":{"v":3572.31,"d":"3,572"}},{"$f":"'B-14'!I45","v":{"v":47220,"d":"47,220"}}]
[2011,{"$f":"'B-14'!B46","v":{"v":80574,"d":"80,574"}},{"$f":"'B-14'!C46","v":{"v":5004,"d":"5,004"}},{"$f":"'B-14'!D46","v":{"v":5576,"d":"5,576"}},{"$f":"'B-14'!E46","v":{"v":69994,"d":"69,994"}},{"$f":"'B-14'!F46","v":{"v":388.6254716981132,"d":"389"}},{"$f":"'B-14'!G46","v":{"v":20645,"d":"20,645"}},{"$f":"'B-14'!H46","v":{"v":1262.88,"d":"1,263"}},{"$f":"'B-14'!I46","v":{"v":44432,"d":"44,432"}}]
[2012,{"$f":"'B-14'!B47","v":{"v":58299.7,"d":"58,300"}},{"$f":"'B-14'!C47","v":{"v":1715,"d":"1,715"}},{"$f":"'B-14'!D47","v":{"v":3280.7,"d":"3,281"}},{"$f":"'B-14'!E47","v":{"v":53304,"d":"53,304"}},{"$f":"'B-14'!F47","v":{"v":295.935593220339,"d":"296"}},{"$f":"'B-14'!G47","v":{"v":7824,"d":"7,824"}},{"$f":"'B-14'!H47","v":{"v":3423.09,"d":"3,423"}},{"$f":"'B-14'!I47","v":{"v":52184,"d":"52,184"}}]
[2013,{"$f":"'B-14'!B48","v":{"v":67603.2,"d":"67,603"}},{"$f":"'B-14'!C48","v":{"v":1987,"d":"1,987"}},{"$f":"'B-14'!D48","v":{"v":2058.2,"d":"2,058"}},{"$f":"'B-14'!E48","v":{"v":63508,"d":"63,508"}},{"$f":"'B-14'!F48","v":{"v":324.4020408163266,"d":"324"}},{"$f":"'B-14'!G48","v":{"v":13397,"d":"13,397"}},{"$f":"'B-14'!H48","v":{"v":3691.96,"d":"3,692"}},{"$f":"'B-14'!I48","v":{"v":68380,"d":"68,380"}}]
[2014,{"$f":"'B-14'!B49","v":{"v":78254.45,"d":"78,254"}},{"$f":"'B-14'!C49","v":{"v":2788,"d":"2,788"}},{"$f":"'B-14'!D49","v":{"v":2385.45,"d":"2,385"}},{"$f":"'B-14'!E49","v":{"v":72871,"d":"72,871"}},{"$f":"'B-14'!F49","v":{"v":453.2013513513514,"d":"453"}},{"$f":"'B-14'!G49","v":{"v":19389,"d":"19,389"}},{"$f":"'B-14'!H49","v":{"v":3723.52,"d":"3,724"}},{"$f":"'B-14'!I49","v":{"v":77982,"d":"77,982"}}]
[2015,{"$f":"'B-14'!B50","v":{"v":126881.65,"d":"126,882"}},{"$f":"'B-14'!C50","v":{"v":4043,"d":"4,043"}},{"$f":"'B-14'!D50","v":{"v":6151.65,"d":"6,152"}},{"$f":"'B-14'!E50","v":{"v":116657,"d":"116,657"}},{"$f":"'B-14'!F50","v":{"v":785.5500000000001,"d":"786"}},{"$f":"'B-14'!G50","v":{"v":37763,"d":"37,763"}},{"$f":"'B-14'!H50","v":{"v":10693.89,"d":"10,694"}},{"$f":"'B-14'!I50","v":{"v":88691,"d":"88,691"}}]
[2016,{"$f":"'B-14'!B51","v":{"v":91047.5,"d":"91,048"}},{"$f":"'B-14'!C51","v":{"v":3050,"d":"3,050"}},{"$f":"'B-14'!D51","v":{"v":3705.5,"d":"3,706"}},{"$f":"'B-14'!E51","v":{"v":84192,"d":"84,192"}},{"$f":"'B-14'!F51","v":{"v":565.4,"d":"565"}},{"$f":"'B-14'!G51","v":{"v":20515,"d":"20,515"}},{"$f":"'B-14'!H51","v":{"v":4198.85,"d":"4,199"}},{"$f":"'B-14'!I51","v":{"v":79253,"d":"79,253"}}]
[2017,{"$f":"'B-14'!B52","v":{"v":68204,"d":"68,204"}},{"$f":"'B-14'!C52","v":47},{"$f":"'B-14'!D52","v":{"v":3853,"d":"3,853"}},{"$f":"'B-14'!E52","v":{"v":64144,"d":"64,144"}},{"$f":"'B-14'!F52","v":262},{"$f":"'B-14'!G52","v":{"v":16328,"d":"16,328"}},{"$f":"'B-14'!H52","v":{"v":1735.84,"d":"1,736"}},{"$f":"'B-14'!I52","v":{"v":56265,"d":"56,265"}}]
[2018,{"$f":"'B-14'!B53","v":{"v":42120,"d":"42,120"}},{"$f":"'B-14'!C53","v":24},{"$f":"'B-14'!D53","v":{"v":1140,"d":"1,140"}},{"$f":"'B-14'!E53","v":{"v":40906,"d":"40,906"}},{"$f":"'B-14'!F53","v":134},{"$f":"'B-14'!G53","v":{"v":9498,"d":"9,498"}},{"$f":"'B-14'!H53","v":{"v":1335.81,"d":"1,336"}},{"$f":"'B-14'!I53","v":{"v":38816,"d":"38,816"}}]
[2019,{"$f":"'B-14'!B54","v":{"v":34556,"d":"34,556"}},{"$f":"'B-14'!C54","v":23},{"$f":"'B-14'!D54","v":74},{"$f":"'B-14'!E54","v":{"v":34472,"d":"34,472"}},{"$f":"'B-14'!F54","v":6},{"$f":"'B-14'!G54","v":{"v":5637,"d":"5,637"}},{"$f":"'B-14'!H54","v":{"v":1431,"d":"1,431"}},{"$f":"'B-14'!I54","v":{"v":41090,"d":"41,090"}}]
[2020,{"$f":"'B-14'!B55","v":{"v":65466.45,"d":"65,466"}},{"$f":"'B-14'!C55","v":13},{"$f":"'B-14'!D55","v":{"v":1389.45,"d":"1,389"}},{"$f":"'B-14'!E55","v":{"v":64064,"d":"64,064"}},{"$f":"'B-14'!F55","v":{"v":171.9,"d":"172"}},{"$f":"'B-14'!G55","v":{"v":8410,"d":"8,410"}},{"$f":"'B-14'!H55","v":{"v":1764,"d":"1,764"}},{"$f":"'B-14'!I55","v":{"v":70654,"d":"70,654"}}]
[2021,{"$f":"'B-14'!B56","v":{"v":56799.7,"d":"56,800"}},{"$f":"'B-14'!C56","v":7},{"$f":"'B-14'!D56","v":{"v":2283.7,"d":"2,284"}},{"$f":"'B-14'!E56","v":{"v":54489,"d":"54,489"}},{"$f":"'B-14'!F56","v":102},{"$f":"'B-14'!G56","v":{"v":11225,"d":"11,225"}},{"$f":"'B-14'!H56","v":{"v":1645,"d":"1,645"}},{"$f":"'B-14'!I56","v":{"v":52076,"d":"52,076"}}]
[2022,{"$f":"'B-14'!B57","v":{"v":78494,"d":"78,494"}},{"$f":"'B-14'!C57","v":65},{"$f":"'B-14'!D57","v":{"v":3548.8,"d":"3,549"}},{"$f":"'B-14'!E57","v":{"v":74810,"d":"74,810"}},{"$f":"'B-14'!F57","v":302},{"$f":"'B-14'!G57","v":{"v":16086,"d":"16,086"}},{"$f":"'B-14'!H57","v":{"v":1221,"d":"1,221"}},{"$f":"'B-14'!I57","v":{"v":64497,"d":"64,497"}}]
[2023,{"$f":"'B-14'!B58","v":{"v":54722,"d":"54,722"}},{"$f":"'B-14'!C58","v":51},{"$f":"'B-14'!D58","v":{"v":2162,"d":"2,162"}},{"$f":"'B-14'!E58","v":{"v":52439,"d":"52,439"}},{"$f":"'B-14'!F58","v":136},{"$f":"'B-14'!G58","v":{"v":11002,"d":"11,002"}},{"$f":"'B-14'!H58","v":{"v":1832,"d":"1,832"}},{"$f":"'B-14'!I58","v":{"v":49410,"d":"49,410"}}]
["2024e/",{"$f":"'B-14'!B59","v":{"v":42511,"d":"42,511"}},{"$f":"'B-14'!C59","v":0},{"$f":"'B-14'!D59","v":899},{"$f":"'B-14'!E59","v":{"v":41562,"d":"41,562"}},{"$f":"'B-14'!F59","v":122},{"$f":"'B-14'!G59","v":{"v":6999,"d":"6,999"}},{"$f":"'B-14'!H59","v":{"v":1363,"d":"1,363"}},{"$f":"'B-14'!I59","v":{"v":41142,"d":"41,142"}}]
[]
["TABLE B-20.  Estimates of minimum inriver run size and catch in numbers of adult spring, summer, and fall Chinook from the Columbia Rivera/.  (Page 3 of 5)"]
[{"$nulls":8},"Minimum escapement (natural and hatchery)"]
[null,"Minimum Columbia R. Return","Lower River Catch",null,null,"Above Bonneville Catch"]
[" Year or Ave.",null,"Non-Indian  Commercial",null,"Bonneville Dam Count",null," Treaty Indian","Non-Treaty Tribal"]
[{"$nulls":3},"Sport",null,"Sport"]
["Fall Chinookd/"]
[1979,{"$f":"'B-15'!B14+'B-16'!B14+'B-17'!B14+'B-18'!B14+'B-19'!B14","v":{"v":335900,"d":"335,900"}},{"$f":"'B-15'!C14+'B-16'!C14+'B-17'!C14+'B-18'!C14+'B-19'!C14","v":{"v":96500,"d":"96,500"}},{"$f":"'B-15'!D14+'B-16'!D14+'B-17'!D14+'B-18'!D14+'B-19'!D14","v":{"v":6600,"d":"6,600"}},{"$f":"0+0+'B-17'!E14+'B-18'!E14+'B-19'!E14","v":{"v":144000,"d":"144,000"}},{"$f":"0+0+'B-17'!F14+'B-18'!F14+'B-19'!F14","v":0},{"$f":"'B-15'!E14+'B-16'!E14+'B-17'!G14+'B-18'!G14+'B-19'!G14","v":{"v":61300,"d":"61,300"}},"NA",{"$f":"'B-15'!F14+'B-15'!G14+'B-16'!F14+'B-16'!G14+'B-17'!H14+'B-17'!I14+'B-18'!H14+'B-18'!I14+'B-19'!H14+0+'B-19'!K14","v":{"v":115325.586383204,"d":"115,326"}}]
[1980,{"$f":"'B-15'!B15+'B-16'!B15+'B-17'!B15+'B-18'!B15+'B-19'!B15","v":{"v":319016,"d":"319,016"}},{"$f":"'B-15'!C15+'B-16'!C15+'B-17'!C15+'B-18'!C15+'B-19'!C15","v":{"v":112269,"d":"112,269"}},{"$f":"'B-15'!D15+'B-16'!D15+'B-17'!D15+'B-18'!D15+'B-19'!D15","v":{"v":5153,"d":"5,153"}},{"$f":"0+0+'B-17'!E15+'B-18'!E15+'B-19'!E15","v":{"v":127200,"d":"127,200"}},{"$f":"0+0+'B-17'!F15+'B-18'!F15+'B-19'!F15","v":0},{"$f":"'B-15'!E15+'B-16'!E15+'B-17'!G15+'B-18'!G15+'B-19'!G15","v":{"v":34367,"d":"34,367"}},"NA",{"$f":"'B-15'!F15+'B-15'!G15+'B-16'!F15+'B-16'!G15+'B-17'!H15+'B-17'!I15+'B-18'!H15+'B-18'!I15+'B-19'!H15+0+'B-19'!K15","v":{"v":106537.63617474001,"d":"106,538"}}]
[1981,{"$f":"'B-15'!B16+'B-16'!B16+'B-17'!B16+'B-18'!B16+'B-19'!B16","v":{"v":272791,"d":"272,791"}},{"$f":"'B-15'!C16+'B-16'!C16+'B-17'!C16+'B-18'!C16+'B-19'!C16","v":{"v":28735,"d":"28,735"}},{"$f":"'B-15'!D16+'B-16'!D16+'B-17'!D16+'B-18'!D16+'B-19'!D16","v":{"v":4700,"d":"4,700"}},{"$f":"0+0+'B-17'!E16+'B-18'!E16+'B-19'!E16","v":{"v":138400,"d":"138,400"}},{"$f":"0+0+'B-17'!F16+'B-18'!F16+'B-19'!F16","v":0},{"$f":"'B-15'!E16+'B-16'!E16+'B-17'!G16+'B-18'!G16+'B-19'!G16","v":{"v":48287,"d":"48,287"}},"NA",{"$f":"'B-15'!F16+'B-15'!G16+'B-16'!F16+'B-16'!G16+'B-17'!H16+'B-17'!I16+'B-18'!H16+'B-18'!I16+'B-19'!H16+0+'B-19'!K16","v":{"v":131735.592916944,"d":"131,736"}}]
[1982,{"$f":"'B-15'!B17+'B-16'!B17+'B-17'!B17+'B-18'!B17+'B-19'!B17","v":{"v":360990,"d":"360,990"}},{"$f":"'B-15'!C17+'B-16'!C17+'B-17'!C17+'B-18'!C17+'B-19'!C17","v":{"v":89400,"d":"89,400"}},{"$f":"'B-15'!D17+'B-16'!D17+'B-17'!D17+'B-18'!D17+'B-19'!D17","v":{"v":5400,"d":"5,400"}},{"$f":"0+0+'B-17'!E17+'B-18'!E17+'B-19'!E17","v":{"v":157300,"d":"157,300"}},{"$f":"0+0+'B-17'!F17+'B-18'!F17+'B-19'!F17","v":0},{"$f":"'B-15'!E17+'B-16'!E17+'B-17'!G17+'B-18'!G17+'B-19'!G17","v":{"v":58900,"d":"58,900"}},"NA",{"$f":"'B-15'!F17+'B-15'!G17+'B-16'!F17+'B-16'!G17+'B-17'!H17+'B-17'!I17+'B-18'!H17+'B-18'!I17+'B-19'!H17+0+'B-19'!K17","v":{"v":138337,"d":"138,337"}}]
[1983,{"$f":"'B-15'!B18+'B-16'!B18+'B-17'!B18+'B-18'!B18+'B-19'!B18","v":{"v":234230,"d":"234,230"}},{"$f":"'B-15'!C18+'B-16'!C18+'B-17'!C18+'B-18'!C18+'B-19'!C18","v":{"v":24500,"d":"24,500"}},{"$f":"'B-15'!D18+'B-16'!D18+'B-17'!D18+'B-18'!D18+'B-19'!D18","v":{"v":3900,"d":"3,900"}},{"$f":"0+0+'B-17'!E18+'B-18'!E18+'B-19'!E18","v":{"v":110700,"d":"110,700"}},{"$f":"0+0+'B-17'!F18+'B-18'!F18+'B-19'!F18","v":0},{"$f":"'B-15'!E18+'B-16'!E18+'B-17'!G18+'B-18'!G18+'B-19'!G18","v":{"v":29500,"d":"29,500"}},"NA",{"$f":"'B-15'!F18+'B-15'!G18+'B-16'!F18+'B-16'!G18+'B-17'!H18+'B-17'!I18+'B-18'!H18+'B-18'!I18+'B-19'!H18+0+'B-19'!K18","v":{"v":106925.802165514,"d":"106,926"}}]
[1984,{"$f":"'B-15'!B19+'B-16'!B19+'B-17'!B19+'B-18'!B19+'B-19'!B19","v":{"v":306477,"d":"306,477"}},{"$f":"'B-15'!C19+'B-16'!C19+'B-17'!C19+'B-18'!C19+'B-19'!C19","v":{"v":62420,"d":"62,420"}},{"$f":"'B-15'!D19+'B-16'!D19+'B-17'!D19+'B-18'!D19+'B-19'!D19","v":{"v":17430,"d":"17,430"}},{"$f":"0+0+'B-17'!E19+'B-18'!E19+'B-19'!E19","v":{"v":144600,"d":"144,600"}},{"$f":"0+0+'B-17'!F19+'B-18'!F19+'B-19'!F19","v":0},{"$f":"'B-15'!E19+'B-16'!E19+'B-17'!G19+'B-18'!G19+'B-19'!G19","v":{"v":57254,"d":"57,254"}},"NA",{"$f":"'B-15'!F19+'B-15'!G19+'B-16'!F19+'B-16'!G19+'B-17'!H19+'B-17'!I19+'B-18'!H19+'B-18'!I19+'B-19'!H19+0+'B-19'!K19","v":{"v":85221,"d":"85,221"}}]
[1985,{"$f":"'B-15'!B20+'B-16'!B20+'B-17'!B20+'B-18'!B20+'B-19'!B20","v":{"v":359940,"d":"359,940"}},{"$f":"'B-15'!C20+'B-16'!C20+'B-17'!C20+'B-18'!C20+'B-19'!C20","v":{"v":57500,"d":"57,500"}},{"$f":"'B-15'!D20+'B-16'!D20+'B-17'!D20+'B-18'!D20+'B-19'!D20","v":{"v":16000,"d":"16,000"}},{"$f":"0+0+'B-17'!E20+'B-18'!E20+'B-19'!E20","v":{"v":188200,"d":"188,200"}},{"$f":"0+0+'B-17'!F20+'B-18'!F20+'B-19'!F20","v":0},{"$f":"'B-15'!E20+'B-16'!E20+'B-17'!G20+'B-18'!G20+'B-19'!G20","v":{"v":74500,"d":"74,500"}},"NA",{"$f":"'B-15'!F20+'B-15'!G20+'B-16'!F20+'B-16'!G20+'B-17'!H20+'B-17'!I20+'B-18'!H20+'B-18'!I20+'B-19'!H20+0+'B-19'!K20","v":{"v":113394.954582138,"d":"113,395"}}]
[1986,{"$f":"'B-15'!B21+'B-16'!B21+'B-17'!B21+'B-18'!B21+'B-19'!B21","v":{"v":494829,"d":"494,829"}},{"$f":"'B-15'!C21+'B-16'!C21+'B-17'!C21+'B-18'!C21+'B-19'!C21","v":{"v":155200,"d":"155,200"}},{"$f":"'B-15'!D21+'B-16'!D21+'B-17'!D21+'B-18'!D21+'B-19'!D21","v":{"v":26100,"d":"26,100"}},{"$f":"0+0+'B-17'!E21+'B-18'!E21+'B-19'!E21","v":{"v":231150,"d":"231,150"}},{"$f":"0+0+'B-17'!F21+'B-18'!F21+'B-19'!F21","v":0},{"$f":"'B-15'!E21+'B-16'!E21+'B-17'!G21+'B-18'!G21+'B-19'!G21","v":{"v":105700,"d":"105,700"}},"NA",{"$f":"'B-15'!F21+'B-15'!G21+'B-16'!F21+'B-16'!G21+'B-17'!H21+'B-17'!I21+'B-18'!H21+'B-18'!I21+'B-19'!H21+0+'B-19'!K21","v":{"v":95850.718297196,"d":"95,851"}}]
[1987,{"$f":"'B-15'!B22+'B-16'!B22+'B-17'!B22+'B-18'!B22+'B-19'!B22","v":{"v":868679,"d":"868,679"}},{"$f":"'B-15'!C22+'B-16'!C22+'B-17'!C22+'B-18'!C22+'B-19'!C22","v":{"v":326600,"d":"326,600"}},{"$f":"'B-15'!D22+'B-16'!D22+'B-17'!D22+'B-18'!D22+'B-19'!D22","v":{"v":57700,"d":"57,700"}},{"$f":"0+0+'B-17'!E22+'B-18'!E22+'B-19'!E22","v":{"v":334590,"d":"334,590"}},{"$f":"0+0+'B-17'!F22+'B-18'!F22+'B-19'!F22","v":0},{"$f":"'B-15'!E22+'B-16'!E22+'B-17'!G22+'B-18'!G22+'B-19'!G22","v":{"v":141800,"d":"141,800"}},"NA",{"$f":"'B-15'!F22+'B-15'!G22+'B-16'!F22+'B-16'!G22+'B-17'!H22+'B-17'!I22+'B-18'!H22+'B-18'!I22+'B-19'!H22+0+'B-19'!K22","v":{"v":173137,"d":"173,137"}}]
[1988,{"$f":"'B-15'!B23+'B-16'!B23+'B-17'!B23+'B-18'!B23+'B-19'!B23","v":{"v":781566,"d":"781,566"}},{"$f":"'B-15'!C23+'B-16'!C23+'B-17'!C23+'B-18'!C23+'B-19'!C23","v":{"v":319000,"d":"319,000"}},{"$f":"'B-15'!D23+'B-16'!D23+'B-17'!D23+'B-18'!D23+'B-19'!D23","v":{"v":46000,"d":"46,000"}},{"$f":"0+0+'B-17'!E23+'B-18'!E23+'B-19'!E23","v":{"v":286623,"d":"286,623"}},{"$f":"0+0+'B-17'!F23+'B-18'!F23+'B-19'!F23","v":0},{"$f":"'B-15'!E23+'B-16'!E23+'B-17'!G23+'B-18'!G23+'B-19'!G23","v":{"v":152100,"d":"152,100"}},"NA",{"$f":"'B-15'!F23+'B-15'!G23+'B-16'!F23+'B-16'!G23+'B-17'!H23+'B-17'!I23+'B-18'!H23+'B-18'!I23+'B-19'!H23+0+'B-19'!K23","v":{"v":155574.564867232,"d":"155,575"}}]
[1989,{"$f":"'B-15'!B24+'B-16'!B24+'B-17'!B24+'B-18'!B24+'B-19'!B24","v":{"v":550767,"d":"550,767"}},{"$f":"'B-15'!C24+'B-16'!C24+'B-17'!C24+'B-18'!C24+'B-19'!C24","v":{"v":131400,"d":"131,400"}},{"$f":"'B-15'!D24+'B-16'!D24+'B-17'!D24+'B-18'!D24+'B-19'!D24","v":{"v":31453,"d":"31,453"}},{"$f":"0+0+'B-17'!E24+'B-18'!E24+'B-19'!E24","v":{"v":262178,"d":"262,178"}},{"$f":"0+0+'B-17'!F24+'B-18'!F24+'B-19'!F24","v":{"v":7106,"d":"7,106"}},{"$f":"'B-15'!E24+'B-16'!E24+'B-17'!G24+'B-18'!G24+'B-19'!G24","v":{"v":133400,"d":"133,400"}},"NA",{"$f":"'B-15'!F24+'B-15'!G24+'B-16'!F24+'B-16'!G24+'B-17'!H24+'B-17'!I24+'B-18'!H24+'B-18'!I24+'B-19'!H24+0+'B-19'!K24","v":{"v":144545,"d":"144,545"}}]
[1990,{"$f":"'B-15'!B25+'B-16'!B25+'B-17'!B25+'B-18'!B25+'B-19'!B25","v":{"v":311724.215327292,"d":"311,724"}},{"$f":"'B-15'!C25+'B-16'!C25+'B-17'!C25+'B-18'!C25+'B-19'!C25","v":{"v":45041,"d":"45,041"}},{"$f":"'B-15'!D25+'B-16'!D25+'B-17'!D25+'B-18'!D25+'B-19'!D25","v":{"v":11998,"d":"11,998"}},{"$f":"0+0+'B-17'!E25+'B-18'!E25+'B-19'!E25","v":{"v":172042,"d":"172,042"}},{"$f":"0+0+'B-17'!F25+'B-18'!F25+'B-19'!F25","v":{"v":5227,"d":"5,227"}},{"$f":"'B-15'!E25+'B-16'!E25+'B-17'!G25+'B-18'!G25+'B-19'!G25","v":{"v":84309.5,"d":"84,310"}},"NA",{"$f":"'B-15'!F25+'B-15'!G25+'B-16'!F25+'B-16'!G25+'B-17'!H25+'B-17'!I25+'B-18'!H25+'B-18'!I25+'B-19'!H25+0+'B-19'!K25","v":{"v":98279,"d":"98,279"}}]
[1991,{"$f":"'B-15'!B26+'B-16'!B26+'B-17'!B26+'B-18'!B26+'B-19'!B26","v":{"v":273521.55967001774,"d":"273,522"}},{"$f":"'B-15'!C26+'B-16'!C26+'B-17'!C26+'B-18'!C26+'B-19'!C26","v":{"v":40657,"d":"40,657"}},{"$f":"'B-15'!D26+'B-16'!D26+'B-17'!D26+'B-18'!D26+'B-19'!D26","v":{"v":15873,"d":"15,873"}},{"$f":"0+0+'B-17'!E26+'B-18'!E26+'B-19'!E26","v":{"v":147225,"d":"147,225"}},{"$f":"0+0+'B-17'!F26+'B-18'!F26+'B-19'!F26","v":{"v":4900,"d":"4,900"}},{"$f":"'B-15'!E26+'B-16'!E26+'B-17'!G26+'B-18'!G26+'B-19'!G26","v":{"v":54486.3,"d":"54,486"}},"NA",{"$f":"'B-15'!F26+'B-15'!G26+'B-16'!F26+'B-16'!G26+'B-17'!H26+'B-17'!I26+'B-18'!H26+'B-18'!I26+'B-19'!H26+0+'B-19'!K26","v":{"v":93572,"d":"93,572"}}]
[1992,{"$f":"'B-15'!B27+'B-16'!B27+'B-17'!B27+'B-18'!B27+'B-19'!B27","v":{"v":216723.3755405182,"d":"216,723"}},{"$f":"'B-15'!C27+'B-16'!C27+'B-17'!C27+'B-18'!C27+'B-19'!C27","v":{"v":17687,"d":"17,687"}},{"$f":"'B-15'!D27+'B-16'!D27+'B-17'!D27+'B-18'!D27+'B-19'!D27","v":{"v":15020,"d":"15,020"}},{"$f":"0+0+'B-17'!E27+'B-18'!E27+'B-19'!E27","v":{"v":115490,"d":"115,490"}},{"$f":"0+0+'B-17'!F27+'B-18'!F27+'B-19'!F27","v":{"v":3172,"d":"3,172"}},{"$f":"'B-15'!E27+'B-16'!E27+'B-17'!G27+'B-18'!G27+'B-19'!G27","v":{"v":28982.04,"d":"28,982"}},"NA",{"$f":"'B-15'!F27+'B-15'!G27+'B-16'!F27+'B-16'!G27+'B-17'!H27+'B-17'!I27+'B-18'!H27+'B-18'!I27+'B-19'!H27+0+'B-19'!K27","v":{"v":89681,"d":"89,681"}}]
[1993,{"$f":"'B-15'!B28+'B-16'!B28+'B-17'!B28+'B-18'!B28+'B-19'!B28","v":{"v":212848.40538593562,"d":"212,848"}},{"$f":"'B-15'!C28+'B-16'!C28+'B-17'!C28+'B-18'!C28+'B-19'!C28","v":{"v":17077,"d":"17,077"}},{"$f":"'B-15'!D28+'B-16'!D28+'B-17'!D28+'B-18'!D28+'B-19'!D28","v":{"v":12789,"d":"12,789"}},{"$f":"0+0+'B-17'!E28+'B-18'!E28+'B-19'!E28","v":{"v":125558,"d":"125,558"}},{"$f":"0+0+'B-17'!F28+'B-18'!F28+'B-19'!F28","v":{"v":3689,"d":"3,689"}},{"$f":"'B-15'!E28+'B-16'!E28+'B-17'!G28+'B-18'!G28+'B-19'!G28","v":{"v":32540,"d":"32,540"}},"NA",{"$f":"'B-15'!F28+'B-15'!G28+'B-16'!F28+'B-16'!G28+'B-17'!H28+'B-17'!I28+'B-18'!H28+'B-18'!I28+'B-19'!H28+0+'B-19'!K28","v":{"v":82064,"d":"82,064"}}]
[1994,{"$f":"'B-15'!B29+'B-16'!B29+'B-17'!B29+'B-18'!B29+'B-19'!B29","v":{"v":250810.86219880814,"d":"250,811"}},{"$f":"'B-15'!C29+'B-16'!C29+0+'B-18'!C29+'B-19'!C29","v":{"v":1526,"d":"1,526"}},{"$f":"'B-15'!D29+'B-16'!D29+'B-17'!D29+'B-18'!D29+'B-19'!D29","v":{"v":1313,"d":"1,313"}},{"$f":"0+0+'B-17'!E29+'B-18'!E29+'B-19'!E29","v":{"v":170066,"d":"170,066"}},{"$f":"0+0+'B-17'!F29+'B-18'!F29+'B-19'!F29","v":{"v":5767,"d":"5,767"}},{"$f":"'B-15'!E29+'B-16'!E29+'B-17'!G29+'B-18'!G29+'B-19'!G29","v":{"v":34566,"d":"34,566"}},"NA",{"$f":"'B-15'!F29+'B-15'!G29+'B-16'!F29+'B-16'!G29+'B-17'!H29+'B-17'!I29+'B-18'!H29+'B-18'!I29+'B-19'!H29+0+'B-19'!K29","v":{"v":110430,"d":"110,430"}}]
[1995,{"$f":"'B-15'!B30+'B-16'!B30+'B-17'!B30+'B-18'!B30+'B-19'!B30","v":{"v":236730.9929765331,"d":"236,731"}},{"$f":"'B-15'!C30+'B-16'!C30+0+'B-18'!C30+'B-19'!C30","v":156},{"$f":"'B-15'!D30+'B-16'!D30+'B-17'!D30+'B-18'!D30+'B-19'!D30","v":{"v":8369,"d":"8,369"}},{"$f":"0+0+'B-17'!E30+'B-18'!E30+'B-19'!E30","v":{"v":161421,"d":"161,421"}},{"$f":"0+0+'B-17'!F30+'B-18'!F30+'B-19'!F30","v":{"v":6145,"d":"6,145"}},{"$f":"'B-15'!E30+'B-16'!E30+'B-17'!G30+'B-18'!G30+'B-19'!G30","v":{"v":41548,"d":"41,548"}},"NA",{"$f":"'B-15'!F30+'B-15'!G30+'B-16'!F30+'B-16'!G30+'B-17'!H30+'B-17'!I30+'B-18'!H30+'B-18'!I30+'B-19'!H30+0+'B-19'!K30","v":{"v":98583,"d":"98,583"}}]
[1996,{"$f":"'B-15'!B31+'B-16'!B31+'B-17'!B31+'B-18'!B31+'B-19'!B31","v":{"v":326051.3854799046,"d":"326,051"}},{"$f":"'B-15'!C31+'B-16'!C31+'B-17'!C31+'B-18'!C31+'B-19'!C31","v":{"v":14947,"d":"14,947"}},{"$f":"'B-15'!D31+'B-16'!D31+'B-17'!D31+'B-18'!D31+'B-19'!D31","v":{"v":11463,"d":"11,463"}},{"$f":"0+0+'B-17'!E31+'B-18'!E31+'B-19'!E31","v":{"v":203899,"d":"203,899"}},{"$f":"0+0+'B-17'!F31+'B-18'!F31+'B-19'!F31","v":{"v":6604,"d":"6,604"}},{"$f":"'B-15'!E31+'B-16'!E31+'B-17'!G31+'B-18'!G31+'B-19'!G31","v":{"v":63771,"d":"63,771"}},"NA",{"$f":"'B-15'!F31+'B-15'!G31+'B-16'!F31+'B-16'!G31+'B-17'!H31+'B-17'!I31+'B-18'!H31+'B-18'!I31+'B-19'!H31+0+'B-19'!K31","v":{"v":132605,"d":"132,605"}}]
[1997,{"$f":"'B-15'!B32+'B-16'!B32+'B-17'!B32+'B-18'!B32+'B-19'!B32","v":{"v":317759.51724403206,"d":"317,760"}},{"$f":"'B-15'!C32+'B-16'!C32+'B-17'!C32+'B-18'!C32+'B-19'!C32","v":{"v":7118,"d":"7,118"}},{"$f":"'B-15'!D32+'B-16'!D32+'B-17'!D32+'B-18'!D32+'B-19'!D32","v":{"v":23390,"d":"23,390"}},{"$f":"0+0+'B-17'!E32+'B-18'!E32+'B-19'!E32","v":{"v":212841,"d":"212,841"}},{"$f":"0+0+'B-17'!F32+'B-18'!F32+'B-19'!F32","v":{"v":6400,"d":"6,400"}},{"$f":"'B-15'!E32+'B-16'!E32+'B-17'!G32+'B-18'!G32+'B-19'!G32","v":{"v":64561.662613924804,"d":"64,562"}},"NA",{"$f":"'B-15'!F32+'B-15'!G32+'B-16'!F32+'B-16'!G32+'B-17'!H32+'B-17'!I32+'B-18'!H32+'B-18'!I32+'B-19'!H32+0+'B-19'!K32","v":{"v":125244,"d":"125,244"}}]
[1998,{"$f":"'B-15'!B33+'B-16'!B33+'B-17'!B33+'B-18'!B33+'B-19'!B33","v":{"v":251579.06499422746,"d":"251,579"}},{"$f":"'B-15'!C33+'B-16'!C33+'B-17'!C33+'B-18'!C33+'B-19'!C33","v":{"v":2874,"d":"2,874"}},{"$f":"'B-15'!D33+'B-16'!D33+'B-17'!D33+'B-18'!D33+'B-19'!D33","v":{"v":14955,"d":"14,955"}},{"$f":"0+0+'B-17'!E33+'B-18'!E33+'B-19'!E33","v":{"v":184509,"d":"184,509"}},{"$f":"0+0+'B-17'!F33+'B-18'!F33+'B-19'!F33","v":{"v":6621,"d":"6,621"}},{"$f":"'B-15'!E33+'B-16'!E33+'B-17'!G33+'B-18'!G33+'B-19'!G33","v":{"v":45922,"d":"45,922"}},"NA",{"$f":"'B-15'!F33+'B-15'!G33+'B-16'!F33+'B-16'!G33+'B-17'!H33+'B-17'!I33+'B-18'!H33+'B-18'!I33+'B-19'!H33+0+'B-19'!K33","v":{"v":89887,"d":"89,887"}}]
[1999,{"$f":"'B-15'!B34+'B-16'!B34+'B-17'!B34+'B-18'!B34+'B-19'!B34","v":{"v":310147.8530244959,"d":"310,148"}},{"$f":"'B-15'!C34+'B-16'!C34+'B-17'!C34+'B-18'!C34+'B-19'!C34","v":{"v":6186,"d":"6,186"}},{"$f":"'B-15'!D34+'B-16'!D34+'B-17'!D34+'B-18'!D34+'B-19'!D34","v":{"v":20740,"d":"20,740"}},{"$f":"0+0+'B-17'!E34+'B-18'!E34+'B-19'!E34","v":{"v":242956,"d":"242,956"}},{"$f":"0+0+'B-17'!F34+'B-18'!F34+'B-19'!F34","v":{"v":9095,"d":"9,095"}},{"$f":"'B-15'!E34+'B-16'!E34+'B-17'!G34+'B-18'!G34+'B-19'!G34","v":{"v":77600,"d":"77,600"}},"NA",{"$f":"'B-15'!F34+'B-15'!G34+'B-16'!F34+'B-16'!G34+'B-17'!H34+'B-17'!I34+'B-18'!H34+'B-18'!I34+'B-19'!H34+0+'B-19'!K34","v":{"v":88055,"d":"88,055"}}]
[2000,{"$f":"'B-15'!B35+'B-16'!B35+'B-17'!B35+'B-18'!B35+'B-19'!B35","v":{"v":251544.83347117098,"d":"251,545"}},{"$f":"'B-15'!C35+'B-16'!C35+'B-17'!C35+'B-18'!C35+'B-19'!C35","v":{"v":11895,"d":"11,895"}},{"$f":"'B-15'!D35+'B-16'!D35+'B-17'!D35+'B-18'!D35+'B-19'!D35","v":{"v":11850,"d":"11,850"}},{"$f":"0+0+'B-17'!E35+'B-18'!E35+'B-19'!E35","v":{"v":189104,"d":"189,104"}},{"$f":"0+0+'B-17'!F35+'B-18'!F35+'B-19'!F35","v":{"v":6311,"d":"6,311"}},{"$f":"'B-15'!E35+'B-16'!E35+'B-17'!G35+'B-18'!G35+'B-19'!G35","v":{"v":51590.0658928766,"d":"51,590"}},"NA",{"$f":"'B-15'!F35+'B-15'!G35+'B-16'!F35+'B-16'!G35+'B-17'!H35+'B-17'!I35+'B-18'!H35+'B-18'!I35+'B-19'!H35+'B-19'!J35+'B-19'!K35","v":{"v":128108,"d":"128,108"}}]
[2001,{"$f":"'B-15'!B36+'B-16'!B36+'B-17'!B36+'B-18'!B36+'B-19'!B36","v":{"v":543873.9719358716,"d":"543,874"}},{"$f":"'B-15'!C36+'B-16'!C36+'B-17'!C36+'B-18'!C36+'B-19'!C36","v":{"v":24677,"d":"24,677"}},{"$f":"'B-15'!D36+'B-16'!D36+'B-17'!D36+'B-18'!D36+'B-19'!D36","v":{"v":22980,"d":"22,980"}},{"$f":"0+0+'B-17'!E36+'B-18'!E36+'B-19'!E36","v":{"v":383701,"d":"383,701"}},{"$f":"0+0+'B-17'!F36+'B-18'!F36+'B-19'!F36","v":{"v":10722,"d":"10,722"}},{"$f":"'B-15'!E36+'B-16'!E36+'B-17'!G36+'B-18'!G36+'B-19'!G36","v":{"v":104366.9141734643,"d":"104,367"}},"NA",{"$f":"'B-15'!F36+'B-15'!G36+'B-16'!F36+'B-16'!G36+'B-17'!H36+'B-17'!I36+'B-18'!H36+'B-18'!I36+'B-19'!H36+'B-19'!J36+'B-19'!K36","v":{"v":260537,"d":"260,537"}}]
[2002,{"$f":"'B-15'!B37+'B-16'!B37+'B-17'!B37+'B-18'!B37+'B-19'!B37","v":{"v":727658.9934375057,"d":"727,659"}},{"$f":"'B-15'!C37+'B-16'!C37+'B-17'!C37+'B-18'!C37+'B-19'!C37","v":{"v":39532,"d":"39,532"}},{"$f":"'B-15'!D37+'B-16'!D37+'B-17'!D37+'B-18'!D37+'B-19'!D37","v":{"v":46529,"d":"46,529"}},{"$f":"0+0+'B-17'!E37+'B-18'!E37+'B-19'!E37","v":{"v":460511,"d":"460,511"}},{"$f":"0+0+'B-17'!F37+'B-18'!F37+'B-19'!F37","v":{"v":17111,"d":"17,111"}},{"$f":"'B-15'!E37+'B-16'!E37+'B-17'!G37+'B-18'!G37+'B-19'!G37","v":{"v":130552.75283269647,"d":"130,553"}},"NA",{"$f":"'B-15'!F37+'B-15'!G37+'B-16'!F37+'B-16'!G37+'B-17'!H37+'B-17'!I37+'B-18'!H37+'B-18'!I37+'B-19'!H37+'B-19'!J37+'B-19'!K37","v":{"v":398954,"d":"398,954"}}]
[2003,{"$f":"'B-15'!B38+'B-16'!B38+'B-17'!B38+'B-18'!B38+'B-19'!B38","v":{"v":885792,"d":"885,792"}},{"$f":"'B-15'!C38+'B-16'!C38+'B-17'!C38+'B-18'!C38+'B-19'!C38","v":{"v":58819,"d":"58,819"}},{"$f":"'B-15'!D38+'B-16'!D38+'B-17'!D38+'B-18'!D38+'B-19'!D38","v":{"v":51799,"d":"51,799"}},{"$f":"0+0+'B-17'!E38+'B-18'!E38+'B-19'!E38","v":{"v":600122,"d":"600,122"}},{"$f":"0+0+'B-17'!F38+'B-18'!F38+'B-19'!F38","v":{"v":13757,"d":"13,757"}},{"$f":"'B-15'!E38+'B-16'!E38+'B-17'!G38+'B-18'!G38+'B-19'!G38","v":{"v":125094.47150076248,"d":"125,094"}},"NA",{"$f":"'B-15'!F38+'B-15'!G38+'B-16'!F38+'B-16'!G38+'B-17'!H38+'B-17'!I38+'B-18'!H38+'B-18'!I38+'B-19'!H38+'B-19'!J38+'B-19'!K38","v":{"v":468012,"d":"468,012"}}]
[2004,{"$f":"'B-15'!B39+'B-16'!B39+'B-17'!B39+'B-18'!B39+'B-19'!B39","v":{"v":791927.6744893948,"d":"791,928"}},{"$f":"'B-15'!C39+'B-16'!C39+'B-17'!C39+'B-18'!C39+'B-19'!C39","v":{"v":48093,"d":"48,093"}},{"$f":"'B-15'!D39+'B-16'!D39+'B-17'!D39+'B-18'!D39+'B-19'!D39","v":{"v":40053,"d":"40,053"}},{"$f":"0+0+'B-17'!E39+'B-18'!E39+'B-19'!E39","v":{"v":580933,"d":"580,933"}},{"$f":"0+0+'B-17'!F39+'B-18'!F39+'B-19'!F39","v":{"v":14512,"d":"14,512"}},{"$f":"'B-15'!E39+'B-16'!E39+'B-17'!G39+'B-18'!G39+'B-19'!G39","v":{"v":130374.7602743218,"d":"130,375"}},"NA",{"$f":"'B-15'!F39+'B-15'!G39+'B-16'!F39+'B-16'!G39+'B-17'!H39+'B-17'!I39+'B-18'!H39+'B-18'!I39+'B-19'!H39+'B-19'!J39+'B-19'!K39","v":{"v":387527,"d":"387,527"}}]
[2005,{"$f":"'B-15'!B40+'B-16'!B40+'B-17'!B40+'B-18'!B40+'B-19'!B40","v":{"v":577458.2827956988,"d":"577,458"}},{"$f":"'B-15'!C40+'B-16'!C40+'B-17'!C40+'B-18'!C40+'B-19'!C40","v":{"v":30494,"d":"30,494"}},{"$f":"'B-15'!D40+'B-16'!D40+'B-17'!D40+'B-18'!D40+'B-19'!D40","v":{"v":37110.7,"d":"37,111"}},{"$f":"0+0+'B-17'!E40+'B-18'!E40+'B-19'!E40","v":{"v":414905,"d":"414,905"}},{"$f":"0+0+'B-17'!F40+'B-18'!F40+'B-19'!F40","v":{"v":13417,"d":"13,417"}},{"$f":"'B-15'!E40+'B-16'!E40+'B-17'!G40+'B-18'!G40+'B-19'!G40","v":{"v":118591,"d":"118,591"}},"NA",{"$f":"'B-15'!F40+'B-15'!G40+'B-16'!F40+'B-16'!G40+'B-17'!H40+'B-17'!I40+'B-18'!H40+'B-18'!I40+'B-19'!H40+'B-19'!J40+'B-19'!K40","v":{"v":277348,"d":"277,348"}}]
[2006,{"$f":"'B-15'!B41+'B-16'!B41+'B-17'!B41+'B-18'!B41+'B-19'!B41","v":{"v":415201.35906797624,"d":"415,201"}},{"$f":"'B-15'!C41+'B-16'!C41+'B-17'!C41+'B-18'!C41+'B-19'!C41","v":{"v":23573,"d":"23,573"}},{"$f":"'B-15'!D41+'B-16'!D41+'B-17'!D41+'B-18'!D41+'B-19'!D41","v":{"v":21881,"d":"21,881"}},{"$f":"0+0+'B-17'!E41+'B-18'!E41+'B-19'!E41","v":{"v":185231,"d":"185,231"}},{"$f":"0+0+'B-17'!F41+'B-18'!F41+'B-19'!F41","v":{"v":9105,"d":"9,105"}},{"$f":"'B-15'!E41+'B-16'!E41+'B-17'!G41+'B-18'!G41+'B-19'!G41","v":{"v":80906.33767636819,"d":"80,906"}},"NA",{"$f":"'B-15'!F41+'B-15'!G41+'B-16'!F41+'B-16'!G41+'B-17'!H41+'B-17'!I41+'B-18'!H41+'B-18'!I41+'B-19'!H41+'B-19'!J41+'B-19'!K41","v":{"v":180984,"d":"180,984"}}]
[2007,{"$f":"'B-15'!B42+'B-16'!B42+'B-17'!B42+'B-18'!B42+'B-19'!B42","v":{"v":213135.27931946667,"d":"213,135"}},{"$f":"'B-15'!C42+'B-16'!C42+'B-17'!C42+'B-18'!C42+'B-19'!C42","v":{"v":11538,"d":"11,538"}},{"$f":"'B-15'!D42+'B-16'!D42+'B-17'!D42+'B-18'!D42+'B-19'!D42","v":{"v":13022,"d":"13,022"}},{"$f":"0+0+'B-17'!E42+'B-18'!E42+'B-19'!E42","v":{"v":147727,"d":"147,727"}},{"$f":"0+0+'B-17'!F42+'B-18'!F42+'B-19'!F42","v":{"v":6933,"d":"6,933"}},{"$f":"'B-15'!E42+'B-16'!E42+'B-17'!G42+'B-18'!G42+'B-19'!G42","v":{"v":37281.35430463576,"d":"37,281"}},"NA",{"$f":"'B-15'!F42+'B-15'!G42+'B-16'!F42+'B-16'!G42+'B-17'!H42+'B-17'!I42+'B-18'!H42+'B-18'!I42+'B-19'!H42+'B-19'!J42+'B-19'!K42","v":{"v":107278,"d":"107,278"}}]
[2008,{"$f":"'B-15'!B43+'B-16'!B43+'B-17'!B43+'B-18'!B43+'B-19'!B43","v":{"v":436130.35038493597,"d":"436,130"}},{"$f":"'B-15'!C43+'B-16'!C43+'B-17'!C43+'B-18'!C43+'B-19'!C43","v":{"v":30724,"d":"30,724"}},{"$f":"'B-15'!D43+'B-16'!D43+'B-17'!D43+'B-18'!D43+'B-19'!D43","v":{"v":21308,"d":"21,308"}},{"$f":"0+0+'B-17'!E43+'B-18'!E43+'B-19'!E43","v":{"v":309783,"d":"309,783"}},{"$f":"0+0+'B-17'!F43+'B-18'!F43+'B-19'!F43","v":{"v":9669,"d":"9,669"}},{"$f":"'B-15'!E43+'B-16'!E43+'B-17'!G43+'B-18'!G43+'B-19'!G43","v":{"v":107682.6285569199,"d":"107,683"}},"NA",{"$f":"'B-15'!F43+'B-15'!G43+'B-16'!F43+'B-16'!G43+'B-17'!H43+'B-17'!I43+'B-18'!H43+'B-18'!I43+'B-19'!H43+'B-19'!J43+'B-19'!K43","v":{"v":194977.59,"d":"194,978"}}]
[2009,{"$f":"'B-15'!B44+'B-16'!B44+'B-17'!B44+'B-18'!B44+'B-19'!B44","v":{"v":418356.61970206647,"d":"418,357"}},{"$f":"'B-15'!C44+'B-16'!C44+'B-17'!C44+'B-18'!C44+'B-19'!C44","v":{"v":35923,"d":"35,923"}},{"$f":"'B-15'!D44+'B-16'!D44+'B-17'!D44+'B-18'!D44+'B-19'!D44","v":{"v":26454,"d":"26,454"}},{"$f":"0+0+'B-17'!E44+'B-18'!E44+'B-19'!E44","v":{"v":272261.27724217856,"d":"272,261"}},{"$f":"0+0+'B-17'!F44+'B-18'!F44+'B-19'!F44","v":{"v":11454,"d":"11,454"}},{"$f":"'B-15'!E44+'B-16'!E44+'B-17'!G44+'B-18'!G44+'B-19'!G44","v":{"v":101450.74727836676,"d":"101,451"}},"NA",{"$f":"'B-15'!F44+'B-15'!G44+'B-16'!F44+'B-16'!G44+'B-17'!H44+'B-17'!I44+'B-18'!H44+'B-18'!I44+'B-19'!H44+'B-19'!J44+'B-19'!K44","v":{"v":195204.5,"d":"195,205"}}]
[2010,{"$f":"'B-15'!B45+'B-16'!B45+'B-17'!B45+'B-18'!B45+'B-19'!B45","v":{"v":648465.4901803765,"d":"648,465"}},{"$f":"'B-15'!C45+'B-16'!C45+'B-17'!C45+'B-18'!C45+'B-19'!C45","v":{"v":43472,"d":"43,472"}},{"$f":"'B-15'!D45+'B-16'!D45+'B-17'!D45+'B-18'!D45+'B-19'!D45","v":{"v":30332,"d":"30,332"}},{"$f":"0+0+'B-17'!E45+'B-18'!E45+'B-19'!E45","v":{"v":465863,"d":"465,863"}},{"$f":"0+0+'B-17'!F45+'B-18'!F45+'B-19'!F45","v":{"v":16834,"d":"16,834"}},{"$f":"'B-15'!E45+'B-16'!E45+'B-17'!G45+'B-18'!G45+'B-19'!G45","v":{"v":139948.756140791,"d":"139,949"}},"NA",{"$f":"'B-15'!F45+'B-15'!G45+'B-16'!F45+'B-16'!G45+'B-17'!H45+'B-17'!I45+'B-18'!H45+'B-18'!I45+'B-19'!H45+'B-19'!J45+'B-19'!K45","v":{"v":342324,"d":"342,324"}}]
[2011,{"$f":"'B-15'!B46+'B-16'!B46+'B-17'!B46+'B-18'!B46+'B-19'!B46","v":{"v":603732.1424688505,"d":"603,732"}},{"$f":"'B-15'!C46+'B-16'!C46+'B-17'!C46+'B-18'!C46+'B-19'!C46","v":{"v":58098,"d":"58,098"}},{"$f":"'B-15'!D46+'B-16'!D46+'B-17'!D46+'B-18'!D46+'B-19'!D46","v":{"v":48559,"d":"48,559"}},{"$f":"0+0+'B-17'!E46+'B-18'!E46+'B-19'!E46","v":{"v":392807,"d":"392,807"}},{"$f":"0+0+'B-17'!F46+'B-18'!F46+'B-19'!F46","v":{"v":15934,"d":"15,934"}},{"$f":"'B-15'!E46+'B-16'!E46+'B-17'!G46+'B-18'!G46+'B-19'!G46","v":{"v":136881.7060114171,"d":"136,882"}},"NA",{"$f":"'B-15'!F46+'B-15'!G46+'B-16'!F46+'B-16'!G46+'B-17'!H46+'B-17'!I46+'B-18'!H46+'B-18'!I46+'B-19'!H46+'B-19'!J46+'B-19'!K46","v":{"v":287511,"d":"287,511"}}]
[2012,{"$f":"'B-15'!B47+'B-16'!B47+'B-17'!B47+'B-18'!B47+'B-19'!B47","v":{"v":512346.88328160637,"d":"512,347"}},{"$f":"'B-15'!C47+'B-16'!C47+'B-17'!C47+'B-18'!C47+'B-19'!C47","v":{"v":48939,"d":"48,939"}},{"$f":"'B-15'!D47+'B-16'!D47+'B-17'!D47+'B-18'!D47+'B-19'!D47","v":{"v":47078,"d":"47,078"}},{"$f":"0+0+'B-17'!E47+'B-18'!E47+'B-19'!E47","v":{"v":343802,"d":"343,802"}},{"$f":"0+0+'B-17'!F47+'B-18'!F47+'B-19'!F47","v":{"v":24587,"d":"24,587"}},{"$f":"'B-15'!E47+'B-16'!E47+'B-17'!G47+'B-18'!G47+'B-19'!G47","v":{"v":90906.6236778482,"d":"90,907"}},"NA",{"$f":"'B-15'!F47+'B-15'!G47+'B-16'!F47+'B-16'!G47+'B-17'!H47+'B-17'!I47+'B-18'!H47+'B-18'!I47+'B-19'!H47+'B-19'!J47+'B-19'!K47","v":{"v":269748,"d":"269,748"}}]
[2013,{"$f":"'B-15'!B48+'B-16'!B48+'B-17'!B48+'B-18'!B48+'B-19'!B48","v":{"v":1244948.750368061,"d":"1,244,949"}},{"$f":"'B-15'!C48+'B-16'!C48+'B-17'!C48+'B-18'!C48+'B-19'!C48","v":{"v":93079,"d":"93,079"}},{"$f":"'B-15'!D48+'B-16'!D48+'B-17'!D48+'B-18'!D48+'B-19'!D48","v":{"v":72634.54414291808,"d":"72,635"}},{"$f":"0+0+'B-17'!E48+'B-18'!E48+'B-19'!E48","v":{"v":952776,"d":"952,776"}},{"$f":"0+0+'B-17'!F48+'B-18'!F48+'B-19'!F48","v":{"v":49845,"d":"49,845"}},{"$f":"'B-15'!E48+'B-16'!E48+'B-17'!G48+'B-18'!G48+'B-19'!G48","v":{"v":245544.01735898777,"d":"245,544"}},"NA",{"$f":"'B-15'!F48+'B-15'!G48+'B-16'!F48+'B-16'!G48+'B-17'!H48+'B-17'!I48+'B-18'!H48+'B-18'!I48+'B-19'!H48+'B-19'!J48+'B-19'!K48","v":{"v":623251,"d":"623,251"}}]
[2014,{"$f":"'B-15'!B49+'B-16'!B49+'B-17'!B49+'B-18'!B49+'B-19'!B49","v":{"v":1142641.2990642122,"d":"1,142,641"}},{"$f":"'B-15'!C49+'B-16'!C49+'B-17'!C49+'B-18'!C49+'B-19'!C49","v":{"v":110588,"d":"110,588"}},{"$f":"'B-15'!D49+'B-16'!D49+'B-17'!D49+'B-18'!D49+'B-19'!D49","v":{"v":62996.62841270438,"d":"62,997"}},{"$f":"0+0+'B-17'!E49+'B-18'!E49+'B-19'!E49","v":{"v":835581,"d":"835,581"}},{"$f":"0+0+'B-17'!F49+'B-18'!F49+'B-19'!F49","v":{"v":50161,"d":"50,161"}},{"$f":"'B-15'!E49+'B-16'!E49+'B-17'!G49+'B-18'!G49+'B-19'!G49","v":{"v":283037.03622808063,"d":"283,037"}},"NA",{"$f":"'B-15'!F49+'B-15'!G49+'B-16'!F49+'B-16'!G49+'B-17'!H49+'B-17'!I49+'B-18'!H49+'B-18'!I49+'B-19'!H49+'B-19'!J49+'B-19'!K49","v":{"v":517889,"d":"517,889"}}]
[2015,{"$f":"'B-15'!B50+'B-16'!B50+'B-17'!B50+'B-18'!B50+'B-19'!B50","v":{"v":1294013.22968228,"d":"1,294,013"}},{"$f":"'B-15'!C50+'B-16'!C50+'B-17'!C50+'B-18'!C50+'B-19'!C50","v":{"v":93950,"d":"93,950"}},{"$f":"'B-15'!D50+'B-16'!D50+'B-17'!D50+'B-18'!D50+'B-19'!D50","v":{"v":85482,"d":"85,482"}},{"$f":"0+0+'B-17'!E50+'B-18'!E50+'B-19'!E50","v":{"v":942062,"d":"942,062"}},{"$f":"0+0+'B-17'!F50+'B-18'!F50+'B-19'!F50","v":{"v":54913,"d":"54,913"}},{"$f":"'B-15'!E50+'B-16'!E50+'B-17'!G50+'B-18'!G50+'B-19'!G50","v":{"v":284086.5407407407,"d":"284,087"}},"NA",{"$f":"'B-15'!F50+'B-15'!G50+'B-16'!F50+'B-16'!G50+'B-17'!H50+'B-17'!I50+'B-18'!H50+'B-18'!I50+'B-19'!H50+'B-19'!J50+'B-19'!K50","v":{"v":652807,"d":"652,807"}}]
[2016,{"$f":"'B-15'!B51+'B-16'!B51+'B-17'!B51+'B-18'!B51+'B-19'!B51","v":{"v":634319,"d":"634,319"}},{"$f":"'B-15'!C51+'B-16'!C51+'B-17'!C51+'B-18'!C51+'B-19'!C51","v":{"v":62769,"d":"62,769"}},{"$f":"'B-15'!D51+'B-16'!D51+'B-17'!D51+'B-18'!D51+'B-19'!D51","v":{"v":45395,"d":"45,395"}},{"$f":"0+0+'B-17'!E51+'B-18'!E51+'B-19'!E51","v":{"v":439953,"d":"439,953"}},{"$f":"0+0+'B-17'!F51+'B-18'!F51+'B-19'!F51","v":{"v":31831,"d":"31,831"}},{"$f":"'B-15'!E51+'B-16'!E51+'B-17'!G51+'B-18'!G51+'B-19'!G51","v":{"v":137358,"d":"137,358"}},"NA",{"$f":"'B-15'!F51+'B-15'!G51+'B-16'!F51+'B-16'!G51+'B-17'!H51+'B-17'!I51+'B-18'!H51+'B-18'!I51+'B-19'!H51+'B-19'!J51+'B-19'!K51","v":{"v":315641,"d":"315,641"}}]
[2017,{"$f":"'B-15'!B52+'B-16'!B52+'B-17'!B52+'B-18'!B52+'B-19'!B52","v":{"v":465182,"d":"465,182"}},{"$f":"'B-15'!C52+'B-16'!C52+'B-17'!C52+'B-18'!C52+'B-19'!C52","v":{"v":26624,"d":"26,624"}},{"$f":"'B-15'!D52+'B-16'!D52+'B-17'!D52+'B-18'!D52+'B-19'!D52","v":{"v":53920,"d":"53,920"}},{"$f":"0+0+'B-17'!E52+'B-18'!E52+'B-19'!E52","v":{"v":338115,"d":"338,115"}},{"$f":"0+0+'B-17'!F52+'B-18'!F52+'B-19'!F52","v":{"v":20824,"d":"20,824"}},{"$f":"'B-15'!E52+'B-16'!E52+'B-17'!G52+'B-18'!G52+'B-19'!G52","v":{"v":117408,"d":"117,408"}},"NA",{"$f":"'B-15'!F52+'B-15'!G52+'B-16'!F52+'B-16'!G52+'B-17'!H52+'B-17'!I52+'B-18'!H52+'B-18'!I52+'B-19'!H52+'B-19'!J52+'B-19'!K52","v":{"v":209719,"d":"209,719"}}]
[2018,{"$f":"'B-15'!B53+'B-16'!B53+'B-17'!B53+'B-18'!B53+'B-19'!B53","v":{"v":275147,"d":"275,147"}},{"$f":"'B-15'!C53+'B-16'!C53+'B-17'!C53+'B-18'!C53+'B-19'!C53","v":{"v":11918,"d":"11,918"}},{"$f":"'B-15'!D53+'B-16'!D53+'B-17'!D53+'B-18'!D53+'B-19'!D53","v":{"v":22538,"d":"22,538"}},{"$f":"0+0+'B-17'!E53+'B-18'!E53+'B-19'!E53","v":{"v":185520,"d":"185,520"}},{"$f":"0+0+'B-17'!F53+'B-18'!F53+'B-19'!F53","v":{"v":16863,"d":"16,863"}},{"$f":"'B-15'!E53+'B-16'!E53+'B-17'!G53+'B-18'!G53+'B-19'!G53","v":{"v":55998,"d":"55,998"}},"NA",{"$f":"'B-15'!F53+'B-15'!G53+'B-16'!F53+'B-16'!G53+'B-17'!H53+'B-17'!I53+'B-18'!H53+'B-18'!I53+'B-19'!H53+'B-19'!J53+'B-19'!K53","v":{"v":152193,"d":"152,193"}}]
[2019,{"$f":"'B-15'!B54+'B-16'!B54+'B-17'!B54+'B-18'!B54+'B-19'!B54","v":{"v":364905,"d":"364,905"}},{"$f":"'B-15'!C54+'B-16'!C54+'B-17'!C54+'B-18'!C54+'B-19'!C54","v":{"v":9864,"d":"9,864"}},{"$f":"'B-15'!D54+'B-16'!D54+'B-17'!D54+'B-18'!D54+'B-19'!D54","v":{"v":21404,"d":"21,404"}},{"$f":"0+0+'B-17'!E54+'B-18'!E54+'B-19'!E54","v":{"v":278440,"d":"278,440"}},{"$f":"0+0+'B-17'!F54+'B-18'!F54+'B-19'!F54","v":{"v":20277,"d":"20,277"}},{"$f":"'B-15'!E54+'B-16'!E54+'B-17'!G54+'B-18'!G54+'B-19'!G54","v":{"v":66563,"d":"66,563"}},"NA",{"$f":"'B-15'!F54+'B-15'!G54+'B-16'!F54+'B-16'!G54+'B-17'!H54+'B-17'!I54+'B-18'!H54+'B-18'!I54+'B-19'!H54+'B-19'!J54+'B-19'!K54","v":{"v":215312,"d":"215,312"}}]
[2020,{"$f":"'B-15'!B55+'B-16'!B55+'B-17'!B55+'B-18'!B55+'B-19'!B55","v":{"v":567190,"d":"567,190"}},{"$f":"'B-15'!C55+'B-16'!C55+'B-17'!C55+'B-18'!C55+'B-19'!C55","v":{"v":33843,"d":"33,843"}},{"$f":"'B-15'!D55+'B-16'!D55+'B-17'!D55+'B-18'!D55+'B-19'!D55","v":{"v":38535,"d":"38,535"}},{"$f":"0+0+'B-17'!E55+'B-18'!E55+'B-19'!E55","v":{"v":403475,"d":"403,475"}},{"$f":"0+0+'B-17'!F55+'B-18'!F55+'B-19'!F55","v":{"v":24611,"d":"24,611"}},{"$f":"'B-15'!E55+'B-16'!E55+'B-17'!G55+'B-18'!G55+'B-19'!G55","v":{"v":108113,"d":"108,113"}},"NA",{"$f":"'B-15'!F55+'B-15'!G55+'B-16'!F55+'B-16'!G55+'B-17'!H55+'B-17'!I55+'B-18'!H55+'B-18'!I55+'B-19'!H55+'B-19'!J55+'B-19'!K55","v":{"v":268394,"d":"268,394"}}]
[2021,{"$f":"'B-15'!B56+'B-16'!B56+'B-17'!B56+'B-18'!B56+'B-19'!B56","v":{"v":471290,"d":"471,290"}},{"$f":"'B-15'!C56+'B-16'!C56+'B-17'!C56+'B-18'!C56+'B-19'!C56","v":{"v":27901,"d":"27,901"}},{"$f":"'B-15'!D56+'B-16'!D56+'B-17'!D56+'B-18'!D56+'B-19'!D56","v":{"v":40884,"d":"40,884"}},{"$f":"0+0+'B-17'!E56+'B-18'!E56+'B-19'!E56","v":{"v":330833,"d":"330,833"}},{"$f":"0+0+'B-17'!F56+'B-18'!F56+'B-19'!F56","v":{"v":22773,"d":"22,773"}},{"$f":"'B-15'!E56+'B-16'!E56+'B-17'!G56+'B-18'!G56+'B-19'!G56","v":{"v":70116,"d":"70,116"}},"NA",{"$f":"'B-15'!F56+'B-15'!G56+'B-16'!F56+'B-16'!G56+'B-17'!H56+'B-17'!I56+'B-18'!H56+'B-18'!I56+'B-19'!H56+'B-19'!J56+'B-19'!K56","v":{"v":250197,"d":"250,197"}}]
[2022,{"$f":"'B-15'!B57+'B-16'!B57+'B-17'!B57+'B-18'!B57+'B-19'!B57","v":{"v":677701,"d":"677,701"}},{"$f":"'B-15'!C57+'B-16'!C57+'B-17'!C57+'B-18'!C57+'B-19'!C57","v":{"v":35407,"d":"35,407"}},{"$f":"'B-15'!D57+'B-16'!D57+'B-17'!D57+'B-18'!D57+'B-19'!D57","v":{"v":44733,"d":"44,733"}},{"$f":"0+0+'B-17'!E57+'B-18'!E57+'B-19'!E57","v":{"v":518871,"d":"518,871"}},{"$f":"0+0+'B-17'!F57+'B-18'!F57+'B-19'!F57","v":{"v":26019,"d":"26,019"}},{"$f":"'B-15'!E57+'B-16'!E57+'B-17'!G57+'B-18'!G57+'B-19'!G57","v":{"v":181231,"d":"181,231"}},"NA",{"$f":"'B-15'!F57+'B-15'!G57+'B-16'!F57+'B-16'!G57+'B-17'!H57+'B-17'!I57+'B-18'!H57+'B-18'!I57+'B-19'!H57+'B-19'!J57+'B-19'!K57","v":{"v":313298,"d":"313,298"}}]
[2023,{"$f":"'B-15'!B58+'B-16'!B58+'B-17'!B58+'B-18'!B58+'B-19'!B58","v":{"v":708883,"d":"708,883"}},{"$f":"'B-15'!C58+'B-16'!C58+'B-17'!C58+'B-18'!C58+'B-19'!C58","v":{"v":40031,"d":"40,031"}},{"$f":"'B-15'!D58+'B-16'!D58+'B-17'!D58+'B-18'!D58+'B-19'!D58","v":{"v":50830,"d":"50,830"}},{"$f":"0+0+'B-17'!E58+'B-18'!E58+'B-19'!E58","v":{"v":540148,"d":"540,148"}},{"$f":"0+0+'B-17'!F58+'B-18'!F58+'B-19'!F58","v":{"v":25674,"d":"25,674"}},{"$f":"'B-15'!E58+'B-16'!E58+'B-17'!G58+'B-18'!G58+'B-19'!G58","v":{"v":152601,"d":"152,601"}},"NA",{"$f":"'B-15'!F58+'B-15'!G58+'B-16'!F58+'B-16'!G58+'B-17'!H58+'B-17'!I58+'B-18'!H58+'B-18'!I58+'B-19'!H58+'B-19'!J58+'B-19'!K58","v":{"v":302972,"d":"302,972"}}]
["2024e/",{"$f":"'B-15'!B59+'B-16'!B59+'B-17'!B59+'B-18'!B59+'B-19'!B59","v":{"v":664200,"d":"664,200"}},"NA","NA","NA","NA","NA","NA","NA"]
[]
["TABLE B-20.  Estimates of minimum inriver run size and catch in numbers of adult spring, summer, and fall Chinook from the Columbia Rivera/.  (Page 4 of 5)"]
[{"$nulls":8},"Minimim"]
[null,"Minimum Columbia R. Return","Lower River Catch",null,null,"Above Bonneville Catch",null,null,"Escapement (natural and hatchery)"]
[" Year or Ave.",null,"Non-Indian  Commercial",null,"Bonneville Dam Count",null," Treaty Indian","Non-Treaty Tribal"]
[{"$nulls":3},"Sport",null,"Sport"]
["Total Chinook"]
[1979,{"$f":"SUM(B113,B60,B7)","v":{"v":481481.7350679535,"d":"481,482"}},{"$f":"SUM(C113,C60,C7)","v":{"v":102395.55307262568,"d":"102,396"}},{"v":8300,"d":"8,300"},{"v":219974,"d":"219,974"},0,{"v":64377,"d":"64,377"},{"$f":"SUM(H113,H60,H7)","v":0},{"v":169510.586383204,"d":"169,511"}]
[1980,{"v":472205.6379117222,"d":"472,206"},{"$f":"SUM(C114,C61,C8)","v":{"v":112706.47161572053,"d":"112,706"}},{"v":5753,"d":"5,753"},{"v":207252,"d":"207,252"},0,{"v":37403,"d":"37,403"},0,{"$f":"SUM(I114,I61,I8)","v":{"v":164042.63617474,"d":"164,043"}}]
[1981,{"v":447137.9459459459,"d":"447,138"},{"v":34284.94594594595,"d":"34,285"},{"v":7807,"d":"7,807"},{"v":223590,"d":"223,590"},0,{"v":53049,"d":"53,049"},0,{"v":199060.92625027735,"d":"199,061"}]
[1982,{"v":559405.0833333334,"d":"559,405"},{"v":93916.08333333333,"d":"93,916"},{"v":7859,"d":"7,859"},{"v":247440,"d":"247,440"},0,{"v":65503,"d":"65,503"},0,{"v":200681,"d":"200,681"}]
[1983,{"v":399486.9763779527,"d":"399,487"},{"v":32364.976377952757,"d":"32,365"},{"v":6248,"d":"6,248"},{"v":183644,"d":"183,644"},0,{"v":32328,"d":"32,328"},0,{"v":163749.802165514,"d":"163,750"}]
[1984,{"v":485099.0588235294,"d":"485,099"},{"v":72170.05882352941,"d":"72,170"},{"v":19215,"d":"19,215"},{"v":213887,"d":"213,887"},0,{"v":61186,"d":"61,186"},0,{"v":156110,"d":"156,110"}]
[1985,{"v":545146,"d":"545,146"},{"v":72023.92073170732,"d":"72,024"},{"v":17464,"d":"17,464"},{"v":295618,"d":"295,618"},0,{"v":79088,"d":"79,088"},0,{"v":203112.954582138,"d":"203,113"}]
[1986,{"v":724294.8879310344,"d":"724,295"},{"v":164574.88793103446,"d":"164,575"},{"v":31788,"d":"31,788"},{"v":375453,"d":"375,453"},0,{"v":114253,"d":"114,253"},0,{"v":189643.718297196,"d":"189,644"}]
[1987,{"v":1126565.2484848485,"d":"1,126,565"},{"v":338278.84848484845,"d":"338,279"},{"v":60501.4,"d":"60,501"},{"v":466196,"d":"466,196"},0,{"v":150173,"d":"150,173"},0,{"v":273396,"d":"273,396"}]
[1988,{"v":1044088.6625000001,"d":"1,044,089"},{"v":337633.0625,"d":"337,633"},{"v":50642.6,"d":"50,643"},{"v":408470,"d":"408,470"},0,{"v":160603,"d":"160,603"},0,{"v":256007.564867232,"d":"256,008"}]
[1989,{"v":791299.0885875309,"d":"791,299"},{"v":145412.2894211577,"d":"145,412"},{"v":34516.9,"d":"34,517"},{"v":372234,"d":"372,234"},{"v":7106,"d":"7,106"},{"v":140226,"d":"140,226"},0,{"v":224363,"d":"224,363"}]
[1990,{"v":586501.215327292,"d":"586,501"},{"$f":"SUM(C124,C71,C18)","v":{"v":63488.517595307916,"d":"63,489"}},{"v":24267.9,"d":"24,268"},{"v":291183,"d":"291,183"},{"v":5227,"d":"5,227"},{"v":91348.5,"d":"91,349"},0,{"v":181356,"d":"181,356"}]
[1991,{"v":481397.55967001774,"d":"481,398"},{"v":53382.73588342441,"d":"53,383"},{"v":21512.8,"d":"21,513"},{"v":223461,"d":"223,461"},{"v":4900,"d":"4,900"},{"v":58533.3,"d":"58,533"},0,{"v":150271,"d":"150,271"}]
[1992,{"v":421643.6085668853,"d":"421,644"},{"v":23019.671875,"d":"23,020"},{"v":20319,"d":"20,319"},{"v":218978,"d":"218,978"},{"v":3172,"d":"3,172"},{"v":34787.04,"d":"34,787"},0,{"v":167673,"d":"167,673"}]
[1993,{"v":437135.88284776895,"d":"437,136"},{"v":18968.74074074074,"d":"18,969"},{"v":14816.7,"d":"14,817"},{"v":258423,"d":"258,423"},{"v":3689,"d":"3,689"},{"v":40164,"d":"40,164"},0,{"v":170449,"d":"170,449"}]
[1994,{"v":349508.87563697546,"d":"349,509"},{"v":2575.995614035088,"d":"2,576"},{"v":3449.2,"d":"3,449"},{"v":207866,"d":"207,866"},{"v":5767,"d":"5,767"},{"v":35898,"d":"35,898"},0,{"v":145374,"d":"145,374"}]
[1995,{"v":312072.6440570832,"d":"312,073"},{"v":258.0510805500982,"d":"258"},{"v":8391.6,"d":"8,392"},{"v":186643,"d":"186,643"},{"v":6145,"d":"6,145"},{"v":42598,"d":"42,598"},0,{"v":127036,"d":"127,036"}]
[1996,{"v":435690.6854799046,"d":"435,691"},{"v":15157,"d":"15,157"},{"v":11507.3,"d":"11,507"},{"v":271425,"d":"271,425"},{"v":6604,"d":"6,604"},{"v":67056,"d":"67,056"},0,{"v":166833,"d":"166,833"}]
[1997,{"v":504914.51724403206,"d":"504,915"},{"v":7477,"d":"7,477"},{"v":23421.5,"d":"23,422"},{"v":354780,"d":"354,780"},{"v":6400,"d":"6,400"},{"v":73154.6626139248,"d":"73,155"},0,{"v":204186,"d":"204,186"}]
[1998,{"v":363604.0649942275,"d":"363,604"},{"v":3001.8,"d":"3,002"},{"v":15044.8,"d":"15,045"},{"v":244284,"d":"244,284"},{"v":6621,"d":"6,621"},{"v":48482,"d":"48,482"},0,{"v":141362,"d":"141,362"}]
[1999,{"v":437395.65302449587,"d":"437,396"},{"v":6564,"d":"6,564"},{"v":20806.98,"d":"20,807"},{"v":307794,"d":"307,794"},{"v":9095,"d":"9,095"},{"v":79979,"d":"79,979"},0,{"v":142590,"d":"142,590"}]
[2000,{"v":531986.933471171,"d":"531,987"},{"$f":"SUM(C134,C81,C28)","v":{"v":13295.300000000001,"d":"13,295"}},{"v":12240,"d":"12,240"},{"v":398022,"d":"398,022"},{"v":6311,"d":"6,311"},{"v":63151.0658928766,"d":"63,151"},481,{"v":225340,"d":"225,340"}]
[2001,{"v":1135874.4519358715,"d":"1,135,874"},{"v":30916.48,"d":"30,916"},{"v":50063,"d":"50,063"},{"v":851224,"d":"851,224"},{"v":13739.3,"d":"13,739"},{"v":159833.9141734643,"d":"159,834"},{"v":2490,"d":"2,490"},{"v":564663,"d":"564,663"}]
[2002,{"v":1298793.9934375058,"d":"1,298,794"},{"v":57590.6,"d":"57,591"},{"v":70043.9,"d":"70,044"},{"v":857467,"d":"857,467"},{"v":20074.75,"d":"20,075"},{"v":166110.75283269648,"d":"166,111"},{"v":2976,"d":"2,976"},{"v":666275,"d":"666,275"}]
[2003,{"v":1372832,"d":"1,372,832"},{"v":64248,"d":"64,248"},{"v":71555.1,"d":"71,555"},{"v":910700,"d":"910,700"},{"v":16628.3,"d":"16,628"},{"v":147686.47150076248,"d":"147,686"},{"v":2416,"d":"2,416"},{"v":704166,"d":"704,166"}]
[2004,{"v":1273592.6744893948,"d":"1,273,593"},{"v":63047.88,"d":"63,048"},{"v":65945,"d":"65,945"},{"v":843384,"d":"843,384"},{"v":17662.149999999998,"d":"17,662"},{"v":156252.7602743218,"d":"156,253"},{"v":2045,"d":"2,045"},{"v":611778,"d":"611,778"}]
[2005,{"v":830506.2827956988,"d":"830,506"},{"v":38969.854999999996,"d":"38,970"},{"v":50355.5,"d":"50,356"},{"v":568156,"d":"568,156"},{"v":14391.58181818182,"d":"14,392"},{"v":132397,"d":"132,397"},{"v":1232,"d":"1,232"},{"v":412340,"d":"412,340"}]
[2006,{"v":715774.3590679762,"d":"715,774"},{"v":33639.34,"d":"33,639"},{"v":33893.6,"d":"33,894"},{"v":379208,"d":"379,208"},{"v":10963.9,"d":"10,964"},{"v":105626.33767636819,"d":"105,626"},{"v":1556,"d":"1,556"},{"v":320914,"d":"320,914"}]
[2007,{"v":405213.2793194667,"d":"405,213"},{"v":16050.665,"d":"16,051"},{"v":21762.9,"d":"21,763"},{"v":262255,"d":"262,255"},{"v":8938.4,"d":"8,938"},{"v":48283.35430463576,"d":"48,283"},{"v":1364,"d":"1,364"},{"v":199320,"d":"199,320"}]
[2008,{"v":713029.350384936,"d":"713,029"},{"v":38544.957,"d":"38,545"},{"v":43760,"d":"43,760"},{"v":513639,"d":"513,639"},{"v":13290.7,"d":"13,291"},{"v":138102.6285569199,"d":"138,103"},{"v":2049,"d":"2,049"},{"v":337394.58999999997,"d":"337,395"}]
[2009,{"v":690440.6197020665,"d":"690,441"},{"v":43311.998999999996,"d":"43,312"},{"v":46040.9,"d":"46,041"},{"v":468744.27724217856,"d":"468,744"},{"v":12956.1,"d":"12,956"},{"v":126201.74727836676,"d":"126,202"},{"v":1375.01,"d":"1,375"},{"v":340018.5,"d":"340,019"}]
[2010,{"v":1186301.4901803765,"d":"1,186,301"},{"$f":"SUM(C144,C91,C38)","v":{"v":60793.422999999995,"d":"60,793"}},{"v":62805.6,"d":"62,806"},{"v":807891,"d":"807,891"},{"v":23508.959677419356,"d":"23,509"},{"v":198701.756140791,"d":"198,702"},{"v":3585.31,"d":"3,585"},{"v":587272,"d":"587,272"}]
["2011i/",{"v":1004069.1424688505,"d":"1,004,069"},{"v":69331.933,"d":"69,332"},{"v":66140.9,"d":"66,141"},{"v":668232,"d":"668,232"},{"v":20838.825471698114,"d":"20,839"},{"v":173059.7060114171,"d":"173,060"},{"v":1262.88,"d":"1,263"},{"v":473119,"d":"473,119"}]
["2012i/",{"v":865878.5832816063,"d":"865,879"},{"v":57775,"d":"57,775"},{"v":64480.299999999996,"d":"64,480"},{"v":583554,"d":"583,554"},{"v":28480.23559322034,"d":"28,480"},{"v":116431.6236778482,"d":"116,432"},{"v":3424.09,"d":"3,424"},{"v":453916,"d":"453,916"}]
[2013,{"v":1502416.950368061,"d":"1,502,417"},{"v":98718.646,"d":"98,719"},{"v":81833.24414291808,"d":"81,833"},{"v":1129218,"d":"1,129,218"},{"v":51581.90204081633,"d":"51,582"},{"v":268223.01735898777,"d":"268,223"},{"v":3699.96,"d":"3,700"},{"v":776279,"d":"776,279"}]
[2014,{"v":1532536.7490642122,"d":"1,532,537"},{"v":118774.335,"d":"118,774"},{"v":81653.57841270437,"d":"81,654"},{"v":1133398,"d":"1,133,398"},{"v":56241.20135135135,"d":"56,241"},{"v":327129.03622808063,"d":"327,129"},{"v":3760.52,"d":"3,761"},{"v":741725,"d":"741,725"}]
[2015,{"v":1841282.87968228,"d":"1,841,283"},{"v":107460.413,"d":"107,460"},{"v":111588.65,"d":"111,589"},{"v":1324277,"d":"1,324,277"},{"v":58799.65,"d":"58,800"},{"v":353030.5407407407,"d":"353,031"},{"v":10751.89,"d":"10,752"},{"v":946879,"d":"946,879"}]
[2016,{"v":1001158.5,"d":"1,001,159"},{"v":70527.297,"d":"70,527"},{"v":61867,"d":"61,867"},{"v":696759,"d":"696,759"},{"v":34876.8,"d":"34,877"},{"v":174939,"d":"174,939"},{"v":4233.85,"d":"4,234"},{"v":519624,"d":"519,624"}]
[2017,{"v":745266.9,"d":"745,267"},{"v":29054,"d":"29,054"},{"v":66770.9,"d":"66,771"},{"v":509783,"d":"509,783"},{"v":21169.5,"d":"21,170"},{"v":141845,"d":"141,845"},{"v":1770.84,"d":"1,771"},{"v":336163,"d":"336,163"}]
[2018,{"v":495090.8,"d":"495,091"},{"v":13134,"d":"13,134"},{"v":31166.8,"d":"31,167"},{"v":334471,"d":"334,471"},{"v":18342.2,"d":"18,342"},{"v":76388,"d":"76,388"},{"v":1335.81,"d":"1,336"},{"v":256413,"d":"256,413"}]
[2019,{"v":509572,"d":"509,572"},{"v":10491,"d":"10,491"},{"v":23195,"d":"23,195"},{"v":384147,"d":"384,147"},{"v":20896,"d":"20,896"},{"v":76902,"d":"76,902"},{"v":1442,"d":"1,442"},{"v":300077,"d":"300,077"}]
[2020,{"v":775672.45,"d":"775,672"},{"$f":"SUM(C154,C101,C48)","v":{"v":34254,"d":"34,254"}},{"v":41525.45,"d":"41,525"},{"v":547253,"d":"547,253"},{"v":25660.9,"d":"25,661"},{"v":120830,"d":"120,830"},{"v":1772,"d":"1,772"},{"v":397979,"d":"397,979"}]
[2021,{"v":682073.7,"d":"682,074"},{"v":28552,"d":"28,552"},{"v":48666.7,"d":"48,667"},{"v":472555,"d":"472,555"},{"v":24126,"d":"24,126"},{"v":85787,"d":"85,787"},{"v":1656,"d":"1,656"},{"v":369890,"d":"369,890"}]
[2022,{"v":1043609,"d":"1,043,609"},{"v":37313,"d":"37,313"},{"v":60704.8,"d":"60,705"},{"v":767418,"d":"767,418"},{"v":29016,"d":"29,016"},{"v":213624,"d":"213,624"},{"v":1230,"d":"1,230"},{"v":512729,"d":"512,729"}]
[2023,{"$f":"SUM(B157,B104,B51)","v":{"v":982870,"d":"982,870"}},{"v":41259,"d":"41,259"},{"v":57466,"d":"57,466"},{"v":729373,"d":"729,373"},{"v":27338,"d":"27,338"},{"v":175843,"d":"175,843"},{"v":1852,"d":"1,852"},{"v":443710,"d":"443,710"}]
["2024e/",{"v":896270,"d":"896,270"},"NA","NA","NA","NA","NA",{"v":1376,"d":"1,376"},"NA"]
["a/  As reported in Appendix B tables.  Spring Chinook data in tables B-12 and B-13, Summer Chinook data in B-14, Fall Chinook data in Tables B-15-19.  "]
["b/ Includes lower river, Willamette, and upriver spring Chinook, which also includes Snake River summer Chinook.  Excludes Select Area spring Chinook."]
["c/ Upper Columbia Summer Chinook destined for areas upstream of the Snake River. "]
["d/ Includes LRH,LRW,SCH,MCB and URB stocks.  Excludes Select Area Brights (SAB)."]
["e/ Preliminary."]
[]
[]
[]
[]
[]
["TABLE B-20.  Estimates of minimum inriver run size and catch in numbers of adult spring, summer, and fall Chinook from the Columbia Rivera/.  (Page 1 of 3)"]
[null,"Minimum Columbia R. Return","Lower River Catch",null,null,"Above Bonneville Catch",null,null,"Minimum escapement (natural and hatchery)"]
["Year or Ave.",null,"Non-Indian  Commercial",null,"Bonneville Dam Count",null," Treaty Indian","Non-Treaty Tribal"]
[{"$nulls":3},"Sport",null,"Sport"]
["Spring Chinookb/"]
["1981-1985",{"$f":"AVERAGE(B9:B13)","v":{"v":163659.96685187434,"d":"163,660"}},{"$f":"AVERAGE(C9:C13)","v":{"v":8385.766851874332,"d":"8,386"}},{"v":2232.6,"d":"2,233"},{"v":68341.6,"d":"68,342"},"-",{"v":3569.4,"d":"3,569"},"-",{"v":59410.26666666668,"d":"59,410"}]
["1986-1990",{"$f":"AVERAGE(B14:B18)","v":{"v":232000.5930222956,"d":"232,001"}},{"$f":"AVERAGE(C14:C18)","v":{"v":14358.249376990338,"d":"14,358"}},{"v":5685.4,"d":"5,685"},{"v":104433.2,"d":"104,433"},"-",{"v":6957.2,"d":"6,957"},"-",{"v":76913,"d":"76,913"}]
["1991-1995",{"$f":"AVERAGE(B19:B23)","v":{"v":149241,"d":"149,241"}},{"$f":"AVERAGE(C19:C23)","v":{"v":4190.847224503125,"d":"4,191"}},{"v":3010.2,"d":"3,010"},{"v":62183,"d":"62,183"},"-",{"v":3745,"d":"3,745"},"-",{"v":46546.8,"d":"46,547"}]
["1996-2000",{"$f":"AVERAGE(B24:B28)","v":{"v":145344.4,"d":"145,344"}},{"$f":"AVERAGE(C24:C28)","v":{"v":490.43999999999994,"d":"490"}},{"v":95.636,"d":"96"},{"v":90675.4,"d":"90,675"},"-",{"v":5359,"d":"5,359"},"-",{"v":49380.2,"d":"49,380"}]
["2001-2005",{"$f":"AVERAGE(B29:B33)","v":{"v":406690.2,"d":"406,690"}},{"$f":"AVERAGE(C29:C33)","v":{"v":10020.666999999998,"d":"10,021"}},{"v":20633.780000000002,"d":"20,634"},{"v":249739.8,"d":"249,740"},{"v":2330.5600000000004,"d":"2,331"},{"v":26036.6,"d":"26,037"},{"$f":"AVERAGE(H29:H33)","v":30},{"v":166657.6,"d":"166,658"}]
["2006-2010",{"$f":"AVERAGE(B34:B38)","v":{"v":256666.6,"d":"256,667"}},{"$f":"AVERAGE(C34:C38)","v":{"v":6489.076800000001,"d":"6,489"}},{"v":16181.440000000002,"d":"16,181"},{"v":156751.8,"d":"156,752"},{"v":2614.5,"d":"2,615"},{"v":18294.8,"d":"18,295"},{"v":2.6,"d":"3"},{"v":108884.4,"d":"108,884"}]
[2011,{"$f":"B39","v":{"v":319763,"d":"319,763"}},{"v":6229.933000000001,"d":"6,230"},{"v":12005.9,"d":"12,006"},{"v":205431,"d":"205,431"},{"v":4516.2,"d":"4,516"},{"v":15533,"d":"15,533"},0,{"v":141176,"d":"141,176"}]
[2012,{"$f":"B40","v":{"v":295232,"d":"295,232"}},{"v":7121,"d":"7,121"},{"v":14121.599999999999,"d":"14,122"},{"v":186448,"d":"186,448"},{"v":3597.3,"d":"3,597"},{"v":17701,"d":"17,701"},1,{"v":131984,"d":"131,984"}]
[2013,{"v":189865,"d":"189,865"},{"v":3652.646,"d":"3,653"},{"v":7140.5,"d":"7,141"},{"v":112934,"d":"112,934"},{"v":1412.5,"d":"1,413"},{"v":9282,"d":"9,282"},8,{"v":84648,"d":"84,648"}]
[2014,{"v":311641,"d":"311,641"},{"v":5398.335,"d":"5,398"},{"v":16271.5,"d":"16,272"},{"v":224946,"d":"224,946"},{"v":5627,"d":"5,627"},{"v":24703,"d":"24,703"},37,{"v":145854,"d":"145,854"}]
[2015,{"v":420388,"d":"420,388"},{"v":9467.413,"d":"9,467"},{"v":19955,"d":"19,955"},{"v":265558,"d":"265,558"},{"v":3101.1,"d":"3,101"},{"v":31181,"d":"31,181"},58,{"v":205381,"d":"205,381"}]
[2016,{"v":275792,"d":"275,792"},{"v":4708.2970000000005,"d":"4,708"},{"v":12766.5,"d":"12,767"},{"v":172614,"d":"172,614"},{"v":2480.4,"d":"2,480"},{"v":17066,"d":"17,066"},35,{"v":124730,"d":"124,730"}]
[2017,{"v":211880.9,"d":"211,881"},{"v":2383,"d":"2,383"},{"v":8997.9,"d":"8,998"},{"v":107524,"d":"107,524"},{"v":83.5,"d":"84"},{"v":8109,"d":"8,109"},35,{"v":70179,"d":"70,179"}]
[2018,{"v":177823.8,"d":"177,824"},{"v":1192,"d":"1,192"},{"v":7488.8,"d":"7,489"},{"v":108045,"d":"108,045"},{"v":1345.2000000000003,"d":"1,345"},{"v":10892,"d":"10,892"},0,{"v":65404,"d":"65,404"}]
[2019,{"v":110111,"d":"110,111"},604,{"v":1717,"d":"1,717"},{"v":71235,"d":"71,235"},613,{"v":4702,"d":"4,702"},11,{"v":43675,"d":"43,675"}]
[2020,{"v":143016,"d":"143,016"},398,{"v":1601,"d":"1,601"},{"v":79714,"d":"79,714"},878,{"v":4307,"d":"4,307"},8,{"v":58931,"d":"58,931"}]
[2021,{"v":153984,"d":"153,984"},644,{"v":5499,"d":"5,499"},{"v":87233,"d":"87,233"},{"v":1251,"d":"1,251"},{"v":4446,"d":"4,446"},11,{"v":67617,"d":"67,617"}]
[2022,{"v":287414,"d":"287,414"},{"v":1841,"d":"1,841"},{"v":12423,"d":"12,423"},{"v":173737,"d":"173,737"},{"v":2695,"d":"2,695"},{"v":16307,"d":"16,307"},9,{"v":134934,"d":"134,934"}]
[2023,{"$f":"B51","v":{"v":219265,"d":"219,265"}},{"v":1177,"d":"1,177"},{"v":4474,"d":"4,474"},{"v":136786,"d":"136,786"},{"v":1528,"d":"1,528"},{"v":12240,"d":"12,240"},20,{"v":91328,"d":"91,328"}]
["2024e/",{"v":189559,"d":"189,559"},861,{"v":5597,"d":"5,597"},{"v":111210,"d":"111,210"},{"v":2389,"d":"2,389"},{"v":6765,"d":"6,765"},13,{"v":95656,"d":"95,656"}]
[]
["Summer Chinookc/"]
["1981-1985",{"$f":"AVERAGE(B62:B66)","v":{"v":16709.44604427796,"d":"16,709"}},{"$f":"AVERAGE(C62:C66)","v":{"v":55.23019061942072,"d":"55"}},0,{"v":16654.2,"d":"16,654"},"-",{"v":973.2,"d":"973"},"-",{"v":10009.8,"d":"10,010"}]
["1986-1990",{"$f":"AVERAGE(B67:B71)","v":{"v":21036.184478387157,"d":"21,036"}},{"$f":"AVERAGE(C67:C71)","v":{"v":71.07180947937675,"d":"71"}},{"v":7.76,"d":"8"},{"v":20957.4,"d":"20,957"},"-",{"v":901.6,"d":"902"},"-",{"v":14563,"d":"14,563"}]
["1991-1995",{"$f":"AVERAGE(B72:B76)","v":{"v":12983.67500138356,"d":"12,984"}},{"$f":"AVERAGE(C72:C76)","v":{"v":29.59181424694148,"d":"30"}},{"v":14.860000000000003,"d":"15"},{"v":12939.2,"d":"12,939"},"-",{"v":226.6,"d":"227"},"-",{"v":10747.8,"d":"10,748"}]
["1996-2000",{"$f":"AVERAGE(B77:B81)","v":{"v":17957.440000000002,"d":"17,957"}},{"$f":"AVERAGE(C77:C81)","v":{"v":4.58,"d":"5"}},{"v":28.879999999999995,"d":"29"},{"v":17923.8,"d":"17,924"},"-",{"v":316.6,"d":"317"},{"v":96.2,"d":"96"},{"v":13902.2,"d":"13,902"}]
["2001-2005",{"$f":"AVERAGE(B82:B86)","v":{"v":70287.496,"d":"70,287"}},{"v":610.896,"d":"611"},{"v":1264.3799999999999,"d":"1,264"},{"v":68412,"d":"68,412"},{"v":264.85636363636365,"d":"265"},{"v":4623.6,"d":"4,624"},{"v":2201.8,"d":"2,202"},{"v":66711.2,"d":"66,711"}]
["2006-2010",{"$f":"AVERAGE(B87:B91)","v":{"v":59227.4,"d":"59,227"}},{"$f":"AVERAGE(C87:C91)","v":{"v":2933,"d":"2,933"}},{"v":2871.7599999999998,"d":"2,872"},{"v":53422.6,"d":"53,423"},{"v":518.111935483871,"d":"518"},{"v":11634.4,"d":"11,634"},{"v":1983.264,"d":"1,983"},{"v":43945.8,"d":"43,946"}]
[2011,{"$f":"B92","v":{"v":80574,"d":"80,574"}},{"v":5004,"d":"5,004"},{"v":5576,"d":"5,576"},{"v":69994,"d":"69,994"},{"v":388.6254716981132,"d":"389"},{"v":20645,"d":"20,645"},{"v":1262.88,"d":"1,263"},{"v":44432,"d":"44,432"}]
[2012,{"$f":"B93","v":{"v":58299.7,"d":"58,300"}},{"v":1715,"d":"1,715"},{"v":3280.7,"d":"3,281"},{"v":53304,"d":"53,304"},{"v":295.935593220339,"d":"296"},{"v":7824,"d":"7,824"},{"v":3423.09,"d":"3,423"},{"v":52184,"d":"52,184"}]
[2013,{"$f":"B94","v":{"v":67603.2,"d":"67,603"}},{"v":1987,"d":"1,987"},{"v":2058.2,"d":"2,058"},{"v":63508,"d":"63,508"},{"v":324.4020408163266,"d":"324"},{"v":13397,"d":"13,397"},{"v":3691.96,"d":"3,692"},{"v":68380,"d":"68,380"}]
[2014,{"$f":"B95","v":{"v":78254.45,"d":"78,254"}},{"v":2788,"d":"2,788"},{"v":2385.45,"d":"2,385"},{"v":72871,"d":"72,871"},{"v":453.2013513513514,"d":"453"},{"v":19389,"d":"19,389"},{"v":3723.52,"d":"3,724"},{"v":77982,"d":"77,982"}]
[2015,{"$f":"B96","v":{"v":126881.65,"d":"126,882"}},{"v":4043,"d":"4,043"},{"v":6151.65,"d":"6,152"},{"v":116657,"d":"116,657"},{"v":785.5500000000001,"d":"786"},{"v":37763,"d":"37,763"},{"v":10693.89,"d":"10,694"},{"v":88691,"d":"88,691"}]
[2016,{"$f":"B97","v":{"v":91047.5,"d":"91,048"}},{"v":3050,"d":"3,050"},{"v":3705.5,"d":"3,706"},{"v":84192,"d":"84,192"},{"v":565.4,"d":"565"},{"v":20515,"d":"20,515"},{"v":4198.85,"d":"4,199"},{"v":79253,"d":"79,253"}]
[2017,{"$f":"B98","v":{"v":68204,"d":"68,204"}},47,{"v":3853,"d":"3,853"},{"v":64144,"d":"64,144"},262,{"v":16328,"d":"16,328"},{"v":1735.84,"d":"1,736"},{"v":56265,"d":"56,265"}]
[2018,{"$f":"B99","v":{"v":42120,"d":"42,120"}},24,{"v":1140,"d":"1,140"},{"v":40906,"d":"40,906"},134,{"v":9498,"d":"9,498"},{"v":1335.81,"d":"1,336"},{"v":38816,"d":"38,816"}]
[2019,{"$f":"B100","v":{"v":34556,"d":"34,556"}},23,74,{"v":34472,"d":"34,472"},6,{"v":5637,"d":"5,637"},{"v":1431,"d":"1,431"},{"v":41090,"d":"41,090"}]
[2020,{"$f":"B101","v":{"v":65466.45,"d":"65,466"}},13,{"v":1389.45,"d":"1,389"},{"v":64064,"d":"64,064"},{"v":171.9,"d":"172"},{"v":8410,"d":"8,410"},{"v":1764,"d":"1,764"},{"v":70654,"d":"70,654"}]
[2021,{"$f":"B102","v":{"v":56799.7,"d":"56,800"}},7,{"v":2283.7,"d":"2,284"},{"v":54489,"d":"54,489"},102,{"v":11225,"d":"11,225"},{"v":1645,"d":"1,645"},{"v":52076,"d":"52,076"}]
[2022,{"$f":"B103","v":{"v":78494,"d":"78,494"}},65,{"v":3548.8,"d":"3,549"},{"v":74810,"d":"74,810"},302,{"v":16086,"d":"16,086"},{"v":1221,"d":"1,221"},{"v":64497,"d":"64,497"}]
[2023,{"$f":"B104","v":{"v":54722,"d":"54,722"}},51,{"v":2162,"d":"2,162"},{"v":52439,"d":"52,439"},136,{"v":11002,"d":"11,002"},{"v":1832,"d":"1,832"},{"v":49410,"d":"49,410"}]
["2024e/",{"v":42511,"d":"42,511"},0,899,{"v":41562,"d":"41,562"},122,{"v":6999,"d":"6,999"},{"v":1363,"d":"1,363"},{"v":41142,"d":"41,142"}]
[]
["TABLE B-20.  Estimates of minimum inriver run size and catch in numbers of adult spring, summer, and fall Chinook from the Columbia Rivera/.  (Page 2 of 3)"]
[{"$nulls":8},"Minimum escapement (natural and hatchery)"]
[null,"Minimum Columbia R. Return","Lower River Catch",null,null,"Above Bonneville Catch"]
[" Year or Ave.",null,"Non-Indian  Commercial",null,"Bonneville Dam Count",null," Treaty Indian","Non-Treaty Tribal"]
[{"$nulls":3},"Sport",null,"Sport"]
["Fall Chinookd/"]
["1981-1985",{"$f":"AVERAGE(B115:B119)","v":{"v":306885.6,"d":"306,886"}},{"$f":"AVERAGE(C115:C119)","v":{"v":52511,"d":"52,511"}},{"v":9486,"d":"9,486"},{"v":147840,"d":"147,840"},"NA",{"v":53688.2,"d":"53,688"},{"$f":"H135","v":"NA"},{"v":115122.8699329192,"d":"115,123"}]
["1986-1990",{"$f":"AVERAGE(B120:B124)","v":{"v":601513.0430654583,"d":"601,513"}},{"$f":"AVERAGE(C120:C124)","v":{"v":195448.2,"d":"195,448"}},{"v":34650.2,"d":"34,650"},{"v":257316.6,"d":"257,317"},{"v":2466.6,"d":"2,467"},{"v":123461.9,"d":"123,462"},"NA",{"v":133477.2566328856,"d":"133,477"}]
["1991-1995",{"$f":"AVERAGE(B125:B129)","v":{"v":238127.03915436254,"d":"238,127"}},{"$f":"AVERAGE(C125:C129)","v":{"v":15420.6,"d":"15,421"}},{"v":10672.8,"d":"10,673"},{"v":143952,"d":"143,952"},{"v":4734.6,"d":"4,735"},{"v":38424.468,"d":"38,424"},"NA",{"v":94866,"d":"94,866"}]
["1996-2000",{"$f":"AVERAGE(B130:B134)","v":{"v":291416.53084276617,"d":"291,417"}},{"$f":"AVERAGE(C130:C134)","v":{"v":8604,"d":"8,604"}},{"v":16479.6,"d":"16,480"},{"v":206661.8,"d":"206,662"},{"v":7006.2,"d":"7,006"},{"v":60688.94570136028,"d":"60,689"},"NA",{"v":112779.8,"d":"112,780"}]
["2001-2005",{"$f":"AVERAGE(B135:B139)","v":{"v":705342.1845316942,"d":"705,342"}},{"$f":"AVERAGE(C135:C139)","v":{"v":40323,"d":"40,323"}},{"v":39694.340000000004,"d":"39,694"},{"v":488034.4,"d":"488,034"},{"v":13903.8,"d":"13,904"},{"v":121795.979756249,"d":"121,796"},"NA",{"v":358475.6,"d":"358,476"}]
["2006-2010",{"$f":"AVERAGE(B140:B144)","v":{"v":426257.8197309643,"d":"426,258"}},{"$f":"AVERAGE(C140:C144)","v":{"v":29046,"d":"29,046"}},{"v":22599.4,"d":"22,599"},{"v":276173.0554484357,"d":"276,173"},{"v":10799,"d":"10,799"},{"v":93453.96479141632,"d":"93,454"},"NA",{"v":204153.618,"d":"204,154"}]
[2011,{"$f":"B145","v":{"v":603732.1424688505,"d":"603,732"}},{"v":58098,"d":"58,098"},{"v":48559,"d":"48,559"},{"v":392807,"d":"392,807"},{"v":15934,"d":"15,934"},{"v":136881.7060114171,"d":"136,882"},"NA",{"v":287511,"d":"287,511"}]
[2012,{"$f":"B146","v":{"v":512346.88328160637,"d":"512,347"}},{"v":48939,"d":"48,939"},{"v":47078,"d":"47,078"},{"v":343802,"d":"343,802"},{"v":24587,"d":"24,587"},{"v":90906.6236778482,"d":"90,907"},"NA",{"v":269748,"d":"269,748"}]
[2013,{"$f":"B147","v":{"v":1244948.750368061,"d":"1,244,949"}},{"v":93079,"d":"93,079"},{"v":72634.54414291808,"d":"72,635"},{"v":952776,"d":"952,776"},{"v":49845,"d":"49,845"},{"v":245544.01735898777,"d":"245,544"},"NA",{"v":623251,"d":"623,251"}]
[2014,{"$f":"B148","v":{"v":1142641.2990642122,"d":"1,142,641"}},{"v":110588,"d":"110,588"},{"v":62996.62841270438,"d":"62,997"},{"v":835581,"d":"835,581"},{"v":50161,"d":"50,161"},{"v":283037.03622808063,"d":"283,037"},"NA",{"v":517889,"d":"517,889"}]
[2015,{"$f":"B149","v":{"v":1294013.22968228,"d":"1,294,013"}},{"v":93950,"d":"93,950"},{"v":85482,"d":"85,482"},{"v":942062,"d":"942,062"},{"v":54913,"d":"54,913"},{"v":284086.5407407407,"d":"284,087"},"NA",{"v":652807,"d":"652,807"}]
[2016,{"$f":"B150","v":{"v":634319,"d":"634,319"}},{"v":62769,"d":"62,769"},{"v":45395,"d":"45,395"},{"v":439953,"d":"439,953"},{"v":31831,"d":"31,831"},{"v":137358,"d":"137,358"},"NA",{"v":315641,"d":"315,641"}]
[2017,{"$f":"B151","v":{"v":465182,"d":"465,182"}},{"v":26624,"d":"26,624"},{"v":53920,"d":"53,920"},{"v":338115,"d":"338,115"},{"v":20824,"d":"20,824"},{"v":117408,"d":"117,408"},"NA",{"v":209719,"d":"209,719"}]
[2018,{"$f":"B152","v":{"v":275147,"d":"275,147"}},{"v":11918,"d":"11,918"},{"v":22538,"d":"22,538"},{"v":185520,"d":"185,520"},{"v":16863,"d":"16,863"},{"v":55998,"d":"55,998"},"NA",{"v":152193,"d":"152,193"}]
[2019,{"$f":"B153","v":{"v":364905,"d":"364,905"}},{"v":9864,"d":"9,864"},{"v":21404,"d":"21,404"},{"v":278440,"d":"278,440"},{"v":20277,"d":"20,277"},{"v":66563,"d":"66,563"},"NA",{"v":215312,"d":"215,312"}]
[2020,{"$f":"B154","v":{"v":567190,"d":"567,190"}},{"$f":"C154","v":{"v":33843,"d":"33,843"}},{"v":38535,"d":"38,535"},{"v":403475,"d":"403,475"},{"v":24611,"d":"24,611"},{"v":108113,"d":"108,113"},"NA",{"v":268394,"d":"268,394"}]
[2021,{"$f":"B155","v":{"v":471290,"d":"471,290"}},{"$f":"C155","v":{"v":27901,"d":"27,901"}},{"v":40884,"d":"40,884"},{"v":330833,"d":"330,833"},{"v":22773,"d":"22,773"},{"v":70116,"d":"70,116"},"NA",{"v":250197,"d":"250,197"}]
[2022,{"$f":"B156","v":{"v":677701,"d":"677,701"}},{"$f":"C156","v":{"v":35407,"d":"35,407"}},{"v":44733,"d":"44,733"},{"v":518871,"d":"518,871"},{"v":26019,"d":"26,019"},{"v":181231,"d":"181,231"},"NA",{"v":313298,"d":"313,298"}]
[2023,{"$f":"B157","v":{"v":708883,"d":"708,883"}},{"$f":"C157","v":{"v":40031,"d":"40,031"}},{"v":50830,"d":"50,830"},{"v":540148,"d":"540,148"},{"v":25674,"d":"25,674"},{"v":152601,"d":"152,601"},"NA",{"v":302972,"d":"302,972"}]
["2024e/",{"$f":"B158","v":{"v":664200,"d":"664,200"}},"NA","NA","NA","NA","NA","NA","NA"]
[]
["Total Chinook"]
["1981-1985",{"$f":"AVERAGE(B168:B172)","v":{"v":487255.0128961522,"d":"487,255"}},{"$f":"AVERAGE(C168:C172)","v":{"v":60951.99704249374,"d":"60,952"}},{"v":11718.6,"d":"11,719"},{"v":232835.8,"d":"232,836"},"NA",{"v":58230.8,"d":"58,231"},"NA",{"v":184542.93659958587,"d":"184,543"}]
["1986-1990",{"$f":"AVERAGE(B173:B177)","v":{"v":854549.8205661413,"d":"854,550"}},{"$f":"AVERAGE(C173:C177)","v":{"v":209877.52118646973,"d":"209,878"}},{"v":40343.36,"d":"40,343"},{"v":382707.2,"d":"382,707"},{"v":2466.6,"d":"2,467"},{"v":131320.7,"d":"131,321"},"NA",{"v":224953.2566328856,"d":"224,953"}]
["1991-1995",{"$f":"AVERAGE(B178:B182)","v":{"v":400351.71415574616,"d":"400,352"}},{"$f":"AVERAGE(C178:C182)","v":{"v":19641.039038750067,"d":"19,641"}},{"v":13697.86,"d":"13,698"},{"v":219074.2,"d":"219,074"},{"v":4734.6,"d":"4,735"},{"v":42396.068,"d":"42,396"},"NA",{"v":152160.6,"d":"152,161"}]
["1996-2000",{"$f":"AVERAGE(B183:B187)","v":{"v":454718.3708427662,"d":"454,718"}},{"$f":"AVERAGE(C183:C187)","v":{"v":9099.02,"d":"9,099"}},{"v":16604.116,"d":"16,604"},{"v":315261,"d":"315,261"},{"v":7006.2,"d":"7,006"},{"v":66364.54570136029,"d":"66,365"},{"$f":"AVERAGE(H183:H187)","v":{"v":96.2,"d":"96"}},{"v":176062.2,"d":"176,062"}]
["2001-2005",{"$f":"AVERAGE(B188:B192)","v":{"v":1182319.8805316943,"d":"1,182,320"}},{"$f":"AVERAGE(C188:C192)","v":{"v":50954.563,"d":"50,955"}},{"v":61592.5,"d":"61,593"},{"v":806186.2,"d":"806,186"},{"v":16499.216363636362,"d":"16,499"},{"v":152456.179756249,"d":"152,456"},{"$f":"AVERAGE(H188:H192)","v":{"v":2231.8,"d":"2,232"}},{"v":591844.4,"d":"591,844"}]
["2006-2010",{"$f":"AVERAGE(B193:B197)","v":{"v":742151.8197309644,"d":"742,152"}},{"$f":"AVERAGE(C193:C197)","v":{"v":38468.0768,"d":"38,468"}},{"v":41652.6,"d":"41,653"},{"v":486347.45544843574,"d":"486,347"},{"v":13931.61193548387,"d":"13,932"},{"v":123383.16479141633,"d":"123,383"},{"v":1985.864,"d":"1,986"},{"v":356983.81799999997,"d":"356,984"}]
[2011,{"$f":"B198","v":{"v":1004069.1424688505,"d":"1,004,069"}},{"v":69331.933,"d":"69,332"},{"v":66140.9,"d":"66,141"},{"v":668232,"d":"668,232"},{"v":20838.825471698114,"d":"20,839"},{"v":173059.7060114171,"d":"173,060"},{"v":1262.88,"d":"1,263"},{"v":473119,"d":"473,119"}]
[2012,{"$f":"B199","v":{"v":865878.5832816063,"d":"865,879"}},{"v":57775,"d":"57,775"},{"v":64480.299999999996,"d":"64,480"},{"v":583554,"d":"583,554"},{"v":28480.23559322034,"d":"28,480"},{"v":116431.6236778482,"d":"116,432"},{"v":3424.09,"d":"3,424"},{"v":453916,"d":"453,916"}]
[2013,{"$f":"B200","v":{"v":1502416.950368061,"d":"1,502,417"}},{"v":98718.646,"d":"98,719"},{"v":81833.24414291808,"d":"81,833"},{"v":1129218,"d":"1,129,218"},{"v":51581.90204081633,"d":"51,582"},{"v":268223.01735898777,"d":"268,223"},{"v":3699.96,"d":"3,700"},{"v":776279,"d":"776,279"}]
[2014,{"$f":"B201","v":{"v":1532536.7490642122,"d":"1,532,537"}},{"v":118774.335,"d":"118,774"},{"v":81653.57841270437,"d":"81,654"},{"v":1133398,"d":"1,133,398"},{"v":56241.20135135135,"d":"56,241"},{"v":327129.03622808063,"d":"327,129"},{"v":3760.52,"d":"3,761"},{"v":741725,"d":"741,725"}]
[2015,{"$f":"B202","v":{"v":1841282.87968228,"d":"1,841,283"}},{"v":107460.413,"d":"107,460"},{"v":111588.65,"d":"111,589"},{"v":1324277,"d":"1,324,277"},{"v":58799.65,"d":"58,800"},{"v":353030.5407407407,"d":"353,031"},{"v":10751.89,"d":"10,752"},{"v":946879,"d":"946,879"}]
[2016,{"$f":"B203","v":{"v":1001158.5,"d":"1,001,159"}},{"v":70527.297,"d":"70,527"},{"v":61867,"d":"61,867"},{"v":696759,"d":"696,759"},{"v":34876.8,"d":"34,877"},{"v":174939,"d":"174,939"},{"v":4233.85,"d":"4,234"},{"v":519624,"d":"519,624"}]
[2017,{"$f":"B204","v":{"v":745266.9,"d":"745,267"}},{"$f":"C204","v":{"v":29054,"d":"29,054"}},{"v":66770.9,"d":"66,771"},{"v":509783,"d":"509,783"},{"v":21169.5,"d":"21,170"},{"v":141845,"d":"141,845"},{"v":1770.84,"d":"1,771"},{"v":336163,"d":"336,163"}]
[2018,{"$f":"B205","v":{"v":495090.8,"d":"495,091"}},{"$f":"C205","v":{"v":13134,"d":"13,134"}},{"v":31166.8,"d":"31,167"},{"v":334471,"d":"334,471"},{"v":18342.2,"d":"18,342"},{"v":76388,"d":"76,388"},{"v":1335.81,"d":"1,336"},{"v":256413,"d":"256,413"}]
[2019,{"$f":"B206","v":{"v":509572,"d":"509,572"}},{"$f":"C206","v":{"v":10491,"d":"10,491"}},{"v":23195,"d":"23,195"},{"v":384147,"d":"384,147"},{"v":20896,"d":"20,896"},{"v":76902,"d":"76,902"},{"v":1442,"d":"1,442"},{"v":300077,"d":"300,077"}]
[2020,{"$f":"B207","v":{"v":775672.45,"d":"775,672"}},{"$f":"C207","v":{"v":34254,"d":"34,254"}},{"v":41525.45,"d":"41,525"},{"v":547253,"d":"547,253"},{"v":25660.9,"d":"25,661"},{"v":120830,"d":"120,830"},{"v":1772,"d":"1,772"},{"v":397979,"d":"397,979"}]
[2021,{"$f":"B208","v":{"v":682073.7,"d":"682,074"}},{"$f":"C208","v":{"v":28552,"d":"28,552"}},{"v":48666.7,"d":"48,667"},{"v":472555,"d":"472,555"},{"v":24126,"d":"24,126"},{"v":85787,"d":"85,787"},{"v":1656,"d":"1,656"},{"v":369890,"d":"369,890"}]
[2022,{"$f":"B209","v":{"v":1043609,"d":"1,043,609"}},{"v":37313,"d":"37,313"},{"v":60704.8,"d":"60,705"},{"v":767418,"d":"767,418"},{"v":29016,"d":"29,016"},{"v":213624,"d":"213,624"},{"v":1230,"d":"1,230"},{"v":512729,"d":"512,729"}]
[2023,{"$f":"B210","v":{"v":982870,"d":"982,870"}},{"$f":"C210","v":{"v":41259,"d":"41,259"}},{"v":57466,"d":"57,466"},{"v":729373,"d":"729,373"},{"v":27338,"d":"27,338"},{"v":175843,"d":"175,843"},{"v":1852,"d":"1,852"},{"v":443710,"d":"443,710"}]
["2024e/",{"$f":"B211","v":{"v":896270,"d":"896,270"}},"NA","NA","NA","NA","NA",{"v":1376,"d":"1,376"},"NA"]
[]
["TABLE B-20.  Estimates of minimum inriver run size and catch in numbers of adult spring, summer, and fall Chinook from the Columbia Rivera/.  (Page 3 of 3)"]
[{"$f":"A212","v":"a/  As reported in Appendix B tables.  Spring Chinook data in tables B-12 and B-13, Summer Chinook data in B-14, Fall Chinook data in Tables B-15-19.  "}]
[{"$f":"A213","v":"b/ Includes lower river, Willamette, and upriver spring Chinook, which also includes Snake River summer Chinook.  Excludes Select Area spring Chinook."}]
[{"$f":"A214","v":"c/ Upper Columbia Summer Chinook destined for areas upstream of the Snake River. "}]
[{"$f":"A215","v":"d/ Includes LRH,LRW,SCH,MCB and URB stocks.  Excludes Select Area Brights (SAB)."}]
[{"$f":"A216","v":"e/ Preliminary."}]

{"sheet":"B-21","index":22,"n_rows":113,"n_cols":13,"rows_kept":113,"merged":[[0,0,0,12],[1,3,1,8],[1,10,1,12],[2,1,4,1],[2,3,2,5],[2,7,2,8],[2,10,4,10],[2,11,4,11],[3,0,4,0],[3,4,3,5],[3,8,4,8],[3,12,4,12],[60,0,60,12],[61,0,61,12],[62,0,62,12],[63,0,63,12],[64,0,64,12],[65,0,65,12],[66,0,66,12],[80,0,80,12],[81,3,81,8],[81,10,81,12],[82,1,84,1],[82,3,82,5],[82,7,82,8],[82,10,84,10],[82,11,84,11],[83,0,84,0],[83,4,83,5],[83,8,84,8],[83,12,84,12],[106,0,106,12],[107,0,107,12],[108,0,108,12],[109,0,109,12],[110,0,110,12],[111,0,111,12],[112,0,112,12]]}
["TABLE B-21.  Estimates of minimum inriver run size, catch, and escapement in thousands of adult coho entering the Columbia River.a/"]
[{"$nulls":3},"Below Bonneville Dam",{"$nulls":6},"Above Bonneville Dam"]
[null,"Minimum Inriver Run Size",null,"Lower River Catch",{"$nulls":3},"Lower River Escapement",null,null,"Bonneville Dam Countse/","Mainstem Commercial Treaty Catch"]
["Year or Average",{"$nulls":3},"Recreational",{"$nulls":3},"Tributary Dam Countsd/",{"$nulls":3},"Zone 6 Escapementf/"]
[{"$nulls":3},"Commercial","Buoy 10","Mainstemb/",null,"Hatcheryc/"]
[1971,{"v":544.502,"d":"544.5"},null,{"v":264.311,"d":"264.3"},"-",{"v":17.409000000000002,"d":"17.4"},null,{"v":187.643,"d":"187.6"},9.5,null,{"v":53.817,"d":"53.8"},9.1,26.6]
[1972,{"v":277.84,"d":"277.8"},null,{"v":131.278,"d":"131.3"},"-",{"v":10.091000000000001,"d":"10.1"},null,{"v":91.292,"d":"91.3"},9.5,null,{"v":34.216,"d":"34.2"},9.1,26.6]
[1973,{"v":291.26,"d":"291.3"},null,{"v":183.704,"d":"183.7"},"-",{"v":7.646,"d":"7.6"},null,{"v":68.244,"d":"68.2"},9.5,null,{"v":25.849,"d":"25.8"},9.1,26.6]
[1974,{"v":460.81,"d":"460.8"},null,{"v":260.995,"d":"261.0"},"-",{"v":13.049,"d":"13.0"},null,{"v":152.759,"d":"152.8"},9.5,null,{"v":31.605,"d":"31.6"},9.1,26.6]
[1975,{"v":292.48400000000004,"d":"292.5"},null,{"v":156.636,"d":"156.6"},"-",{"v":10.611,"d":"10.6"},null,{"v":85.41,"d":"85.4"},9.5,null,{"v":32.772,"d":"32.8"},9.1,26.6]
[1976,{"v":336.957,"d":"337.0"},null,{"v":168.39600000000002,"d":"168.4"},"-",{"v":11.092,"d":"11.1"},null,{"v":117.26,"d":"117.3"},3.5,null,{"v":36.666000000000004,"d":"36.7"},{"v":4,"d":"4.0"},32.7]
[1977,{"v":93.832,"d":"93.8"},null,{"v":39.032,"d":"39.0"},"-",{"v":6.226,"d":"6.2"},null,{"v":37.062999999999995,"d":"37.1"},2.2,null,{"v":9.325,"d":"9.3"},{"v":1,"d":"1.0"},8.3]
[1978,{"v":307.499,"d":"307.5"},null,{"v":132.734,"d":"132.7"},"-",{"v":9.741000000000001,"d":"9.7"},null,{"v":131.826,"d":"131.8"},2.9,null,{"v":30.278,"d":"30.3"},3.7,26.6]
[1979,{"v":276.48,"d":"276.5"},null,{"v":127.553,"d":"127.6"},"-",{"v":12.268999999999998,"d":"12.3"},null,{"v":102.60799999999999,"d":"102.6"},4.4,null,{"v":29.612000000000002,"d":"29.6"},3.9,25.7]
[1980,{"v":301.593,"d":"301.6"},null,{"v":150.08,"d":"150.1"},"-",{"v":11.221,"d":"11.2"},null,{"v":122.205,"d":"122.2"},5.1,null,{"v":12.974,"d":"13.0"},0.3,12.7]
[1981,{"v":170.246,"d":"170.2"},null,{"v":59.946,"d":"59.9"},"-",{"v":7.732,"d":"7.7"},null,{"v":77.811,"d":"77.8"},2.8,null,{"v":21.935,"d":"21.9"},1.8,20.1]
[1982,{"v":453.122,"d":"453.1"},null,{"v":201.71200000000002,"d":"201.7"},18.9,{"v":17.656000000000002,"d":"17.7"},null,{"v":154.113,"d":"154.1"},{"v":5,"d":"5.0"},null,{"v":55.815999999999995,"d":"55.8"},4.3,51.5]
[1983,{"v":109.961873,"d":"110.0"},null,{"v":7.117,"d":"7.1"},3.6,{"v":5.272,"d":"5.3"},null,{"v":75.00187299999999,"d":"75.0"},3.3,null,{"v":15.739,"d":"15.7"},0.2,15.5]
[1984,{"v":425.90276199999994,"d":"425.9"},null,{"v":201.51,"d":"201.5"},74.4,{"v":15.658000000000001,"d":"15.7"},null,{"v":102.84576199999998,"d":"102.8"},4.2,null,{"v":27.303,"d":"27.3"},1.6,25.7]
[1985,{"v":367.21196671999996,"d":"367.2"},null,{"v":189.96699999999998,"d":"190.0"},25.4,{"v":10.504,"d":"10.5"},null,{"v":95.25596672,"d":"95.3"},7.5,null,{"v":38.55,"d":"38.6"},5.2,33.4]
[1986,{"v":1578.053,"d":"1578.1"},null,{"v":980.9739999999999,"d":"981.0"},120.4,{"v":24.761,"d":"24.8"},null,{"v":285.084815,"d":"285.1"},8.9,null,{"v":129.0359919052,"d":"129.0"},16.8,112.2]
[1987,324.2,null,{"v":165.223,"d":"165.2"},47.2,{"v":7.001999999999999,"d":"7.0"},null,{"v":66.25878,"d":"66.3"},4.2,null,{"v":26.628,"d":"26.6"},2.3,24.3]
[1988,{"v":686.14,"d":"686.1"},null,{"v":361.549,"d":"361.5"},143.4,{"v":12.278,"d":"12.3"},null,{"v":113.80911105999999,"d":"113.8"},6.9,null,{"v":32.878211556,"d":"32.9"},5.1,27.8]
[1989,{"v":728.685,"d":"728.7"},null,{"v":387.325,"d":"387.3"},81.9,{"v":15.290999999999999,"d":"15.3"},null,{"v":184.319052,"d":"184.3"},6.8,null,{"v":31.168,"d":"31.2"},2.5,28.7]
[1990,{"v":207.983,"d":"208.0"},null,{"v":66.17099999999999,"d":"66.2"},18.5,{"v":10.081999999999999,"d":"10.1"},null,{"v":88.310518,"d":"88.3"},{"v":2,"d":"2.0"},null,{"v":11.627,"d":"11.6"},{"v":1,"d":"1.0"},10.6]
[1991,{"v":981.482,"d":"981.5"},null,{"v":407.482,"d":"407.5"},208.7,{"v":30.448,"d":"30.4"},null,{"v":243.292777,"d":"243.3"},5.5,null,{"v":58.868,"d":"58.9"},6.7,52.2]
[1992,{"v":225.435,"d":"225.4"},null,{"v":54.093,"d":"54.1"},43.1,{"v":9.015,"d":"9.0"},null,{"v":86.96622199999999,"d":"87.0"},5.2,null,{"v":17.753,"d":"17.8"},{"v":1,"d":"1.0"},16.8]
[1993,{"v":117.936,"d":"117.9"},null,{"v":35.606,"d":"35.6"},20.9,{"v":6.854,"d":"6.9"},null,{"v":39.402984,"d":"39.4"},0.8,null,{"v":10.642,"d":"10.6"},0.9,9.7]
[1994,{"v":173.391,"d":"173.4"},null,{"v":60.662000000000006,"d":"60.7"},1.8,{"v":4.298000000000001,"d":"4.3"},null,{"v":78.03845600000001,"d":"78.0"},4.1,null,{"v":20.284,"d":"20.3"},{"v":1,"d":"1.0"},19.3]
[1995,{"v":77.388,"d":"77.4"},null,{"v":21.397,"d":"21.4"},{"v":5,"d":"5.0"},{"v":2.868,"d":"2.9"},null,{"v":32.21356900000001,"d":"32.2"},2.9,null,{"v":10.394,"d":"10.4"},0.3,10.1]
[1996,{"v":117.122,"d":"117.1"},null,{"v":26.156,"d":"26.2"},4.5,{"v":3.805,"d":"3.8"},null,{"v":62.18,"d":"62.2"},{"v":0.5830000000000002,"d":"0.6"},null,{"v":15.737,"d":"15.7"},0.7,{"$f":"K31-L31","v":{"v":15.037,"d":"15.0"}}]
[1997,{"v":156.372,"d":"156.4"},null,{"v":20.446,"d":"20.4"},20.4,{"v":11.636,"d":"11.6"},null,{"v":69.719,"d":"69.7"},{"v":2.8069999999999986,"d":"2.8"},null,{"v":24.181,"d":"24.2"},0.6,{"v":23.581,"d":"23.6"}]
[1998,{"v":175.893,"d":"175.9"},null,{"v":23.044,"d":"23.0"},3.2,{"v":6.693,"d":"6.7"},null,{"v":87.901,"d":"87.9"},{"v":1.276999999999994,"d":"1.3"},null,{"v":46.29,"d":"46.3"},1.5,{"v":44.79,"d":"44.8"}]
[1999,{"v":289.059,"d":"289.1"},null,{"v":79.132,"d":"79.1"},{"v":9,"d":"9.0"},{"v":19.894,"d":"19.9"},null,{"v":124.52099999999999,"d":"124.5"},{"v":1.0079999999999956,"d":"1.0"},null,{"v":40.684,"d":"40.7"},2.3,{"v":38.384,"d":"38.4"}]
[2000,{"v":558.335,"d":"558.3"},null,{"v":168.40300000000002,"d":"168.4"},21.5,{"v":37.733,"d":"37.7"},null,288.6,{"v":6.1569999999999965,"d":"6.2"},null,{"v":85.847,"d":"85.8"},6.3,{"v":79.547,"d":"79.5"}]
[2001,{"v":1128.344,"d":"1128.3"},null,{"v":253.072,"d":"253.1"},{"v":132,"d":"132.0"},{"v":77.95,"d":"78.0"},null,{"v":377.262,"d":"377.3"},{"v":8.196000000000026,"d":"8.2"},null,{"v":259.772,"d":"259.8"},{"v":5.374,"d":"5.4"},{"v":254.398,"d":"254.4"}]
[2002,{"v":535.84,"d":"535.8"},null,{"v":162.953,"d":"163.0"},6.2,{"v":27.398999999999997,"d":"27.4"},null,{"v":211.148,"d":"211.1"},{"v":3.6500000000000057,"d":"3.7"},null,{"v":88.57,"d":"88.6"},{"v":1.649,"d":"1.6"},{"v":86.92099999999999,"d":"86.9"}]
[2003,{"v":713.2139999999999,"d":"713.2"},null,{"v":257.298,"d":"257.3"},54.4,{"v":23.606999999999996,"d":"23.6"},null,{"v":205.378,"d":"205.4"},{"v":11.185999999999993,"d":"11.2"},null,{"v":125.746,"d":"125.7"},{"v":5.762,"d":"5.8"},{"v":119.984,"d":"120.0"}]
[2004,{"v":463.544,"d":"463.5"},null,{"v":119.648,"d":"119.6"},15.2,{"v":13.615,"d":"13.6"},null,{"v":173.462,"d":"173.5"},{"v":5.64800000000001,"d":"5.6"},null,{"v":115.04100000000001,"d":"115.0"},{"v":10.287,"d":"10.3"},{"v":104.754,"d":"104.8"}]
[2005,{"v":354.717,"d":"354.7"},null,{"v":94.78,"d":"94.8"},6.9,{"v":10.478,"d":"10.5"},null,{"v":142.264,"d":"142.3"},{"v":3.2619999999999862,"d":"3.3"},null,{"v":83.305,"d":"83.3"},{"v":4.854,"d":"4.9"},{"v":78.45100000000001,"d":"78.5"}]
[2006,{"v":409.692,"d":"409.7"},null,{"v":63.38,"d":"63.4"},3.7,{"v":16.488,"d":"16.5"},null,{"v":191.085,"d":"191.1"},{"v":9.467000000000013,"d":"9.5"},null,{"v":102.111,"d":"102.1"},{"v":8.051,"d":"8.1"},{"v":94.06,"d":"94.1"}]
[2007,{"v":349.022,"d":"349.0"},null,{"v":40.288000000000004,"d":"40.3"},8.4,{"v":24.21,"d":"24.2"},null,{"v":161.025,"d":"161.0"},{"v":10.471999999999994,"d":"10.5"},null,{"v":92.528,"d":"92.5"},{"v":8.03,"d":"8.0"},{"v":84.498,"d":"84.5"}]
[2008,{"v":520.813,"d":"520.8"},null,{"v":60.38700000000001,"d":"60.4"},{"v":8.573,"d":"8.6"},{"v":43.07899999999999,"d":"43.1"},null,{"v":240.885,"d":"240.9"},{"v":6.158999999999992,"d":"6.2"},null,{"v":135.536,"d":"135.5"},{"v":21.625,"d":"21.6"},{"v":113.911,"d":"113.9"}]
[2009,{"v":760.156,"d":"760.2"},null,{"v":124.22900000000001,"d":"124.2"},{"v":48.126,"d":"48.1"},{"v":40.529,"d":"40.5"},null,{"v":260.447,"d":"260.4"},{"v":32.25400000000002,"d":"32.3"},null,{"v":244.894,"d":"244.9"},{"v":8.901,"d":"8.9"},{"v":235.993,"d":"236.0"}]
[2010,{"v":474.014,"d":"474.0"},null,{"v":76.28699999999999,"d":"76.3"},{"v":7.98,"d":"8.0"},{"v":23.946,"d":"23.9"},null,{"v":189.26,"d":"189.3"},{"v":22.343000000000018,"d":"22.3"},null,{"v":102.673,"d":"102.7"},{"v":7.103,"d":"7.1"},{"v":95.57000000000001,"d":"95.6"}]
[2011,{"v":382.367,"d":"382.4"},null,{"v":62.269,"d":"62.3"},{"v":7.614,"d":"7.6"},{"v":18.008,"d":"18.0"},null,{"v":108.27,"d":"108.3"},8.7,null,{"v":146.494,"d":"146.5"},{"v":33.259,"d":"33.3"},{"$f":"K46-L46","v":{"v":113.235,"d":"113.2"}}]
[2012,159.1,null,17.1,7.4,{"v":4.716,"d":"4.7"},null,{"v":41.942,"d":"41.9"},{"v":9.054,"d":"9.1"},null,{"v":54.963,"d":"55.0"},{"v":6.372,"d":"6.4"},{"$f":"K47-L47","v":{"v":48.591,"d":"48.6"}}]
[2013,{"v":260.408,"d":"260.4"},null,{"v":48.358,"d":"48.4"},{"v":7.62,"d":"7.6"},{"v":10.663999999999998,"d":"10.7"},null,{"v":81.884,"d":"81.9"},{"v":21.632,"d":"21.6"},null,{"v":59.61,"d":"59.6"},8.8,{"v":50.81,"d":"50.8"}]
[2014,{"v":1045.348,"d":"1045.3"},null,{"v":237.294,"d":"237.3"},{"v":57.744,"d":"57.7"},{"v":52.166000000000004,"d":"52.2"},null,{"v":292.198,"d":"292.2"},{"v":32.236,"d":"32.2"},null,{"v":279.733,"d":"279.7"},{"v":39.239,"d":"39.2"},{"v":240.494,"d":"240.5"}]
[2015,{"v":173.659,"d":"173.7"},null,{"v":31.092,"d":"31.1"},{"v":36.92,"d":"36.9"},{"v":7.930000000000001,"d":"7.9"},null,{"v":43.361000000000004,"d":"43.4"},{"v":4.568,"d":"4.6"},null,{"v":37.402,"d":"37.4"},{"v":2.275,"d":"2.3"},{"v":35.127,"d":"35.1"}]
[2016,{"v":210.784,"d":"210.8"},null,{"v":31.433,"d":"31.4"},{"v":9.182,"d":"9.2"},{"v":10.841999999999999,"d":"10.8"},null,{"v":84.276,"d":"84.3"},{"v":4.703,"d":"4.7"},null,{"v":42.02,"d":"42.0"},{"v":5.321,"d":"5.3"},{"v":36.699000000000005,"d":"36.7"}]
[2017,{"v":245.504,"d":"245.5"},null,{"v":37.827,"d":"37.8"},{"v":18.834,"d":"18.8"},{"v":11.098999999999998,"d":"11.1"},null,{"v":59.955000000000005,"d":"60.0"},{"v":12.259,"d":"12.3"},null,{"v":75.936,"d":"75.9"},{"v":7.019,"d":"7.0"},{"$f":"K52-L52","v":{"v":68.917,"d":"68.9"}}]
[2018,{"v":132.579,"d":"132.6"},null,{"v":11.442,"d":"11.4"},{"v":6.761,"d":"6.8"},{"v":3.938,"d":"3.9"},null,{"v":43.875,"d":"43.9"},{"v":5.968,"d":"6.0"},null,{"v":40.889,"d":"40.9"},{"v":3.592,"d":"3.6"},{"$f":"K53-L53","v":{"v":37.297000000000004,"d":"37.3"}}]
[2019,{"v":222.96,"d":"223.0"},null,{"v":21.346,"d":"21.3"},{"v":22.775,"d":"22.8"},{"v":7.815,"d":"7.8"},null,{"v":50.893,"d":"50.9"},{"v":12.277,"d":"12.3"},null,{"v":73.964,"d":"74.0"},{"v":3.928,"d":"3.9"},{"v":70.036,"d":"70.0"}]
[2020,{"v":344.731,"d":"344.7"},null,{"v":45.142,"d":"45.1"},{"v":7.064,"d":"7.1"},{"v":10.767,"d":"10.8"},null,{"v":86.524,"d":"86.5"},{"v":23.695,"d":"23.7"},null,{"v":121.495,"d":"121.5"},{"v":11.913,"d":"11.9"},{"v":109.58200000000001,"d":"109.6"}]
[2021,{"v":668.448,"d":"668.4"},null,{"v":112.07000000000001,"d":"112.1"},{"v":37.031,"d":"37.0"},{"v":23.55,"d":"23.6"},null,{"v":160.804,"d":"160.8"},{"v":35.117,"d":"35.1"},null,{"v":243.603,"d":"243.6"},{"v":23.237,"d":"23.2"},{"v":220.366,"d":"220.4"}]
[2022,{"v":539.742,"d":"539.7"},null,{"v":83.926,"d":"83.9"},{"v":8.847,"d":"8.8"},{"v":17.391,"d":"17.4"},null,{"v":182.235,"d":"182.2"},{"v":31.461,"d":"31.5"},null,{"v":168.086,"d":"168.1"},{"v":9.451,"d":"9.5"},{"$f":"K57-L57","v":{"v":158.63500000000002,"d":"158.6"}}]
[2023,419.5,null,{"v":56.525,"d":"56.5"},{"v":9.832,"d":"9.8"},{"v":20.188,"d":"20.2"},null,{"v":102.874,"d":"102.9"},{"v":53.223,"d":"53.2"},null,{"v":132.192,"d":"132.2"},{"v":17.778,"d":"17.8"},{"v":114.41400000000002,"d":"114.4"}]
["2024g/",{"v":602.62,"d":"602.6"},null,{"v":70.57,"d":"70.6"},{"v":35.201,"d":"35.2"},{"v":23.246,"d":"23.2"},null,{"v":167.009,"d":"167.0"},{"v":71.18,"d":"71.2"},null,{"v":185.222,"d":"185.2"},{"v":11.976,"d":"12.0"},{"$f":"K59-L59","v":{"v":173.246,"d":"173.2"}}]
["GOAL",{"$nulls":6},"Hatchery Production"]
["a/  These numbers match OPI databases.  Adjustments were made to the escapement figures and catches."]
["b/ Mainstem recreational catches listed in this table include tributary catches and catches in the Chinook/Hammond area of 3,195 in 1989, 28 in 1990, and 1,151 in 1991."]
["c/  Includes hatcheries operated by all agencies."]
["d/  Willamette Falls, Clackamas River (North Fork Dam) and Sandy River (Marmot Dam)."]
["e/  Includes additional small adults counted as jacks for 1983-1984 and 1986-1989."]
["f/  Bonneville Dam count minus Zone 6 mainstem commercial treaty Indian harvest."]
["g/  Preliminary."]
{"$rows_empty":13}
["TABLE B-21.  Estimates of minimum inriver run size, catch, and escapement in thousands of adult coho entering the Columbia River.a/ "]
[{"$nulls":3},"Below Bonneville Dam",{"$nulls":6},"Above Bonneville Dam"]
[null,"Minimum Inriver Run Size",null,"Lower River Catch",{"$nulls":3},"Lower River Escapement",null,null,"Bonneville Dam Countse/","Mainstem Commercial Treaty Catch"]
["   Year or   Average",{"$nulls":3},"Recreational",{"$nulls":3},"Tributary Dam Countsd/",{"$nulls":3},"Zone 6 Escapementf/"]
[{"$nulls":3},"Commercial","Buoy 10","Mainstemb/",null,"Hatcheryc/"]
["1981-1985",{"$f":"AVERAGE(B16:B20)","v":{"v":305.28892034399996,"d":"305.3"}},null,{"$f":"AVERAGE(D16:D20)","v":{"v":132.0504,"d":"132.1"}},{"v":30.575000000000003,"d":"30.6"},{"v":11.3644,"d":"11.4"},null,{"v":101.005520344,"d":"101.0"},{"v":4.5600000000000005,"d":"4.6"},null,{"v":31.868599999999997,"d":"31.9"},{"v":2.62,"d":"2.6"},{"v":29.24,"d":"29.2"}]
["1986-1990",{"$f":"AVERAGE(B21:B25)","v":{"v":705.0122,"d":"705.0"}},null,{"$f":"AVERAGE(D21:D25)","v":{"v":392.2484,"d":"392.2"}},{"v":82.28,"d":"82.3"},{"v":13.882799999999998,"d":"13.9"},null,{"v":147.556455212,"d":"147.6"},{"v":5.76,"d":"5.8"},null,{"v":46.26744069224001,"d":"46.3"},{"v":5.540000000000001,"d":"5.5"},{"v":40.72,"d":"40.7"}]
["1991-1995",{"$f":"AVERAGE(B26:B30)","v":{"v":315.1264,"d":"315.1"}},null,{"$f":"AVERAGE(D26:D30)","v":{"v":115.84800000000003,"d":"115.8"}},55.9,{"v":10.6966,"d":"10.7"},null,{"v":95.9828016,"d":"96.0"},3.7,null,{"v":23.5882,"d":"23.6"},{"v":1.98,"d":"2.0"},{"v":21.619999999999997,"d":"21.6"}]
["1996-2000",{"$f":"AVERAGE(B31:B35)","v":{"v":259.35620000000006,"d":"259.4"}},null,{"$f":"AVERAGE(D31:D35)","v":{"v":63.43620000000001,"d":"63.4"}},{"v":11.719999999999999,"d":"11.7"},{"v":15.9522,"d":"16.0"},null,{"v":126.58420000000001,"d":"126.6"},{"v":2.366399999999997,"d":"2.4"},null,{"v":42.547799999999995,"d":"42.5"},{"v":2.28,"d":"2.3"},{"v":40.2678,"d":"40.3"}]
["2001-2005",{"$f":"AVERAGE(B36:B40)","v":{"v":639.1318,"d":"639.1"}},null,{"$f":"AVERAGE(D36:D40)","v":{"v":177.5502,"d":"177.6"}},{"v":42.94,"d":"42.9"},{"v":30.6098,"d":"30.6"},null,{"v":221.9028,"d":"221.9"},{"v":6.388400000000004,"d":"6.4"},null,{"v":134.4868,"d":"134.5"},{"v":5.5852,"d":"5.6"},{"v":128.90159999999997,"d":"128.9"}]
["2006-2010",{"$f":"AVERAGE(B41:B45)","v":{"v":502.73940000000005,"d":"502.7"}},null,{"$f":"AVERAGE(D41:D45)","v":{"v":72.9142,"d":"72.9"}},{"v":15.355800000000002,"d":"15.4"},{"v":29.650399999999998,"d":"29.7"},null,{"v":208.5404,"d":"208.5"},{"v":16.139000000000006,"d":"16.1"},null,{"v":135.5484,"d":"135.5"},{"v":10.742,"d":"10.7"},{"v":124.80640000000001,"d":"124.8"}]
[2011,{"$f":"B46","v":{"v":382.367,"d":"382.4"}},null,{"$f":"D46","v":{"v":62.269,"d":"62.3"}},{"v":7.614,"d":"7.6"},{"v":18.008,"d":"18.0"},null,{"$f":"H46","v":{"v":108.27,"d":"108.3"}},8.7,null,{"$f":"K46","v":{"v":146.494,"d":"146.5"}},{"v":33.259,"d":"33.3"},{"v":113.235,"d":"113.2"}]
[2012,159.1,null,17.1,7.4,{"v":4.716,"d":"4.7"},null,{"v":41.942,"d":"41.9"},{"v":9.054,"d":"9.1"},null,{"v":54.963,"d":"55.0"},{"v":6.372,"d":"6.4"},{"v":48.591,"d":"48.6"}]
[2013,{"v":260.408,"d":"260.4"},null,{"v":48.358,"d":"48.4"},{"v":7.62,"d":"7.6"},{"v":10.663999999999998,"d":"10.7"},null,{"v":81.884,"d":"81.9"},{"v":21.632,"d":"21.6"},null,{"v":59.61,"d":"59.6"},8.8,{"v":50.81,"d":"50.8"}]
[2014,{"v":1045.348,"d":"1,045.3"},null,{"v":237.294,"d":"237.3"},{"v":57.744,"d":"57.7"},{"v":52.166000000000004,"d":"52.2"},null,{"v":292.198,"d":"292.2"},{"v":32.236,"d":"32.2"},null,{"v":279.733,"d":"279.7"},{"v":39.239,"d":"39.2"},{"v":240.494,"d":"240.5"}]
[2015,{"v":173.659,"d":"173.7"},null,{"v":31.092,"d":"31.1"},{"v":36.92,"d":"36.9"},{"v":7.930000000000001,"d":"7.9"},null,{"v":43.361000000000004,"d":"43.4"},{"v":4.568,"d":"4.6"},null,{"v":37.402,"d":"37.4"},{"v":2.275,"d":"2.3"},{"v":35.127,"d":"35.1"}]
[2016,{"v":210.784,"d":"210.8"},null,{"v":31.433,"d":"31.4"},{"v":9.182,"d":"9.2"},{"v":10.841999999999999,"d":"10.8"},null,{"v":84.276,"d":"84.3"},{"v":4.703,"d":"4.7"},null,{"v":42.02,"d":"42.0"},{"v":5.321,"d":"5.3"},{"v":36.699000000000005,"d":"36.7"}]
[2017,{"v":245.504,"d":"245.5"},null,{"v":37.827,"d":"37.8"},{"v":18.834,"d":"18.8"},{"v":11.098999999999998,"d":"11.1"},null,{"v":59.955000000000005,"d":"60.0"},{"v":12.259,"d":"12.3"},null,{"v":75.936,"d":"75.9"},{"v":7.019,"d":"7.0"},{"v":68.917,"d":"68.9"}]
[2018,{"v":132.579,"d":"132.6"},null,{"v":11.442,"d":"11.4"},{"v":6.761,"d":"6.8"},{"v":3.938,"d":"3.9"},null,{"v":43.875,"d":"43.9"},{"v":5.968,"d":"6.0"},null,{"v":40.889,"d":"40.9"},{"v":3.592,"d":"3.6"},{"v":37.297000000000004,"d":"37.3"}]
[2019,{"v":222.96,"d":"223.0"},null,{"v":21.346,"d":"21.3"},{"v":22.775,"d":"22.8"},{"v":7.815,"d":"7.8"},null,{"v":50.893,"d":"50.9"},{"v":12.277,"d":"12.3"},null,{"v":73.964,"d":"74.0"},{"v":3.928,"d":"3.9"},{"v":70.036,"d":"70.0"}]
[2020,{"v":344.731,"d":"344.7"},null,{"v":45.142,"d":"45.1"},{"v":7.064,"d":"7.1"},{"v":10.767,"d":"10.8"},null,{"v":86.524,"d":"86.5"},{"v":23.695,"d":"23.7"},null,{"v":121.495,"d":"121.5"},{"v":11.913,"d":"11.9"},{"v":109.58200000000001,"d":"109.6"}]
[2021,{"v":668.448,"d":"668.4"},null,{"v":112.07000000000001,"d":"112.1"},{"v":37.031,"d":"37.0"},{"v":23.55,"d":"23.6"},null,{"v":160.804,"d":"160.8"},{"v":35.117,"d":"35.1"},null,{"v":243.603,"d":"243.6"},{"v":23.237,"d":"23.2"},{"v":220.366,"d":"220.4"}]
[2022,{"v":539.742,"d":"539.7"},null,{"v":83.926,"d":"83.9"},{"v":8.847,"d":"8.8"},{"v":17.391,"d":"17.4"},null,{"v":182.235,"d":"182.2"},{"v":31.461,"d":"31.5"},null,{"v":168.086,"d":"168.1"},{"v":9.451,"d":"9.5"},{"v":158.63500000000002,"d":"158.6"}]
[2023,{"$f":"B58","v":419.5},null,{"$f":"D58","v":{"v":56.525,"d":"56.5"}},{"v":9.832,"d":"9.8"},{"v":20.188,"d":"20.2"},null,{"$f":"H58","v":{"v":102.874,"d":"102.9"}},{"v":53.223,"d":"53.2"},null,{"$f":"K58","v":{"v":132.192,"d":"132.2"}},{"v":17.778,"d":"17.8"},{"v":114.41400000000002,"d":"114.4"}]
["2024g/",{"v":602.62,"d":"602.6"},null,{"v":70.57,"d":"70.6"},{"v":35.201,"d":"35.2"},{"v":23.246,"d":"23.2"},null,{"v":167.009,"d":"167.0"},{"v":71.18,"d":"71.2"},null,{"v":185.222,"d":"185.2"},{"v":11.976,"d":"12.0"},{"v":173.246,"d":"173.2"}]
["GOAL",{"$nulls":6},"Hatchery Production"]
[{"$f":"A61","v":"a/  These numbers match OPI databases.  Adjustments were made to the escapement figures and catches."}]
["b/ Mainstem recreational catches listed in this table include tributary catches and catches in the Chinook/Hammond area of 3,195 in 1989, 28 in 1990, and 1,151 in 1991."]
["c/  Includes hatcheries operated by all agencies."]
["d/  Willamette Falls, Clackamas River (North Fork Dam) and Sandy River (Marmot Dam)."]
["e/  Includes additional small adults counted as jacks for 1983-1984 and 1986-1989."]
["f/  Bonneville Dam count minus Zone 6 mainstem commercial treaty Indian harvest."]
["g/  Preliminary."]

{"sheet":"B-22","index":23,"n_rows":108,"n_cols":5,"rows_kept":108,"merged":[[1,2,1,3],[46,0,50,4],[51,0,51,4],[52,0,54,4],[55,0,56,4],[57,0,58,4],[59,0,59,4],[71,0,71,4],[72,2,72,3],[94,0,98,4],[99,0,99,4],[100,0,102,4],[103,0,104,4],[105,0,106,4],[107,0,107,4]]}
["TABLE B-22.  Estimated catch and effort in the Buoy 10 fishery.a/  (Page 1 of 1)"]
[null,null,"Catchb/"]
["Year","Angler Trips","Chinook"," Coho","Catch Per Trip"]
[1982,{"v":17336,"d":"17,336"},723,{"v":18857,"d":"18,857"},{"$f":"(C4+D4)/B4","v":{"v":1.1294416243654823,"d":"1.13"}}]
[1983,{"v":7128,"d":"7,128"},604,{"v":3574,"d":"3,574"},{"v":0.5861391694725028,"d":"0.59"}]
[1984,{"v":67365,"d":"67,365"},{"v":12177,"d":"12,177"},{"v":74370,"d":"74,370"},{"v":1.2847472723224227,"d":"1.28"}]
[1985,{"v":32156,"d":"32,156"},{"v":2655,"d":"2,655"},{"v":25387,"d":"25,387"},{"v":0.8720612016419953,"d":"0.87"}]
[1986,{"v":102190,"d":"102,190"},{"v":15600,"d":"15,600"},{"v":120422,"d":"120,422"},{"v":1.3310695762794793,"d":"1.33"}]
[1987,{"v":124594,"d":"124,594"},{"v":42100,"d":"42,100"},{"v":47170,"d":"47,170"},{"v":0.7164871502640576,"d":"0.72"}]
[1988,{"v":186051,"d":"186,051"},{"v":30770,"d":"30,770"},{"v":143417,"d":"143,417"},{"v":0.9362325383900113,"d":"0.94"}]
["1989c/",{"v":160692,"d":"160,692"},{"v":16884,"d":"16,884"},{"v":85110,"d":"85,110"},{"v":0.6347173474721828,"d":"0.63"}]
["1990d/",{"v":79636,"d":"79,636"},{"v":5179,"d":"5,179"},{"v":18429,"d":"18,429"},{"v":0.2964488422321563,"d":"0.30"}]
["1991e/",{"v":171680,"d":"171,680"},{"v":11647,"d":"11,647"},{"v":208638,"d":"208,638"},{"v":1.2831139328984156,"d":"1.28"}]
[1992,{"v":115481,"d":"115,481"},{"v":10655,"d":"10,655"},{"v":43082,"d":"43,082"},{"v":0.46533195936993965,"d":"0.47"}]
[1993,{"v":75774,"d":"75,774"},{"v":5288,"d":"5,288"},{"v":20932,"d":"20,932"},{"v":0.34602898091693723,"d":"0.35"}]
[1994,{"v":9253,"d":"9,253"},0,{"v":1795,"d":"1,795"},{"v":0.1939911380092943,"d":"0.19"}]
[1995,{"v":25186,"d":"25,186"},853,{"v":5026,"d":"5,026"},{"v":0.23342333042166283,"d":"0.23"}]
[1996,{"v":18034,"d":"18,034"},{"v":1409,"d":"1,409"},{"v":4537,"d":"4,537"},{"v":0.32971054674503714,"d":"0.33"}]
[1997,{"v":55725,"d":"55,725"},{"v":13153,"d":"13,153"},{"v":20357,"d":"20,357"},{"v":0.6013458950201884,"d":"0.60"}]
[1998,{"v":29998,"d":"29,998"},{"v":5784,"d":"5,784"},{"v":3175,"d":"3,175"},{"v":0.29865324354956996,"d":"0.30"}]
[1999,{"v":49581,"d":"49,581"},{"v":9850,"d":"9,850"},{"v":8861,"d":"8,861"},{"v":0.37738246505717915,"d":"0.38"}]
[2000,{"v":72518,"d":"72,518"},{"v":6085,"d":"6,085"},{"v":21478,"d":"21,478"},{"v":0.3800849444275904,"d":"0.38"}]
[2001,{"v":125884,"d":"125,884"},{"v":12709,"d":"12,709"},{"v":132038,"d":"132,038"},{"v":1.1498443011026025,"d":"1.15"}]
[2002,{"v":84457,"d":"84,457"},{"v":19441,"d":"19,441"},{"v":6233,"d":"6,233"},{"v":0.3039890121600341,"d":"0.30"}]
[2003,{"v":88827,"d":"88,827"},{"v":16316,"d":"16,316"},{"v":54440,"d":"54,440"},{"v":0.79655960462472,"d":"0.80"}]
[2004,{"v":68818,"d":"68,818"},{"v":16016,"d":"16,016"},{"v":15169,"d":"15,169"},{"v":0.45315179168240866,"d":"0.45"}]
[2005,{"v":55182,"d":"55,182"},{"v":9286,"d":"9,286"},{"v":6877.64817172318,"d":"6,878"},{"v":0.292915229091428,"d":"0.29"}]
[2006,{"v":40688,"d":"40,688"},{"v":1706,"d":"1,706"},{"v":3687,"d":"3,687"},{"v":0.1325452221785293,"d":"0.13"}]
[2007,{"v":36064,"d":"36,064"},{"v":3776,"d":"3,776"},{"v":8356,"d":"8,356"},{"v":0.3364019520851819,"d":"0.34"}]
[2008,{"v":32467,"d":"32,467"},{"v":8349,"d":"8,349"},{"v":8573,"d":"8,573"},{"v":0.5212061477808236,"d":"0.52"}]
[2009,{"v":72803,"d":"72,803"},{"v":5940,"d":"5,940"},{"v":48127,"d":"48,127"},{"v":0.7426479678035246,"d":"0.74"}]
[2010,{"v":52300,"d":"52,300"},{"v":6807,"d":"6,807"},{"v":7980,"d":"7,980"},{"v":0.2827342256214149,"d":"0.28"}]
[2011,{"v":49409,"d":"49,409"},{"v":10919,"d":"10,919"},{"v":7614,"d":"7,614"},{"v":0.37509360642797873,"d":"0.38"}]
[2012,{"v":65070,"d":"65,070"},{"v":18550,"d":"18,550"},{"v":7385,"d":"7,385"},{"v":0.3985707699400646,"d":"0.40"}]
[2013,{"v":65767,"d":"65,767"},{"v":22594,"d":"22,594"},{"v":7620,"d":"7,620"},{"v":0.45940973436525917,"d":"0.46"}]
[2014,{"v":107522,"d":"107,522"},{"v":26788,"d":"26,788"},{"v":57744,"d":"57,744"},{"v":0.7861832927214896,"d":"0.79"}]
[2015,{"v":108319,"d":"108,319"},{"v":36535,"d":"36,535"},{"v":36920,"d":"36,920"},{"v":0.6781358764390365,"d":"0.68"}]
[2016,{"v":94950,"d":"94,950"},{"v":17780,"d":"17,780"},{"v":9182,"d":"9,182"},{"v":0.2839599789362823,"d":"0.28"}]
[2017,{"v":93547,"d":"93,547"},{"v":28398,"d":"28,398"},{"v":18834,"d":"18,834"},{"v":0.5049012795706971,"d":"0.50"}]
[2018,{"v":67318,"d":"67,318"},{"v":11620,"d":"11,620"},{"v":6761,"d":"6,761"},{"v":0.27304732760925754,"d":"0.27"}]
[2019,{"v":76977,"d":"76,977"},{"v":11274,"d":"11,274"},{"v":22775,"d":"22,775"},{"$f":"(C41+D41)/B41","v":{"v":0.44232692882289515,"d":"0.44"}}]
[2020,{"v":72443,"d":"72,443"},{"v":14633,"d":"14,633"},{"v":7064,"d":"7,064"},{"v":0.2995044379719228,"d":"0.30"}]
[2021,{"v":105865,"d":"105,865"},{"v":20789,"d":"20,789"},{"v":37031,"d":"37,031"},{"v":0.546167288527842,"d":"0.55"}]
[2022,{"v":85187,"d":"85,187"},{"v":28355,"d":"28,355"},{"v":8847,"d":"8,847"},{"v":0.4367098266167373,"d":"0.44"}]
[2023,{"v":78179,"d":"78,179"},{"v":18136,"d":"18,136"},{"v":9832,"d":"9,832"},{"v":0.357743127949961,"d":"0.36"}]
["2024f/",{"v":99190,"d":"99,190"},{"v":18102,"d":"18,102"},{"v":35201,"d":"35,201"},{"v":0.537382800685553,"d":"0.54"}]
["a/  Prior to 1982, Buoy 10 area catches were not estimated separately and are included in the Columbia River marine area (Cape Falcon to Leadbetter Pt.) recreational catches.  Estimates include bank anglers fishing from Clatsop Spit in Oregon and from the North Jetty in Washington.  Effort and catch for the North Jetty fishery applied to the ocean quota for the Columbia River area until the ocean fishery closed.  Beginning in 2000, includes catch and effort from the Astoria-Megler Bridge upstream to the new boundary from Tongue Point, Oregon to Rocky Point, Washington."]
[]
[]
[]
[]
["b/  Includes adults and jacks as determined by CWT analysis."]
["c/  1989 includes catch and effort data for the Chinook/Hammond fishery occurring during weeks 32 and 33.  A total of 7,922 angler trips produced catches of 492 Chinook, 3,195 coho, and a catch rate of 0.47 fish per trip.  Catches in this fishery were counted against the Buoy 10 quota."]
[]
[]
["d/  1990 includes catch and effort data for the Chinook/Hammond fishery occurring during weeks 31 and 32.  A total of 3,225 angler trips produced catches of 54 Chinook, 28 coho, and a catch rate of 0.03 fish per trip."]
[]
["e/  1991 includes catch and effort data for the Chinook/Hammond fishery occurring during weeks 31 and 32.  A total of 2,759 angler trips produced catches of 39 Chinook, 1,151 coho, and a catch rate of 0.43 fish per trip."]
[]
["f/  Preliminary."]
{"$rows_empty":11}
["TABLE B-22.  Estimated catch and effort in the Buoy 10 fishery.a/ "]
[null,null,"Catchb/"]
["Year","Angler Trips","Chinook"," Coho","Catch Per Trip"]
["1982-1985",{"$f":"AVERAGE(B4:B7)","v":{"v":30996.25,"d":"30,996"}},{"$f":"AVERAGE(C4:C7)","v":{"v":4039.75,"d":"4,040"}},{"$f":"AVERAGE(D4:D7)","v":{"v":30547,"d":"30,547"}},{"$f":"AVERAGE(E4:E7)","v":{"v":0.9680973169506009,"d":"0.97"}}]
["1986-1990c/d/",{"$f":"AVERAGE(B8:B12)","v":{"v":130632.6,"d":"130,633"}},{"$f":"AVERAGE(C8:C12)","v":{"v":22106.6,"d":"22,107"}},{"$f":"AVERAGE(D8:D12)","v":{"v":82909.6,"d":"82,910"}},{"$f":"AVERAGE(E8:E12)","v":{"v":0.7829910909275775,"d":"0.78"}}]
["1991-1995e/",{"$f":"AVERAGE(B13:B17)","v":{"v":79474.8,"d":"79,475"}},{"$f":"AVERAGE(C13:C17)","v":{"v":5688.6,"d":"5,689"}},{"$f":"AVERAGE(D13:D17)","v":{"v":55894.6,"d":"55,895"}},{"$f":"AVERAGE(E13:E17)","v":{"v":0.5043778683232498,"d":"0.50"}}]
["1996-2000",{"$f":"AVERAGE(B18:B22)","v":{"v":45171.2,"d":"45,171"}},{"$f":"AVERAGE(C18:C22)","v":{"v":7256.2,"d":"7,256"}},{"$f":"AVERAGE(D18:D22)","v":{"v":11681.6,"d":"11,682"}},{"$f":"AVERAGE(E18:E22)","v":{"v":0.397435418959913,"d":"0.40"}}]
["2001-2005",{"$f":"AVERAGE(B23:B27)","v":{"v":84633.6,"d":"84,634"}},{"$f":"AVERAGE(C23:C27)","v":{"v":14753.6,"d":"14,754"}},{"$f":"AVERAGE(D23:D27)","v":{"v":42951.52963434464,"d":"42,952"}},{"$f":"AVERAGE(E23:E27)","v":{"v":0.5992919877322386,"d":"0.60"}}]
["2006-2010",{"$f":"AVERAGE(B28:B32)","v":{"v":46864.4,"d":"46,864"}},{"$f":"AVERAGE(C28:C32)","v":{"v":5315.6,"d":"5,316"}},{"v":15344.6,"d":"15,345"},{"v":0.4031071030938949,"d":"0.40"}]
[2011,{"$f":"B33","v":{"v":49409,"d":"49,409"}},{"v":10919,"d":"10,919"},{"v":7614,"d":"7,614"},{"v":0.37509360642797873,"d":"0.38"}]
[2012,{"v":65070,"d":"65,070"},{"v":18550,"d":"18,550"},{"v":7385,"d":"7,385"},{"v":0.3985707699400646,"d":"0.40"}]
[2013,{"v":65767,"d":"65,767"},{"v":22594,"d":"22,594"},{"v":7620,"d":"7,620"},{"v":0.45940973436525917,"d":"0.46"}]
[2014,{"v":107522,"d":"107,522"},{"v":26788,"d":"26,788"},{"v":57744,"d":"57,744"},{"v":0.7861832927214896,"d":"0.79"}]
[2015,{"v":108319,"d":"108,319"},{"v":36535,"d":"36,535"},{"v":36920,"d":"36,920"},{"v":0.6781358764390365,"d":"0.68"}]
[2016,{"v":94950,"d":"94,950"},{"v":17780,"d":"17,780"},{"v":9182,"d":"9,182"},{"v":0.2839599789362823,"d":"0.28"}]
[2017,{"v":93547,"d":"93,547"},{"v":28398,"d":"28,398"},{"v":18834,"d":"18,834"},{"v":0.5049012795706971,"d":"0.50"}]
[2018,{"v":67318,"d":"67,318"},{"v":11620,"d":"11,620"},{"v":6761,"d":"6,761"},{"v":0.27304732760925754,"d":"0.27"}]
[2019,{"v":76977,"d":"76,977"},{"v":11274,"d":"11,274"},{"v":22775,"d":"22,775"},{"v":0.44232692882289515,"d":"0.44"}]
[2020,{"v":72443,"d":"72,443"},{"v":14633,"d":"14,633"},{"v":7064,"d":"7,064"},{"v":0.2995044379719228,"d":"0.30"}]
[2021,{"v":105865,"d":"105,865"},{"v":20789,"d":"20,789"},{"v":37031,"d":"37,031"},{"v":0.546167288527842,"d":"0.55"}]
[2022,{"v":85187,"d":"85,187"},{"v":28355,"d":"28,355"},{"v":8847,"d":"8,847"},{"v":0.4367098266167373,"d":"0.44"}]
[2023,{"$f":"B45","v":{"v":78179,"d":"78,179"}},{"v":18136,"d":"18,136"},{"v":9832,"d":"9,832"},{"v":0.357743127949961,"d":"0.36"}]
["2024f/",{"v":99190,"d":"99,190"},{"v":18102,"d":"18,102"},{"v":35201,"d":"35,201"},{"v":0.537382800685553,"d":"0.54"}]
[{"$f":"A47","v":"a/  Prior to 1982, Buoy 10 area catches were not estimated separately and are included in the Columbia River marine area (Cape Falcon to Leadbetter Pt.) recreational catches.  Estimates include bank anglers fishing from Clatsop Spit in Oregon and from the North Jetty in Washington.  Effort and catch for the North Jetty fishery applied to the ocean quota for the Columbia River area until the ocean fishery closed.  Beginning in 2000, includes catch and effort from the Astoria-Megler Bridge upstream to the new boundary from Tongue Point, Oregon to Rocky Point, Washington."}]
[]
[]
[]
[]
[{"$f":"A52","v":"b/  Includes adults and jacks as determined by CWT analysis."}]
[{"$f":"A53","v":"c/  1989 includes catch and effort data for the Chinook/Hammond fishery occurring during weeks 32 and 33.  A total of 7,922 angler trips produced catches of 492 Chinook, 3,195 coho, and a catch rate of 0.47 fish per trip.  Catches in this fishery were counted against the Buoy 10 quota."}]
[]
[]
[{"$f":"A56","v":"d/  1990 includes catch and effort data for the Chinook/Hammond fishery occurring during weeks 31 and 32.  A total of 3,225 angler trips produced catches of 54 Chinook, 28 coho, and a catch rate of 0.03 fish per trip."}]
[]
[{"$f":"A58","v":"e/  1991 includes catch and effort data for the Chinook/Hammond fishery occurring during weeks 31 and 32.  A total of 2,759 angler trips produced catches of 39 Chinook, 1,151 coho, and a catch rate of 0.43 fish per trip."}]
[]
[{"$f":"A60","v":"f/  Preliminary."}]

{"sheet":"B-23","index":24,"n_rows":106,"n_cols":8,"rows_kept":106,"merged":[[0,0,0,7],[1,0,2,0],[1,1,2,1],[1,2,1,3],[1,5,1,6],[1,7,2,7],[53,0,53,7],[54,0,54,7],[55,0,55,7],[56,0,56,7],[58,0,58,7],[59,0,59,7],[60,0,60,7],[74,0,74,7],[75,0,76,0],[75,1,76,1],[75,2,75,3],[75,5,75,6],[75,7,76,7],[98,0,98,7],[99,0,99,7],[100,0,100,7],[101,0,101,7],[102,0,102,7],[103,0,103,7],[104,0,104,7],[105,0,105,7],[106,0,106,7],[107,0,107,7]]}
["TABLE B-23.  Willapa Bay fall Chinook terminal run size, catch, and spawning escapement in numbers of fish. (Page 1 of 1)"]
["Year or Average","Non-local Stocks Gillnet Catcha/","Terminal Catch",null,null,"Spawning Escapement",null,"Terminal  Run  Sized/"]
[null,null,"Gillnet","Sportb/d",null,"Naturalc/","Hatchery"]
[1976,{"v":8823,"d":"8,823"},{"v":20195,"d":"20,195"},334,null,{"v":2582,"d":"2,582"},{"v":3204,"d":"3,204"},{"v":22924,"d":"22,924"}]
[1977,{"v":9618,"d":"9,618"},{"v":21736,"d":"21,736"},518,null,644,{"v":6079,"d":"6,079"},{"v":21045,"d":"21,045"}]
[1978,{"v":2130,"d":"2,130"},{"v":9250,"d":"9,250"},588,null,{"v":3463,"d":"3,463"},{"v":4140,"d":"4,140"},{"v":18154,"d":"18,154"}]
[1979,{"v":3289,"d":"3,289"},{"v":14673,"d":"14,673"},394,null,{"v":1846,"d":"1,846"},{"v":4147,"d":"4,147"},{"v":20832,"d":"20,832"}]
[1980,{"v":6553,"d":"6,553"},{"v":17770,"d":"17,770"},259,null,{"v":1442,"d":"1,442"},{"v":5075,"d":"5,075"},{"v":24240,"d":"24,240"}]
[1981,{"v":2607,"d":"2,607"},{"v":14306,"d":"14,306"},313,null,{"v":1050,"d":"1,050"},{"v":3231,"d":"3,231"},{"v":18033,"d":"18,033"}]
[1982,355,{"v":9215,"d":"9,215"},650,null,{"v":1040,"d":"1,040"},{"v":4092,"d":"4,092"},{"v":14440,"d":"14,440"}]
[1983,89,{"v":2358,"d":"2,358"},883,null,{"v":2119,"d":"2,119"},{"v":5113,"d":"5,113"},{"v":10461,"d":"10,461"}]
[1984,148,{"v":3911,"d":"3,911"},222,null,{"v":2076,"d":"2,076"},{"v":7830,"d":"7,830"},{"v":13759,"d":"13,759"}]
[1985,162,{"v":8587,"d":"8,587"},876,null,{"v":1657,"d":"1,657"},{"v":6723,"d":"6,723"},{"v":17839,"d":"17,839"}]
[1986,620,{"v":6978,"d":"6,978"},993,null,{"v":3469,"d":"3,469"},{"v":8536,"d":"8,536"},{"v":20043,"d":"20,043"}]
[1987,531,{"v":7554,"d":"7,554"},{"v":1203,"d":"1,203"},null,{"v":5208,"d":"5,208"},{"v":22384,"d":"22,384"},{"v":36337,"d":"36,337"}]
[1988,{"v":4929,"d":"4,929"},{"v":33640,"d":"33,640"},{"v":2630,"d":"2,630"},null,{"v":7900,"d":"7,900"},{"v":27558,"d":"27,558"},{"v":70809,"d":"70,809"}]
[1989,{"v":3004,"d":"3,004"},{"v":25223,"d":"25,223"},{"v":1990,"d":"1,990"},null,{"v":7034,"d":"7,034"},{"v":36957,"d":"36,957"},{"v":70604,"d":"70,604"}]
[1990,{"v":1750,"d":"1,750"},{"v":19020,"d":"19,020"},{"v":1076,"d":"1,076"},null,{"v":4268,"d":"4,268"},{"v":16853,"d":"16,853"},{"v":41233,"d":"41,233"}]
[1991,{"v":1619,"d":"1,619"},{"v":25697,"d":"25,697"},{"v":1932,"d":"1,932"},null,{"v":2996,"d":"2,996"},{"v":16053,"d":"16,053"},{"$f":"SUM(C19:G19)","v":{"v":46678,"d":"46,678"}}]
[1992,{"v":1147,"d":"1,147"},{"v":36758,"d":"36,758"},{"v":2190,"d":"2,190"},null,{"v":3730,"d":"3,730"},{"v":21505,"d":"21,505"},{"v":64183,"d":"64,183"}]
[1993,598,{"v":31199,"d":"31,199"},{"v":4252,"d":"4,252"},null,{"v":3034,"d":"3,034"},{"v":16214,"d":"16,214"},{"v":54699,"d":"54,699"}]
[1994,"-",{"v":22130,"d":"22,130"},{"v":2839,"d":"2,839"},null,{"v":1485,"d":"1,485"},{"v":14434,"d":"14,434"},{"v":40888,"d":"40,888"}]
[1995,"-",{"v":25476,"d":"25,476"},{"v":2903,"d":"2,903"},null,{"v":2852,"d":"2,852"},{"v":17226,"d":"17,226"},{"v":48457,"d":"48,457"}]
[1996,"-",{"v":36983,"d":"36,983"},{"v":3024,"d":"3,024"},null,{"v":2153,"d":"2,153"},{"v":12079,"d":"12,079"},{"v":54239,"d":"54,239"}]
[1997,"-",{"v":12309,"d":"12,309"},{"v":2404,"d":"2,404"},null,{"v":3891,"d":"3,891"},{"v":13729,"d":"13,729"},{"v":32333,"d":"32,333"}]
[1998,"-",{"v":6765,"d":"6,765"},{"v":2178,"d":"2,178"},null,{"v":3114,"d":"3,114"},{"v":4677,"d":"4,677"},{"v":16734,"d":"16,734"}]
[1999,"-",265,{"v":1906,"d":"1,906"},null,{"v":1360,"d":"1,360"},{"v":4900,"d":"4,900"},{"v":8431,"d":"8,431"}]
[2000,"-",{"v":5922,"d":"5,922"},{"v":1399,"d":"1,399"},null,{"v":2303,"d":"2,303"},{"v":10455,"d":"10,455"},{"v":20079,"d":"20,079"}]
[2001,"-",{"v":5459,"d":"5,459"},{"v":2121,"d":"2,121"},null,{"v":2161,"d":"2,161"},{"v":10099,"d":"10,099"},{"v":19840,"d":"19,840"}]
[2002,26,{"v":9286,"d":"9,286"},{"v":2543,"d":"2,543"},null,{"v":1729,"d":"1,729"},{"v":13680,"d":"13,680"},{"v":27238,"d":"27,238"}]
[2003,125,{"v":7574,"d":"7,574"},{"v":3242,"d":"3,242"},null,{"v":2732,"d":"2,732"},{"v":14628,"d":"14,628"},{"v":28176,"d":"28,176"}]
[2004,"-",{"v":4349,"d":"4,349"},{"v":3889,"d":"3,889"},null,{"v":2838,"d":"2,838"},{"v":21444,"d":"21,444"},{"v":32520,"d":"32,520"}]
[2005,"-",{"v":6354,"d":"6,354"},{"v":4820,"d":"4,820"},null,{"v":1978,"d":"1,978"},{"v":18088,"d":"18,088"},{"v":31240,"d":"31,240"}]
[2006,"-",{"v":12318,"d":"12,318"},{"v":5551,"d":"5,551"},null,{"v":3739,"d":"3,739"},{"v":24209,"d":"24,209"},{"v":45817,"d":"45,817"}]
[2007,"-",{"v":4108,"d":"4,108"},{"v":2579,"d":"2,579"},null,{"v":1907,"d":"1,907"},{"v":13400,"d":"13,400"},{"v":21994,"d":"21,994"}]
[2008,"-",{"v":3595,"d":"3,595"},{"v":2988,"d":"2,988"},null,{"v":1544,"d":"1,544"},{"v":14891,"d":"14,891"},{"v":23018,"d":"23,018"}]
[2009,"-",{"v":6929,"d":"6,929"},{"v":4623,"d":"4,623"},null,{"v":2345,"d":"2,345"},{"v":19831,"d":"19,831"},{"v":33728,"d":"33,728"}]
["2010e/",81,{"v":8032,"d":"8,032"},{"v":3309,"d":"3,309"},null,{"v":4499,"d":"4,499"},{"v":21565,"d":"21,565"},{"v":37405,"d":"37,405"}]
["2011e/",778,{"v":18129,"d":"18,129"},{"v":8348,"d":"8,348"},null,{"v":3811,"d":"3,811"},{"v":21838,"d":"21,838"},{"v":52126,"d":"52,126"}]
["2012e/",932,{"v":8762,"d":"8,762"},{"v":5933,"d":"5,933"},null,{"v":2677,"d":"2,677"},{"v":14134,"d":"14,134"},{"v":31506,"d":"31,506"}]
["2013e/",{"v":1080,"d":"1,080"},{"v":12886,"d":"12,886"},{"v":5815,"d":"5,815"},null,{"v":1904,"d":"1,904"},{"v":14483,"d":"14,483"},{"v":35088,"d":"35,088"}]
["2014e",{"v":1178,"d":"1,178"},{"v":12838,"d":"12,838"},{"v":7368,"d":"7,368"},null,{"v":2075,"d":"2,075"},{"v":18367,"d":"18,367"},{"v":40648,"d":"40,648"}]
["2015e/",{"v":1159,"d":"1,159"},{"v":3681,"d":"3,681"},{"v":12146,"d":"12,146"},null,{"v":2824,"d":"2,824"},{"v":26584,"d":"26,584"},{"v":45235,"d":"45,235"}]
["2016e/",713,{"v":2429,"d":"2,429"},{"v":7870,"d":"7,870"},null,{"v":1888,"d":"1,888"},{"v":12897,"d":"12,897"},{"v":25084,"d":"25,084"}]
["2017e/",405,{"v":2537,"d":"2,537"},{"v":6950,"d":"6,950"},null,{"v":3147,"d":"3,147"},{"v":19937,"d":"19,937"},{"v":32571,"d":"32,571"}]
["2018e/",347,{"v":1187,"d":"1,187"},{"v":4648,"d":"4,648"},null,{"v":2847,"d":"2,847"},{"v":18265,"d":"18,265"},{"v":26947,"d":"26,947"}]
["2019e/",247,{"v":1299,"d":"1,299"},{"v":3878,"d":"3,878"},null,{"v":2894,"d":"2,894"},{"v":13349,"d":"13,349"},{"v":21421,"d":"21,421"}]
["2020e/",100,646,{"v":3803,"d":"3,803"},null,{"v":3585,"d":"3,585"},{"v":29798,"d":"29,798"},{"v":37832,"d":"37,832"}]
["2021e/",506,{"v":3552,"d":"3,552"},{"v":5852,"d":"5,852"},null,{"v":2966,"d":"2,966"},{"v":24411,"d":"24,411"},{"v":36781,"d":"36,781"}]
["2022e/",356,{"v":2049,"d":"2,049"},{"v":1962,"d":"1,962"},null,{"v":2351,"d":"2,351"},{"v":14280,"d":"14,280"},{"v":20642,"d":"20,642"}]
["2023e/f/",208,{"v":1394,"d":"1,394"},{"v":2776,"d":"2,776"},null,{"v":2095,"d":"2,095"},{"v":16564,"d":"16,564"},{"v":22829,"d":"22,829"}]
["2024e/f/",498,{"v":2822,"d":"2,822"},"NA",null,"NA ","NA","NA"]
["GOAL",{"$nulls":4},"3,393g/","9,800h/"]
["a/  Non-local gillnet is catch prior to Aug. 16. In 2010-13, 42% were considered non-local. In 2014, 28% were non-local based on genetic data samples.  Since 2015, non-local  stock contribution based on genetic sampling throughout the duration of the commercial fishery."]
["b/  Adults.  Sport catch since 1991 includes marine areas within Willapa Bay (e.g., Washaway Beach)."]
["c/  Escapement estimates after 1984 are based on revised spawning habitat estimates.  Natural = adult returns assumed to be from natural origin parents."]
["d/  Does not include catch of non-local stocks."]
["e/  To calculate total gillnet catch, combine Non-local Stocks Gillnet Catch (column 1) and Terminal Catch Gillnet (column 2)."]
["f/  Preliminary."]
["g/  MSY spawning escapement objective established in FMP Amendment 16; WDFW goal is 4,353."]
["h/  WDFW goal; not an FMP goal."]
{"$rows_empty":13}
["TABLE B-23.  Willapa Bay fall Chinook terminal run size, catch, and spawning escapement in numbers of fish. "]
["Year or Average","Non-local Stocks Gillnet Catcha/","Terminal Catch",null,null,"Spawning Escapement",null,"Terminal  Run  Sized/"]
[null,null,"Gillnet","Sportb/d",null,"Naturalc/","Hatchery"]
["1981-1985",{"$f":"AVERAGE(B9:B13)","v":{"v":672.2,"d":"672"}},{"$f":"AVERAGE(C9:C13)","v":{"v":7675.4,"d":"7,675"}},{"$f":"AVERAGE(D9:D13)","v":{"v":588.8,"d":"589"}},null,{"$f":"AVERAGE(F9:F13)","v":{"v":1588.4,"d":"1,588"}},{"$f":"AVERAGE(G9:G13)","v":{"v":5397.8,"d":"5,398"}},{"$f":"AVERAGE(H9:H13)","v":{"v":14906.4,"d":"14,906"}}]
["1986-1990",{"$f":"AVERAGE(B14:B18)","v":{"v":2166.8,"d":"2,167"}},{"$f":"AVERAGE(C14:C18)","v":{"v":18483,"d":"18,483"}},{"$f":"AVERAGE(D14:D18)","v":{"v":1578.4,"d":"1,578"}},null,{"$f":"AVERAGE(F14:F18)","v":{"v":5575.8,"d":"5,576"}},{"$f":"AVERAGE(G14:G18)","v":{"v":22457.6,"d":"22,458"}},{"$f":"AVERAGE(H14:H18)","v":{"v":47805.2,"d":"47,805"}}]
["1991-1995",{"$f":"AVERAGE(B19:B23)","v":{"v":1121.3333333333333,"d":"1,121"}},{"$f":"AVERAGE(C19:C23)","v":{"v":28252,"d":"28,252"}},{"$f":"AVERAGE(D19:D23)","v":{"v":2823.2,"d":"2,823"}},null,{"$f":"AVERAGE(F19:F23)","v":{"v":2819.4,"d":"2,819"}},{"$f":"AVERAGE(G19:G23)","v":{"v":17086.4,"d":"17,086"}},{"$f":"AVERAGE(H19:H23)","v":{"v":50981,"d":"50,981"}}]
["1996-2000","-",{"$f":"AVERAGE(C24:C28)","v":{"v":12448.8,"d":"12,449"}},{"$f":"AVERAGE(D24:D28)","v":{"v":2182.2,"d":"2,182"}},null,{"$f":"AVERAGE(F24:F28)","v":{"v":2564.2,"d":"2,564"}},{"$f":"AVERAGE(G24:G28)","v":{"v":9168,"d":"9,168"}},{"$f":"AVERAGE(H24:H28)","v":{"v":26363.2,"d":"26,363"}}]
["2001-2005",{"$f":"AVERAGE(B29:B33)","v":{"v":75.5,"d":"76"}},{"$f":"AVERAGE(C29:C33)","v":{"v":6604.4,"d":"6,604"}},{"$f":"AVERAGE(D29:D33)","v":{"v":3323,"d":"3,323"}},null,{"$f":"AVERAGE(F29:F33)","v":{"v":2287.6,"d":"2,288"}},{"$f":"AVERAGE(G29:G33)","v":{"v":15587.8,"d":"15,588"}},{"$f":"AVERAGE(H29:H33)","v":{"v":27802.8,"d":"27,803"}}]
["2006-2010e/",{"$f":"AVERAGE(B34:B38)","v":81},{"$f":"AVERAGE(C34:C38)","v":{"v":6996.4,"d":"6,996"}},{"v":3810,"d":"3,810"},null,{"v":2806.8,"d":"2,807"},{"v":18779.2,"d":"18,779"},{"v":32392.4,"d":"32,392"}]
["2011e/",{"$f":"B39","v":778},{"v":18129,"d":"18,129"},{"v":8348,"d":"8,348"},null,{"$f":"F39","v":{"v":3811,"d":"3,811"}},{"v":21838,"d":"21,838"},{"v":52126,"d":"52,126"}]
["2012e/",932,{"v":8762,"d":"8,762"},{"v":5933,"d":"5,933"},null,{"v":2677,"d":"2,677"},{"v":14134,"d":"14,134"},{"v":31506,"d":"31,506"}]
["2013e/",{"v":1080,"d":"1,080"},{"v":12886,"d":"12,886"},{"v":5815,"d":"5,815"},null,{"v":1904,"d":"1,904"},{"v":14483,"d":"14,483"},{"v":35088,"d":"35,088"}]
["2014e",{"v":1178,"d":"1,178"},{"v":12838,"d":"12,838"},{"v":7368,"d":"7,368"},null,{"v":2075,"d":"2,075"},{"v":18367,"d":"18,367"},{"v":40648,"d":"40,648"}]
["2015e/",{"v":1159,"d":"1,159"},{"v":3681,"d":"3,681"},{"v":12146,"d":"12,146"},null,{"v":2824,"d":"2,824"},{"v":26584,"d":"26,584"},{"v":45235,"d":"45,235"}]
["2016e/",713,{"v":2429,"d":"2,429"},{"v":7870,"d":"7,870"},null,{"v":1888,"d":"1,888"},{"v":12897,"d":"12,897"},{"v":25084,"d":"25,084"}]
["2017e/",405,{"v":2537,"d":"2,537"},{"v":6950,"d":"6,950"},null,{"v":3147,"d":"3,147"},{"v":19937,"d":"19,937"},{"v":32571,"d":"32,571"}]
["2018e/",347,{"v":1187,"d":"1,187"},{"v":4648,"d":"4,648"},null,{"v":2847,"d":"2,847"},{"v":18265,"d":"18,265"},{"v":26947,"d":"26,947"}]
["2019e/",247,{"v":1299,"d":"1,299"},{"v":3878,"d":"3,878"},null,{"v":2894,"d":"2,894"},{"v":13349,"d":"13,349"},{"v":21421,"d":"21,421"}]
["2020e/",100,646,{"v":3803,"d":"3,803"},null,{"v":3585,"d":"3,585"},{"v":29798,"d":"29,798"},{"v":37832,"d":"37,832"}]
["2021e/",506,{"v":3552,"d":"3,552"},{"v":5852,"d":"5,852"},null,{"v":2966,"d":"2,966"},{"v":24411,"d":"24,411"},{"v":36781,"d":"36,781"}]
["2022e/",356,{"v":2049,"d":"2,049"},{"v":1962,"d":"1,962"},null,{"v":2351,"d":"2,351"},{"v":14280,"d":"14,280"},{"v":20642,"d":"20,642"}]
["2023e/f/",{"$f":"B51","v":208},{"v":1394,"d":"1,394"},{"v":2776,"d":"2,776"},null,{"$f":"F51","v":{"v":2095,"d":"2,095"}},{"v":16564,"d":"16,564"},{"v":22829,"d":"22,829"}]
["2024e/f/",498,{"v":2822,"d":"2,822"},"NA",null,"NA ","NA","NA"]
["GOAL",{"$nulls":4},"3,393g/","9,800h/"]
[{"$f":"A54","v":"a/  Non-local gillnet is catch prior to Aug. 16. In 2010-13, 42% were considered non-local. In 2014, 28% were non-local based on genetic data samples.  Since 2015, non-local  stock contribution based on genetic sampling throughout the duration of the commercial fishery."}]
[{"$f":"A55","v":"b/  Adults.  Sport catch since 1991 includes marine areas within Willapa Bay (e.g., Washaway Beach)."}]
["c/  Escapement estimates after 1984 are based on revised spawning habitat estimates.  Natural = adult returns assumed to be from natural origin parents."]
["d/  Does not include catch of non-local stocks."]
["e/  To calculate total gillnet catch, combine Non-local Stocks Gillnet Catch (column 1) and Terminal Catch Gillnet (column 2)."]
["f/  Preliminary."]
["g/  MSY spawning escapement objective established in FMP Amendment 16; WDFW goal is 4,353."]
["h/  WDFW goal; not an FMP goal."]

{"sheet":"B-24","index":25,"n_rows":112,"n_cols":9,"rows_kept":112,"merged":[[0,0,0,6],[1,1,1,2],[1,4,1,5],[1,6,2,6],[53,0,53,6],[54,0,55,6],[56,0,56,6],[57,0,57,6],[58,0,58,6],[59,0,59,6],[80,0,80,6],[81,1,81,2],[81,4,81,5],[81,6,82,6],[105,0,105,6],[106,0,107,6],[108,0,108,6],[109,0,109,6],[110,0,110,6],[111,0,111,6]]}
["TABLE B-24.  Willapa Bay coho terminal run size, catch, and spawning escapement in numbers of fish."]
[null,"Terminal Catch",null,null,"Spawning Escapement",null,"Terminal Run Sized/"]
["Year or Average","Gillnet","Sporta/",null,"Naturalb/","Hatcheryc/"]
[1976,{"v":9021,"d":"9,021"},{"v":2842,"d":"2,842"},null,{"v":5800,"d":"5,800"},{"v":12000,"d":"12,000"},{"$f":"SUM(B4:F4)","v":{"v":29663,"d":"29,663"}}]
[1977,{"v":3066,"d":"3,066"},{"v":2842,"d":"2,842"},null,{"v":5800,"d":"5,800"},{"v":12000,"d":"12,000"},{"v":23708,"d":"23,708"}]
[1978,{"v":7002,"d":"7,002"},{"v":2842,"d":"2,842"},null,{"v":5800,"d":"5,800"},{"v":12000,"d":"12,000"},{"v":27644,"d":"27,644"}]
[1979,{"v":31059,"d":"31,059"},{"v":4842,"d":"4,842"},null,{"v":5800,"d":"5,800"},{"v":23566,"d":"23,566"},{"v":65267,"d":"65,267"}]
[1980,{"v":25008,"d":"25,008"},843,null,{"v":5800,"d":"5,800"},{"v":12072,"d":"12,072"},{"v":43723,"d":"43,723"}]
[1981,{"v":29967,"d":"29,967"},683,null,{"v":3567,"d":"3,567"},{"v":22875,"d":"22,875"},{"v":57092,"d":"57,092"}]
[1982,{"v":70020,"d":"70,020"},{"v":3840,"d":"3,840"},null,{"v":3567,"d":"3,567"},{"v":33414,"d":"33,414"},{"v":110841,"d":"110,841"}]
[1983,{"v":9020,"d":"9,020"},{"v":2144,"d":"2,144"},null,{"v":3567,"d":"3,567"},{"v":18598,"d":"18,598"},{"v":33329,"d":"33,329"}]
[1984,{"v":50676,"d":"50,676"},{"v":2719,"d":"2,719"},null,"NA",{"v":33419,"d":"33,419"},{"v":86814,"d":"86,814"}]
[1985,{"v":35353,"d":"35,353"},{"v":1517,"d":"1,517"},null,"NA",{"v":24896,"d":"24,896"},{"v":61766,"d":"61,766"}]
[1986,{"v":117301,"d":"117,301"},{"v":5690,"d":"5,690"},null,"NA",{"v":71438,"d":"71,438"},{"v":194429,"d":"194,429"}]
[1987,{"v":62092,"d":"62,092"},{"v":2017,"d":"2,017"},null,"NA",{"v":22977,"d":"22,977"},{"v":87086,"d":"87,086"}]
[1988,{"v":49236,"d":"49,236"},{"v":2373,"d":"2,373"},null,"NA",{"v":30067,"d":"30,067"},{"v":81676,"d":"81,676"}]
[1989,{"v":68242,"d":"68,242"},{"v":1738,"d":"1,738"},null,"NA",{"v":30894,"d":"30,894"},{"v":100874,"d":"100,874"}]
[1990,{"v":47974,"d":"47,974"},{"v":1139,"d":"1,139"},null,"NA",{"v":23678,"d":"23,678"},{"v":72791,"d":"72,791"}]
[1991,{"v":95552,"d":"95,552"},{"v":6258,"d":"6,258"},null,"NA",{"v":62338,"d":"62,338"},{"v":164148,"d":"164,148"}]
[1992,{"v":10767,"d":"10,767"},{"v":2031,"d":"2,031"},null,"NA",{"v":15443,"d":"15,443"},{"v":28241,"d":"28,241"}]
[1993,{"v":19837,"d":"19,837"},{"v":1620,"d":"1,620"},null,"NA",{"v":11976,"d":"11,976"},{"v":33433,"d":"33,433"}]
[1994,{"v":11613,"d":"11,613"},{"v":2358,"d":"2,358"},null,"NA",{"v":15798,"d":"15,798"},{"v":29769,"d":"29,769"}]
[1995,{"v":33505,"d":"33,505"},{"v":1743,"d":"1,743"},null,{"v":4582,"d":"4,582"},{"v":30471,"d":"30,471"},{"v":70301,"d":"70,301"}]
[1996,{"v":38322,"d":"38,322"},{"v":4052,"d":"4,052"},null,{"v":41535,"d":"41,535"},{"v":48895,"d":"48,895"},{"v":132804,"d":"132,804"}]
[1997,{"v":1526,"d":"1,526"},806,null,{"v":7813,"d":"7,813"},{"v":6399,"d":"6,399"},{"v":16544,"d":"16,544"}]
[1998,{"v":13141,"d":"13,141"},852,null,{"v":15775,"d":"15,775"},{"v":6785,"d":"6,785"},{"v":36553,"d":"36,553"}]
[1999,{"v":5467,"d":"5,467"},{"v":2836,"d":"2,836"},null,{"v":14032,"d":"14,032"},{"v":22711,"d":"22,711"},{"v":45046,"d":"45,046"}]
[2000,{"v":10326,"d":"10,326"},{"v":1780,"d":"1,780"},null,{"v":26679,"d":"26,679"},{"v":27865,"d":"27,865"},{"v":66650,"d":"66,650"}]
[2001,{"v":31913,"d":"31,913"},{"v":5707,"d":"5,707"},null,{"v":56166,"d":"56,166"},{"v":53547,"d":"53,547"},{"v":147333,"d":"147,333"}]
[2002,{"v":59435,"d":"59,435"},{"v":5678,"d":"5,678"},null,{"v":66438,"d":"66,438"},{"v":54794,"d":"54,794"},{"v":186345,"d":"186,345"}]
[2003,{"v":66470,"d":"66,470"},{"v":5835,"d":"5,835"},null,{"v":55943,"d":"55,943"},{"v":68762,"d":"68,762"},{"v":197010,"d":"197,010"}]
[2004,{"v":16533,"d":"16,533"},{"v":2361,"d":"2,361"},null,{"v":44463,"d":"44,463"},{"v":21171,"d":"21,171"},{"v":84528,"d":"84,528"}]
[2005,{"v":48929,"d":"48,929"},{"v":3892,"d":"3,892"},null,{"v":32558,"d":"32,558"},{"v":47582,"d":"47,582"},{"v":132961,"d":"132,961"}]
[2006,{"v":19948,"d":"19,948"},811,null,{"v":14301,"d":"14,301"},{"v":7437,"d":"7,437"},{"v":42497,"d":"42,497"}]
[2007,{"v":8189,"d":"8,189"},955,null,{"v":18310,"d":"18,310"},{"v":10345,"d":"10,345"},{"v":37799,"d":"37,799"}]
[2008,{"v":16692,"d":"16,692"},{"v":1227,"d":"1,227"},null,{"v":18561,"d":"18,561"},{"v":10832,"d":"10,832"},{"v":47312,"d":"47,312"}]
[2009,{"v":75095,"d":"75,095"},{"v":6461,"d":"6,461"},null,{"v":50650,"d":"50,650"},{"v":21759,"d":"21,759"},{"v":153965,"d":"153,965"}]
[2010,{"v":28901,"d":"28,901"},{"v":5053,"d":"5,053"},null,{"v":84564.42857142858,"d":"84,564"},{"v":34387,"d":"34,387"},{"v":152906,"d":"152,906"}]
[2011,{"v":47985,"d":"47,985"},{"v":5717,"d":"5,717"},null,{"v":31737,"d":"31,737"},{"v":22022,"d":"22,022"},{"v":107461,"d":"107,461"}]
[2012,{"v":25783,"d":"25,783"},{"v":5052,"d":"5,052"},null,{"v":20412,"d":"20,412"},{"v":14609,"d":"14,609"},{"v":65856,"d":"65,856"}]
[2013,{"v":11560,"d":"11,560"},{"v":4225,"d":"4,225"},null,{"v":26302.999999999996,"d":"26,303"},{"v":13490,"d":"13,490"},{"v":55578,"d":"55,578"}]
[2014,{"v":77475,"d":"77,475"},{"v":21221,"d":"21,221"},null,{"v":59569,"d":"59,569"},{"v":83059,"d":"83,059"},{"v":241324,"d":"241,324"}]
[2015,{"v":1926,"d":"1,926"},{"v":11106,"d":"11,106"},null,{"v":17086,"d":"17,086"},{"v":21296,"d":"21,296"},{"v":51414,"d":"51,414"}]
[2016,{"v":19324,"d":"19,324"},{"v":5239,"d":"5,239"},null,{"v":30667,"d":"30,667"},{"v":21866,"d":"21,866"},{"v":77096,"d":"77,096"}]
[2017,{"v":4615,"d":"4,615"},{"v":3200,"d":"3,200"},null,{"v":11379,"d":"11,379"},{"v":6743,"d":"6,743"},{"v":25937,"d":"25,937"}]
[2018,{"v":7253,"d":"7,253"},{"v":2191,"d":"2,191"},null,{"v":17228,"d":"17,228"},{"v":13971,"d":"13,971"},{"v":40643,"d":"40,643"}]
[2019,{"v":8200,"d":"8,200"},{"v":3947,"d":"3,947"},null,{"v":15115,"d":"15,115"},{"v":23992,"d":"23,992"},{"v":51254,"d":"51,254"}]
[2020,{"v":15260,"d":"15,260"},{"v":3687,"d":"3,687"},null,{"v":16476,"d":"16,476"},{"v":38587,"d":"38,587"},{"v":74010,"d":"74,010"}]
[2021,{"v":24386,"d":"24,386"},{"v":4005,"d":"4,005"},null,{"v":31369,"d":"31,369"},{"v":49163,"d":"49,163"},{"v":108923,"d":"108,923"}]
[2022,{"v":47193,"d":"47,193"},{"v":6696,"d":"6,696"},null,{"v":24197,"d":"24,197"},{"v":67557,"d":"67,557"},{"v":145643,"d":"145,643"}]
["2023e/",{"v":16638,"d":"16,638"},{"v":3910,"d":"3,910"},null,{"v":18693,"d":"18,693"},{"v":29569,"d":"29,569"},{"v":68810,"d":"68,810"}]
["2024e/",{"v":26171,"d":"26,171"},"NA",null,"NA","NA","NA"]
["  GOAL",{"$nulls":3},"17,200f/","6,100f/"]
["a/  Adults.  Sport catch since 1991 includes marine areas within Williapa Bay (e.g., Washaway Beach)."]
["b/  Natural spawning escapement estimates were not made in 1984-1994; estimates in 1996, 1997, and 1998 do not include adult fish released upstream of hatchery racks.  Estimates from 1996 to present include both wild and naturally spawing hatchery fish."]
[]
["c/  Hatchery rack number includes fish released upstream until 2009."]
["d/  Does not include natural spawning escapement between 1984 and 1994."]
["e/  Preliminary."]
["f/  Willapa Bay coho were added to the FMP in 2011; the STT finalized the new FMP goal for use beginning in 2016."]
{"$rows_empty":20}
["TABLE B-24.  Willapa Bay coho terminal run size, catch, and spawning escapement in numbers of fish.  "]
[null,"Terminal Catch",null,null,"Spawning Escapement",null,"Terminal Run Sized/"]
["Year or Average","Gillnet","Sporta/",null,"Naturalb/","Hatcheryc/"]
["1976-1980",{"$f":"AVERAGE(B4:B8)","v":{"v":15031.2,"d":"15,031"}},{"$f":"AVERAGE(C4:C8)","v":{"v":2842.2,"d":"2,842"}},null,{"$f":"AVERAGE(E4:E8)","v":{"v":5800,"d":"5,800"}},{"$f":"AVERAGE(F4:F8)","v":{"v":14327.6,"d":"14,328"}},{"$f":"AVERAGE(G4:G8)","v":{"v":38001,"d":"38,001"}}]
["1981-1985",{"$f":"AVERAGE(B9:B13)","v":{"v":39007.2,"d":"39,007"}},{"$f":"AVERAGE(C9:C13)","v":{"v":2180.6,"d":"2,181"}},null,{"v":3567,"d":"3,567"},{"$f":"AVERAGE(F9:F13)","v":{"v":26640.4,"d":"26,640"}},{"$f":"AVERAGE(G9:G13)","v":{"v":69968.4,"d":"69,968"}}]
["1986-1990",{"$f":"AVERAGE(B14:B18)","v":{"v":68969,"d":"68,969"}},{"$f":"AVERAGE(C14:C18)","v":{"v":2591.4,"d":"2,591"}},null,"NA",{"$f":"AVERAGE(F14:F18)","v":{"v":35810.8,"d":"35,811"}},{"$f":"AVERAGE(G14:G18)","v":{"v":107371.2,"d":"107,371"}}]
["1991-1995",{"$f":"AVERAGE(B19:B23)","v":{"v":34254.8,"d":"34,255"}},{"$f":"AVERAGE(C19:C23)","v":{"v":2802,"d":"2,802"}},null,{"v":4582,"d":"4,582"},{"$f":"AVERAGE(F19:F23)","v":{"v":27205.2,"d":"27,205"}},{"$f":"AVERAGE(G19:G23)","v":{"v":65178.4,"d":"65,178"}}]
["1996-2000",{"$f":"AVERAGE(B24:B28)","v":{"v":13756.4,"d":"13,756"}},{"$f":"AVERAGE(C24:C28)","v":{"v":2065.2,"d":"2,065"}},null,{"v":21166.8,"d":"21,167"},{"v":22531,"d":"22,531"},{"v":59519.4,"d":"59,519"}]
["2001-2005",{"$f":"AVERAGE(B29:B33)","v":{"v":44656,"d":"44,656"}},{"$f":"AVERAGE(C29:C33)","v":{"v":4694.6,"d":"4,695"}},null,{"v":51113.6,"d":"51,114"},{"v":49171.2,"d":"49,171"},{"v":149635.4,"d":"149,635"}]
["2005-2010",{"$f":"AVERAGE(B34:B38)","v":{"v":29765,"d":"29,765"}},{"$f":"AVERAGE(C34:C38)","v":{"v":2901.4,"d":"2,901"}},null,{"v":37277.28571428572,"d":"37,277"},{"v":16952,"d":"16,952"},{"v":86895.8,"d":"86,896"}]
[2011,{"$f":"B39","v":{"v":47985,"d":"47,985"}},{"v":5717,"d":"5,717"},null,{"$f":"E39","v":{"v":31737,"d":"31,737"}},{"v":22022,"d":"22,022"},{"v":107461,"d":"107,461"}]
[2012,{"v":25783,"d":"25,783"},{"v":5052,"d":"5,052"},null,{"v":20412,"d":"20,412"},{"v":14609,"d":"14,609"},{"v":65856,"d":"65,856"}]
[2013,{"v":11560,"d":"11,560"},{"v":4225,"d":"4,225"},null,{"v":26302.999999999996,"d":"26,303"},{"v":13490,"d":"13,490"},{"v":55578,"d":"55,578"}]
[2014,{"v":77475,"d":"77,475"},{"v":21221,"d":"21,221"},null,{"v":59569,"d":"59,569"},{"v":83059,"d":"83,059"},{"v":241324,"d":"241,324"}]
[2015,{"v":1926,"d":"1,926"},{"v":11106,"d":"11,106"},null,{"v":17086,"d":"17,086"},{"v":21296,"d":"21,296"},{"v":51414,"d":"51,414"}]
[2016,{"v":19324,"d":"19,324"},{"v":5239,"d":"5,239"},null,{"v":30667,"d":"30,667"},{"v":21866,"d":"21,866"},{"v":77096,"d":"77,096"}]
[2017,{"v":4615,"d":"4,615"},{"v":3200,"d":"3,200"},null,{"v":11379,"d":"11,379"},{"v":6743,"d":"6,743"},{"v":25937,"d":"25,937"}]
[2018,{"v":7253,"d":"7,253"},{"v":2191,"d":"2,191"},null,{"v":17228,"d":"17,228"},{"v":13971,"d":"13,971"},{"v":40643,"d":"40,643"}]
[2019,{"v":8200,"d":"8,200"},{"v":3947,"d":"3,947"},null,{"v":15115,"d":"15,115"},{"v":23992,"d":"23,992"},{"v":51254,"d":"51,254"}]
[2020,{"v":15260,"d":"15,260"},{"v":3687,"d":"3,687"},null,{"v":16476,"d":"16,476"},{"v":38587,"d":"38,587"},{"v":74010,"d":"74,010"}]
[2021,{"v":24386,"d":"24,386"},{"v":4005,"d":"4,005"},null,{"v":31369,"d":"31,369"},{"v":49163,"d":"49,163"},{"v":108923,"d":"108,923"}]
[2022,{"v":47193,"d":"47,193"},{"v":6696,"d":"6,696"},null,{"v":24197,"d":"24,197"},{"v":67557,"d":"67,557"},{"v":145643,"d":"145,643"}]
["2023e/",{"$f":"B51","v":{"v":16638,"d":"16,638"}},{"v":3910,"d":"3,910"},null,{"$f":"E51","v":{"v":18693,"d":"18,693"}},{"$f":"F51","v":{"v":29569,"d":"29,569"}},{"v":68810,"d":"68,810"}]
["2024e/",{"v":26171,"d":"26,171"},"NA",null,{"$f":"E52","v":"NA"},"NA","NA"]
["  GOAL",{"$nulls":3},"17,200f/","6,100f/"]
[{"$f":"A54","v":"a/  Adults.  Sport catch since 1991 includes marine areas within Williapa Bay (e.g., Washaway Beach)."}]
[{"$f":"A55","v":"b/  Natural spawning escapement estimates were not made in 1984-1994; estimates in 1996, 1997, and 1998 do not include adult fish released upstream of hatchery racks.  Estimates from 1996 to present include both wild and naturally spawing hatchery fish."}]
[]
[{"$f":"A57","v":"c/  Hatchery rack number includes fish released upstream until 2009."}]
[{"$f":"A58","v":"d/  Does not include natural spawning escapement between 1984 and 1994."}]
[{"$f":"A59","v":"e/  Preliminary."}]
[{"$f":"A60","v":"f/  Willapa Bay coho were added to the FMP in 2011; the STT finalized the new FMP goal for use beginning in 2016."},{"$nulls":7},","]

{"sheet":"B-25","index":26,"n_rows":201,"n_cols":10,"rows_kept":201,"merged":[[0,0,0,9],[1,2,1,5],[2,0,3,0],[2,1,3,1],[2,2,3,2],[2,3,3,3],[2,4,3,4],[2,6,2,7],[2,8,3,9],[4,0,4,8],[56,0,56,8],[107,0,107,8],[108,0,108,8],[109,0,109,8],[110,0,110,8],[111,0,111,8],[112,0,112,8],[113,0,113,8],[114,0,114,8],[115,0,115,8],[116,0,116,8],[139,2,139,5],[140,0,141,0],[140,1,141,1],[140,2,141,2],[140,3,141,3],[140,4,141,4],[140,6,140,7],[140,8,141,9],[166,2,166,5],[167,0,168,0],[167,1,168,1],[167,2,168,2],[167,3,168,3],[167,4,168,4],[167,6,167,7],[167,8,168,9],[197,0,197,8],[198,0,198,8],[199,0,199,8],[200,0,200,8]]}
["TABLE B-25.  Grays Harbor Chinook terminal catch, spawning escapement, and run size in numbers of fish."]
[null,null,"Terminal Catch"]
["Year or Average","Early Non-local Catch","Non-Indian Gillnetj/","Treaty Indian Gillnet","Chehalis Tribal Gillnet",null,"Spawning Escapement",null,"Terminal Run  Sized/"]
[{"$nulls":5},"Sporta/","Naturalb/","Hatcheryc/"]
["SPRING Chinook"]
[1976,"-","-","-",587,"e/",600,"-",{"$f":"SUM(B6:H6)","v":{"v":1187,"d":"1,187"}}]
[1977,"-","-","-",587,"e/",600,"-",{"v":1187,"d":"1,187"}]
[1978,"-","-","-",587,"e/",600,"-",{"v":1187,"d":"1,187"}]
[1979,"-","-","-",587,"e/",600,"-",{"v":1187,"d":"1,187"}]
[1980,"-","-","-",587,"e/",600,"-",{"v":1187,"d":"1,187"}]
[1981,"-","-","-",70,12,924,"-",{"v":1006,"d":"1,006"}]
[1982,"-","-"," e/",50,9,610,"-",669]
[1983,"-","-"," e/",50,0,800,"-",850]
[1984,"-","-"," e/"," e/",2,{"v":1128,"d":"1,128"},"-",{"v":1130,"d":"1,130"}]
[1985,"-","-"," e/"," e/",2,{"v":1157,"d":"1,157"},"-",{"v":1159,"d":"1,159"}]
[1986,"-","-"," e/",24,7,{"v":1795,"d":"1,795"},"-",{"v":1826,"d":"1,826"}]
[1987,"-","-"," e/",225,3,841,"-",{"v":1069,"d":"1,069"}]
[1988,"-","-"," e/",100,2,{"v":3106,"d":"3,106"},"-",{"v":3208,"d":"3,208"}]
[1989,"-","-"," e/",310,12,{"v":2068,"d":"2,068"},"-",{"v":2390,"d":"2,390"}]
[1990,"-","-"," e/",56,6,{"v":1567,"d":"1,567"},"-",{"v":1629,"d":"1,629"}]
[1991,"-","-",0,187,13,{"v":1289,"d":"1,289"},"-",{"v":1489,"d":"1,489"}]
[1992,"-","-",0,35,3,{"v":1813,"d":"1,813"},"-",{"v":1851,"d":"1,851"}]
[1993,"-","-",0,92,53,{"v":1254,"d":"1,254"},"-",{"v":1399,"d":"1,399"}]
[1994,"-","-",0,72,4,{"v":1403,"d":"1,403"},"-",{"v":1479,"d":"1,479"}]
[1995,"-","-",0,82,4,{"v":2070,"d":"2,070"},"-",{"v":2156,"d":"2,156"}]
[1996,"-","-",104,127,52,{"v":4462,"d":"4,462"},"-",{"v":4745,"d":"4,745"}]
[1997,"-","-",52,172,160,{"v":4460,"d":"4,460"},"-",{"v":4844,"d":"4,844"}]
[1998,"-","-",6,164,121,{"v":2388,"d":"2,388"},"-",{"v":2679,"d":"2,679"}]
[1999,"-","-",3,187,76,{"v":1285,"d":"1,285"},"-",{"v":1551,"d":"1,551"}]
[2000,"-","-",17,174,91,{"v":3135,"d":"3,135"},"-",{"v":3417,"d":"3,417"}]
[2001,"-","-",4,210,252,{"v":2860,"d":"2,860"},"-",{"v":3326,"d":"3,326"}]
[2002,"-","-",76,419,124,{"v":2598,"d":"2,598"},"-",{"v":3217,"d":"3,217"}]
[2003,"-","-",68,0,131,{"v":1904,"d":"1,904"},"-",{"v":2103,"d":"2,103"}]
[2004,"-","-",54,177,65,{"v":5034,"d":"5,034"},"-",{"v":5330,"d":"5,330"}]
[2005,"-","-",26,439,88,{"v":2129,"d":"2,129"},"-",{"v":2682,"d":"2,682"}]
[2006,"-","-",5,249,128,{"v":2481,"d":"2,481"},"-",{"v":2863,"d":"2,863"}]
[2007,"-","-",5,205,54,651,"-",915]
[2008,"-","-",2,0,0,995,"-",997]
[2009,"-","-",18,0,0,{"v":1132,"d":"1,132"},"-",{"v":1150,"d":"1,150"}]
[2010,"-","-",0,0,0,{"v":3495,"d":"3,495"},"-",{"v":3495,"d":"3,495"}]
[2011,"-","-",10,0,0,{"v":2563,"d":"2,563"},"-",{"v":2573,"d":"2,573"}]
[2012,"-","-",6,201,66,878,"-",{"v":1151,"d":"1,151"}]
[2013,"-","-",31,"NA",148,{"v":2459,"d":"2,459"},"-",{"v":2638,"d":"2,638"}]
[2014,"-","-",14,"NA",62,{"v":1583,"d":"1,583"},"-",{"v":1659,"d":"1,659"}]
[2015,"-","-",32,156,36,{"v":1841,"d":"1,841"},"-",{"v":2065,"d":"2,065"}]
[2016,"-","-",7,104,19,926,"-",{"v":1056,"d":"1,056"}]
[2017,"-","-",1,6,0,{"v":1384,"d":"1,384"},"-",{"v":1391,"d":"1,391"}]
[2018,"-","-",0,26,7,493,"-",526]
[2019,"-","-",0,1,0,983,"-",984]
[2020,"-","-",0,1,0,{"v":2828,"d":"2,828"},"-",{"v":2829,"d":"2,829"}]
[2021,"-","-",0,1,0,{"v":2573,"d":"2,573"},"-",{"v":2574,"d":"2,574"}]
[2022,"-","-",0,0,0,{"v":1348,"d":"1,348"},"-",{"v":1348,"d":"1,348"}]
["2023g/","-","-",0,0,0,{"v":2175,"d":"2,175"},"-",{"v":2175,"d":"2,175"}]
["2024g/","-","-",0,"NA",0,"NA","-","NA"]
["GOAL",{"$nulls":5},{"v":1400,"d":"1,400"},null,"   "]
[]
["FALL Chinook"]
[1976,{"v":5357,"d":"5,357"},{"v":5451,"d":"5,451"},{"v":3068,"d":"3,068"},386,{"v":1128,"d":"1,128"},{"v":6.5,"d":"7"},413,{"$f":"SUM(C58:H58)","v":{"v":10452.5,"d":"10,453"}}]
[1977,{"v":13541,"d":"13,541"},{"v":5600,"d":"5,600"},{"v":4118,"d":"4,118"},{"v":1317,"d":"1,317"},{"v":1128,"d":"1,128"},{"v":6.5,"d":"7"},413,{"v":12582.5,"d":"12,583"}]
[1978,905,{"v":1498,"d":"1,498"},{"v":2639,"d":"2,639"},{"v":1070,"d":"1,070"},{"v":1128,"d":"1,128"},{"v":6.5,"d":"7"},413,{"v":6754.5,"d":"6,755"}]
[1979,853,646,95,{"v":1440,"d":"1,440"},{"v":1128,"d":"1,128"},{"v":6.5,"d":"7"},413,{"v":3728.5,"d":"3,729"}]
[1980,{"v":1511,"d":"1,511"},{"v":5014,"d":"5,014"},{"v":5620,"d":"5,620"},815,{"v":1128,"d":"1,128"},{"v":6.5,"d":"7"},413,{"v":12996.5,"d":"12,997"}]
[1981,{"v":1516,"d":"1,516"},{"v":1781,"d":"1,781"},{"v":3516,"d":"3,516"},672,117,{"v":9.84,"d":"10"},765,{"v":6860.84,"d":"6,861"}]
[1982,605,{"v":2764,"d":"2,764"},{"v":4627,"d":"4,627"},687,163,{"v":9.84,"d":"10"},413,{"v":8663.84,"d":"8,664"}]
[1983,126,90,{"v":3289,"d":"3,289"},346,72,{"v":9.84,"d":"10"},627,{"v":4433.84,"d":"4,434"}]
[1984,495,65,903,294,365,{"v":9.84,"d":"10"},841,{"v":2477.84,"d":"2,478"}]
[1985,270,118,{"v":5286,"d":"5,286"},328,622,{"v":9.84,"d":"10"},{"v":1065,"d":"1,065"},{"v":7428.84,"d":"7,429"}]
[1986,193,{"v":2210,"d":"2,210"},{"v":5401,"d":"5,401"},306,374,{"v":13808,"d":"13,808"},{"v":1071,"d":"1,071"},{"v":23170,"d":"23,170"}]
[1987,248,{"v":2954,"d":"2,954"},{"v":9723,"d":"9,723"},232,229,{"v":19013,"d":"19,013"},{"v":1881.84,"d":"1,882"},{"v":34032.84,"d":"34,033"},"h/"]
[1988,725,{"v":3126,"d":"3,126"},{"v":4861,"d":"4,861"},829,{"v":2011,"d":"2,011"},{"v":28158,"d":"28,158"},{"v":1559.92,"d":"1,560"},{"v":40544.92,"d":"40,545"},"h/"]
[1989,{"v":1272,"d":"1,272"},{"v":7013,"d":"7,013"},{"v":18548,"d":"18,548"},977,{"v":2080,"d":"2,080"},{"v":25677,"d":"25,677"},{"v":1176.446,"d":"1,176"},{"v":55471.445999999996,"d":"55,471"},"h/"]
[1990,{"v":1030,"d":"1,030"},{"v":5306,"d":"5,306"},{"v":13537,"d":"13,537"},640,{"v":2007,"d":"2,007"},{"v":16995,"d":"16,995"},{"v":905.614,"d":"906"},{"v":39390.614,"d":"39,391"},"h/"]
[1991,246,{"v":5886,"d":"5,886"},{"v":8036,"d":"8,036"},599,{"v":3696,"d":"3,696"},{"v":14392,"d":"14,392"},{"v":1431.1799999999998,"d":"1,431"},{"v":34040.18,"d":"34,040"},"h/"]
[1992,753,{"v":4955,"d":"4,955"},{"v":6645,"d":"6,645"},893,{"v":2775,"d":"2,775"},{"v":16592,"d":"16,592"},{"v":4519.334,"d":"4,519"},{"v":36379.334,"d":"36,379"},"h/"]
[1993,30,{"v":5414,"d":"5,414"},{"v":8807,"d":"8,807"},{"v":1602,"d":"1,602"},{"v":3497,"d":"3,497"},{"v":13349,"d":"13,349"},{"v":2387.49,"d":"2,387"},{"v":35056.49,"d":"35,056"},"h/"]
[1994,0,{"v":3662,"d":"3,662"},{"v":7865,"d":"7,865"},725,{"v":3600,"d":"3,600"},{"v":14320,"d":"14,320"},{"v":3320.187,"d":"3,320"},{"v":33492.187,"d":"33,492"},"h/"]
[1995,0,{"v":5085,"d":"5,085"},{"v":7399,"d":"7,399"},687,{"v":5401,"d":"5,401"},{"v":12727,"d":"12,727"},{"v":3373.542,"d":"3,374"},{"v":34672.542,"d":"34,673"},"h/"]
[1996,148,{"v":1441,"d":"1,441"},{"v":4068,"d":"4,068"},49,{"v":7456,"d":"7,456"},{"v":20227,"d":"20,227"},{"v":4306.989,"d":"4,307"},{"v":37547.989,"d":"37,548"},"h/"]
[1997,24,{"v":2796,"d":"2,796"},{"v":6630,"d":"6,630"},311,{"v":2687,"d":"2,687"},{"v":18168,"d":"18,168"},{"v":2416.325,"d":"2,416"},{"v":33008.325,"d":"33,008"},"h/"]
[1998,5,267,{"v":4135,"d":"4,135"},0,{"v":2912,"d":"2,912"},{"v":12529,"d":"12,529"},{"v":1921.42,"d":"1,921"},{"v":21764.42,"d":"21,764"},"h/"]
[1999,0,87,{"v":1926,"d":"1,926"},1,114,{"v":10363,"d":"10,363"},{"v":1990.31,"d":"1,990"},{"v":14481.31,"d":"14,481"},"h/"]
[2000,671,647,{"v":3289,"d":"3,289"},10,{"v":1714,"d":"1,714"},{"v":9385,"d":"9,385"},284,{"v":15329,"d":"15,329"}]
[2001,0,{"v":2523,"d":"2,523"},{"v":3885,"d":"3,885"},13,{"v":3320,"d":"3,320"},{"v":9492,"d":"9,492"},282,{"v":19515,"d":"19,515"}]
[2002,40,26,963,9,{"v":2955,"d":"2,955"},{"v":11841,"d":"11,841"},776,{"v":16570,"d":"16,570"}]
[2003,0,{"v":359.21000000000004,"d":"359"},851,0,{"v":1031,"d":"1,031"},{"v":19871,"d":"19,871"},838,{"v":22950.21,"d":"22,950"}]
[2004,0,{"v":209.18,"d":"209"},{"v":3498,"d":"3,498"},24,{"v":6012,"d":"6,012"},{"v":31773,"d":"31,773"},{"v":1012,"d":"1,012"},{"v":42528.18,"d":"42,528"}]
[2005,0,{"v":304.36,"d":"304"},{"v":2260,"d":"2,260"},3,118,{"v":19695,"d":"19,695"},897,{"v":23277.36,"d":"23,277"}]
[2006,0,{"v":256.06,"d":"256"},{"v":3738,"d":"3,738"},0,{"v":1629,"d":"1,629"},{"v":17428,"d":"17,428"},{"v":1941,"d":"1,941"},{"v":24992.059999999998,"d":"24,992"}]
[2007,0,{"v":529.42,"d":"529"},{"v":2472,"d":"2,472"},19,{"v":1698,"d":"1,698"},{"v":13117,"d":"13,117"},583,{"v":18418.42,"d":"18,418"}]
[2008,0,{"v":779.45,"d":"779"},{"v":1878,"d":"1,878"},0,0,{"v":15391,"d":"15,391"},500,{"v":18548.45,"d":"18,548"}]
[2009,0,{"v":1230.85,"d":"1,231"},{"v":2485,"d":"2,485"},0,860,{"v":9290,"d":"9,290"},666,{"v":14531.85,"d":"14,532"}]
[2010,0,{"v":1637.99,"d":"1,638"},{"v":3403,"d":"3,403"},0,{"v":2005,"d":"2,005"},{"v":18158,"d":"18,158"},650,{"v":25853.989999999998,"d":"25,854"}]
[2011,0,{"v":2298.42,"d":"2,298"},{"v":6402,"d":"6,402"},0,{"v":3086,"d":"3,086"},{"v":22870,"d":"22,870"},{"v":1363,"d":"1,363"},{"v":36019.42,"d":"36,019"}]
[2012,0,{"v":1730.5700000000002,"d":"1,731"},{"v":3988,"d":"3,988"},3,{"v":4490,"d":"4,490"},{"v":14032,"d":"14,032"},862,{"v":25105.57,"d":"25,106"}]
[2013,0,{"v":103.41000000000001,"d":"103"},{"v":2875,"d":"2,875"},0,{"v":3618,"d":"3,618"},{"v":12503,"d":"12,503"},701,{"v":19800.41,"d":"19,800"}]
[2014,0,{"v":72.68,"d":"73"},{"v":5094,"d":"5,094"},2,{"v":1124,"d":"1,124"},{"v":11893,"d":"11,893"},{"v":1676,"d":"1,676"},{"$f":"SUM(C96:H96)","v":{"v":19861.68,"d":"19,862"}}]
[2015,0,{"v":165.93,"d":"166"},{"v":10496,"d":"10,496"},0,{"v":3644,"d":"3,644"},{"v":17305,"d":"17,305"},{"v":2182,"d":"2,182"},{"v":33792.93,"d":"33,793"}]
[2016,0,{"v":35.748000000000005,"d":"36"},{"v":2060,"d":"2,060"},2,{"v":2837,"d":"2,837"},{"v":11248,"d":"11,248"},990,{"v":17172.748,"d":"17,173"}]
[2017,0,107,{"v":3578,"d":"3,578"},0,{"v":2781,"d":"2,781"},{"v":17145,"d":"17,145"},{"v":2404,"d":"2,404"},{"v":26015,"d":"26,015"}]
[2018,0,78,{"v":2608,"d":"2,608"},0,{"v":3685,"d":"3,685"},{"v":20741,"d":"20,741"},{"v":1225,"d":"1,225"},{"v":28337,"d":"28,337"}]
[2019,0,98,{"v":2374,"d":"2,374"},0,{"v":1734,"d":"1,734"},{"v":14880,"d":"14,880"},{"v":1295,"d":"1,295"},{"v":20381,"d":"20,381"}]
[2020,0,58,{"v":3688,"d":"3,688"},0,{"v":1454,"d":"1,454"},{"v":20879,"d":"20,879"},{"v":1049,"d":"1,049"},{"v":27128,"d":"27,128"}]
[2021,0,104,{"v":2408,"d":"2,408"},0,{"v":1557,"d":"1,557"},{"v":13207,"d":"13,207"},{"v":1792,"d":"1,792"},{"v":19068,"d":"19,068"}]
[2022,0,54,{"v":1448,"d":"1,448"},0,893,{"v":14259,"d":"14,259"},776,{"v":17430,"d":"17,430"}]
["2023g/",0,16,348,2,{"v":1178,"d":"1,178"},{"v":10943,"d":"10,943"},{"v":1325,"d":"1,325"},{"$f":"SUM(B105:H105)","v":{"v":13812,"d":"13,812"}}]
["2024g/",0,19,956,2,"NA","NA",{"v":2099,"d":"2,099"},"NA"]
["GOAL",{"$nulls":5},"13,326i/"]
["a/  Age-3 and older."]
["b/  Age-3 and older, including hatchery fish spawning naturally."]
["c/  Includes fish taken from the spawning grounds for broodstock."]
["d/  Minimum estimate due to incomplete estimates of river recreational catch.  Does not include non-local catch."]
["e/  Fewer than 50 fish."]
["f/  In 1996 and 1997 WDFW not able to differentiate spawning time and believes this includes fall Chinook."]
["g/  Preliminary."]
["h/  Rec. catch estimates by WDFW reflect a catch record card bias correction factor of 0.833.  Quinault Indian Nation does not believe this factor is appropriate.  Unadjusted catch estimates are 1,000 for 1987; 2,400 for 1988; 2,500 for 1989; 2,400 for 1990; 4,500 for 1991; 2,600 for 1992; 4,200 for 1993; 4,300 for 1994; 6,500 for 1995; 6,800 for 1996; 3,400 for 1997; 3,500 for 1998; and 100 for 1999; terminal run sizes would be adjusted accordingly."]
["i/ November 2014: Council adopted new spawning escapement objective. The SMSY estimate of 13,326 was accepted as an escapement goal by the Pacific Salmon Commission, PFMC and the co-managers. Previous objectives used for preseason planning were 1,400 (spring) and 14,600 (fall)."]
["j/ Includes non-harvest mortalities."]
{"$rows_empty":21}
["TABLE B-25.  Grays Harbor Chinook terminal catch, spawning escapement, and run size in numbers of fish.  (Page 1 of 2)"]
[null,null,"Terminal Catch"]
["Year or Average","Early Non-local Catch","Non-Indian Gillnet","Treaty Indian Gillnet","Chehalis Tribal Gillnet",null,"Spawning Escapement",null,"Terminal Run  Sized/"]
[{"$nulls":5},"Sporta/","Naturalb/","Hatcheryc/"]
[{"$f":"A5","v":"SPRING Chinook"}]
["1981-1985","-","-","-",{"$f":"AVERAGE(E11:E15)","v":{"v":56.666666666666664,"d":"57"}},{"$f":"AVERAGE(F11:F15)","v":5},{"$f":"AVERAGE(G11:G15)","v":{"v":923.8,"d":"924"}},"-",{"$f":"AVERAGE(I11:I15)","v":{"v":962.8,"d":"963"}}]
["1986-1990","-","-","e/",{"$f":"AVERAGE(E16:E20)","v":143},{"$f":"AVERAGE(F16:F20)","v":6},{"$f":"AVERAGE(G16:G20)","v":{"v":1875.4,"d":"1,875"}},"-",{"$f":"AVERAGE(I16:I20)","v":{"v":2024.4,"d":"2,024"}}]
["1991-1995","-","-",{"$f":"AVERAGE(D21:D25)","v":0},{"$f":"AVERAGE(E21:E25)","v":{"v":93.6,"d":"94"}},{"$f":"AVERAGE(F21:F25)","v":{"v":15.4,"d":"15"}},{"$f":"AVERAGE(G21:G25)","v":{"v":1565.8,"d":"1,566"}},"-",{"$f":"AVERAGE(I21:I25)","v":{"v":1674.8,"d":"1,675"}}]
["1996-2000","-","-",{"$f":"AVERAGE(D26:D30)","v":{"v":36.4,"d":"36"}},{"$f":"AVERAGE(E26:E30)","v":{"v":164.8,"d":"165"}},{"$f":"AVERAGE(F26:F30)","v":100},{"$f":"AVERAGE(G26:G30)","v":{"v":3146,"d":"3,146"}},{"$f":"H26","v":"-"},{"$f":"AVERAGE(I26:I30)","v":{"v":3447.2,"d":"3,447"}}]
["2001-2005","-","-",{"$f":"AVERAGE(D31:D35)","v":{"v":45.6,"d":"46"}},{"$f":"AVERAGE(E31:E35)","v":249},{"$f":"AVERAGE(F31:F35)","v":132},{"$f":"AVERAGE(G31:G35)","v":{"v":2905,"d":"2,905"}},{"$f":"H27","v":"-"},{"$f":"AVERAGE(I31:I35)","v":{"v":3331.6,"d":"3,332"}}]
["2006-2010",{"$f":"B36","v":"-"},{"$f":"C36","v":"-"},{"$f":"AVERAGE(D36:D40)","v":6},{"$f":"AVERAGE(E36:E40)","v":{"v":90.8,"d":"91"}},{"v":36.4,"d":"36"},{"v":1750.8,"d":"1,751"},{"$f":"H36","v":"-"},{"$f":"AVERAGE(I36:I40)","v":{"v":1884,"d":"1,884"}}]
[2011,{"$f":"B41","v":"-"},"-",10,0,0,{"v":2563,"d":"2,563"},"-",{"v":2573,"d":"2,573"}]
[2012,"-","-",6,201,66,878,"-",{"v":1151,"d":"1,151"}]
[2013,"-","-",31,"NA",148,{"v":2459,"d":"2,459"},"-",{"v":2638,"d":"2,638"}]
[2014,"-","-",14,"NA",62,{"v":1583,"d":"1,583"},"-",{"v":1659,"d":"1,659"}]
[2015,"-","-",32,156,36,{"v":1841,"d":"1,841"},"-",{"v":2065,"d":"2,065"}]
[2016,"-","-",7,104,19,926,"-",{"v":1056,"d":"1,056"}]
[2017,"-","-",1,6,0,{"v":1384,"d":"1,384"},"-",{"v":1391,"d":"1,391"}]
[2018,"-","-",0,26,7,493,"-",526]
[2019,"-","-",0,1,0,983,"-",984]
[2020,{"$f":"B50","v":"-"},"-",0,1,0,{"v":2828,"d":"2,828"},"-",{"v":2829,"d":"2,829"}]
[2021,{"$f":"B51","v":"-"},"-",0,1,0,{"v":2573,"d":"2,573"},"-",{"v":2574,"d":"2,574"}]
[2022,{"$f":"B52","v":"-"},"-",0,0,0,{"v":1348,"d":"1,348"},"-",{"v":1348,"d":"1,348"}]
["2023g/",{"$f":"B53","v":"-"},"-",0,0,0,{"v":2175,"d":"2,175"},"-",{"v":2175,"d":"2,175"}]
["2024g/","-","-",0,"NA",0,"NA","-","NA"]
["GOAL",{"$nulls":5},{"v":1400,"d":"1,400"},null,"   ","   "]
[]
["TABLE B-25.  Grays Harbor Chinook terminal catch, spawning escapement, and run size in numbers of fish.  (Page 2 of 2)"]
[null,null,"Terminal Catch"]
["Year or Average","Early Non-local Catch","Non-Indian Gillnetj/","Treaty Indian Gillnet","Chehalis Tribal Gillnet",null,"Spawning Escapement",null,"Terminal Run  Sized/"]
[{"$nulls":5},"Sporta/","Naturalb/f/","Hatcheryc/"]
[{"$f":"A57","v":"FALL Chinook"}]
["1981-1985",{"$f":"AVERAGE(B63:B67)","v":{"v":602.4,"d":"602"}},{"v":963.6,"d":"964"},{"v":3524.2,"d":"3,524"},{"v":465.4,"d":"465"},{"v":267.8,"d":"268"},{"v":9.84,"d":"10"},{"v":742.2,"d":"742"},{"v":5973.04,"d":"5,973"}]
["1986-1990",{"$f":"AVERAGE(B68:B72)","v":{"v":693.6,"d":"694"}},{"v":4121.8,"d":"4,122"},{"v":10414,"d":"10,414"},{"v":596.8,"d":"597"},{"v":1340.2,"d":"1,340"},{"v":20730.2,"d":"20,730"},{"v":1318.964,"d":"1,319"},{"v":38521.964,"d":"38,522"},"h/"]
["1991-1995",{"$f":"AVERAGE(B73:B77)","v":{"v":205.8,"d":"206"}},{"v":5000.4,"d":"5,000"},{"v":7750.4,"d":"7,750"},{"v":901.2,"d":"901"},{"v":3793.8,"d":"3,794"},{"v":14276,"d":"14,276"},{"v":3006.3466,"d":"3,006"},{"v":34728.1466,"d":"34,728"},"h/"]
["1996-2000",{"$f":"AVERAGE(B78:B82)","v":{"v":169.6,"d":"170"}},{"$f":"AVERAGE(C78:C82)","v":{"v":1047.6,"d":"1,048"}},{"v":4009.6,"d":"4,010"},{"v":74.2,"d":"74"},{"v":2976.6,"d":"2,977"},{"v":14134.4,"d":"14,134"},{"v":2183.8088,"d":"2,184"},{"v":24426.2088,"d":"24,426"},"h/"]
["2001-2005",{"$f":"AVERAGE(B83:B87)","v":8},{"$f":"AVERAGE(C83:C87)","v":{"v":684.35,"d":"684"}},{"v":2291.4,"d":"2,291"},{"v":9.8,"d":"10"},{"v":2687.2,"d":"2,687"},{"v":18534.4,"d":"18,534"},761,{"v":24968.15,"d":"24,968"}]
["2006-2010",{"$f":"AVERAGE(B88:B92)","v":0},{"$f":"AVERAGE(C88:C92)","v":{"v":886.7539999999999,"d":"887"}},{"$f":"AVERAGE(D88:D92)","v":{"v":2795.2,"d":"2,795"}},{"v":3.8,"d":"4"},{"v":1238.4,"d":"1,238"},{"$f":"AVERAGE(G88:G92)","v":{"v":14676.8,"d":"14,677"}},868,{"v":20468.953999999998,"d":"20,469"}]
[2011,{"$f":"B93","v":0},{"v":2298.42,"d":"2,298"},{"v":6402,"d":"6,402"},0,{"v":3086,"d":"3,086"},{"v":22870,"d":"22,870"},{"v":1363,"d":"1,363"},{"v":36019.42,"d":"36,019"}]
[2012,{"$f":"B94","v":0},{"$f":"C94","v":{"v":1730.5700000000002,"d":"1,731"}},{"$f":"D94","v":{"v":3988,"d":"3,988"}},3,{"v":4490,"d":"4,490"},{"v":14032,"d":"14,032"},862,{"v":25105.57,"d":"25,106"}]
[2013,0,{"$f":"C95","v":{"v":103.41000000000001,"d":"103"}},{"v":2875,"d":"2,875"},0,{"v":3618,"d":"3,618"},{"v":12503,"d":"12,503"},701,{"v":19800.41,"d":"19,800"}]
[2014,0,{"$f":"C96","v":{"v":72.68,"d":"73"}},{"v":5094,"d":"5,094"},2,{"v":1124,"d":"1,124"},{"v":11893,"d":"11,893"},{"v":1676,"d":"1,676"},{"v":19861.68,"d":"19,862"}]
[2015,0,{"$f":"C97","v":{"v":165.93,"d":"166"}},{"v":10496,"d":"10,496"},0,{"v":3644,"d":"3,644"},{"v":17305,"d":"17,305"},{"v":2182,"d":"2,182"},{"v":33792.93,"d":"33,793"}]
[2016,0,{"$f":"C98","v":{"v":35.748000000000005,"d":"36"}},{"v":2060,"d":"2,060"},2,{"v":2837,"d":"2,837"},{"v":11248,"d":"11,248"},990,{"v":17172.748,"d":"17,173"}]
[2017,0,{"$f":"C99","v":107},{"v":3578,"d":"3,578"},0,{"v":2781,"d":"2,781"},{"v":17145,"d":"17,145"},{"v":2404,"d":"2,404"},{"v":26015,"d":"26,015"}]
[2018,0,78,{"v":2608,"d":"2,608"},0,{"v":3685,"d":"3,685"},{"v":20741,"d":"20,741"},{"v":1225,"d":"1,225"},{"v":28337,"d":"28,337"}]
[2019,0,98,{"v":2374,"d":"2,374"},0,{"v":1734,"d":"1,734"},{"v":14880,"d":"14,880"},{"v":1295,"d":"1,295"},{"v":20381,"d":"20,381"}]
[2020,0,58,{"v":3688,"d":"3,688"},0,{"v":1454,"d":"1,454"},{"v":20879,"d":"20,879"},{"v":1049,"d":"1,049"},{"v":27128,"d":"27,128"}]
[2021,0,104,{"v":2408,"d":"2,408"},0,{"v":1557,"d":"1,557"},{"v":13207,"d":"13,207"},{"v":1792,"d":"1,792"},{"v":19068,"d":"19,068"}]
[2022,0,54,{"v":1448,"d":"1,448"},0,893,{"v":14259,"d":"14,259"},776,{"v":17430,"d":"17,430"}]
["2023g/",{"$f":"B105","v":0},{"$f":"C105","v":16},348,2,{"v":1178,"d":"1,178"},{"v":10943,"d":"10,943"},{"v":1325,"d":"1,325"},{"v":13812,"d":"13,812"}]
["2024g/",0,19,956,2,"NA","NA",{"v":2099,"d":"2,099"},"NA"]
["  GOAL",{"$nulls":5},"13,326i/",null,"   ","   "]
[{"$f":"A108","v":"a/  Age-3 and older."}]
[{"$f":"A109","v":"b/  Age-3 and older, including hatchery fish spawning naturally."}]
["c/  Includes fish taken from the spawning grounds for broodstock."]
["d/  Minimum estimate due to incomplete estimates of river recreational catch.  Does not include non-local catch."]
["e/  Fewer than 50 fish."]
["f/  In 1996 and 1997 WDFW not able to differentiate spawning time and believes this includes fall Chinook."]
[{"$f":"A114","v":"g/  Preliminary."}]
[{"$f":"A115","v":"h/  Rec. catch estimates by WDFW reflect a catch record card bias correction factor of 0.833.  Quinault Indian Nation does not believe this factor is appropriate.  Unadjusted catch estimates are 1,000 for 1987; 2,400 for 1988; 2,500 for 1989; 2,400 for 1990; 4,500 for 1991; 2,600 for 1992; 4,200 for 1993; 4,300 for 1994; 6,500 for 1995; 6,800 for 1996; 3,400 for 1997; 3,500 for 1998; and 100 for 1999; terminal run sizes would be adjusted accordingly."}]
[{"$f":"A116","v":"i/ November 2014: Council adopted new spawning escapement objective. The SMSY estimate of 13,326 was accepted as an escapement goal by the Pacific Salmon Commission, PFMC and the co-managers. Previous objectives used for preseason planning were 1,400 (spring) and 14,600 (fall)."}]
[{"$f":"A117","v":"j/ Includes non-harvest mortalities."}]

{"sheet":"B-26","index":27,"n_rows":116,"n_cols":13,"rows_kept":116,"merged":[[0,0,0,11],[1,1,1,4],[2,0,3,0],[2,1,3,1],[2,2,3,2],[2,3,3,3],[2,6,2,7],[2,9,2,11],[54,0,54,11],[55,0,55,11],[57,0,58,11],[60,0,60,11],[61,0,61,11],[62,0,62,11],[84,0,84,11],[85,1,85,4],[86,0,87,0],[86,1,87,1],[86,2,87,2],[86,3,87,3],[86,6,86,7],[86,9,86,11],[109,0,109,11],[110,0,110,11],[111,0,111,11],[112,0,113,11],[114,0,114,11],[115,0,115,11]]}
["TABLE B-26.  Grays Harbor coho terminal catch, spawning escapement, and run size estimates in numbers of fish."]
[null,"Terminal Catch"]
["Year or Average","Non-Indian Gillnet","Treaty Indian Gillnet","Chehalis Tribal Gillnet",null,null,"Spawning Escapementb/",null,null,"Terminal Run Sizec/"]
[{"$nulls":4},"Sporta/",null,"Natural","Hatchery",null,"Natural","Hatchery","Totald/"]
[1976,{"v":13840,"d":"13,840"},{"v":14502,"d":"14,502"},{"v":4012,"d":"4,012"},{"v":2633,"d":"2,633"},null,{"v":43900,"d":"43,900"},{"v":3615.1503759398493,"d":"3,615"},null,{"v":74823.05558946067,"d":"74,823"},{"v":14041,"d":"14,041"},{"v":82490,"d":"82,490"}]
[1977,{"v":1455,"d":"1,455"},{"v":2530,"d":"2,530"},{"v":1482,"d":"1,482"},926,null,{"v":26850,"d":"26,850"},{"v":475.4060606060606,"d":"475"},null,{"v":33026.488995543674,"d":"33,026"},{"v":14433,"d":"14,433"},{"$f":"SUM(J6:K6)","v":{"v":47459.488995543674,"d":"47,459"}}]
[1978,837,{"v":4273,"d":"4,273"},{"v":1869,"d":"1,869"},{"v":2304,"d":"2,304"},null,{"v":11700,"d":"11,700"},{"v":8868.220957746478,"d":"8,868"},null,{"v":15098.483779071907,"d":"15,098"},{"v":10879,"d":"10,879"},{"$f":"SUM(J7:K7)","v":{"v":25977.483779071907,"d":"25,977"}}]
[1979,15,{"v":3289,"d":"3,289"},{"v":5940,"d":"5,940"},{"v":2500,"d":"2,500"},null,{"v":35400,"d":"35,400"},{"v":29373.6578581363,"d":"29,374"},null,{"v":39392.800653990875,"d":"39,393"},{"v":32497,"d":"32,497"},{"$f":"SUM(J8:K8)","v":{"v":71889.80065399088,"d":"71,890"}}]
[1980,{"v":10009,"d":"10,009"},{"v":23782,"d":"23,782"},{"v":4247,"d":"4,247"},{"v":1743,"d":"1,743"},null,{"v":29700,"d":"29,700"},{"v":8701.323138297872,"d":"8,701"},null,{"v":59810.29233460114,"d":"59,810"},{"v":17814,"d":"17,814"},{"$f":"SUM(J9:K9)","v":{"v":77624.29233460114,"d":"77,624"}}]
[1981,{"v":3000,"d":"3,000"},{"v":24779,"d":"24,779"},{"v":3164,"d":"3,164"},{"v":2408,"d":"2,408"},null,{"v":13000,"d":"13,000"},{"v":23959.6,"d":"23,960"},null,{"v":18013.139659574466,"d":"18,013"},{"v":48274,"d":"48,274"},{"$f":"SUM(J10:K10)","v":{"v":66287.13965957446,"d":"66,287"}}]
[1982,{"v":17378,"d":"17,378"},{"v":25980,"d":"25,980"},{"v":6036,"d":"6,036"},{"v":3128,"d":"3,128"},null,{"v":18100,"d":"18,100"},{"v":11369.4,"d":"11,369"},null,{"v":45675.97262425025,"d":"45,676"},{"v":36496.50737574975,"d":"36,497"},{"v":82172.48000000001,"d":"82,172"}]
[1983,{"v":1821,"d":"1,821"},{"v":11549,"d":"11,549"},808,{"v":1865,"d":"1,865"},null,{"v":25300,"d":"25,300"},{"v":13908.6,"d":"13,909"},null,{"v":31841.402219103635,"d":"31,841"},{"v":23434.43778089637,"d":"23,434"},{"v":55275.840000000004,"d":"55,276"}]
[1984,{"v":3218,"d":"3,218"},{"v":6556,"d":"6,556"},{"v":3391,"d":"3,391"},{"v":16198,"d":"16,198"},null,{"v":105741,"d":"105,741"},{"v":30373.6,"d":"30,374"},null,{"v":120929.56387542309,"d":"120,930"},{"v":44649.766124576905,"d":"44,650"},{"v":165579.33,"d":"165,579"}]
[1985,{"v":1080,"d":"1,080"},{"v":9204,"d":"9,204"},925,{"v":1460,"d":"1,460"},null,{"v":22092,"d":"22,092"},{"v":6656.1,"d":"6,656"},null,{"v":29348.259261256106,"d":"29,348"},{"v":11556.590738743893,"d":"11,557"},{"v":40904.85,"d":"40,905"}]
[1986,{"v":12506,"d":"12,506"},{"v":36586,"d":"36,586"},{"v":1898,"d":"1,898"},{"v":6186,"d":"6,186"},null,{"v":33683,"d":"33,683"},{"v":36314,"d":"36,314"},null,{"v":52690.58638190129,"d":"52,691"},{"v":74545.35361809871,"d":"74,545"},{"v":127235.94,"d":"127,236"}]
[1987,{"v":17355,"d":"17,355"},{"v":30616,"d":"30,616"},{"v":3516,"d":"3,516"},{"v":3112,"d":"3,112"},null,{"v":22642,"d":"22,642"},{"v":13228.2,"d":"13,228"},null,{"v":46220.272596872004,"d":"46,220"},{"v":44361.407403128,"d":"44,361"},{"v":90581.68000000001,"d":"90,582"}]
[1988,{"v":3537,"d":"3,537"},{"v":20105,"d":"20,105"},495,{"v":5654,"d":"5,654"},null,{"v":61958,"d":"61,958"},{"v":46855.2,"d":"46,855"},null,{"v":61749.30028297918,"d":"61,749"},{"v":76869.74971702082,"d":"76,870"},{"v":138619.05,"d":"138,619"}]
[1989,{"v":1352,"d":"1,352"},{"v":23277,"d":"23,277"},{"v":1717,"d":"1,717"},{"v":4841,"d":"4,841"},null,{"v":56695,"d":"56,695"},{"v":28012.7,"d":"28,013"},null,{"v":67466.56945260633,"d":"67,467"},{"v":48479.64054739367,"d":"48,480"},{"v":115946.20999999999,"d":"115,946"}]
[1990,{"v":3827,"d":"3,827"},{"v":39961,"d":"39,961"},{"v":1461,"d":"1,461"},{"v":6982,"d":"6,982"},null,{"v":45603,"d":"45,603"},{"v":25403.9,"d":"25,404"},null,{"v":66047.43537150133,"d":"66,047"},{"v":57234.294628498676,"d":"57,234"},{"v":123281.73000000001,"d":"123,282"}]
[1991,{"v":47764,"d":"47,764"},{"v":68893,"d":"68,893"},{"v":8142,"d":"8,142"},{"v":29408,"d":"29,408"},null,{"v":61034,"d":"61,034"},{"v":79772.5,"d":"79,773"},null,{"v":83815.06674786254,"d":"83,815"},{"v":215374.85325213746,"d":"215,375"},{"v":299189.92,"d":"299,190"}]
[1992,666,{"v":14059,"d":"14,059"},{"v":1129,"d":"1,129"},{"v":5264,"d":"5,264"},null,{"v":32906,"d":"32,906"},{"v":9361.7,"d":"9,362"},null,{"v":43982.22711746744,"d":"43,982"},{"v":19879.09288253256,"d":"19,879"},{"v":63861.32,"d":"63,861"}]
[1993,{"v":3759,"d":"3,759"},{"v":15875,"d":"15,875"},718,{"v":6363,"d":"6,363"},null,{"v":25406,"d":"25,406"},{"v":14725.9,"d":"14,726"},null,{"v":34435.8803103933,"d":"34,436"},{"v":33021.579689606704,"d":"33,022"},{"v":67457.46,"d":"67,457"}]
[1994,715,{"v":8612,"d":"8,612"},916,{"v":1789,"d":"1,789"},null,{"v":12360,"d":"12,360"},{"v":14798.9,"d":"14,799"},null,{"v":13542.490830256767,"d":"13,542"},{"v":26033.149169743236,"d":"26,033"},{"v":39575.64,"d":"39,576"}]
[1995,{"v":9604,"d":"9,604"},{"v":38389,"d":"38,389"},{"v":2142,"d":"2,142"},{"v":9690,"d":"9,690"},null,{"v":47422,"d":"47,422"},{"v":37861,"d":"37,861"},null,{"v":58970.35014535168,"d":"58,970"},{"v":87707.59985464832,"d":"87,708"},{"v":146677.95,"d":"146,678"}]
[1996,{"v":10096,"d":"10,096"},{"v":51784,"d":"51,784"},{"v":2672,"d":"2,672"},{"v":20846,"d":"20,846"},null,{"v":63571,"d":"63,571"},{"v":48607.2,"d":"48,607"},null,{"v":83514.47509030694,"d":"83,514"},{"v":116067.63490969306,"d":"116,068"},{"v":199582.11,"d":"199,582"}]
[1997,115,{"v":5395,"d":"5,395"},125,{"v":1547,"d":"1,547"},null,{"v":22470,"d":"22,470"},{"v":13073.9,"d":"13,074"},null,{"v":19928.40821198289,"d":"19,928"},{"v":22981.891788017114,"d":"22,982"},{"v":42910.3,"d":"42,910"}]
[1998,795,{"v":13468,"d":"13,468"},305,{"v":2123,"d":"2,123"},null,{"v":34892,"d":"34,892"},{"v":17432,"d":"17,432"},null,{"v":36425.51673236582,"d":"36,426"},{"v":33088.47326763418,"d":"33,088"},{"v":69513.98999999999,"d":"69,514"}]
[1999,{"v":1674,"d":"1,674"},{"v":12062,"d":"12,062"},68,{"v":4507,"d":"4,507"},null,{"v":33348,"d":"33,348"},{"v":25375,"d":"25,375"},null,{"v":35528.35052348207,"d":"35,528"},{"v":41964.46947651793,"d":"41,964"},{"v":77492.82,"d":"77,493"}]
[2000,{"v":4995,"d":"4,995"},{"v":10797,"d":"10,797"},7,{"v":5122,"d":"5,122"},null,{"v":38054,"d":"38,054"},{"v":33875,"d":"33,875"},null,{"v":39087.510652777855,"d":"39,088"},{"v":54313.80934722215,"d":"54,314"},{"v":93401.32,"d":"93,401"}]
[2001,{"v":3152,"d":"3,152"},{"v":15520,"d":"15,520"},82,{"v":20868,"d":"20,868"},null,{"v":80100,"d":"80,100"},{"v":80142,"d":"80,142"},null,{"v":71441.50170863539,"d":"71,442"},{"v":129180.91829136461,"d":"129,181"},{"v":200622.41999999998,"d":"200,622"}]
[2002,{"v":6853,"d":"6,853"},{"v":14132,"d":"14,132"},666,{"v":13083,"d":"13,083"},null,{"v":110066,"d":"110,066"},{"v":53161,"d":"53,161"},null,{"v":104128.12661818088,"d":"104,128"},{"v":94562.15338181912,"d":"94,562"},{"v":198690.28,"d":"198,690"}]
[2003,{"v":6623,"d":"6,623"},{"v":12041,"d":"12,041"},{"v":1000,"d":"1,000"},{"v":12026,"d":"12,026"},null,{"v":84952,"d":"84,952"},{"v":66654,"d":"66,654"},null,{"v":85122.06340250866,"d":"85,122"},{"v":98847.00659749136,"d":"98,847"},{"v":183969.07,"d":"183,969"}]
[2004,{"v":5162,"d":"5,162"},{"v":17681,"d":"17,681"},{"v":1741,"d":"1,741"},{"v":9847,"d":"9,847"},null,{"v":60690,"d":"60,690"},{"v":52134,"d":"52,134"},null,{"v":74747.50688924087,"d":"74,748"},{"v":73356.76311075913,"d":"73,357"},{"v":148104.27000000002,"d":"148,104"}]
[2005,{"v":3238,"d":"3,238"},{"v":23260,"d":"23,260"},{"v":2286,"d":"2,286"},{"v":10919,"d":"10,919"},null,{"v":38297,"d":"38,297"},{"v":51450,"d":"51,450"},null,{"v":75109.97811493126,"d":"75,110"},{"v":55293.19188506875,"d":"55,293"},{"v":130403.17000000001,"d":"130,403"}]
[2006,649,{"v":8685,"d":"8,685"},127,{"v":2151,"d":"2,151"},null,{"v":17767,"d":"17,767"},{"v":17223,"d":"17,223"},null,{"v":21779.186729005265,"d":"21,779"},{"v":25142.24327099474,"d":"25,142"},{"v":46921.43000000001,"d":"46,921"}]
[2007,{"v":1687,"d":"1,687"},{"v":8926,"d":"8,926"},{"v":1108,"d":"1,108"},{"v":4450,"d":"4,450"},null,{"v":25121,"d":"25,121"},{"v":15236.129439675473,"d":"15,236"},null,{"v":26833.430297381376,"d":"26,833"},{"v":30079.779142294094,"d":"30,080"},{"v":56913.20943967547,"d":"56,913"}]
[2008,{"v":7766,"d":"7,766"},{"v":10204,"d":"10,204"},869,{"v":3266,"d":"3,266"},null,{"v":34054,"d":"34,054"},{"v":20039.064249279552,"d":"20,039"},null,{"v":41999.173756628305,"d":"41,999"},{"v":34807.76049265124,"d":"34,808"},{"v":76806.93424927955,"d":"76,807"}]
[2009,567,{"v":28513,"d":"28,513"},{"v":2519,"d":"2,519"},{"v":16288,"d":"16,288"},null,{"v":69222,"d":"69,222"},{"v":55864.08275862069,"d":"55,864"},null,{"v":80866.88553617467,"d":"80,867"},{"v":93334.36722244602,"d":"93,334"},{"v":174201.25275862069,"d":"174,201"}]
[2010,{"v":4090,"d":"4,090"},{"v":25163,"d":"25,163"},{"v":1542,"d":"1,542"},{"v":12455,"d":"12,455"},null,{"v":102237,"d":"102,237"},{"v":74069,"d":"74,069"},null,{"v":112930.31697017179,"d":"112,930"},{"v":107643.58302982822,"d":"107,644"},{"v":220573.90000000002,"d":"220,574"}]
[2011,{"v":3517,"d":"3,517"},{"v":28267,"d":"28,267"},742,{"v":14569,"d":"14,569"},null,{"v":64403,"d":"64,403"},{"v":23756.972942130004,"d":"23,757"},null,{"v":80487.89057476752,"d":"80,488"},{"v":55885.9623673625,"d":"55,886"},{"v":136373.85294213,"d":"136,374"}]
[2012,{"v":10279,"d":"10,279"},{"v":30670,"d":"30,670"},{"v":2470,"d":"2,470"},{"v":18069,"d":"18,069"},null,{"v":66836,"d":"66,836"},{"v":22301,"d":"22,301"},null,{"v":94190.94167801645,"d":"94,191"},{"v":58048.42832198355,"d":"58,048"},{"v":152239.37,"d":"152,239"}]
[2013,{"v":5935,"d":"5,935"},{"v":21957,"d":"21,957"},{"v":2515,"d":"2,515"},{"v":21246,"d":"21,246"},null,{"v":56785,"d":"56,785"},{"v":26732,"d":"26,732"},null,{"v":73262.65992926525,"d":"73,263"},{"v":62935.65007073474,"d":"62,936"},{"v":136198.31,"d":"136,198"}]
[2014,{"v":5504,"d":"5,504"},{"v":67252,"d":"67,252"},{"v":7322,"d":"7,322"},{"v":28595,"d":"28,595"},null,{"v":105039,"d":"105,039"},{"v":59840,"d":"59,840"},null,{"v":140428.0258662847,"d":"140,428"},{"v":134341.3820236348,"d":"134,341"},{"v":274769.4078899195,"d":"274,769"}]
[2015,{"v":1540,"d":"1,540"},{"v":12544,"d":"12,544"},610,{"v":8172,"d":"8,172"},null,{"v":21278,"d":"21,278"},{"v":9646,"d":"9,646"},null,{"v":28953,"d":"28,953"},{"v":24825,"d":"24,825"},{"v":53778,"d":"53,778"}]
[2016,232,{"v":2063,"d":"2,063"},891,{"v":3868,"d":"3,868"},null,{"v":38595,"d":"38,595"},{"v":24464,"d":"24,464"},null,{"v":33284,"d":"33,284"},{"v":36248,"d":"36,248"},{"v":69532,"d":"69,532"}]
[2017,{"v":1170,"d":"1,170"},{"v":10554,"d":"10,554"},886,{"v":10721,"d":"10,721"},null,{"v":26907,"d":"26,907"},{"v":22617,"d":"22,617"},null,{"v":36260,"d":"36,260"},{"v":36646,"d":"36,646"},{"v":72906,"d":"72,906"}]
[2018,802,{"v":8950,"d":"8,950"},177,{"v":4087,"d":"4,087"},null,{"v":49622,"d":"49,622"},{"v":16199,"d":"16,199"},null,{"v":57980,"d":"57,980"},{"v":22043,"d":"22,043"},{"v":80023,"d":"80,023"}]
[2019,{"v":2000,"d":"2,000"},{"v":8207,"d":"8,207"},0,{"v":13666,"d":"13,666"},null,{"v":30468,"d":"30,468"},{"v":14089,"d":"14,089"},null,{"v":36011.8763788189,"d":"36,012"},{"v":17479.1236211811,"d":"17,479"},{"v":53491,"d":"53,491"}]
[2020,{"v":1014,"d":"1,014"},{"v":6541,"d":"6,541"},180,{"v":6538,"d":"6,538"},null,{"v":23814,"d":"23,814"},{"v":14392,"d":"14,392"},null,{"v":30099,"d":"30,099"},{"v":21923,"d":"21,923"},{"v":52022,"d":"52,022"}]
[2021,{"v":1504,"d":"1,504"},{"v":13861,"d":"13,861"},0,{"v":5805,"d":"5,805"},null,{"v":62789,"d":"62,789"},{"v":31475,"d":"31,475"},null,{"v":71566,"d":"71,566"},{"v":43852,"d":"43,852"},{"v":115418,"d":"115,418"}]
[2022,{"v":3518,"d":"3,518"},{"v":22083,"d":"22,083"},252,{"v":16141,"d":"16,141"},null,{"v":61057,"d":"61,057"},{"v":71327,"d":"71,327"},null,{"v":68727,"d":"68,727"},{"v":105502,"d":"105,502"},{"v":174229,"d":"174,229"}]
["2023e/",{"v":1474,"d":"1,474"},{"v":4330,"d":"4,330"},{"v":1348,"d":"1,348"},{"v":16941,"d":"16,941"},null,{"v":49877,"d":"49,877"},{"v":44138,"d":"44,138"},null,{"v":56446,"d":"56,446"},{"v":61662,"d":"61,662"},{"v":118108,"d":"118,108"}]
["2024e/",{"v":1638,"d":"1,638"},{"v":13536,"d":"13,536"},"NA","NA",null,"NA","NA",null,"NA","NA","NA"]
["GOAL",{"$nulls":5},"35,400f/",{"$nulls":5},35400]
["a/  Beginning in 1987, estimates provided by WDFW for recreational catch reflect punch card bias correction factor."]
["b/  \"Natural\" includes hatchery fish spawning in wild.  \"Hatchery\" includes wild fish taken for brood stock."]
["c/  Terminal run size numbers from 1981 to present are under co-manager review."]
["d/  The combined natural and hatchery run size total may not add to the sum of the catch and escapements due to hatchery total run size including on-station and off-station escapements."]
[]
["e/  Preliminary."]
["f/ The Pacific Fisheries Management Council adopted a new SMSY of 24,426 under FMP Amendment 16 as a biological reference point used to develop status determination critieria consistent with the Magnusun-Stevens Act. Previously, the conservation objective of 35,400 listed in the Pacific Coast Salmon FMP was used to assess overfished status.  The natural spawning escapement goal remains 35,400."]
["f/ Council adopted a new SMSY of 24,426 under FMP Amendment 16. Previously, the escapement goal of 35,400 was designated as the conservation objective -- failure to meet this would trigger a 'conservation alert'.  The co-manager escapement goal and conservation objective remains 35,400. (2020 review footnote"]
["f/ Council adopted a new Smsy of 24,426 under FMP Amendment 16.  Previously, the escapement goal of 35,400 was designated as the 'conservation objective -- failure to meet this would trigger a 'conservation alert'.  The co-manager escapement goal and conservation objective remains 35,400. The GOAL listed under the natural escapement time series in Table B-26 should be 35,400. The Smsy adopted by the PFMC in amendment 16 was a reference point for assessing status determination criteria. (prior to 2020)"]
[]
[null,null,2021,null," Nat. Origin Spawn. Esc.",null,{"$f":"G50","v":{"v":62789,"d":"62,789"}}]
[null,null,2022,null,"Nat. Origin Spawn Esc.",null,{"$f":"G51","v":{"v":61057,"d":"61,057"}}]
[null,null,"2023e/",null," Nat. Origin Spawn Esc.",null,{"$f":"G52","v":{"v":49877,"d":"49,877"}}]
[{"$nulls":4},"GEOMETRIC MEAN",null,{"$f":"GEOMEAN(G65:G67)","v":{"v":57611.13754792068,"d":"57,611"}}]
[{"$nulls":4},"MSST",null,{"v":18320,"d":"18,320"}]
{"$rows_empty":15}
["TABLE B-26.  Grays Harbor coho terminal catch, spawning escapement, and run size estimates in numbers of fish. "]
[null,"Terminal Catch"]
["Year or Average","Non-Indian Gillnet","Treaty Indian Gillnet","Chehalis Tribal Gillnet",null,null,"Spawning Escapementb/",null,null,"Terminal Run Sizec/"]
[{"$nulls":4},"Sporta/",null,"Natural","Hatchery",null,"Natural","Hatchery","Totald/"]
["1981-1985",{"$f":"AVERAGE(B10:B14)","v":{"v":5299.4,"d":"5,299"}},{"$f":"AVERAGE(C10:C14)","v":{"v":15613.6,"d":"15,614"}},{"$f":"AVERAGE(D10:D14)","v":{"v":2864.8,"d":"2,865"}},{"$f":"AVERAGE(E10:E14)","v":{"v":5011.8,"d":"5,012"}},null,{"$f":"AVERAGE(G10:G14)","v":{"v":36846.6,"d":"36,847"}},{"$f":"AVERAGE(H10:H14)","v":{"v":17253.46,"d":"17,253"}},null,{"$f":"AVERAGE(J10:J14)","v":{"v":49161.66752792151,"d":"49,162"}},{"$f":"AVERAGE(K10:K14)","v":{"v":32882.26040399339,"d":"32,882"}},{"$f":"AVERAGE(L10:L14)","v":{"v":82043.92793191489,"d":"82,044"}}]
["1986-1990",{"$f":"AVERAGE(B15:B19)","v":{"v":7715.4,"d":"7,715"}},{"$f":"AVERAGE(C15:C19)","v":{"v":30109,"d":"30,109"}},{"$f":"AVERAGE(D15:D19)","v":{"v":1817.4,"d":"1,817"}},{"$f":"AVERAGE(E15:E19)","v":{"v":5355,"d":"5,355"}},null,{"$f":"AVERAGE(G15:G19)","v":{"v":44116.2,"d":"44,116"}},{"$f":"AVERAGE(H15:H19)","v":{"v":29962.8,"d":"29,963"}},null,{"$f":"AVERAGE(J15:J19)","v":{"v":58834.83281717203,"d":"58,835"}},{"$f":"AVERAGE(K15:K19)","v":{"v":60298.089182827985,"d":"60,298"}},{"$f":"AVERAGE(L15:L19)","v":{"v":119132.92199999999,"d":"119,133"}}]
["1991-1995",{"$f":"AVERAGE(B20:B24)","v":{"v":12501.6,"d":"12,502"}},{"$f":"AVERAGE(C20:C24)","v":{"v":29165.6,"d":"29,166"}},{"v":2609.4,"d":"2,609"},{"v":10502.8,"d":"10,503"},null,{"v":35825.6,"d":"35,826"},{"v":31304,"d":"31,304"},null,{"v":46949.20303026635,"d":"46,949"},{"v":76403.25496973365,"d":"76,403"},{"v":123352.45800000001,"d":"123,352"}]
["1996-2000",{"$f":"AVERAGE(B25:B29)","v":{"v":3535,"d":"3,535"}},{"$f":"AVERAGE(C25:C29)","v":{"v":18701.2,"d":"18,701"}},{"$f":"AVERAGE(D25:D29)","v":{"v":635.4,"d":"635"}},{"$f":"AVERAGE(E25:E29)","v":{"v":6829,"d":"6,829"}},null,{"$f":"AVERAGE(G25:G29)","v":{"v":38467,"d":"38,467"}},{"$f":"AVERAGE(H25:H29)","v":{"v":27672.620000000003,"d":"27,673"}},null,{"$f":"AVERAGE(J25:J29)","v":{"v":42896.852242183115,"d":"42,897"}},{"$f":"AVERAGE(K25:K29)","v":{"v":53683.25575781689,"d":"53,683"}},{"$f":"AVERAGE(L25:L29)","v":{"v":96580.108,"d":"96,580"}}]
["2001-2005",{"$f":"AVERAGE(B30:B34)","v":{"v":5005.6,"d":"5,006"}},{"$f":"AVERAGE(C30:C34)","v":{"v":16526.8,"d":"16,527"}},{"v":1155,"d":"1,155"},{"v":13348.6,"d":"13,349"},null,{"v":74821,"d":"74,821"},{"v":60708.2,"d":"60,708"},null,{"v":82109.83534669942,"d":"82,110"},{"v":90248.0066533006,"d":"90,248"},{"v":172357.842,"d":"172,358"}]
["2006-2010",{"$f":"AVERAGE(B35:B39)","v":{"v":2951.8,"d":"2,952"}},{"$f":"AVERAGE(C35:C39)","v":{"v":16298.2,"d":"16,298"}},{"v":1233,"d":"1,233"},{"v":7722,"d":"7,722"},null,{"v":49680.2,"d":"49,680"},{"v":36486.255289515146,"d":"36,486"},null,{"v":56881.79865787227,"d":"56,882"},{"v":58201.546631642865,"d":"58,202"},{"v":115083.34528951514,"d":"115,083"}]
[2011,{"$f":"B40","v":{"v":3517,"d":"3,517"}},{"v":28267,"d":"28,267"},742,{"v":14569,"d":"14,569"},null,{"$f":"G40","v":{"v":64403,"d":"64,403"}},{"v":23756.972942130004,"d":"23,757"},null,{"$f":"J40","v":{"v":80487.89057476752,"d":"80,488"}},{"v":55885.9623673625,"d":"55,886"},{"v":136373.85294213,"d":"136,374"}]
[2012,{"v":10279,"d":"10,279"},{"v":30670,"d":"30,670"},{"v":2470,"d":"2,470"},{"v":18069,"d":"18,069"},null,{"v":66836,"d":"66,836"},{"v":22301,"d":"22,301"},null,{"v":94190.94167801645,"d":"94,191"},{"v":58048.42832198355,"d":"58,048"},{"v":152239.37,"d":"152,239"}]
[2013,{"v":5935,"d":"5,935"},{"v":21957,"d":"21,957"},{"v":2515,"d":"2,515"},{"v":21246,"d":"21,246"},null,{"v":56785,"d":"56,785"},{"v":26732,"d":"26,732"},null,{"v":73262.65992926525,"d":"73,263"},{"v":62935.65007073474,"d":"62,936"},{"v":136198.31,"d":"136,198"}]
[2014,{"v":5504,"d":"5,504"},{"v":67252,"d":"67,252"},{"v":7322,"d":"7,322"},{"v":28595,"d":"28,595"},null,{"v":105039,"d":"105,039"},{"v":59840,"d":"59,840"},null,{"v":140428.0258662847,"d":"140,428"},{"v":134341.3820236348,"d":"134,341"},{"v":274769.4078899195,"d":"274,769"}]
[2015,{"v":1540,"d":"1,540"},{"v":12544,"d":"12,544"},610,{"v":8172,"d":"8,172"},null,{"v":21278,"d":"21,278"},{"v":9646,"d":"9,646"},null,{"v":28953,"d":"28,953"},{"v":24825,"d":"24,825"},{"v":53778,"d":"53,778"}]
[2016,232,{"v":2063,"d":"2,063"},891,{"v":3868,"d":"3,868"},null,{"v":38595,"d":"38,595"},{"v":24464,"d":"24,464"},null,{"v":33284,"d":"33,284"},{"v":36248,"d":"36,248"},{"v":69532,"d":"69,532"}]
[2017,{"v":1170,"d":"1,170"},{"v":10554,"d":"10,554"},886,{"v":10721,"d":"10,721"},null,{"v":26907,"d":"26,907"},{"v":22617,"d":"22,617"},null,{"v":36260,"d":"36,260"},{"v":36646,"d":"36,646"},{"v":72906,"d":"72,906"}]
[2018,802,{"v":8950,"d":"8,950"},177,{"v":4087,"d":"4,087"},null,{"$f":"G47","v":{"v":49622,"d":"49,622"}},{"v":16199,"d":"16,199"},null,{"$f":"J47","v":{"v":57980,"d":"57,980"}},{"$f":"K47","v":{"v":22043,"d":"22,043"}},{"v":80023,"d":"80,023"}]
[2019,{"v":2000,"d":"2,000"},{"v":8207,"d":"8,207"},0,{"v":13666,"d":"13,666"},null,{"$f":"G48","v":{"v":30468,"d":"30,468"}},{"v":14089,"d":"14,089"},null,{"$f":"J48","v":{"v":36011.8763788189,"d":"36,012"}},{"v":17479.1236211811,"d":"17,479"},{"v":53491,"d":"53,491"}]
[2020,{"v":1014,"d":"1,014"},{"v":6541,"d":"6,541"},180,{"v":6538,"d":"6,538"},null,{"$f":"G49","v":{"v":23814,"d":"23,814"}},{"v":14392,"d":"14,392"},null,{"$f":"J49","v":{"v":30099,"d":"30,099"}},{"v":21923,"d":"21,923"},{"v":52022,"d":"52,022"}]
[2021,{"v":1504,"d":"1,504"},{"v":13861,"d":"13,861"},0,{"v":5805,"d":"5,805"},null,{"$f":"G50","v":{"v":62789,"d":"62,789"}},{"$f":"H50","v":{"v":31475,"d":"31,475"}},null,{"$f":"J50","v":{"v":71566,"d":"71,566"}},{"v":43852,"d":"43,852"},{"v":115418,"d":"115,418"}]
[2022,{"v":3518,"d":"3,518"},{"v":22083,"d":"22,083"},252,{"v":16141,"d":"16,141"},null,{"$f":"G51","v":{"v":61057,"d":"61,057"}},{"$f":"H51","v":{"v":71327,"d":"71,327"}},null,{"$f":"J51","v":{"v":68727,"d":"68,727"}},{"v":105502,"d":"105,502"},{"v":174229,"d":"174,229"}]
["2023e/",{"$f":"B52","v":{"v":1474,"d":"1,474"}},{"v":4330,"d":"4,330"},{"v":1348,"d":"1,348"},{"v":16941,"d":"16,941"},null,{"$f":"G52","v":{"v":49877,"d":"49,877"}},{"v":44138,"d":"44,138"},null,{"$f":"J52","v":{"v":56446,"d":"56,446"}},{"v":61662,"d":"61,662"},{"v":118108,"d":"118,108"}]
["2024e/",{"v":1638,"d":"1,638"},{"v":13536,"d":"13,536"},"NA","NA",null,"NA","NA",null,"NA","NA","NA"]
["GOAL",{"$nulls":5},"35,400f/"]
[{"$f":"A55","v":"a/  Beginning in 1987, estimates provided by WDFW for recreational catch reflect punch card bias correction factor."}]
[{"$f":"A56","v":"b/  \"Natural\" includes hatchery fish spawning in wild.  \"Hatchery\" includes wild fish taken for brood stock."}]
[{"$f":"A57","v":"c/  Terminal run size numbers from 1981 to present are under co-manager review."}]
[{"$f":"A58","v":"d/  The combined natural and hatchery run size total may not add to the sum of the catch and escapements due to hatchery total run size including on-station and off-station escapements."}]
[]
[{"$f":"A60","v":"e/  Preliminary."}]
[{"$f":"A61","v":"f/ The Pacific Fisheries Management Council adopted a new SMSY of 24,426 under FMP Amendment 16 as a biological reference point used to develop status determination critieria consistent with the Magnusun-Stevens Act. Previously, the conservation objective of 35,400 listed in the Pacific Coast Salmon FMP was used to assess overfished status.  The natural spawning escapement goal remains 35,400."}]

{"sheet":"B-27","index":28,"n_rows":92,"n_cols":5,"rows_kept":92,"merged":[[0,0,0,4],[51,0,51,4],[52,0,52,4],[68,0,68,4],[90,0,90,4],[91,0,91,4]]}
["TABLE B-27.  Treaty Indian gillnet catch of Chinook, chum, and sockeye salmon in the Quinault River in numbers of fish."]
["Year or Average","Spring/Summer Chinooka/","Fall Chinooka/","Chum","Sockeye"]
[1976,52,{"v":3200,"d":"3,200"},{"v":7400,"d":"7,400"},{"v":14800,"d":"14,800"}]
[1977,51,600,{"v":3600,"d":"3,600"},{"v":30500,"d":"30,500"}]
[1978,163,{"v":6900,"d":"6,900"},{"v":13700,"d":"13,700"},{"v":21000,"d":"21,000"}]
[1979,299,{"v":6500,"d":"6,500"},{"v":3200,"d":"3,200"},{"v":4700,"d":"4,700"}]
[1980,178,{"v":4400,"d":"4,400"},{"v":11900,"d":"11,900"},{"v":16800,"d":"16,800"}]
[1981,148,{"v":5300,"d":"5,300"},{"v":4500,"d":"4,500"},{"v":21700,"d":"21,700"}]
[1982,146,{"v":5500,"d":"5,500"},{"v":7400,"d":"7,400"},{"v":15300,"d":"15,300"}]
[1983,45,{"v":4400,"d":"4,400"},{"v":3700,"d":"3,700"},400]
[1984,118,{"v":5500,"d":"5,500"},{"v":4300,"d":"4,300"},900]
[1985,115,{"v":4800,"d":"4,800"},{"v":3700,"d":"3,700"},{"v":24700,"d":"24,700"}]
[1986,115,{"v":6700,"d":"6,700"},{"v":7100,"d":"7,100"},{"v":1900,"d":"1,900"}]
[1987,346,{"v":12220,"d":"12,220"},{"v":3486,"d":"3,486"},{"v":24347,"d":"24,347"}]
[1988,437,{"v":9801,"d":"9,801"},{"v":8623,"d":"8,623"},{"v":18186,"d":"18,186"}]
[1989,530,{"v":10108,"d":"10,108"},{"v":2563,"d":"2,563"},{"v":2691,"d":"2,691"}]
[1990,260,{"v":5282,"d":"5,282"},{"v":1660,"d":"1,660"},{"v":8965,"d":"8,965"}]
[1991,109,{"v":6304,"d":"6,304"},{"v":2565,"d":"2,565"},{"v":5566,"d":"5,566"}]
[1992,142,{"v":7512,"d":"7,512"},{"v":2566,"d":"2,566"},{"v":8801,"d":"8,801"}]
[1993,126,{"v":6695,"d":"6,695"},{"v":5259,"d":"5,259"},{"v":32077,"d":"32,077"}]
[1994,85,{"v":6878,"d":"6,878"},{"v":1449,"d":"1,449"},963]
[1995,26,{"v":4076,"d":"4,076"},687,207]
[1996,41,{"v":5221,"d":"5,221"},594,{"v":1244,"d":"1,244"}]
[1997,19,{"v":2625,"d":"2,625"},{"v":1033,"d":"1,033"},{"v":2532,"d":"2,532"}]
[1998,75,{"v":6124,"d":"6,124"},{"v":4699,"d":"4,699"},{"v":3440,"d":"3,440"}]
[1999,10,{"v":4840,"d":"4,840"},599,73]
[2000,0,{"v":3421,"d":"3,421"},755,0]
[2001,5,{"v":4047,"d":"4,047"},{"v":2009,"d":"2,009"},0]
[2002,36,{"v":4542,"d":"4,542"},{"v":1151,"d":"1,151"},{"v":16939,"d":"16,939"}]
[2003,92,{"v":7343,"d":"7,343"},{"v":3742,"d":"3,742"},{"v":37130,"d":"37,130"}]
[2004,142,{"v":10662,"d":"10,662"},{"v":2916,"d":"2,916"},{"v":6990,"d":"6,990"}]
[2005,24,{"v":7648,"d":"7,648"},{"v":1283,"d":"1,283"},116]
[2006,16,{"v":7044,"d":"7,044"},862,8]
[2007,20,{"v":2126,"d":"2,126"},{"v":1173,"d":"1,173"},1]
[2008,10,{"v":3682,"d":"3,682"},{"v":1171,"d":"1,171"},0]
[2009,43,{"$f":"5498-43","v":{"v":5455,"d":"5,455"}},{"v":1156,"d":"1,156"},{"v":1441,"d":"1,441"}]
[2010,8,{"v":4521,"d":"4,521"},{"v":2037,"d":"2,037"},{"v":1856,"d":"1,856"}]
[2011,{"$f":"2+2+6+3+4+5+3+1","v":26},{"v":5998,"d":"5,998"},{"v":7421,"d":"7,421"},{"$f":"1+1752+4649+2299+476","v":{"v":9177,"d":"9,177"}}]
[2012,15,{"v":5090,"d":"5,090"},{"v":3426,"d":"3,426"},{"v":1193,"d":"1,193"}]
[2013,20,{"v":7148,"d":"7,148"},{"v":3834,"d":"3,834"},969]
[2014,11,{"v":12349,"d":"12,349"},{"v":1250,"d":"1,250"},{"v":4313,"d":"4,313"}]
[2015,6,{"v":11574,"d":"11,574"},{"v":4879,"d":"4,879"},{"v":16639,"d":"16,639"}]
[2016,41,{"v":5137,"d":"5,137"},{"v":7294,"d":"7,294"},{"v":4312,"d":"4,312"}]
[2017,59,{"v":6813,"d":"6,813"},{"v":2986,"d":"2,986"},{"v":3524,"d":"3,524"}]
[2018,1,{"v":4420,"d":"4,420"},{"v":3852,"d":"3,852"},3]
[2019,0,{"v":5232,"d":"5,232"},{"v":1677,"d":"1,677"},0]
[2020,0,{"v":10778,"d":"10,778"},778,1]
[2021,5,{"v":6818,"d":"6,818"},{"v":2928,"d":"2,928"},{"v":1374,"d":"1,374"}]
[2022,23,{"v":6620,"d":"6,620"},{"v":6968,"d":"6,968"},{"v":24139,"d":"24,139"}]
[2023,12,{"v":7481,"d":"7,481"},{"v":11556,"d":"11,556"},{"v":6490,"d":"6,490"}]
["2024b/",7,{"v":2428,"d":"2,428"},{"v":2581,"d":"2,581"},{"v":2200,"d":"2,200"}]
["a/  Stock separation under review."]
["b/  Preliminary."]
{"$rows_empty":15}
["TABLE B-27.  Treaty Indian gillnet catch of Chinook, chum, and sockeye salmon in the Quinault River in numbers of fish.  "]
["Year or Average","Spring/Summer Chinooka/","Fall Chinooka/","Chum","Sockeye"]
["1981-1985",{"$f":"AVERAGE(B8:B12)","v":{"v":114.4,"d":"114"}},{"$f":"AVERAGE(C8:C12)","v":{"v":5100,"d":"5,100"}},{"$f":"AVERAGE(D8:D12)","v":{"v":4720,"d":"4,720"}},{"$f":"AVERAGE(E8:E12)","v":{"v":12600,"d":"12,600"}}]
["1986-1990",{"$f":"AVERAGE(B13:B17)","v":{"v":337.6,"d":"338"}},{"$f":"AVERAGE(C13:C17)","v":{"v":8822.2,"d":"8,822"}},{"$f":"AVERAGE(D13:D17)","v":{"v":4686.4,"d":"4,686"}},{"$f":"AVERAGE(E13:E17)","v":{"v":11217.8,"d":"11,218"}}]
["1991-1995",{"$f":"AVERAGE(B18:B22)","v":{"v":97.6,"d":"98"}},{"$f":"AVERAGE(C18:C22)","v":{"v":6293,"d":"6,293"}},{"$f":"AVERAGE(D18:D22)","v":{"v":2505.2,"d":"2,505"}},{"$f":"AVERAGE(E18:E22)","v":{"v":9522.8,"d":"9,523"}}]
["1996-2000",{"$f":"AVERAGE(B23:B27)","v":29},{"$f":"AVERAGE(C23:C27)","v":{"v":4446.2,"d":"4,446"}},{"$f":"AVERAGE(D23:D27)","v":{"v":1536,"d":"1,536"}},{"$f":"AVERAGE(E23:E27)","v":{"v":1457.8,"d":"1,458"}}]
["2001-2005",{"$f":"AVERAGE(B28:B32)","v":{"v":59.8,"d":"60"}},{"$f":"AVERAGE(C28:C32)","v":{"v":6848.4,"d":"6,848"}},{"$f":"AVERAGE(D28:D32)","v":{"v":2220.2,"d":"2,220"}},{"$f":"AVERAGE(E28:E32)","v":{"v":12235,"d":"12,235"}}]
["2006-2010",{"$f":"AVERAGE(B33:B37)","v":{"v":19.4,"d":"19"}},{"$f":"AVERAGE(C33:C37)","v":{"v":4565.6,"d":"4,566"}},{"v":1279.8,"d":"1,280"},{"v":661.2,"d":"661"}]
[2011,{"$f":"B38","v":26},{"v":5998,"d":"5,998"},{"v":7421,"d":"7,421"},{"v":9177,"d":"9,177"}]
[2012,15,{"v":5090,"d":"5,090"},{"v":3426,"d":"3,426"},{"v":1193,"d":"1,193"}]
[2013,20,{"v":7148,"d":"7,148"},{"v":3834,"d":"3,834"},969]
[2014,11,{"v":12349,"d":"12,349"},{"v":1250,"d":"1,250"},{"v":4313,"d":"4,313"}]
[2015,6,{"v":11574,"d":"11,574"},{"v":4879,"d":"4,879"},{"v":16639,"d":"16,639"}]
[2016,41,{"v":5137,"d":"5,137"},{"v":7294,"d":"7,294"},{"v":4312,"d":"4,312"}]
[2017,59,{"v":6813,"d":"6,813"},{"v":2986,"d":"2,986"},{"v":3524,"d":"3,524"}]
[2018,1,{"v":4420,"d":"4,420"},{"v":3852,"d":"3,852"},3]
[2019,0,{"v":5232,"d":"5,232"},{"v":1677,"d":"1,677"},0]
[2020,0,{"v":10778,"d":"10,778"},778,1]
[2021,5,{"v":6818,"d":"6,818"},{"v":2928,"d":"2,928"},{"v":1374,"d":"1,374"}]
[2022,23,{"v":6620,"d":"6,620"},{"v":6968,"d":"6,968"},{"v":24139,"d":"24,139"}]
[2023,{"$f":"B50","v":12},{"v":7481,"d":"7,481"},{"v":11556,"d":"11,556"},{"v":6490,"d":"6,490"}]
["2024b/",7,{"v":2428,"d":"2,428"},{"v":2581,"d":"2,581"},{"v":2200,"d":"2,200"}]
[{"$f":"A52","v":"a/  Stock separation under review."}]
[{"$f":"A53","v":"b/  Preliminary."}]

{"sheet":"B-28","index":29,"n_rows":96,"n_cols":12,"rows_kept":96,"merged":[[0,0,0,10],[1,1,1,3],[2,0,3,0],[2,2,3,2],[2,5,2,6],[2,8,2,10],[53,0,53,10],[54,0,54,10],[55,0,55,10],[68,0,68,10],[69,1,69,3],[70,0,71,0],[70,2,71,2],[70,5,70,6],[70,8,70,10],[93,0,93,10],[94,0,94,10],[95,0,95,10]]}
["TABLE B-28.  Estimated inriver run size, catch and escapement for Quinault River coho in numbers of fish."]
[null,"  Terminal Catcha/"]
["Year or Average",null,"Ceremonial &  Subsistence",null,null,"Escapement",null,null,"Terminal Run Size"]
[null,"Gillnet",null,"River Sportb/",null,"Natural","       Hatchery",null,"Natural","Hatchery","Total"]
[1977,{"v":1900,"d":"1,900"},"--","--",null,{"v":1500,"d":"1,500"},300,null,{"v":3000,"d":"3,000"},600,{"$f":"SUM(I5:J5)","v":{"v":3600,"d":"3,600"}},{"$f":"K5=(I5+J5)","v":true}]
[1978,{"v":6900,"d":"6,900"},"--","--",null,{"v":2500,"d":"2,500"},{"v":1600,"d":"1,600"},null,{"v":6600,"d":"6,600"},{"v":4200,"d":"4,200"},{"v":10800,"d":"10,800"},true]
[1979,{"v":17800,"d":"17,800"},"--","--",null,{"v":7200,"d":"7,200"},{"v":4700,"d":"4,700"},null,{"v":18000,"d":"18,000"},{"v":11700,"d":"11,700"},{"v":29700,"d":"29,700"},true]
[1980,{"v":12400,"d":"12,400"},"--","--",null,{"v":2499,"d":"2,499"},{"v":5829,"d":"5,829"},null,{"v":6260,"d":"6,260"},{"v":14500,"d":"14,500"},{"v":20760,"d":"20,760"},true]
[1981,{"v":10400,"d":"10,400"},"--","--",null,{"v":2217,"d":"2,217"},{"v":6309,"d":"6,309"},null,{"v":4498,"d":"4,498"},{"v":14443,"d":"14,443"},{"v":18941,"d":"18,941"},true]
[1982,{"v":11000,"d":"11,000"},"--","--",null,{"v":2241,"d":"2,241"},{"v":7021,"d":"7,021"},null,{"v":14400,"d":"14,400"},{"v":8071,"d":"8,071"},{"v":22471,"d":"22,471"},true]
[1983,{"v":3700,"d":"3,700"},"--","--",null,{"v":7045,"d":"7,045"},{"v":6392,"d":"6,392"},null,{"v":9032,"d":"9,032"},{"v":8071,"d":"8,071"},{"v":17103,"d":"17,103"},true]
[1984,{"v":21100,"d":"21,100"},"--","--",null,{"v":3160,"d":"3,160"},{"v":8287,"d":"8,287"},null,{"v":7764,"d":"7,764"},{"v":24024,"d":"24,024"},{"v":31788,"d":"31,788"},true]
[1985,{"v":7300,"d":"7,300"},"--","--",null,{"v":1524,"d":"1,524"},{"v":3186,"d":"3,186"},null,{"v":3350,"d":"3,350"},{"v":8678,"d":"8,678"},{"v":12028,"d":"12,028"},true]
[1986,{"v":24382,"d":"24,382"},"--","--",null,{"v":5136,"d":"5,136"},{"v":4907,"d":"4,907"},null,{"v":14898,"d":"14,898"},{"v":21332,"d":"21,332"},{"v":36230,"d":"36,230"},true]
[1987,{"v":13987,"d":"13,987"},"--","--",null,{"v":1849,"d":"1,849"},{"v":1431,"d":"1,431"},null,{"v":9619,"d":"9,619"},{"v":8772,"d":"8,772"},{"v":18391,"d":"18,391"},true]
[1988,{"v":12757,"d":"12,757"},"--","--",null,{"v":1194,"d":"1,194"},{"v":6156,"d":"6,156"},null,{"v":2282,"d":"2,282"},{"v":16582,"d":"16,582"},{"v":18864,"d":"18,864"},true]
[1989,{"v":8989,"d":"8,989"},"--","--",null,{"v":4443,"d":"4,443"},{"v":3964,"d":"3,964"},null,{"v":7993,"d":"7,993"},{"v":8526,"d":"8,526"},{"v":16519,"d":"16,519"},true]
[1990,{"v":8770,"d":"8,770"},"--","--",null,{"v":3301,"d":"3,301"},{"v":4738,"d":"4,738"},null,{"v":5329,"d":"5,329"},{"v":10787,"d":"10,787"},{"v":16116,"d":"16,116"},true]
[1991,{"v":21506,"d":"21,506"},"--","--",null,{"v":9250,"d":"9,250"},{"v":22531,"d":"22,531"},null,{"v":13166,"d":"13,166"},{"v":38517,"d":"38,517"},{"v":51683,"d":"51,683"},true]
[1992,{"v":5214,"d":"5,214"},"--","--",null,{"v":4617,"d":"4,617"},{"v":4855,"d":"4,855"},null,{"v":6682,"d":"6,682"},{"v":7771,"d":"7,771"},{"v":14453,"d":"14,453"},true]
[1993,{"v":6020,"d":"6,020"},"--","--",null,{"v":1940,"d":"1,940"},{"v":5688,"d":"5,688"},null,{"v":3077,"d":"3,077"},{"v":10057,"d":"10,057"},{"v":13134,"d":"13,134"},true]
[1994,{"v":1564,"d":"1,564"},"--","--",null,820,{"v":1299,"d":"1,299"},null,{"v":1278,"d":"1,278"},{"v":2047,"d":"2,047"},{"v":3325,"d":"3,325"},true]
[1995,{"v":5513,"d":"5,513"},"--","--",null,{"v":4969,"d":"4,969"},{"v":5858,"d":"5,858"},null,{"v":6824,"d":"6,824"},{"v":8970,"d":"8,970"},{"v":15794,"d":"15,794"},true]
[1996,{"v":10087,"d":"10,087"},"--","--",null,{"v":13327,"d":"13,327"},{"v":9521,"d":"9,521"},null,{"v":18849,"d":"18,849"},{"v":13865,"d":"13,865"},{"v":32714,"d":"32,714"},true]
[1997,365,"--","--",null,{"v":3150,"d":"3,150"},{"v":1054,"d":"1,054"},null,{"v":3339,"d":"3,339"},{"v":1118,"d":"1,118"},{"v":4457,"d":"4,457"},true]
[1998,{"v":5946,"d":"5,946"},"--","--",null,{"v":3770,"d":"3,770"},{"v":3158,"d":"3,158"},null,{"v":7156,"d":"7,156"},{"v":5581,"d":"5,581"},{"v":12737,"d":"12,737"},true]
[1999,{"v":15491,"d":"15,491"},"--","--",null,{"v":12666,"d":"12,666"},{"v":14617,"d":"14,617"},null,{"v":19138,"d":"19,138"},{"v":23101,"d":"23,101"},{"v":42239,"d":"42,239"},true]
[2000,{"v":16194,"d":"16,194"},"--","--",null,{"v":7421,"d":"7,421"},{"v":9481,"d":"9,481"},null,{"v":14559,"d":"14,559"},{"v":18099,"d":"18,099"},{"v":32658,"d":"32,658"},true]
[2001,{"v":25348,"d":"25,348"},"--","--",null,{"v":21565,"d":"21,565"},{"v":30689,"d":"30,689"},null,{"v":30016,"d":"30,016"},{"v":47115,"d":"47,115"},{"v":77131,"d":"77,131"},true]
[2002,{"v":19197,"d":"19,197"},"--","--",null,{"v":12213,"d":"12,213"},{"v":16841,"d":"16,841"},null,{"v":16847,"d":"16,847"},{"v":30196,"d":"30,196"},{"v":47043,"d":"47,043"},true]
[2003,{"v":22546,"d":"22,546"},"--","--",null,{"v":4710,"d":"4,710"},{"v":16841,"d":"16,841"},null,{"v":9546,"d":"9,546"},{"v":34132,"d":"34,132"},{"v":43678,"d":"43,678"},true]
[2004,{"v":17055,"d":"17,055"},"--","--",null,{"v":1404,"d":"1,404"},{"v":10321,"d":"10,321"},null,{"v":3377,"d":"3,377"},{"v":24821,"d":"24,821"},{"v":28198,"d":"28,198"},true]
[2005,{"v":23852,"d":"23,852"},"--","--",null,{"v":6418,"d":"6,418"},{"v":10034,"d":"10,034"},null,{"v":15951,"d":"15,951"},{"v":25574,"d":"25,574"},{"v":41525,"d":"41,525"},true]
[2006,{"v":9785,"d":"9,785"},{"v":336.3951775510204,"d":"336"},{"v":325.11389999999994,"d":"325"},null,{"v":1107,"d":"1,107"},{"v":3198,"d":"3,198"},null,{"v":3429,"d":"3,429"},{"v":11023,"d":"11,023"},{"v":14452,"d":"14,452"},true]
[2007,{"v":11498,"d":"11,498"},415,412,null,{"v":2999,"d":"2,999"},{"v":3333,"d":"3,333"},null,{"v":6376,"d":"6,376"},{"v":12258,"d":"12,258"},{"v":18634,"d":"18,634"},true]
[2008,{"v":25227,"d":"25,227"},961,978,null,{"v":14920,"d":"14,920"},{"v":14959,"d":"14,959"},null,{"v":26544,"d":"26,544"},{"v":29774,"d":"29,774"},{"v":56318,"d":"56,318"},true]
[2009,{"v":54882,"d":"54,882"},{"v":2036.0355763265309,"d":"2,036"},{"v":2047.3942799999998,"d":"2,047"},null,{"v":27303,"d":"27,303"},{"v":29190,"d":"29,190"},null,{"v":48323.838529454646,"d":"48,324"},{"v":66094.91261792995,"d":"66,095"},{"v":114418.7511473846,"d":"114,419"},true]
[2010,{"v":41726,"d":"41,726"},{"v":1449,"d":"1,449"},{"v":1450,"d":"1,450"},null,{"v":17286,"d":"17,286"},{"v":15433,"d":"15,433"},null,{"v":34209,"d":"34,209"},{"v":41680,"d":"41,680"},{"v":75889,"d":"75,889"},true]
[2011,{"v":38431,"d":"38,431"},{"v":1481,"d":"1,481"},{"v":1570,"d":"1,570"},null,{"v":5814,"d":"5,814"},{"v":2738,"d":"2,738"},null,{"v":23538,"d":"23,538"},{"v":24474,"d":"24,474"},{"v":48012,"d":"48,012"},true]
[2012,{"v":19166,"d":"19,166"},656,798,null,{"v":10018,"d":"10,018"},{"v":5176,"d":"5,176"},null,{"v":21299,"d":"21,299"},{"v":14171,"d":"14,171"},{"$f":"I40+J40","v":{"v":35470,"d":"35,470"}},true]
[2013,{"v":20477,"d":"20,477"},942,{"v":1047,"d":"1,047"},null,{"v":2973,"d":"2,973"},{"v":1834,"d":"1,834"},null,{"v":12240,"d":"12,240"},{"v":14209,"d":"14,209"},{"v":26449,"d":"26,449"},true]
[2014,{"v":50299,"d":"50,299"},{"v":2061,"d":"2,061"},{"v":2268,"d":"2,268"},null,{"v":29720,"d":"29,720"},{"v":16024,"d":"16,024"},null,{"v":52606,"d":"52,606"},{"v":46326,"d":"46,326"},{"v":98932,"d":"98,932"},true]
[2015,{"v":9556,"d":"9,556"},541,802,null,{"v":11631,"d":"11,631"},{"v":7346,"d":"7,346"},null,{"v":16760,"d":"16,760"},{"v":13083,"d":"13,083"},{"v":29843,"d":"29,843"},true]
[2016,{"v":37258,"d":"37,258"},{"v":1360,"d":"1,360"},{"v":1522,"d":"1,522"},null,{"v":10523,"d":"10,523"},{"v":14778,"d":"14,778"},null,{"v":25347,"d":"25,347"},{"v":38904,"d":"38,904"},{"v":64251,"d":"64,251"},true]
[2017,{"v":33842,"d":"33,842"},{"v":1333,"d":"1,333"},{"v":1544,"d":"1,544"},null,{"v":29566,"d":"29,566"},{"v":18252,"d":"18,252"},null,{"v":46430,"d":"46,430"},{"v":37555,"d":"37,555"},{"v":83985,"d":"83,985"},true]
[2018,{"v":12084,"d":"12,084"},508,549,null,{"v":17276,"d":"17,276"},{"v":8151,"d":"8,151"},null,{"v":24132,"d":"24,132"},{"v":14113,"d":"14,113"},{"v":38245,"d":"38,245"},true]
[2019,{"v":4348,"d":"4,348"},259,355,null,{"v":13969,"d":"13,969"},{"v":6919,"d":"6,919"},null,{"v":16662,"d":"16,662"},{"v":9022,"d":"9,022"},{"v":25684,"d":"25,684"},true]
[2020,{"v":17567,"d":"17,567"},736,971,null,{"v":12037,"d":"12,037"},{"v":8944,"d":"8,944"},null,{"v":26265,"d":"26,265"},{"v":22431,"d":"22,431"},{"v":48696,"d":"48,696"},true]
[2021,{"v":14619,"d":"14,619"},{"v":1010,"d":"1,010"},{"v":1281,"d":"1,281"},null,{"v":22022,"d":"22,022"},{"v":32556,"d":"32,556"},null,{"v":28039,"d":"28,039"},{"v":43185,"d":"43,185"},{"v":71224,"d":"71,224"},true]
[2022,{"v":23546,"d":"23,546"},{"v":1421,"d":"1,421"},{"v":1700,"d":"1,700"},null,{"v":34399,"d":"34,399"},{"v":37395,"d":"37,395"},null,{"v":34990,"d":"34,990"},{"v":63471,"d":"63,471"},{"v":98461,"d":"98,461"},{"$f":"K50=(I50+J50)","v":true}]
["2023c/",{"v":7979,"d":"7,979"},"NA","NA",null,"NA","NA",null,"NA","NA","NA",{"$error":"#VALUE!"}]
["2024c/",{"v":3663,"d":"3,663"},"NA","NA",null,"NA","NA",null,"NA","NA","NA",{"$error":"#VALUE!"}]
["GOAL",{"$nulls":5},"Hatchery Production"]
["a/  Includes dip-in fish destined for other river systems."]
["b/  Includes Treaty and Non-treaty regulated fisheries."]
["c/  Preliminary."]
{"$rows_empty":12}
["TABLE B-28.  Estimated inriver run size, catch, and escapement for Quinault River coho in numbers of fish. "]
[null,"  Terminal Catcha/"]
["Year or Average",null,"Ceremonial &  Subsistence",null,null,"Escapement",null,null,"Terminal Run Size"]
[null,"Gillnet",null,"River Sportb/",null,"Natural","       Hatchery",null,"Natural","Hatchery","Total"]
["1981-1985",{"$f":"AVERAGE(B9:B13)","v":{"v":10700,"d":"10,700"}},"--","--",null,{"$f":"AVERAGE(F9:F13)","v":{"v":3237.4,"d":"3,237"}},{"$f":"AVERAGE(G9:G13)","v":{"v":6239,"d":"6,239"}},null,{"$f":"AVERAGE(I9:I13)","v":{"v":7808.8,"d":"7,809"}},{"$f":"AVERAGE(J9:J13)","v":{"v":12657.4,"d":"12,657"}},{"$f":"AVERAGE(K9:K13)","v":{"v":20466.2,"d":"20,466"}}]
["1986-1990",{"$f":"AVERAGE(B14:B18)","v":{"v":13777,"d":"13,777"}},"--","--",null,{"$f":"AVERAGE(F14:F18)","v":{"v":3184.6,"d":"3,185"}},{"$f":"AVERAGE(G14:G18)","v":{"v":4239.2,"d":"4,239"}},null,{"$f":"AVERAGE(I14:I18)","v":{"v":8024.2,"d":"8,024"}},{"$f":"AVERAGE(J14:J18)","v":{"v":13199.8,"d":"13,200"}},{"$f":"AVERAGE(K14:K18)","v":{"v":21224,"d":"21,224"}}]
["1991-1995",{"$f":"AVERAGE(B19:B23)","v":{"v":7963.4,"d":"7,963"}},"--","--",null,{"$f":"AVERAGE(F19:F23)","v":{"v":4319.2,"d":"4,319"}},{"v":8046.2,"d":"8,046"},null,{"v":6205.4,"d":"6,205"},{"v":13472.4,"d":"13,472"},{"v":19677.8,"d":"19,678"}]
["1996-2000",{"$f":"AVERAGE(B24:B28)","v":{"v":9616.6,"d":"9,617"}},{"$f":"C24","v":"--"},{"$f":"D24","v":"--"},null,{"$f":"AVERAGE(F24:F28)","v":{"v":8066.8,"d":"8,067"}},{"$f":"AVERAGE(G24:G28)","v":{"v":7566.2,"d":"7,566"}},null,{"$f":"AVERAGE(I24:I28)","v":{"v":12608.2,"d":"12,608"}},{"$f":"AVERAGE(J24:J28)","v":{"v":12352.8,"d":"12,353"}},{"$f":"AVERAGE(K24:K28)","v":{"v":24961,"d":"24,961"}}]
["2001-2005",{"$f":"AVERAGE(B29:B33)","v":{"v":21599.6,"d":"21,600"}},{"$f":"C25","v":"--"},{"$f":"D25","v":"--"},null,{"$f":"AVERAGE(F29:F33)","v":{"v":9262,"d":"9,262"}},{"$f":"AVERAGE(G29:G33)","v":{"v":16945.2,"d":"16,945"}},null,{"$f":"AVERAGE(I29:I33)","v":{"v":15147.4,"d":"15,147"}},{"$f":"AVERAGE(J29:J33)","v":{"v":32367.6,"d":"32,368"}},{"$f":"AVERAGE(K29:K33)","v":{"v":47515,"d":"47,515"}}]
["2006-2010",{"$f":"AVERAGE(B34:B38)","v":{"v":28623.6,"d":"28,624"}},{"$f":"AVERAGE(C34:C38)","v":{"v":1039.4861507755102,"d":"1,039"}},{"v":1042.501636,"d":"1,043"},null,{"v":12723,"d":"12,723"},{"v":13222.6,"d":"13,223"},null,{"v":23776.36770589093,"d":"23,776"},{"v":32165.98252358599,"d":"32,166"},{"v":55942.35022947691,"d":"55,942"}]
[2011,{"$f":"B39","v":{"v":38431,"d":"38,431"}},{"v":1481,"d":"1,481"},{"v":1570,"d":"1,570"},null,{"$f":"F39","v":{"v":5814,"d":"5,814"}},{"v":2738,"d":"2,738"},null,{"$f":"I39","v":{"v":23538,"d":"23,538"}},{"v":24474,"d":"24,474"},{"v":48012,"d":"48,012"}]
[2012,{"v":19166,"d":"19,166"},656,798,null,{"v":10018,"d":"10,018"},{"v":5176,"d":"5,176"},null,{"v":21299,"d":"21,299"},{"v":14171,"d":"14,171"},{"v":35470,"d":"35,470"}]
[2013,{"v":20477,"d":"20,477"},942,{"v":1047,"d":"1,047"},null,{"v":2973,"d":"2,973"},{"v":1834,"d":"1,834"},null,{"v":12240,"d":"12,240"},{"v":14209,"d":"14,209"},{"v":26449,"d":"26,449"}]
[2014,{"v":50299,"d":"50,299"},{"v":2061,"d":"2,061"},{"v":2268,"d":"2,268"},null,{"v":29720,"d":"29,720"},{"v":16024,"d":"16,024"},null,{"v":52606,"d":"52,606"},{"v":46326,"d":"46,326"},{"v":98932,"d":"98,932"}]
[2015,{"v":9556,"d":"9,556"},541,802,null,{"v":11631,"d":"11,631"},{"v":7346,"d":"7,346"},null,{"v":16760,"d":"16,760"},{"v":13083,"d":"13,083"},{"v":29843,"d":"29,843"}]
[2016,{"v":37258,"d":"37,258"},{"v":1360,"d":"1,360"},{"v":1522,"d":"1,522"},null,{"v":10523,"d":"10,523"},{"v":14778,"d":"14,778"},null,{"$f":"I44","v":{"v":25347,"d":"25,347"}},{"$f":"J44","v":{"v":38904,"d":"38,904"}},{"$f":"K44","v":{"v":64251,"d":"64,251"}}]
[2017,{"v":33842,"d":"33,842"},{"v":1333,"d":"1,333"},{"v":1544,"d":"1,544"},null,{"v":29566,"d":"29,566"},{"v":18252,"d":"18,252"},null,{"$f":"I45","v":{"v":46430,"d":"46,430"}},{"$f":"J45","v":{"v":37555,"d":"37,555"}},{"v":83985,"d":"83,985"}]
[2018,{"v":12084,"d":"12,084"},508,549,null,{"v":17276,"d":"17,276"},{"v":8151,"d":"8,151"},null,{"$f":"I46","v":{"v":24132,"d":"24,132"}},{"v":14113,"d":"14,113"},{"v":38245,"d":"38,245"}]
[2019,{"v":4348,"d":"4,348"},259,355,null,{"v":13969,"d":"13,969"},{"v":6919,"d":"6,919"},null,{"$f":"I47","v":{"v":16662,"d":"16,662"}},{"v":9022,"d":"9,022"},{"v":25684,"d":"25,684"}]
[2020,{"v":17567,"d":"17,567"},736,971,null,{"v":12037,"d":"12,037"},{"v":8944,"d":"8,944"},null,{"$f":"I48","v":{"v":26265,"d":"26,265"}},{"v":22431,"d":"22,431"},{"v":48696,"d":"48,696"}]
[2021,{"v":14619,"d":"14,619"},{"v":1010,"d":"1,010"},{"v":1281,"d":"1,281"},null,{"v":22022,"d":"22,022"},{"v":32556,"d":"32,556"},null,{"$f":"I49","v":{"v":28039,"d":"28,039"}},{"v":43185,"d":"43,185"},{"v":71224,"d":"71,224"}]
[2022,{"v":23546,"d":"23,546"},{"v":1421,"d":"1,421"},{"v":1700,"d":"1,700"},null,{"v":34399,"d":"34,399"},{"v":37395,"d":"37,395"},null,{"$f":"I50","v":{"v":34990,"d":"34,990"}},{"v":63471,"d":"63,471"},{"v":98461,"d":"98,461"}]
["2023c/",{"$f":"B51","v":{"v":7979,"d":"7,979"}},"NA","NA",null,{"$f":"F51","v":"NA"},"NA",null,{"$f":"I51","v":"NA"},"NA","NA"]
["2024c/",{"v":3663,"d":"3,663"},"NA","NA",null,"NA","NA",null,"NA","NA","NA"]
["GOAL",{"$nulls":5},"Hatchery Production"]
[{"$f":"A54","v":"a/  Includes dip-in fish destined for other river systems."}]
[{"$f":"A55","v":"b/  Includes Treaty and Non-treaty regulated fisheries."}]
[{"$f":"A56","v":"c/  Preliminary."}]

{"sheet":"B-29","index":30,"n_rows":99,"n_cols":11,"rows_kept":99,"merged":[[0,0,0,10],[1,1,1,3],[2,0,3,0],[2,2,3,2],[2,5,2,6],[2,8,2,10],[54,0,54,10],[55,0,55,10],[56,0,56,10],[57,0,57,10],[58,0,58,10],[69,0,69,10],[70,1,70,3],[71,0,72,0],[71,2,72,2],[71,5,71,6],[71,8,71,10],[94,0,94,10],[95,0,95,10],[96,0,96,10],[97,0,97,10],[98,0,98,10]]}
["TABLE B-29.  Estimated inriver run size, catch, and escapement of Queets River spring/summer Chinook in numbers of fish."]
[null,"  Terminal Catch"]
["Year or Average",null,"Ceremonial &  Subsistence",null,null,"Escapement",null,null,"Terminal Run Size"]
[null,"Gillnet",null,"River Sporta/",null,"Naturalb/","       Hatchery",null,"Natural","Hatchery","Total"]
[1976,160,11,61,null,505,0,null,737,0,737]
[1977,364,25,34,null,732,0,null,{"v":1155,"d":"1,155"},0,{"v":1155,"d":"1,155"}]
[1978,229,16,51,null,{"v":1110,"d":"1,110"},0,null,{"v":1406,"d":"1,406"},0,{"v":1406,"d":"1,406"}]
[1979,475,31,60,null,870,118,null,{"v":1369,"d":"1,369"},185,{"v":1554,"d":"1,554"}]
[1980,108,8,59,null,{"v":1038,"d":"1,038"},0,null,{"v":1213,"d":"1,213"},0,{"v":1213,"d":"1,213"}]
[1981,299,20,22,null,988,0,null,{"v":1329,"d":"1,329"},0,{"v":1329,"d":"1,329"}]
[1982,495,35,6,null,781,119,null,{"v":1244,"d":"1,244"},180,{"v":1424,"d":"1,424"}]
[1983,104,9,20,null,{"v":1044,"d":"1,044"},38,null,{"v":1173,"d":"1,173"},42,{"v":1215,"d":"1,215"}]
[1984,150,18,63,null,958,"-",null,{"v":1189,"d":"1,189"},"-",{"v":1189,"d":"1,189"}]
[1985,165,19,25,null,677,"-",null,886,"-",886]
[1986,201,22,45,null,925,"-",null,{"v":1193,"d":"1,193"},"-",{"v":1193,"d":"1,193"}]
[1987,858,59,{"v":27.611044417767108,"d":"28"},null,598,"-",null,{"v":1542.611044417767,"d":"1,543"},"-",{"v":1542.611044417767,"d":"1,543"}]
[1988,391,34,{"v":77.43097238895558,"d":"77"},null,{"v":1765,"d":"1,765"},"-",null,{"v":2267.4309723889555,"d":"2,267"},"-",{"v":2267.4309723889555,"d":"2,267"}]
[1989,{"v":1181,"d":"1,181"},76,{"v":129.0516206482593,"d":"129"},null,{"v":2568,"d":"2,568"},"-",null,{"v":3954.0516206482594,"d":"3,954"},"-",{"v":3954.0516206482594,"d":"3,954"}]
[1990,601,41,{"v":57.62304921968788,"d":"58"},null,{"v":1780,"d":"1,780"},"-",null,{"v":2479.623049219688,"d":"2,480"},"-",{"v":2479.623049219688,"d":"2,480"}]
[1991,112,9,{"v":9.603841536614647,"d":"10"},null,630,"-",null,{"v":760.6038415366147,"d":"761"},"-",{"v":760.6038415366147,"d":"761"}]
[1992,104,11,{"v":15.006002400960385,"d":"15"},null,375,"-",null,{"v":505.00600240096037,"d":"505"},"-",{"v":505.00600240096037,"d":"505"}]
[1993,46,3,26,null,713,"-",null,788,"-",788]
[1994,21,1,0,null,705,"-",null,727,"-",727]
[1995,35,2,0,null,625,"-",null,662,"-",662]
[1996,43,3,69,null,776,"-",null,891,"-",891]
[1997,72,10,71,null,540,"-",null,693,"-",693]
[1998,18,27,"-",null,492,"-",null,537,"-",537]
[1999,12,41,"-",null,373,"-",null,426,"-",426]
[2000,"-",2,"-",null,248,"-",null,250,"-",250]
[2001,"-",17,"-",null,548,"-",null,565,"-",565]
[2002,"-",17,"-",null,738,"-",null,755,"-",755]
[2003,"-",6,"-",null,189,"-",null,195,"-",195]
[2004,"-",15,"-",null,604,"-",null,619,"-",619]
[2005,"-",8,"-",null,298,"-",null,306,"-",306]
[2006,"-",6,"-",null,330,"-",null,336,"-",336]
[2007,"-",6,"-",null,352,"-",null,358,"-",358]
[2008,"-",3,"-",null,305,"-",null,305,"-",305]
[2009,"-",0,"-",null,495,"-",null,501,"-",501]
[2010,"-",0,"-",null,259,"-",null,{"v":262.1393939393939,"d":"262"},"-",{"v":262.1393939393939,"d":"262"}]
[2011,"-",0,"-",null,373,"-",null,{"v":377.5212121212121,"d":"378"},"-",{"v":377.5212121212121,"d":"378"}]
[2012,"-",0,"-",null,760,"-",null,{"v":769.2121212121212,"d":"769"},"-",{"v":769.2121212121212,"d":"769"}]
[2013,"-","<10","-",null,520,"-",null,{"v":526.3030303030303,"d":"526"},"-",{"v":526.3030303030303,"d":"526"}]
["2014c/",{"v":20.21185564499933,"d":"20"},"<10","-",null,377,"-",null,{"v":401.7815526146963,"d":"402"},"-",{"v":401.7815526146963,"d":"402"}]
["2015c/",{"v":23.023025184864554,"d":"23"},"<10","-",null,532,"-",null,{"v":561.4715100333494,"d":"561"},"-",{"v":561.4715100333494,"d":"561"}]
["2016c/",{"v":20.53299060045781,"d":"21"},"<10","-",null,704,"-",null,{"v":733.0663239337911,"d":"733"},"-",{"v":733.0663239337911,"d":"733"}]
["2017c/",{"v":24.59495146942301,"d":"25"},"<10","-",null,825,"-",null,{"v":859.594951469423,"d":"860"},"-",{"v":859.594951469423,"d":"860"}]
[2018,{"v":2.527505903990228,"d":"3"},"<10","-",null,484,"-",null,497,"-",497]
[2019,{"v":1.21155054236863,"d":"1"},"<5","-",null,322,"-",null,328,"-",328]
[2020,24,"<5","-",null,342,"-",null,371,"-",371]
[2021,"-","<5","-",null,280,"-",null,285,"-",285]
[2022,"-","<5","-",null,434,"-",null,439,"-",439]
[2023,"-","<5","-",null,540,"-",null,"NA","-",545]
["2024e/","-","<5","-",null,"NA","-",null,"NA","-","NA"]
["GOAL",{"$nulls":4},"700d/"]
["a/  River catch of adults."]
["b/  Natural escapement includes hatchery strays."]
["c/  A fishery targeting early fall coho at the tail end of August in weeks 33 and 34 caught a number of early Chinook. "]
["d/  Minimum.  Terminal run managed at 30 percent exploitation rate of inriver run size."]
["e/  Preliminary."]
{"$rows_empty":10}
["TABLE B-29.  Estimated inriver run size, catch, and escapement of Queets River spring/summer Chinook in numbers of fish.  "]
[null,"  Terminal Catch"]
["Year or Average",null,"Ceremonial &  Subsistence",null,null,"Escapement",null,null,"Terminal Run Size"]
[null,"Gillnet",null,"River Sporta/",null,"Naturalb/","       Hatchery",null,"Natural","Hatchery","Total"]
["1981-1985",{"$f":"AVERAGE(B10:B14)","v":{"v":242.6,"d":"243"}},{"$f":"AVERAGE(C10:C14)","v":{"v":20.2,"d":"20"}},{"$f":"AVERAGE(D10:D14)","v":{"v":27.2,"d":"27"}},null,{"$f":"AVERAGE(F10:F14)","v":{"v":889.6,"d":"890"}},{"$f":"AVERAGE(G10:G14)","v":{"v":52.333333333333336,"d":"52"}},null,{"$f":"AVERAGE(I10:I14)","v":{"v":1164.2,"d":"1,164"}},{"$f":"AVERAGE(J10:J14)","v":74},{"$f":"AVERAGE(K10:K14)","v":{"v":1208.6,"d":"1,209"}}]
["1986-1990",{"$f":"AVERAGE(B15:B19)","v":{"v":646.4,"d":"646"}},{"$f":"AVERAGE(C15:C19)","v":{"v":46.4,"d":"46"}},{"$f":"AVERAGE(D15:D19)","v":{"v":67.34333733493398,"d":"67"}},null,{"$f":"AVERAGE(F15:F19)","v":{"v":1527.2,"d":"1,527"}},"-",null,{"$f":"AVERAGE(I15:I19)","v":{"v":2287.343337334934,"d":"2,287"}},"-",{"$f":"AVERAGE(K15:K19)","v":{"v":2287.343337334934,"d":"2,287"}}]
["1991-1995",{"$f":"AVERAGE(B20:B24)","v":{"v":63.6,"d":"64"}},{"$f":"AVERAGE(C20:C24)","v":{"v":5.2,"d":"5"}},{"$f":"AVERAGE(D20:D24)","v":{"v":10.121968787515007,"d":"10"}},null,{"$f":"AVERAGE(F20:F24)","v":{"v":609.6,"d":"610"}},"-",null,{"$f":"AVERAGE(I20:I24)","v":{"v":688.521968787515,"d":"689"}},"-",{"$f":"AVERAGE(K20:K24)+1","v":{"v":689.521968787515,"d":"690"}}]
["1996-2000",{"$f":"AVERAGE(B25:B29)","v":{"v":36.25,"d":"36"}},{"$f":"AVERAGE(C25:C29)","v":{"v":16.6,"d":"17"}},{"$f":"AVERAGE(D25:D29)","v":70},null,{"$f":"AVERAGE(F25:F29)","v":{"v":485.8,"d":"486"}},{"$f":"G25","v":"-"},null,{"$f":"AVERAGE(I25:I29)","v":{"v":559.4,"d":"559"}},{"$f":"J25","v":"-"},{"$f":"AVERAGE(K25:K29)","v":{"v":559.4,"d":"559"}}]
["2001-2005","-",{"$f":"AVERAGE(C30:C34)","v":{"v":12.6,"d":"13"}},"-",null,{"$f":"AVERAGE(F30:F34)","v":{"v":475.4,"d":"475"}},{"$f":"G26","v":"-"},null,{"$f":"AVERAGE(I30:I34)","v":488},{"$f":"J26","v":"-"},{"$f":"AVERAGE(K30:K34)","v":488}]
["2006-2010",{"$f":"B35","v":"-"},{"$f":"AVERAGE(C35:C39)","v":3},{"$f":"D35","v":"-"},null,{"$f":"AVERAGE(F35:F39)","v":{"v":348.2,"d":"348"}},{"$f":"G35","v":"-"},null,{"$f":"AVERAGE(I35:I39)","v":{"v":352.42787878787874,"d":"352"}},{"$f":"J35","v":"-"},{"$f":"AVERAGE(K35:K39)","v":{"v":352.42787878787874,"d":"352"}}]
[2011,{"$f":"B40","v":"-"},0,"-",null,{"$f":"F40","v":373},"-",null,{"$f":"I40","v":{"v":377.5212121212121,"d":"378"}},"-",{"v":377.5212121212121,"d":"378"}]
[2012,"-",0,"-",null,760,"-",null,{"v":769.2121212121212,"d":"769"},"-",{"v":769.2121212121212,"d":"769"}]
[2013,"-","<10","-",null,520,"-",null,{"v":526.3030303030303,"d":"526"},"-",{"v":526.3030303030303,"d":"526"}]
["2014c/",{"v":20.21185564499933,"d":"20"},"<10","-",null,377,"-",null,{"v":401.7815526146963,"d":"402"},"-",{"v":401.7815526146963,"d":"402"}]
["2015c/",{"v":23.023025184864554,"d":"23"},"<10","-",null,532,"-",null,{"v":561.4715100333494,"d":"561"},"-",{"v":561.4715100333494,"d":"561"}]
["2016c/",{"v":20.53299060045781,"d":"21"},"<10","-",null,704,"-",null,{"v":733.0663239337911,"d":"733"},"-",{"v":733.0663239337911,"d":"733"}]
["2017c/",{"v":24.59495146942301,"d":"25"},"<10","-",null,825,"-",null,{"v":859.594951469423,"d":"860"},"-",{"v":859.594951469423,"d":"860"}]
[2018,{"v":2.527505903990228,"d":"3"},"<10","-",null,484,"-",null,497,"-",497]
[2019,{"v":1.21155054236863,"d":"1"},"<5","-",null,322,"-",null,328,"-",328]
[2020,24,"<5","-",null,342,"-",null,371,"-",371]
[2021,"-","<5","-",null,280,"-",null,285,"-",285]
[2022,"-","<5","-",null,434,"-",null,439,"-",439]
[2023,{"$f":"B52","v":"-"},"<5","-",null,{"$f":"F52","v":540},"-",null,{"$f":"I52","v":"NA"},"-",545]
["2024e/","-","<5","-",null,"NA","-",null,"NA","-","NA"]
["GOAL",{"$nulls":4},"     700d/"]
[{"$f":"A55","v":"a/  River catch of adults."}]
[{"$f":"A56","v":"b/  Natural escapement includes hatchery strays."}]
[{"$f":"A57","v":"c/  A fishery targeting early fall coho at the tail end of August in weeks 33 and 34 caught a number of early Chinook. "}]
["d/  Minimum.  Terminal run managed at 30 percent exploitation rate of inriver run size."]
["e/  Preliminary."]

{"sheet":"B-30","index":31,"n_rows":112,"n_cols":10,"rows_kept":112,"merged":[[0,0,0,9],[1,1,1,3],[2,2,3,2],[2,7,2,9],[54,0,57,9],[58,0,59,9],[60,0,60,9],[61,0,61,9],[63,0,63,9],[77,0,77,9],[78,1,78,3],[79,2,80,2],[79,7,79,9],[102,0,105,9],[106,0,107,9],[108,0,108,9],[109,0,109,9],[111,0,111,9],[112,0,112,9]]}
["TABLE B-30.  Estimated inriver run size, catch, and escapement of Queets River fall Chinook in numbers of fish."]
[null,"  Terminal Catch"]
[null,null,"Ceremonial &  Subsistence",null,null,"Escapement",null,"Terminal Run Size"]
["Year or Average","Gillnet",null,"River Sporta/",null,"Naturalb/",null,"Natural c/","Indicator d/","Total"]
[1976,{"v":1300,"d":"1,300"},"NA",20,null,{"v":1200,"d":"1,200"},null,{"v":2500,"d":"2,500"},"-",{"v":2500,"d":"2,500"}]
[1977,{"v":2000,"d":"2,000"},"NA",20,null,{"v":3600,"d":"3,600"},null,{"v":5500,"d":"5,500"},"-",{"v":5500,"d":"5,500"}]
[1978,900,"NA",100,null,{"v":2200,"d":"2,200"},null,{"v":3100,"d":"3,100"},"-",{"v":3100,"d":"3,100"}]
[1979,900,100,20,null,{"v":3900,"d":"3,900"},null,{"v":4700,"d":"4,700"},"-",{"v":4700,"d":"4,700"}]
[1980,{"v":2600,"d":"2,600"},"NA",20,null,{"v":3200,"d":"3,200"},null,{"v":5800,"d":"5,800"},"-",{"v":5800,"d":"5,800"}]
[1981,{"v":3800,"d":"3,800"},"NA",100,null,{"v":4250,"d":"4,250"},null,{"v":8000,"d":"8,000"},200,{"v":8200,"d":"8,200"}]
[1982,{"v":2300,"d":"2,300"},"NA",200,null,{"v":4150,"d":"4,150"},null,{"v":6200,"d":"6,200"},400,{"v":6600,"d":"6,600"}]
[1983,{"v":1300,"d":"1,300"},20,200,null,{"v":2750,"d":"2,750"},null,{"v":3800,"d":"3,800"},600,{"v":4400,"d":"4,400"}]
[1984,{"v":1600,"d":"1,600"},20,100,null,{"v":4350,"d":"4,350"},null,{"v":5300,"d":"5,300"},{"v":1000,"d":"1,000"},{"v":6300,"d":"6,300"}]
[1985,{"v":1518,"d":"1,518"},20,74,null,{"v":4150,"d":"4,150"},null,{"v":5153,"d":"5,153"},757,{"v":5910,"d":"5,910"}]
[1986,965,20,194,null,{"v":7894,"d":"7,894"},null,{"v":8890,"d":"8,890"},290,{"v":9180,"d":"9,180"}]
[1987,{"v":3851,"d":"3,851"},20,175,null,{"v":6557,"d":"6,557"},null,{"v":10045,"d":"10,045"},593,{"v":10638,"d":"10,638"}]
[1988,{"v":2556,"d":"2,556"},20,333,null,{"v":9494,"d":"9,494"},null,{"v":11000,"d":"11,000"},{"v":1505,"d":"1,505"},{"v":12505,"d":"12,505"}]
[1989,{"v":2519,"d":"2,519"},20,200,null,{"v":9324,"d":"9,324"},null,{"v":11154,"d":"11,154"},{"v":1059,"d":"1,059"},{"v":12213,"d":"12,213"}]
[1990,{"v":2260,"d":"2,260"},20,169,null,{"v":10569,"d":"10,569"},null,{"v":12297,"d":"12,297"},858,{"v":13155,"d":"13,155"}]
[1991,{"v":1553,"d":"1,553"},20,116,null,{"v":4795,"d":"4,795"},null,{"v":5888,"d":"5,888"},705,{"v":6593,"d":"6,593"}]
[1992,{"v":1711,"d":"1,711"},20,106,null,{"v":4911,"d":"4,911"},null,{"v":6338,"d":"6,338"},542,{"v":6880,"d":"6,880"}]
[1993,{"v":1786,"d":"1,786"},20,253,null,{"v":3463,"d":"3,463"},null,{"v":5107,"d":"5,107"},560,{"$f":"SUM(H22:I22)","v":{"v":5667,"d":"5,667"}}]
[1994,{"v":2441,"d":"2,441"},20,18,null,{"v":4233,"d":"4,233"},null,{"v":5866,"d":"5,866"},988,{"$f":"SUM(H23:I23)","v":{"v":6854,"d":"6,854"}}]
[1995,{"v":1809,"d":"1,809"},20,52,null,{"v":3127,"d":"3,127"},null,{"v":4355,"d":"4,355"},746,{"v":5101,"d":"5,101"}]
[1996,{"v":1307,"d":"1,307"},20,238,null,{"v":4218,"d":"4,218"},null,{"v":4693,"d":"4,693"},{"v":1234,"d":"1,234"},{"v":5927,"d":"5,927"}]
[1997,{"v":1708,"d":"1,708"},20,210,null,{"v":2872,"d":"2,872"},null,{"v":4122,"d":"4,122"},823,{"v":4945,"d":"4,945"}]
[1998,804,20,347,null,{"v":3859,"d":"3,859"},null,{"v":5009,"d":"5,009"},164,{"v":5173,"d":"5,173"}]
[1999,947,20,93,null,{"v":1918,"d":"1,918"},null,{"v":2885,"d":"2,885"},220,{"v":3105,"d":"3,105"}]
[2000,262,20,50,null,{"v":3755,"d":"3,755"},null,{"v":3752,"d":"3,752"},395,{"v":4147,"d":"4,147"}]
[2001,{"v":1366,"d":"1,366"},64,285,null,{"v":3066,"d":"3,066"},null,{"v":3571,"d":"3,571"},{"v":1204,"d":"1,204"},{"v":4775,"d":"4,775"}]
[2002,{"v":2887,"d":"2,887"},69,20,null,{"v":2598,"d":"2,598"},null,{"v":4385,"d":"4,385"},{"v":1186,"d":"1,186"},{"v":5571,"d":"5,571"}]
[2003,{"v":1322,"d":"1,322"},{"v":92.62701999999999,"d":"93"},278,null,{"v":4971,"d":"4,971"},null,{"v":5183,"d":"5,183"},{"v":1428,"d":"1,428"},{"v":6611,"d":"6,611"}]
[2004,{"v":1228,"d":"1,228"},{"v":93.43905,"d":"93"},370,null,{"v":5173,"d":"5,173"},null,{"v":4846,"d":"4,846"},{"v":2018,"d":"2,018"},{"v":6864,"d":"6,864"}]
[2005,{"v":1648,"d":"1,648"},90,441,null,{"v":4578,"d":"4,578"},null,{"v":4542,"d":"4,542"},{"v":2213,"d":"2,213"},{"v":6755,"d":"6,755"}]
[2006,{"v":1079,"d":"1,079"},57,71,null,{"v":3050,"d":"3,050"},null,{"v":3253,"d":"3,253"},{"v":1005,"d":"1,005"},{"v":4258,"d":"4,258"}]
[2007,631,{"v":20.43754113612171,"d":"20"},{"v":74.25753822987252,"d":"74"},null,878,null,{"v":1329,"d":"1,329"},285,{"v":1614,"d":"1,614"}]
[2008,{"v":1020,"d":"1,020"},58,0,null,{"v":3081,"d":"3,081"},null,{"v":3525,"d":"3,525"},674,{"v":4199,"d":"4,199"}]
[2009,{"v":1522,"d":"1,522"},81,203,null,{"v":4156,"d":"4,156"},null,{"v":5166,"d":"5,166"},831,{"v":5997,"d":"5,997"}]
[2010,{"v":1722,"d":"1,722"},79,169,null,{"v":4022,"d":"4,022"},null,{"v":4171,"d":"4,171"},{"v":1759,"d":"1,759"},{"v":5930,"d":"5,930"}]
[2011,{"v":2327,"d":"2,327"},85,417,null,{"v":3857,"d":"3,857"},null,{"v":4724,"d":"4,724"},{"v":1782,"d":"1,782"},{"v":6506,"d":"6,506"}]
[2012,{"v":2722,"d":"2,722"},84,302,null,{"v":3706,"d":"3,706"},null,{"v":5551,"d":"5,551"},927,{"v":6478,"d":"6,478"}]
[2013,{"v":1943,"d":"1,943"},60,369,null,{"v":2582,"d":"2,582"},null,{"v":3790,"d":"3,790"},899,{"v":4689,"d":"4,689"}]
[2014,{"v":1142.3001452640424,"d":"1,142"},{"v":70.30371146716682,"d":"70"},117,null,{"v":3806,"d":"3,806"},null,{"v":3023.121909704414,"d":"3,023"},{"v":2096.5088492928367,"d":"2,097"},{"v":5119.630758997251,"d":"5,120"}]
[2015,{"v":1334.9999999999998,"d":"1,335"},{"v":102.32959,"d":"102"},583,"NA",{"v":5483,"d":"5,483"},null,{"v":5088.527892269023,"d":"5,089"},{"v":2394.7392020833863,"d":"2,395"},{"v":7483.26709435241,"d":"7,483"}]
[2016,{"v":858.8979129637752,"d":"859"},{"v":54.68531892093413,"d":"55"},9,"NA",{"v":3035,"d":"3,035"},null,{"v":3166.0063710136446,"d":"3,166"},{"v":777.7538345128658,"d":"778"},{"v":3943.7602055265106,"d":"3,944"}]
[2017,{"v":1551,"d":"1,551"},58,20,"NA",{"v":2822,"d":"2,822"},null,{"v":3521.879397353451,"d":"3,522"},{"v":897.1826076424152,"d":"897"},{"v":4419.062004995866,"d":"4,419"}]
[2018,860,42,10,"NA",{"v":2207,"d":"2,207"},null,{"v":2391.3110263939648,"d":"2,391"},{"v":723.7336065506249,"d":"724"},{"v":3115.0446329445895,"d":"3,115"}]
[2019,{"v":1387,"d":"1,387"},56,218,"NA",{"v":2663,"d":"2,663"},null,{"v":3709.1756560152667,"d":"3,709"},{"v":610.7321718154931,"d":"611"},{"v":4319.90782783076,"d":"4,320"}]
[2020,{"v":2784,"d":"2,784"},226,497,"NA",{"v":3622,"d":"3,622"},null,{"v":6377,"d":"6,377"},744,{"v":7121,"d":"7,121"}]
[2021,{"v":1540,"d":"1,540"},50,133,"NA",{"v":3364,"d":"3,364"},null,{"v":4567,"d":"4,567"},513,{"v":5080,"d":"5,080"}]
[2022,{"v":3242,"d":"3,242"},193,275,"NA",{"v":1784,"d":"1,784"},null,{"v":4835,"d":"4,835"},652,{"v":5487,"d":"5,487"}]
["2023e/",{"v":1212,"d":"1,212"},147,199,"NA",{"v":2246,"d":"2,246"},null,{"v":3119,"d":"3,119"},669,{"v":3788,"d":"3,788"}]
["2024e/",274,"NA","NA","NA","NA",null,"NA","NA","NA"]
["GOAL",{"$nulls":4},"2,500f/"]
["a/  River sport catch of age-3 and older fish.  The 2000 sport fishery was closed to retention of unmarked Chinook.  The 2002 sport fishery was closed to Chinook retention on October 18 due to unusually low water conditions.  The 2008 sport fishery was closed to the retention of Chinook.  The 2009 sport fishery was closed to retention of unmarked Chinook in Queets and Salmon Rivers within Olympic National Park."]
[]
[]
[]
["b/  Includes Indicator Stock.  Estimates for years prior to 2001 assume a broodstock take of 150 as a placeholder until individual run reconstructions are complete."]
[]
["c/  Includes from 100 to 200 wild Chinook captured each season near spawning grounds to be used as Indicator broodstock."]
["d/  This is an integrated wild/hatchery program.  Brood stock are unmarked wild fish collected from river."]
["e/  Preliminary."]
["f/  Minimum. Terminal run managed at 40 percent exploitation rate of terminal run size."]
{"$rows_empty":13}
["TABLE B-30.  Estimated inriver run size, catch, and escapement of Queets River fall Chinook in numbers of fish."]
[null,"  Terminal Catch"]
[null,null,"Ceremonial &  Subsistence",null,null,"Escapement",null,"Terminal Run Size"]
["Year or Average","Gillnet",null,"River Sporta/",null,"Naturalb/",null,"Natural c/","Indicator d/","Total"]
["1981-1985",{"$f":"AVERAGE(B10:B14)","v":{"v":2103.6,"d":"2,104"}},{"$f":"AVERAGE(C10:C14)","v":20},{"$f":"AVERAGE(D10:D14)","v":{"v":134.8,"d":"135"}},null,{"$f":"AVERAGE(F10:F14)","v":{"v":3930,"d":"3,930"}},null,{"$f":"AVERAGE(H10:H14)","v":{"v":5690.6,"d":"5,691"}},{"$f":"AVERAGE(I10:I14)","v":{"v":591.4,"d":"591"}},{"$f":"AVERAGE(J10:J14)","v":{"v":6282,"d":"6,282"}}]
["1986-1990",{"$f":"AVERAGE(B15:B19)","v":{"v":2430.2,"d":"2,430"}},{"$f":"AVERAGE(C15:C19)","v":20},{"$f":"AVERAGE(D15:D19)","v":{"v":214.2,"d":"214"}},null,{"$f":"AVERAGE(F15:F19)","v":{"v":8767.6,"d":"8,768"}},null,{"$f":"AVERAGE(H15:H19)","v":{"v":10677.2,"d":"10,677"}},{"$f":"AVERAGE(I15:I19)","v":861},{"$f":"AVERAGE(J15:J19)","v":{"v":11538.2,"d":"11,538"}}]
["1991-1995",{"$f":"AVERAGE(B20:B24)","v":{"v":1860,"d":"1,860"}},{"$f":"AVERAGE(C20:C24)","v":20},{"$f":"AVERAGE(D20:D24)","v":109},null,{"$f":"AVERAGE(F20:F24)","v":{"v":4105.8,"d":"4,106"}},null,{"$f":"AVERAGE(H20:H24)","v":{"v":5510.8,"d":"5,511"}},{"$f":"AVERAGE(I20:I24)","v":{"v":708.2,"d":"708"}},{"$f":"AVERAGE(J20:J24)","v":{"v":6219,"d":"6,219"}}]
["1996-2000",{"$f":"AVERAGE(B25:B29)","v":{"v":1005.6,"d":"1,006"}},{"$f":"AVERAGE(C25:C29)","v":20},{"v":187.6,"d":"188"},null,{"v":3324.4,"d":"3,324"},null,{"v":4092.2,"d":"4,092"},{"v":567.2,"d":"567"},{"v":4659.4,"d":"4,659"}]
["2001-2005",{"$f":"AVERAGE(B30:B34)","v":{"v":1690.2,"d":"1,690"}},{"$f":"AVERAGE(C30:C34)","v":{"v":81.81321399999999,"d":"82"}},{"v":278.8,"d":"279"},null,{"v":4077.2,"d":"4,077"},null,{"v":4505.4,"d":"4,505"},{"v":1609.8,"d":"1,610"},{"v":6115.2,"d":"6,115"}]
["2006-2010",{"$f":"AVERAGE(B35:B39)","v":{"v":1194.8,"d":"1,195"}},{"$f":"AVERAGE(C35:C39)","v":{"v":59.08750822722434,"d":"59"}},{"v":103.45150764597452,"d":"103"},null,{"v":3037.4,"d":"3,037"},null,{"v":3488.8,"d":"3,489"},{"v":910.8,"d":"911"},{"v":4399.6,"d":"4,400"}]
[2011,{"$f":"B40","v":{"v":2327,"d":"2,327"}},85,417,null,{"$f":"F40","v":{"v":3857,"d":"3,857"}},null,{"$f":"H40","v":{"v":4724,"d":"4,724"}},{"v":1782,"d":"1,782"},{"v":6506,"d":"6,506"}]
[2012,{"v":2722,"d":"2,722"},84,302,null,{"v":3706,"d":"3,706"},null,{"v":5551,"d":"5,551"},927,{"v":6478,"d":"6,478"}]
[2013,{"v":1943,"d":"1,943"},60,369,null,{"v":2582,"d":"2,582"},null,{"v":3790,"d":"3,790"},899,{"v":4689,"d":"4,689"}]
[2014,{"v":1142.3001452640424,"d":"1,142"},{"v":70.30371146716682,"d":"70"},117,null,{"v":3806,"d":"3,806"},null,{"v":3023.121909704414,"d":"3,023"},{"v":2096.5088492928367,"d":"2,097"},{"v":5119.630758997251,"d":"5,120"}]
[2015,{"v":1334.9999999999998,"d":"1,335"},{"v":102.32959,"d":"102"},583,null,{"v":5483,"d":"5,483"},null,{"v":5088.527892269023,"d":"5,089"},{"v":2394.7392020833863,"d":"2,395"},{"v":7483.26709435241,"d":"7,483"}]
[2016,{"v":858.8979129637752,"d":"859"},{"v":54.68531892093413,"d":"55"},9,null,{"v":3035,"d":"3,035"},null,{"v":3166.0063710136446,"d":"3,166"},{"v":777.7538345128658,"d":"778"},{"v":3943.7602055265106,"d":"3,944"}]
[2017,{"v":1551,"d":"1,551"},58,20,null,{"v":2822,"d":"2,822"},null,{"v":3521.879397353451,"d":"3,522"},{"v":897.1826076424152,"d":"897"},{"v":4419.062004995866,"d":"4,419"}]
[2018,860,42,10,null,{"v":2207,"d":"2,207"},null,{"v":2391.3110263939648,"d":"2,391"},{"v":723.7336065506249,"d":"724"},{"v":3115.0446329445895,"d":"3,115"}]
[2019,{"v":1387,"d":"1,387"},56,218,null,{"v":2663,"d":"2,663"},null,{"v":3709.1756560152667,"d":"3,709"},{"v":610.7321718154931,"d":"611"},{"v":4319.90782783076,"d":"4,320"}]
[2020,{"v":2784,"d":"2,784"},226,497,null,{"v":3622,"d":"3,622"},null,{"v":6377,"d":"6,377"},744,{"v":7121,"d":"7,121"}]
[2021,{"v":1540,"d":"1,540"},50,133,null,{"v":3364,"d":"3,364"},null,{"v":4567,"d":"4,567"},513,{"v":5080,"d":"5,080"}]
[2022,{"v":3242,"d":"3,242"},193,275,null,{"v":1784,"d":"1,784"},null,{"v":4835,"d":"4,835"},652,{"v":5487,"d":"5,487"}]
["2023e/",{"$f":"B52","v":{"v":1212,"d":"1,212"}},147,199,null,{"$f":"F52","v":{"v":2246,"d":"2,246"}},null,{"$f":"H52","v":{"v":3119,"d":"3,119"}},669,{"v":3788,"d":"3,788"}]
["2024e/",274,"NA","NA",null,"NA",null,"NA","NA","NA"]
["GOAL",{"$nulls":4},"   2,500f/"]
[{"$f":"A55","v":"a/  River sport catch of age-3 and older fish.  The 2000 sport fishery was closed to retention of unmarked Chinook.  The 2002 sport fishery was closed to Chinook retention on October 18 due to unusually low water conditions.  The 2008 sport fishery was closed to the retention of Chinook.  The 2009 sport fishery was closed to retention of unmarked Chinook in Queets and Salmon Rivers within Olympic National Park."}]
[]
[]
[]
["b/  Includes fish of natural origin and hatchery origin (indicator stock) on the spawning grounds. Estimates for years prior to 2001 assume a broodstock take of 150 as a placeholder until individual run reconstructions are complete."]
[]
[{"$f":"A61","v":"c/  Includes from 100 to 200 wild Chinook captured each season near spawning grounds to be used as Indicator broodstock."}]
[{"$f":"A62","v":"d/  This is an integrated wild/hatchery program.  Brood stock are unmarked wild fish collected from river."}]
[{"$f":"A63","v":"e/  Preliminary."}]
[{"$f":"A64","v":"f/  Minimum. Terminal run managed at 40 percent exploitation rate of terminal run size."}]

{"sheet":"B-31","index":32,"n_rows":108,"n_cols":13,"rows_kept":108,"merged":[[0,0,0,12],[1,1,1,3],[2,0,3,0],[2,2,3,2],[2,5,2,7],[2,9,2,12],[54,0,54,12],[55,0,55,12],[56,0,56,12],[58,0,58,12],[59,0,59,12],[60,0,60,12],[76,0,76,12],[77,1,77,3],[78,0,79,0],[78,2,79,2],[78,5,78,7],[78,9,78,12],[101,0,101,12],[102,0,102,12],[103,0,103,12],[105,0,105,12],[106,0,106,12],[107,0,107,12]]}
["TABLE B-31.  Estimated terminal run size, catch, and escapement for Queets River coho in numbers of fish."]
[null,"  Terminal Catcha/"]
["Year or Average",null,"Ceremonial &  Subsistence",null,null,"Escapementc/",{"$nulls":3},"Terminal Run Sizec/"]
[null,"Gillnet",null,"River Sportb/",null,"Natural","Supplemental","Hatchery",null,"Natural","Supplemental","Hatchery","Totald/"]
[1976,{"v":2900,"d":"2,900"},"NA",100,null,{"v":1200,"d":"1,200"},"-",100,null,{"v":4100,"d":"4,100"},"-",300,{"v":4400,"d":"4,400"}]
[1977,{"v":1000,"d":"1,000"},"NA",100,null,{"v":1900,"d":"1,900"},"-",300,null,{"v":2600,"d":"2,600"},"-",500,{"v":3100,"d":"3,100"}]
[1978,{"v":2400,"d":"2,400"},"NA",100,null,{"v":2700,"d":"2,700"},"-",600,null,{"v":4100,"d":"4,100"},"-",900,{"v":5000,"d":"5,000"}]
[1979,{"v":2700,"d":"2,700"},100,200,null,{"v":6800,"d":"6,800"},"-",{"v":1600,"d":"1,600"},null,{"v":8700,"d":"8,700"},"-",{"v":2100,"d":"2,100"},{"v":10800,"d":"10,800"}]
[1980,{"v":3200,"d":"3,200"},20,200,null,{"v":4700,"d":"4,700"},"-",{"v":2400,"d":"2,400"},null,{"v":6000,"d":"6,000"},"-",{"v":4400,"d":"4,400"},{"v":10400,"d":"10,400"}]
[1981,{"v":4200,"d":"4,200"},"NA",200,null,{"v":4800,"d":"4,800"},"-",{"v":2400,"d":"2,400"},null,{"v":6100,"d":"6,100"},"-",{"v":4500,"d":"4,500"},{"v":10600,"d":"10,600"}]
[1982,{"v":1610,"d":"1,610"},"NA",100,null,{"v":7000,"d":"7,000"},"-",{"v":4500,"d":"4,500"},null,{"v":7800,"d":"7,800"},"-",{"v":5400,"d":"5,400"},{"v":13200,"d":"13,200"}]
[1983,{"v":1017,"d":"1,017"},20,20,null,{"v":2282,"d":"2,282"},"-",{"v":1100,"d":"1,100"},null,{"v":2438,"d":"2,438"},"-",{"v":1800,"d":"1,800"},{"v":4238,"d":"4,238"}]
[1984,{"v":1314,"d":"1,314"},20,20,null,{"v":9217,"d":"9,217"},"-",{"v":4042,"d":"4,042"},null,{"v":9748,"d":"9,748"},"-",{"v":4400,"d":"4,400"},{"v":14148,"d":"14,148"}]
[1985,{"v":3782,"d":"3,782"},20,180,null,{"v":4001,"d":"4,001"},"-",{"v":1228,"d":"1,228"},null,{"v":5969,"d":"5,969"},"-",{"v":2868,"d":"2,868"},{"v":8837,"d":"8,837"}]
[1986,{"v":9885,"d":"9,885"},20,49,null,{"v":5160,"d":"5,160"},"-",{"v":3803,"d":"3,803"},null,{"v":5814,"d":"5,814"},"-",{"v":11582,"d":"11,582"},{"v":17396,"d":"17,396"}]
[1987,{"v":12413,"d":"12,413"},20,140,null,{"v":4760,"d":"4,760"},"-",{"v":2378,"d":"2,378"},null,{"v":8896,"d":"8,896"},"-",{"v":9740,"d":"9,740"},{"v":18636,"d":"18,636"}]
[1988,{"v":5400,"d":"5,400"},20,{"v":254.50180072028812,"d":"255"},null,{"v":4288,"d":"4,288"},650,{"v":6228,"d":"6,228"},null,{"v":4437.437885083823,"d":"4,437"},{"v":1135,"d":"1,135"},{"v":10743,"d":"10,743"},{"v":16315.437885083822,"d":"16,315"}]
[1989,{"v":5900,"d":"5,900"},20,{"v":247.29891956782714,"d":"247"},null,{"v":4501,"d":"4,501"},693,{"v":1968,"d":"1,968"},null,{"v":5440.119328860417,"d":"5,440"},871,{"v":6854,"d":"6,854"},{"v":13165.119328860417,"d":"13,165"}]
[1990,{"v":8675,"d":"8,675"},10,{"v":513.8055222088835,"d":"514"},null,{"v":5422,"d":"5,422"},{"v":1646,"d":"1,646"},{"v":4123,"d":"4,123"},null,{"v":7127,"d":"7,127"},{"v":3469,"d":"3,469"},{"v":9505,"d":"9,505"},{"v":20101,"d":"20,101"}]
["1991e/",{"v":10345,"d":"10,345"},20,638,null,{"v":6525,"d":"6,525"},"e/",{"v":4132,"d":"4,132"},null,{"v":9553.059809931563,"d":"9,553"},"e/",{"v":12431,"d":"12,431"},{"v":21984.05980993156,"d":"21,984"}]
[1992,{"v":2054,"d":"2,054"},181,302,null,{"v":6261,"d":"6,261"},966,{"v":1357,"d":"1,357"},null,{"v":6895,"d":"6,895"},{"v":1046,"d":"1,046"},{"v":2962,"d":"2,962"},{"v":10903,"d":"10,903"}]
[1993,{"v":3869,"d":"3,869"},383,306,null,{"v":4998,"d":"4,998"},{"v":2239,"d":"2,239"},{"v":5928,"d":"5,928"},null,{"v":5318,"d":"5,318"},{"v":2548,"d":"2,548"},{"v":9541,"d":"9,541"},{"v":17404,"d":"17,404"}]
[1994,{"v":1612,"d":"1,612"},161,18,null,{"v":1108,"d":"1,108"},92,{"v":2903,"d":"2,903"},null,{"v":1233.8059701492537,"d":"1,234"},137,{"v":3736,"d":"3,736"},{"v":5107,"d":"5,107"}]
[1995,{"v":4221,"d":"4,221"},312,103,null,{"v":5831,"d":"5,831"},803,{"v":2954,"d":"2,954"},null,{"v":6903,"d":"6,903"},943,{"v":5972,"d":"5,972"},{"v":13818,"d":"13,818"}]
[1996,{"v":16024,"d":"16,024"},{"v":1044,"d":"1,044"},279,null,{"v":8991,"d":"8,991"},{"v":3576,"d":"3,576"},{"v":5189,"d":"5,189"},null,{"v":10814,"d":"10,814"},{"v":4493,"d":"4,493"},{"v":13024,"d":"13,024"},{"v":28331,"d":"28,331"}]
["1997e/",{"v":3090,"d":"3,090"},227,106,null,{"v":1499,"d":"1,499"},213,{"v":2137,"d":"2,137"},null,{"v":1983,"d":"1,983"},"e/",{"v":5028,"d":"5,028"},{"v":7011,"d":"7,011"}]
[1998,{"v":7421,"d":"7,421"},507,135,null,{"v":4128,"d":"4,128"},{"v":1387,"d":"1,387"},{"v":3503,"d":"3,503"},null,{"v":4645,"d":"4,645"},{"v":1528,"d":"1,528"},{"v":9730,"d":"9,730"},{"v":15903,"d":"15,903"}]
[1999,{"v":3974,"d":"3,974"},326,120,null,{"v":4794,"d":"4,794"},519,{"v":3551,"d":"3,551"},null,{"v":5073,"d":"5,073"},530,{"v":7394,"d":"7,394"},{"v":12996,"d":"12,996"}]
[2000,{"v":5063,"d":"5,063"},441,223,null,{"v":8097,"d":"8,097"},682,{"v":3834,"d":"3,834"},null,{"v":8699,"d":"8,699"},702,{"v":7302,"d":"7,302"},{"v":16703,"d":"16,703"}]
[2001,{"v":13648,"d":"13,648"},{"v":1047,"d":"1,047"},{"v":1554,"d":"1,554"},null,{"v":23890,"d":"23,890"},{"v":1080,"d":"1,080"},{"v":6491,"d":"6,491"},null,{"v":29042,"d":"29,042"},{"v":2233,"d":"2,233"},{"v":14084,"d":"14,084"},{"v":45359,"d":"45,359"}]
[2002,{"v":23686,"d":"23,686"},{"v":1346,"d":"1,346"},399,null,{"v":13968,"d":"13,968"},{"v":1065,"d":"1,065"},{"v":2240,"d":"2,240"},null,{"v":16855,"d":"16,855"},{"v":1327,"d":"1,327"},{"v":22589,"d":"22,589"},{"v":40771,"d":"40,771"}]
[2003,{"v":12707,"d":"12,707"},907,743,null,{"v":9846,"d":"9,846"},{"v":1081,"d":"1,081"},{"v":7002,"d":"7,002"},null,{"v":13428,"d":"13,428"},{"v":1286,"d":"1,286"},{"v":15550,"d":"15,550"},{"v":30266,"d":"30,266"}]
["2004f/",{"v":8169,"d":"8,169"},607,{"v":1139,"d":"1,139"},null,{"v":7484,"d":"7,484"},{"v":1225,"d":"1,225"},{"v":3985,"d":"3,985"},null,{"v":9530,"d":"9,530"},{"v":1459,"d":"1,459"},{"v":10956,"d":"10,956"},{"v":21945,"d":"21,945"}]
["2005f/",{"v":21306,"d":"21,306"},{"v":1311,"d":"1,311"},873,null,{"v":6539,"d":"6,539"},432,{"v":7843,"d":"7,843"},null,{"v":9758,"d":"9,758"},537,{"v":26794,"d":"26,794"},{"v":37090,"d":"37,090"}]
["2006f/",{"v":6233,"d":"6,233"},312,46,null,{"v":5612,"d":"5,612"},0,{"v":2946,"d":"2,946"},"NA",{"v":6400,"d":"6,400"},0,{"v":7100,"d":"7,100"},{"v":13500,"d":"13,500"}]
[2007,{"v":2261,"d":"2,261"},187,153,"NA",{"v":4600,"d":"4,600"},0,{"v":1954,"d":"1,954"},null,{"v":6003,"d":"6,003"},0,{"v":2901,"d":"2,901"},{"v":8905,"d":"8,905"}]
[2008,{"v":4738,"d":"4,738"},359,563,"NA",{"v":4629,"d":"4,629"},0,{"v":3461,"d":"3,461"},null,{"v":6282,"d":"6,282"},0,{"v":5929,"d":"5,929"},{"v":12211,"d":"12,211"}]
[2009,{"v":25004,"d":"25,004"},{"v":1677,"d":"1,677"},865,"NA",{"v":9204,"d":"9,204"},0,{"v":14151,"d":"14,151"},null,{"v":16557,"d":"16,557"},0,{"v":30511,"d":"30,511"},{"v":47068,"d":"47,068"}]
[2010,{"v":21138,"d":"21,138"},{"v":1415,"d":"1,415"},957,"NA",{"v":11261,"d":"11,261"},0,{"v":10326,"d":"10,326"},null,{"v":18154,"d":"18,154"},0,{"v":21676,"d":"21,676"},{"v":39830,"d":"39,830"}]
[2011,{"v":16641,"d":"16,641"},{"v":1229,"d":"1,229"},{"v":1491,"d":"1,491"},"NA",{"v":8588,"d":"8,588"},0,{"v":12887,"d":"12,887"},null,{"v":13477,"d":"13,477"},0,{"v":20190,"d":"20,190"},{"v":33668,"d":"33,668"}]
[2012,{"v":6118,"d":"6,118"},370,527,"NA",{"v":4285,"d":"4,285"},0,{"v":1090,"d":"1,090"},null,{"v":7712,"d":"7,712"},0,{"v":3289,"d":"3,289"},{"v":11001,"d":"11,001"}]
[2013,{"v":4519,"d":"4,519"},522,{"v":1285,"d":"1,285"},"NA",{"v":5684,"d":"5,684"},0,{"v":9680,"d":"9,680"},null,{"v":8019,"d":"8,019"},0,{"v":11801,"d":"11,801"},{"v":19820,"d":"19,820"}]
[2014,{"v":15481,"d":"15,481"},{"v":1148,"d":"1,148"},{"v":1625,"d":"1,625"},"NA",{"v":7558,"d":"7,558"},0,{"v":12271,"d":"12,271"},"NA",{"v":10501,"d":"10,501"},0,{"v":23210,"d":"23,210"},{"v":33711,"d":"33,711"}]
[2015,{"v":2268,"d":"2,268"},215,300,"NA",{"v":2028,"d":"2,028"},0,{"v":3315,"d":"3,315"},"NA",{"v":2201,"d":"2,201"},0,{"v":5296,"d":"5,296"},{"v":7496,"d":"7,496"}]
[2016,{"v":6822,"d":"6,822"},564,440,"NA",{"v":5156,"d":"5,156"},0,{"v":6985,"d":"6,985"},"NA",{"v":5653,"d":"5,653"},0,{"v":12956,"d":"12,956"},{"v":18608,"d":"18,608"}]
[2017,{"v":7583,"d":"7,583"},669,111,"NA",{"v":5232,"d":"5,232"},0,{"v":9947,"d":"9,947"},"NA",{"v":6469,"d":"6,469"},0,{"v":15381,"d":"15,381"},{"v":21851,"d":"21,851"}]
[2018,{"v":3308,"d":"3,308"},241,184,"NA",{"v":2631,"d":"2,631"},0,{"v":2261,"d":"2,261"},"NA",{"v":2968,"d":"2,968"},0,{"v":3504,"d":"3,504"},{"v":6472,"d":"6,472"}]
[2019,{"v":2567,"d":"2,567"},365,639,null,{"v":1700,"d":"1,700"},0,{"v":8597,"d":"8,597"},null,{"v":3083,"d":"3,083"},0,{"v":10438,"d":"10,438"},{"v":13521,"d":"13,521"}]
[2020,{"v":9171,"d":"9,171"},797,{"v":1140,"d":"1,140"},null,{"v":4181,"d":"4,181"},null,{"v":8841,"d":"8,841"},null,{"v":4618,"d":"4,618"},0,{"v":17480,"d":"17,480"},{"v":22098,"d":"22,098"}]
[2021,{"v":5467,"d":"5,467"},446,849,"NA",{"v":5752,"d":"5,752"},0,{"v":8064,"d":"8,064"},"NA",{"v":5972,"d":"5,972"},"-",{"v":12604,"d":"12,604"},{"v":18576,"d":"18,576"}]
[2022,{"v":10748,"d":"10,748"},850,663,null,{"v":12083,"d":"12,083"},null,{"v":10400,"d":"10,400"},null,{"v":14305,"d":"14,305"},null,{"v":14259,"d":"14,259"},{"v":28564,"d":"28,564"}]
["2023g/",{"v":4573,"d":"4,573"},578,926,null,{"v":4375,"d":"4,375"},null,{"v":8095,"d":"8,095"},null,{"v":6462,"d":"6,462"},null,{"v":12111,"d":"12,111"},{"v":18573,"d":"18,573"}]
["2024g/",{"v":3004,"d":"3,004"},"NA","NA",null,"NA",null,"NA",null,"NA",null,"NA","NA"]
["GOAL",{"$nulls":4},"5,800-14,500"]
["a/  Includes dip-in fish from other river systems."]
["b/  Recreational catch of adults (coho over 20 inches)."]
["c/  Natural escapement and run size estimates include fish taken for hatchery brood stock."]
["d/  Queets stock only; does not include non-local, dip-in fish."]
["e/  1991 and 1997 supplemental was included in natural escapement and run size."]
["f/   In 2004, 2005 and 2006 escapement estimates are from non-standard methods due to poor survey conditions during the coho spawning season."]
["g/  Preliminary."]
{"$rows_empty":15}
["TABLE B-31.  Estimated terminal run size, catch, and escapement for Queets River coho in numbers of fish.  "]
[null,"  Terminal Catcha/"]
["Year or Average",null,"Ceremonial &  Subsistence",null,null,"Escapementc/",{"$nulls":3},"Terminal Run Sizec/"]
[null,"Gillnet",null,"River Sportb/",null,"Natural","Supplemental","Hatchery",null,"Natural","Supplemental","Hatchery","Totald/"]
["1981-1985",{"$f":"AVERAGE(B10:B14)","v":{"v":2384.6,"d":"2,385"}},{"$f":"AVERAGE(C10:C14)","v":20},{"$f":"AVERAGE(D10:D14)","v":104},null,{"$f":"AVERAGE(F10:F14)","v":{"v":5460,"d":"5,460"}},"-",{"$f":"AVERAGE(H10:H14)","v":{"v":2654,"d":"2,654"}},null,{"$f":"AVERAGE(J10:J14)","v":{"v":6411,"d":"6,411"}},"-",{"$f":"AVERAGE(L10:L14)","v":{"v":3793.6,"d":"3,794"}},{"$f":"AVERAGE(M10:M14)","v":{"v":10204.6,"d":"10,205"}}]
["1986-1990",{"$f":"AVERAGE(B15:B19)","v":{"v":8454.6,"d":"8,455"}},{"$f":"AVERAGE(C15:C19)","v":18},{"$f":"AVERAGE(D15:D19)","v":{"v":240.92124849939972,"d":"241"}},null,{"$f":"AVERAGE(F15:F19)","v":{"v":4826.2,"d":"4,826"}},{"$f":"AVERAGE(G15:G19)","v":{"v":996.3333333333334,"d":"996"}},{"$f":"AVERAGE(H15:H19)","v":{"v":3700,"d":"3,700"}},null,{"$f":"AVERAGE(J15:J19)","v":{"v":6342.911442788847,"d":"6,343"}},{"$f":"AVERAGE(K15:K19)","v":{"v":1825,"d":"1,825"}},{"$f":"AVERAGE(L15:L19)","v":{"v":9684.8,"d":"9,685"}},{"$f":"AVERAGE(M15:M19)","v":{"v":17122.71144278885,"d":"17,123"}}]
["1991-1995e/",{"$f":"AVERAGE(B20:B24)","v":{"v":4420.2,"d":"4,420"}},{"$f":"AVERAGE(C20:C24)","v":{"v":211.4,"d":"211"}},{"v":273.4,"d":"273"},null,{"v":4944.6,"d":"4,945"},{"v":1025,"d":"1,025"},{"v":3454.8,"d":"3,455"},null,{"v":5980.573156016163,"d":"5,981"},{"v":1168.5,"d":"1,169"},{"v":6928.4,"d":"6,928"},{"v":13843.211961986312,"d":"13,843"}]
["1996-2000e/",{"$f":"AVERAGE(B25:B29)","v":{"v":7114.4,"d":"7,114"}},{"$f":"AVERAGE(C25:C29)","v":509},{"$f":"AVERAGE(D25:D29)","v":{"v":172.6,"d":"173"}},null,{"$f":"AVERAGE(F25:F29)","v":{"v":5501.8,"d":"5,502"}},{"$f":"AVERAGE(G25:G29)","v":{"v":1275.4,"d":"1,275"}},{"$f":"AVERAGE(H25:H29)","v":{"v":3642.8,"d":"3,643"}},null,{"$f":"AVERAGE(J25:J29)","v":{"v":6242.8,"d":"6,243"}},{"$f":"AVERAGE(K25:K29)","v":{"v":1813.25,"d":"1,813"}},{"$f":"AVERAGE(L25:L29)","v":{"v":8495.6,"d":"8,496"}},{"$f":"AVERAGE(M25:M29)","v":{"v":16188.8,"d":"16,189"}}]
["2001-2005f/",{"$f":"AVERAGE(B30:B34)","v":{"v":15903.2,"d":"15,903"}},{"$f":"AVERAGE(C30:C34)","v":{"v":1043.6,"d":"1,044"}},{"$f":"AVERAGE(D30:D34)","v":{"v":941.6,"d":"942"}},null,{"$f":"AVERAGE(F30:F34)","v":{"v":12345.4,"d":"12,345"}},{"$f":"AVERAGE(G30:G34)","v":{"v":976.6,"d":"977"}},{"$f":"AVERAGE(H30:H34)","v":{"v":5512.2,"d":"5,512"}},null,{"$f":"AVERAGE(J30:J34)","v":{"v":15722.6,"d":"15,723"}},{"$f":"AVERAGE(K30:K34)","v":{"v":1368.4,"d":"1,368"}},{"$f":"AVERAGE(L30:L34)","v":{"v":17994.6,"d":"17,995"}},{"$f":"AVERAGE(M30:M34)","v":{"v":35086.2,"d":"35,086"}}]
["2006-2010f/",{"$f":"AVERAGE(B35:B39)","v":{"v":11874.8,"d":"11,875"}},{"$f":"AVERAGE(C35:C39)","v":790},{"v":516.8,"d":"517"},null,{"v":7061.2,"d":"7,061"},"-",{"v":6567.6,"d":"6,568"},null,{"v":10679.2,"d":"10,679"},"-",{"v":13623.4,"d":"13,623"},{"v":24302.8,"d":"24,303"}]
[2011,{"$f":"B40","v":{"v":16641,"d":"16,641"}},{"v":1229,"d":"1,229"},{"v":1491,"d":"1,491"},null,{"$f":"F40","v":{"v":8588,"d":"8,588"}},0,{"v":12887,"d":"12,887"},null,{"$f":"J40","v":{"v":13477,"d":"13,477"}},0,{"v":20190,"d":"20,190"},{"v":33668,"d":"33,668"}]
[2012,{"v":6118,"d":"6,118"},370,527,null,{"v":4285,"d":"4,285"},0,{"v":1090,"d":"1,090"},null,{"v":7712,"d":"7,712"},0,{"v":3289,"d":"3,289"},{"v":11001,"d":"11,001"}]
[2013,{"v":4519,"d":"4,519"},522,{"v":1285,"d":"1,285"},null,{"v":5684,"d":"5,684"},0,{"v":9680,"d":"9,680"},null,{"v":8019,"d":"8,019"},0,{"v":11801,"d":"11,801"},{"v":19820,"d":"19,820"}]
[2014,{"v":15481,"d":"15,481"},{"v":1148,"d":"1,148"},{"v":1625,"d":"1,625"},null,{"v":7558,"d":"7,558"},0,{"v":12271,"d":"12,271"},null,{"v":10501,"d":"10,501"},0,{"v":23210,"d":"23,210"},{"v":33711,"d":"33,711"}]
[2015,{"v":2268,"d":"2,268"},215,300,null,{"v":2028,"d":"2,028"},0,{"v":3315,"d":"3,315"},null,{"v":2201,"d":"2,201"},0,{"v":5296,"d":"5,296"},{"v":7496,"d":"7,496"}]
[2016,{"v":6822,"d":"6,822"},564,440,null,{"v":5156,"d":"5,156"},0,{"v":6985,"d":"6,985"},null,{"v":5653,"d":"5,653"},0,{"v":12956,"d":"12,956"},{"v":18608,"d":"18,608"}]
[2017,{"v":7583,"d":"7,583"},669,111,null,{"v":5232,"d":"5,232"},0,{"v":9947,"d":"9,947"},null,{"v":6469,"d":"6,469"},0,{"v":15381,"d":"15,381"},{"v":21851,"d":"21,851"}]
[2018,{"v":3308,"d":"3,308"},241,184,null,{"v":2631,"d":"2,631"},0,{"v":2261,"d":"2,261"},null,{"v":2968,"d":"2,968"},0,{"v":3504,"d":"3,504"},{"v":6472,"d":"6,472"}]
[2019,{"v":2567,"d":"2,567"},365,639,null,{"v":1700,"d":"1,700"},0,{"v":8597,"d":"8,597"},null,{"v":3083,"d":"3,083"},0,{"v":10438,"d":"10,438"},{"v":13521,"d":"13,521"}]
[2020,{"v":9171,"d":"9,171"},797,{"v":1140,"d":"1,140"},null,{"v":4181,"d":"4,181"},0,{"v":8841,"d":"8,841"},null,{"v":4618,"d":"4,618"},0,{"v":17480,"d":"17,480"},{"v":22098,"d":"22,098"}]
[2021,{"v":5467,"d":"5,467"},446,849,null,{"v":5752,"d":"5,752"},0,{"v":8064,"d":"8,064"},null,{"v":5972,"d":"5,972"},"-",{"v":12604,"d":"12,604"},{"v":18576,"d":"18,576"}]
[2022,{"v":10748,"d":"10,748"},850,663,null,{"v":12083,"d":"12,083"},0,{"v":10400,"d":"10,400"},null,{"v":14305,"d":"14,305"},0,{"v":14259,"d":"14,259"},{"v":28564,"d":"28,564"}]
["2023g/",{"$f":"B52","v":{"v":4573,"d":"4,573"}},578,926,null,{"$f":"F52","v":{"v":4375,"d":"4,375"}},0,{"v":8095,"d":"8,095"},null,{"$f":"J52","v":{"v":6462,"d":"6,462"}},0,{"v":12111,"d":"12,111"},{"v":18573,"d":"18,573"}]
["2024g/",{"v":3004,"d":"3,004"},"NA","NA",null,"NA",0,"NA",null,"NA",0,"NA","NA"]
["GOAL",{"$nulls":4},{"$f":"F54","v":"5,800-14,500"}]
[{"$f":"A55","v":"a/  Includes dip-in fish from other river systems."}]
["b/  Recreational catch of adults (coho over 20 inches)."]
["c/  Natural escapement and run size estimates include fish taken for hatchery brood stock."]
["d/  Queets stock only; does not include non-local, dip-in fish."]
["e/  1991 and 1997 supplemental was included in natural escapement and run size."]
["f/   In 2004, 2005 and 2006 escapement estimates are from non-standard methods due to poor survey conditions during the coho spawning season."]
["g/  Preliminary."]

{"sheet":"B-32","index":33,"n_rows":105,"n_cols":16,"rows_kept":105,"merged":[[0,0,0,15],[1,1,1,8],[2,0,3,0],[2,1,2,3],[2,5,2,7],[2,10,2,11],[2,13,2,15],[54,0,54,15],[55,0,55,15],[56,0,56,15],[57,0,57,15],[76,0,76,15],[77,1,77,8],[78,0,79,0],[78,1,78,3],[78,5,78,7],[78,10,78,11],[78,13,78,15],[101,0,101,15],[102,0,102,15],[103,0,103,15],[104,0,104,15]]}
["TABLE B-32.  Estimated inriver run size, catch, and escapement for Hoh River spring/summer Chinook in numbers of fish."]
[null,"  Terminal Catcha/"]
["Year or Average","Gillnet",{"$nulls":3},"Ceremonial &  Subsistence",{"$nulls":4},"Escapement",null,null,"Terminal Run Size"]
[null,"Natural","Hatchery","Total",null,"Natural","Hatchery","Total","River Sportb/",null,"Natural","       Hatchery",null,"Natural","Hatchery","Total"]
[1976,"NA","NA",500,null,"--","--",20,100,null,600,0,null,{"v":1300,"d":"1,300"},0,{"v":1300,"d":"1,300"}]
[1977,"NA","NA",900,null,"--","--",20,20,null,{"v":1000,"d":"1,000"},0,null,{"v":2000,"d":"2,000"},0,{"v":2000,"d":"2,000"}]
[1978,"NA","NA",{"v":1000,"d":"1,000"},null,"--","--",100,100,null,{"v":1400,"d":"1,400"},0,null,{"v":2472,"d":"2,472"},0,{"v":2472,"d":"2,472"}]
[1979,"NA","NA",700,null,"--","--",100,100,null,{"v":1400,"d":"1,400"},0,null,{"v":2326,"d":"2,326"},0,{"v":2326,"d":"2,326"}]
[1980,"NA","NA",100,null,"--","--",20,100,null,800,0,null,{"v":1079,"d":"1,079"},0,{"v":1079,"d":"1,079"}]
[1981,"NA","NA",432,null,"--","--",63,20,null,{"v":1498,"d":"1,498"},22,null,{"v":2005,"d":"2,005"},47,{"v":2052,"d":"2,052"}]
[1982,"NA","NA",569,null,"--","--",15,100,null,{"v":1553,"d":"1,553"},87,null,{"v":2125,"d":"2,125"},202,{"v":2327,"d":"2,327"}]
[1983,"NA","NA",458,null,"--","--",36,100,null,{"v":1696,"d":"1,696"},67,null,{"v":2233,"d":"2,233"},131,{"v":2364,"d":"2,364"}]
[1984,"NA","NA",444,null,"--","--",21,300,null,{"v":1430,"d":"1,430"},50,null,{"v":2005,"d":"2,005"},139,{"v":2144,"d":"2,144"}]
[1985,"NA","NA",336,null,"--","--",15,100,null,978,22,null,{"v":1353,"d":"1,353"},123,{"v":1476,"d":"1,476"}]
[1986,"NA","NA",554,null,"--","--",15,138,null,{"v":1248,"d":"1,248"},0,null,{"v":1912,"d":"1,912"},43,{"v":1955,"d":"1,955"}]
[1987,"NA","NA",676,null,"--","--",38,227,null,{"v":1710,"d":"1,710"},0,null,{"v":2480,"d":"2,480"},171,{"v":2651,"d":"2,651"}]
[1988,"NA","NA",{"v":1008,"d":"1,008"},null,"--","--",38,304,null,{"v":2605,"d":"2,605"},10,null,{"v":3708,"d":"3,708"},294,{"v":4002,"d":"4,002"}]
[1989,"NA","NA",{"v":1735,"d":"1,735"},null,"--","--",38,555,null,{"v":4697,"d":"4,697"},119,null,{"v":6820,"d":"6,820"},334,{"v":7154,"d":"7,154"}]
[1990,"NA","NA",{"v":1387,"d":"1,387"},null,"--","--",38,351,null,{"v":3886,"d":"3,886"},40,null,{"v":5294,"d":"5,294"},442,{"v":5736,"d":"5,736"}]
[1991,"NA","NA",600,null,"--","--",13,138,null,{"v":1078,"d":"1,078"},0,null,{"v":1693,"d":"1,693"},153,{"v":1846,"d":"1,846"}]
[1992,"NA","NA",445,null,"--","--",26,81,null,{"v":1018,"d":"1,018"},0,null,{"v":1443,"d":"1,443"},167,{"v":1610,"d":"1,610"}]
[1993,"NA","NA",509,null,"--","--",25,357,null,{"v":1411,"d":"1,411"},0,null,{"v":2065,"d":"2,065"},242,{"v":2307,"d":"2,307"}]
[1994,"NA","NA",378,null,"--","--",20,404,null,{"v":1699,"d":"1,699"},0,null,{"v":2372,"d":"2,372"},152,{"v":2524,"d":"2,524"}]
[1995,"NA","NA",230,null,"--","--",25,387,null,{"v":1132,"d":"1,132"},0,null,{"v":1686,"d":"1,686"},68,{"v":1754,"d":"1,754"}]
[1996,"NA","NA",471,null,"--","--",30,267,null,{"v":1371,"d":"1,371"},16,null,{"v":2083,"d":"2,083"},114,{"v":2197,"d":"2,197"}]
[1997,"NA","NA",416,null,"--","--",57,331,null,{"v":1826,"d":"1,826"},0,null,{"v":2582,"d":"2,582"},53,{"v":2635,"d":"2,635"}]
[1998,"NA","NA",294,null,"--","--",20,288,null,{"v":1287,"d":"1,287"},0,null,{"v":1880,"d":"1,880"},28,{"v":1908,"d":"1,908"}]
[1999,"NA","NA",155,null,"--","--",20,52,null,928,99,null,{"v":1081,"d":"1,081"},171,{"v":1252,"d":"1,252"}]
[2000,"NA","NA",87,null,"--","--",38,21,null,492,0,null,529,116,645]
[2001,"NA","NA",134,null,"--","--",39,43,null,{"v":1159,"d":"1,159"},0,null,{"v":1231,"d":"1,231"},101,{"v":1332,"d":"1,332"}]
[2002,"NA","NA",587,null,"--","--",37,372,null,{"v":2464,"d":"2,464"},0,null,{"v":3375,"d":"3,375"},85,{"v":3460,"d":"3,460"}]
[2003,"NA","NA",296,null,"--","--",20,206,null,{"v":1228,"d":"1,228"},0,null,{"v":1646,"d":"1,646"},104,{"v":1750,"d":"1,750"}]
[2004,"NA","NA",401,null,"--","--",20,102,null,{"v":1786,"d":"1,786"},0,null,{"$f":"351+K33+I33","v":{"v":2239,"d":"2,239"}},70,{"$f":"N33+O33","v":{"v":2309,"d":"2,309"}}]
[2005,"NA","NA",323,null,"--","--",36,73,null,{"v":1193,"d":"1,193"},0,null,{"$f":"142+K34+54","v":{"v":1389,"d":"1,389"}},217,{"$f":"N34+O34","v":{"v":1606,"d":"1,606"}}]
[2006,"NA","NA",576,null,"--","--",37,109,null,904,0,null,{"$f":"93+64+K35","v":{"v":1061,"d":"1,061"}},571,{"$f":"N35+O35","v":{"v":1632,"d":"1,632"}}]
[2007,"NA","NA",760,null,"--","--",68,{"$f":"45+91","v":136},null,810,0,null,{"$f":"168+45+K36","v":{"v":1023,"d":"1,023"}},592,{"$f":"SUM(N36:O36)","v":{"v":1615,"d":"1,615"}}]
[2008,22,227,{"$f":"SUM(B37:C37)","v":249},null,10,40,{"$f":"SUM(F37:G37)","v":50},7,null,671,0,null,{"$f":"K37+B37+F37","v":703},{"$f":"C37+G37+L37+I37","v":274},977]
[2009,30,106,{"$f":"SUM(B38:C38)","v":136},null,3,2,{"$f":"SUM(F38:G38)","v":5},12,null,880,2,null,913,122,{"v":1035,"d":"1,035"}]
[2010,24,83,{"$f":"SUM(B39:C39)","v":107},null,0,0,{"$f":"SUM(F39:G39)","v":0},6,null,828,0,null,852,89,941]
[2011,51,25,76,null,7,3,10,22,null,827,0,null,885,50,935]
[2012,135,263,{"$f":"SUM(B41:C41)","v":398},null,9,11,20,36,null,915,1,null,{"v":1059,"d":"1,059"},311,{"v":1370,"d":"1,370"}]
[2013,117,415,{"$f":"SUM(B42:C42)","v":532},null,6,17,{"$f":"SUM(F42:G42)","v":23},65,null,750,0,null,873,497,{"v":1370,"d":"1,370"}]
[2014,67,264,{"$f":"SUM(B43:C43)","v":331},null,8,20,{"$f":"SUM(F43:G43)","v":28},0,null,744,0,null,819,284,{"$f":"SUM(N43:O43)","v":{"v":1103,"d":"1,103"}}]
[2015,17,55,72,null,9,5,14,0,null,{"v":1070,"d":"1,070"},0,null,{"v":1096,"d":"1,096"},60,{"v":1156,"d":"1,156"}]
[2016,4,2,6,null,10,16,26,0,null,{"v":1144,"d":"1,144"},0,null,{"v":1158,"d":"1,158"},18,{"v":1176,"d":"1,176"}]
[2017,7,39,46,null,8,12,20,0,null,{"v":1364,"d":"1,364"},0,null,{"v":1379,"d":"1,379"},51,{"v":1430,"d":"1,430"}]
[2018,15,43,58,null,"--","--",34,18,null,793,0,null,808,61,869]
[2019,9,12,21,null,2,0,2,0,null,766,0,null,777,12,789]
[2020,0,0,0,null,0,4,4,0,null,{"v":1248,"d":"1,248"},0,null,{"v":1248,"d":"1,248"},4,{"v":1252,"d":"1,252"}]
[2021,64,88,152,null,6,5,11,13,null,817,0,null,900,93,993]
[2022,4,6,10,null,7,14,21,0,null,{"v":1055,"d":"1,055"},0,null,{"v":1066,"d":"1,066"},20,{"v":1086,"d":"1,086"}]
[2023,79,83,162,null,11,8,19,0,null,980,0,null,{"v":1070,"d":"1,070"},91,{"v":1161,"d":"1,161"}]
["2024c/",78,116,194,null,12,1,13,"NA",null,"NA",0,null,"NA","NA","NA"]
["  GOAL",{"$nulls":9},"900d/"]
["a/  Beginning in 1981, catch breakouts recalculated to account for Solduc hatchery yearling release dip-in fish."]
["b/  Recreational catch of adults (at least 24 inches total length); begining in 2008, all Chinook must be marked with a healed adipose fin clip. Sport fishery closed to retention of wild adult spring/summer Chinook through August 31in 2001, 2002, and every year since 2008."]
["c/   Preliminary."]
["d/  Minimum.  Terminal run managed at 31 percent harvest rate of inriver run size.    "]
{"$rows_empty":18}
["TABLE B-32.  Estimated inriver run size, catch, and escapement for Hoh River spring/summer Chinook in numbers of fish."]
[null,"  Terminal Catcha/"]
["Year or Average","Gillnet",{"$nulls":3},"Ceremonial &  Subsistence",{"$nulls":4},"Escapement",null,null,"Terminal Run Size"]
[null,"Natural","Hatchery","Total",null,"Natural","Hatchery","Total","River Sportb/",null,"Natural","       Hatchery",null,"Natural","Hatchery","Total"]
["1981-1985","NA","NA",{"$f":"AVERAGE(D10:D14)","v":{"v":447.8,"d":"448"}},null,"--","--",{"$f":"AVERAGE(H10:H14)","v":30},{"$f":"AVERAGE(I10:I14)","v":124},null,{"$f":"AVERAGE(K10:K14)","v":{"v":1431,"d":"1,431"}},{"$f":"AVERAGE(L10:L14)","v":{"v":49.6,"d":"50"}},null,{"$f":"AVERAGE(N10:N14)","v":{"v":1944.2,"d":"1,944"}},{"$f":"AVERAGE(O10:O14)","v":{"v":128.4,"d":"128"}},{"$f":"AVERAGE(P10:P14)","v":{"v":2072.6,"d":"2,073"}}]
["1986-1990","NA","NA",{"$f":"AVERAGE(D15:D19)","v":{"v":1072,"d":"1,072"}},null,"--","--",{"$f":"AVERAGE(H15:H19)","v":{"v":33.4,"d":"33"}},{"$f":"AVERAGE(I15:I19)","v":315},null,{"$f":"AVERAGE(K15:K19)","v":{"v":2829.2,"d":"2,829"}},{"$f":"AVERAGE(L15:L19)","v":{"v":33.8,"d":"34"}},null,{"$f":"AVERAGE(N15:N19)","v":{"v":4042.8,"d":"4,043"}},{"$f":"AVERAGE(O15:O19)","v":{"v":256.8,"d":"257"}},{"$f":"AVERAGE(P15:P19)","v":{"v":4299.6,"d":"4,300"}}]
["1991-1995","NA","NA",{"$f":"AVERAGE(D20:D24)","v":{"v":432.4,"d":"432"}},null,"--","--",{"$f":"AVERAGE(H20:H24)","v":{"v":21.8,"d":"22"}},{"$f":"AVERAGE(I20:I24)","v":{"v":273.4,"d":"273"}},null,{"$f":"AVERAGE(K20:K24)","v":{"v":1267.6,"d":"1,268"}},{"$f":"AVERAGE(L20:L24)","v":0},null,{"$f":"AVERAGE(N20:N24)","v":{"v":1851.8,"d":"1,852"}},{"$f":"AVERAGE(O20:O24)","v":{"v":156.4,"d":"156"}},{"$f":"AVERAGE(P20:P24)","v":{"v":2008.2,"d":"2,008"}}]
["1996-2000","NA","NA",{"$f":"AVERAGE(D25:D29)","v":{"v":284.6,"d":"285"}},null,"--","--",{"$f":"AVERAGE(H25:H29)","v":33},{"$f":"AVERAGE(I25:I29)","v":{"v":191.8,"d":"192"}},null,{"$f":"AVERAGE(K25:K29)","v":{"v":1180.8,"d":"1,181"}},{"$f":"AVERAGE(L25:L29)","v":23},null,{"$f":"AVERAGE(N25:N29)","v":{"v":1631,"d":"1,631"}},{"$f":"AVERAGE(O25:O29)","v":{"v":96.4,"d":"96"}},{"$f":"AVERAGE(P25:P29)","v":{"v":1727.4,"d":"1,727"}}]
["2001-2005","NA","NA",{"$f":"AVERAGE(D30:D34)","v":{"v":348.2,"d":"348"}},null,"--","--",{"$f":"AVERAGE(H30:H34)","v":{"v":30.4,"d":"30"}},{"$f":"AVERAGE(I30:I34)","v":{"v":159.2,"d":"159"}},null,{"$f":"AVERAGE(K30:K34)","v":{"v":1566,"d":"1,566"}},{"$f":"AVERAGE(L30:L34)","v":0},null,{"$f":"AVERAGE(N30:N34)","v":{"v":1976,"d":"1,976"}},{"$f":"AVERAGE(O30:O34)","v":{"v":115.4,"d":"115"}},{"$f":"AVERAGE(P30:P34)","v":{"v":2091.4,"d":"2,091"}}]
["2006-2010",{"$f":"AVERAGE(B35:B39)","v":{"v":25.333333333333332,"d":"25"}},{"v":138.66666666666666,"d":"139"},{"$f":"AVERAGE(D35:D39)","v":{"v":365.6,"d":"366"}},null,{"$f":"AVERAGE(F35:F39)","v":{"v":4.333333333333333,"d":"4"}},14,32,{"$f":"AVERAGE(I35:I39)","v":54},null,{"$f":"AVERAGE(K35:K39)","v":{"v":818.6,"d":"819"}},{"v":0.4,"d":"0"},null,{"$f":"AVERAGE(N35:N39)","v":{"v":910.4,"d":"910"}},{"v":329.6,"d":"330"},{"v":1240,"d":"1,240"}]
[2011,{"$f":"B40","v":51},25,76,null,{"$f":"F40","v":7},3,10,22,null,{"$f":"K40","v":827},0,null,{"$f":"N40","v":885},50,935]
[2012,135,263,398,null,9,11,20,36,null,915,1,null,{"v":1059,"d":"1,059"},311,{"v":1370,"d":"1,370"}]
[2013,117,415,532,null,6,17,23,65,null,750,0,null,873,497,{"v":1370,"d":"1,370"}]
[2014,67,264,331,null,8,20,28,0,null,744,0,null,819,284,{"v":1103,"d":"1,103"}]
[2015,17,55,72,null,9,5,14,0,null,{"v":1070,"d":"1,070"},0,null,{"v":1096,"d":"1,096"},60,{"v":1156,"d":"1,156"}]
[2016,4,2,6,null,10,16,26,0,null,{"v":1144,"d":"1,144"},0,null,{"v":1158,"d":"1,158"},18,{"v":1176,"d":"1,176"}]
[2017,7,39,46,null,8,12,20,0,null,{"v":1364,"d":"1,364"},0,null,{"v":1379,"d":"1,379"},51,{"v":1430,"d":"1,430"}]
[2018,15,43,58,null,"--","--",34,18,null,793,0,null,808,61,869]
[2019,9,12,21,null,2,0,2,0,null,766,0,null,777,12,789]
[2020,0,0,0,null,0,4,4,0,null,{"v":1248,"d":"1,248"},0,null,{"v":1248,"d":"1,248"},4,{"v":1252,"d":"1,252"}]
[2021,64,88,152,null,6,5,11,13,null,817,0,null,900,93,993]
[2022,4,6,10,null,7,14,21,0,null,{"v":1055,"d":"1,055"},0,null,{"v":1066,"d":"1,066"},20,{"v":1086,"d":"1,086"}]
[2023,{"$f":"B52","v":79},83,162,null,{"$f":"F52","v":11},8,19,{"$f":"I52","v":0},null,{"$f":"K52","v":980},0,null,{"$f":"N52","v":{"v":1070,"d":"1,070"}},91,{"v":1161,"d":"1,161"}]
["2024c/",78,116,194,null,12,1,13,"NA",null,"NA",0,null,"NA","NA","NA"]
["GOAL",{"$nulls":9},"    900d/"]
[{"$f":"A55","v":"a/  Beginning in 1981, catch breakouts recalculated to account for Solduc hatchery yearling release dip-in fish."}]
[{"$f":"A56","v":"b/  Recreational catch of adults (at least 24 inches total length); begining in 2008, all Chinook must be marked with a healed adipose fin clip. Sport fishery closed to retention of wild adult spring/summer Chinook through August 31in 2001, 2002, and every year since 2008."}]
[{"$f":"A57","v":"c/   Preliminary."}]
["d/  Minimum.  Terminal run managed at 31 percent harvest rate of inriver run size.    "]

{"sheet":"B-33","index":34,"n_rows":121,"n_cols":11,"rows_kept":121,"merged":[[0,0,0,10],[1,1,1,3],[2,0,3,0],[2,2,3,2],[2,5,2,6],[2,8,2,10],[54,0,54,10],[55,0,55,10],[56,0,56,10],[57,0,58,10],[92,0,92,10],[93,1,93,3],[94,0,95,0],[94,2,95,2],[94,5,94,6],[94,8,94,10],[117,0,117,10],[118,0,118,10],[119,0,119,10],[120,0,120,10],[121,0,121,10]]}
["TABLE B-33.  Estimated inriver run size, catch, and escapement for Hoh River fall Chinook in numbers of fish."]
[null,"  Terminal Catch"]
["Year or Average",null,"Ceremonial &  Subsistence",null,null,"Escapement",null,null,"Terminal Run Size"]
[null,"Gillnet",null,"River Sporta/",null,"Naturalb/","       Hatchery",null,"Naturalb/","Hatchery","Total"]
[1976,500,20,45,null,{"v":2500,"d":"2,500"},"-",null,{"v":3100,"d":"3,100"},"-",{"v":3100,"d":"3,100"}]
[1977,{"v":1600,"d":"1,600"},20,40,null,{"v":2100,"d":"2,100"},"-",null,{"v":3800,"d":"3,800"},"-",{"v":3800,"d":"3,800"}]
[1978,800,100,51,null,{"v":1900,"d":"1,900"},"-",null,{"v":2900,"d":"2,900"},"-",{"v":2900,"d":"2,900"}]
[1979,400,20,28,null,{"v":1700,"d":"1,700"},"-",null,{"v":2200,"d":"2,200"},"-",{"v":2200,"d":"2,200"}]
[1980,500,20,21,null,{"v":2200,"d":"2,200"},"-",null,{"v":2800,"d":"2,800"},"-",{"v":2800,"d":"2,800"}]
[1981,800,20,0,null,{"v":3100,"d":"3,100"},"-",null,{"v":4000,"d":"4,000"},"-",{"v":4000,"d":"4,000"}]
[1982,{"v":1200,"d":"1,200"},20,12,null,{"v":4500,"d":"4,500"},20,null,{"v":5800,"d":"5,800"},100,{"v":5900,"d":"5,900"}]
[1983,500,20,134,null,{"v":2500,"d":"2,500"},20,null,{"v":3300,"d":"3,300"},100,{"v":3400,"d":"3,400"}]
[1984,800,20,118,null,{"v":1900,"d":"1,900"},20,null,{"v":2600,"d":"2,600"},100,{"v":2700,"d":"2,700"}]
[1985,946,100,30,null,{"v":1725,"d":"1,725"},20,null,{"v":2720,"d":"2,720"},100,{"v":2820,"d":"2,820"}]
[1986,900,20,178,null,{"v":4981,"d":"4,981"},20,null,{"v":6000,"d":"6,000"},100,{"v":6100,"d":"6,100"}]
[1987,{"v":1800,"d":"1,800"},20,299,null,{"v":4006,"d":"4,006"},20,null,{"v":6147,"d":"6,147"},89,{"v":6236,"d":"6,236"}]
[1988,{"v":2639,"d":"2,639"},20,224,null,{"v":4128,"d":"4,128"},20,null,{"v":6909,"d":"6,909"},100,{"v":7009,"d":"7,009"}]
[1989,{"v":2740,"d":"2,740"},50,197,null,{"v":5148,"d":"5,148"},60,null,{"v":8692,"d":"8,692"},100,{"v":8792,"d":"8,792"}]
[1990,{"v":1921,"d":"1,921"},50,169,null,{"v":4236,"d":"4,236"},46,null,{"v":6347,"d":"6,347"},50,{"v":6397,"d":"6,397"}]
[1991,{"v":1076,"d":"1,076"},15,130,null,{"v":1420,"d":"1,420"},0,null,{"v":2628,"d":"2,628"},13,{"v":2641,"d":"2,641"}]
[1992,940,30,184,null,{"v":4003,"d":"4,003"},0,null,{"v":5139,"d":"5,139"},18,{"v":5157,"d":"5,157"}]
[1993,{"v":1148,"d":"1,148"},30,416,null,{"v":2280,"d":"2,280"},0,null,{"v":2951,"d":"2,951"},91,{"v":3042,"d":"3,042"}]
[1994,687,30,242,null,{"v":3967,"d":"3,967"},0,null,{"v":4322,"d":"4,322"},179,{"v":4501,"d":"4,501"}]
[1995,502,30,194,null,{"v":2202,"d":"2,202"},0,null,{"v":2912,"d":"2,912"},22,{"v":2934,"d":"2,934"}]
[1996,836,30,192,null,{"v":3022,"d":"3,022"},0,null,{"$f":"SUM(B25:F25)-J25","v":{"v":4061,"d":"4,061"}},19,{"v":4080,"d":"4,080"}]
[1997,{"v":1114,"d":"1,114"},35,164,null,{"v":1773,"d":"1,773"},0,null,{"$f":"SUM(B26:F26)-J26","v":{"v":3034,"d":"3,034"}},52,{"v":3086,"d":"3,086"}]
[1998,846,30,268,null,{"v":4257,"d":"4,257"},0,null,{"$f":"SUM(B27:F27)-J27","v":{"v":5388,"d":"5,388"}},13,{"v":5401,"d":"5,401"}]
[1999,596,30,413,null,{"v":1924,"d":"1,924"},0,null,{"$f":"SUM(B28:F28)-J28","v":{"v":2941,"d":"2,941"}},22,{"v":2963,"d":"2,963"}]
[2000,404,20,479,null,{"v":1749,"d":"1,749"},0,null,{"v":2632,"d":"2,632"},20,{"$f":"SUM(I29:J29)","v":{"v":2652,"d":"2,652"}}]
[2001,946,40,600,null,{"v":2560,"d":"2,560"},0,null,{"$f":"SUM(B30:F30)-J30","v":{"v":4026,"d":"4,026"}},120,{"$f":"SUM(I30:J30)","v":{"v":4146,"d":"4,146"}}]
[2002,{"v":1461,"d":"1,461"},30,134,null,{"v":4415,"d":"4,415"},82,null,{"v":5634,"d":"5,634"},406,{"$f":"SUM(I31:J31)","v":{"v":6040,"d":"6,040"}}]
[2003,517,30,216,null,{"v":1649,"d":"1,649"},32,null,{"v":2313.3398546820363,"d":"2,313"},{"v":98.66014531796377,"d":"99"},{"v":2412,"d":"2,412"}]
[2004,815,30,400,null,{"v":3282,"d":"3,282"},26,null,{"v":4455.054373522458,"d":"4,455"},{"v":71.94562647754137,"d":"72"},{"v":4527,"d":"4,527"}]
[2005,970,21,229,null,{"v":4180,"d":"4,180"},14,null,{"v":5323,"d":"5,323"},77,{"v":5400,"d":"5,400"}]
[2006,586,30,204,null,{"v":1535,"d":"1,535"},0,null,{"v":2336,"d":"2,336"},19,{"v":2355,"d":"2,355"}]
[2007,660,30,192,null,{"v":1556,"d":"1,556"},0,null,{"v":2427,"d":"2,427"},11,{"v":2438,"d":"2,438"}]
[2008,659,0,278,null,{"v":2999,"d":"2,999"},0,null,{"v":3911,"d":"3,911"},25,{"v":3936,"d":"3,936"}]
[2009,553,0,134,null,{"v":2081,"d":"2,081"},0,null,{"v":2747,"d":"2,747"},21,{"v":2768,"d":"2,768"}]
[2010,342,0,297,null,{"v":2599,"d":"2,599"},0,null,{"v":3204,"d":"3,204"},34,{"v":3238,"d":"3,238"}]
[2011,528,0,400,null,{"v":1293,"d":"1,293"},0,null,{"v":2163,"d":"2,163"},58,{"v":2221,"d":"2,221"}]
[2012,929,10,237,null,{"v":1937,"d":"1,937"},0,null,{"v":3014,"d":"3,014"},99,{"v":3113,"d":"3,113"}]
[2013,{"v":1683,"d":"1,683"},10,477,null,{"v":1269,"d":"1,269"},0,null,{"v":3297,"d":"3,297"},142,{"v":3439,"d":"3,439"}]
[2014,658,10,144,null,{"v":1933,"d":"1,933"},0,null,{"v":2664,"d":"2,664"},81,{"v":2745,"d":"2,745"}]
[2015,493,11,198,null,{"v":1795,"d":"1,795"},0,null,{"v":2439,"d":"2,439"},58,{"v":2497,"d":"2,497"}]
[2016,137,3,47,null,{"v":2831,"d":"2,831"},0,null,{"v":3012,"d":"3,012"},6,{"v":3018,"d":"3,018"}]
[2017,518,20,223,null,{"v":1808,"d":"1,808"},0,null,{"v":2547,"d":"2,547"},22,{"v":2569,"d":"2,569"}]
[2018,139,0,94,null,{"v":2478,"d":"2,478"},0,null,{"v":2708,"d":"2,708"},3,{"v":2711,"d":"2,711"}]
[2019,768,0,297,null,{"v":1552,"d":"1,552"},0,null,{"v":2586,"d":"2,586"},31,{"v":2617,"d":"2,617"}]
[2020,{"v":1128,"d":"1,128"},0,325,null,{"v":2273,"d":"2,273"},0,null,{"v":3704,"d":"3,704"},22,{"v":3726,"d":"3,726"}]
[2021,{"v":1167,"d":"1,167"},0,211,null,{"v":2622,"d":"2,622"},0,null,{"v":3952,"d":"3,952"},48,{"v":4000,"d":"4,000"}]
[2022,440,0,147,null,{"v":1866,"d":"1,866"},0,null,{"v":2450,"d":"2,450"},4,{"v":2454,"d":"2,454"}]
[2023,700,1,325,null,{"v":2323,"d":"2,323"},0,null,{"v":3302,"d":"3,302"},47,{"v":3349,"d":"3,349"}]
["2024c/",590,0,"NA",null,"NA",0,null,"NA","NA","NA"]
["GOAL",{"$nulls":4},"   1,200d/"]
["a/  Recreational catch of age-3 and older fish."]
["b/  Includes fish taken for hatchery brood stock."]
["c/  Preliminary."]
["d/  Minimum.  Terminal run managed for a maximum 40 percent harvest rate of inriver run size."]
[]
[{"$nulls":5},"GeoMean"]
[{"$nulls":5},{"$f":"GEOMEAN(F50:F52)","v":{"v":2248.353072722518,"d":"2,248"}}]
{"$rows_empty":31}
["TABLE B-33.  Estimated inriver run size, catch, and escapement for Hoh River fall Chinook in numbers of fish. "]
[null,"  Terminal Catch"]
["Year or Average",null,"Ceremonial &  Subsistence",null,null,"Escapement",null,null,"Terminal Run Size"]
[null,"Gillnet",null,"River Sporta/",null,"Naturalb/","       Hatchery",null,"Naturalb/","Hatchery","Total"]
["1981-1985",{"$f":"AVERAGE(B10:B14)","v":{"v":849.2,"d":"849"}},{"$f":"AVERAGE(C10:C14)","v":36},{"$f":"AVERAGE(D10:D14)","v":{"v":58.8,"d":"59"}},null,{"$f":"AVERAGE(F10:F14)","v":{"v":2745,"d":"2,745"}},{"$f":"AVERAGE(G10:G14)","v":20},null,{"$f":"AVERAGE(I10:I14)","v":{"v":3684,"d":"3,684"}},{"$f":"AVERAGE(J10:J14)","v":100},{"$f":"AVERAGE(K10:K14)","v":{"v":3764,"d":"3,764"}}]
["1986-1990",{"$f":"AVERAGE(B15:B19)","v":{"v":2000,"d":"2,000"}},{"$f":"AVERAGE(C15:C19)","v":32},{"$f":"AVERAGE(D15:D19)","v":{"v":213.4,"d":"213"}},null,{"$f":"AVERAGE(F15:F19)","v":{"v":4499.8,"d":"4,500"}},{"$f":"AVERAGE(G15:G19)","v":{"v":33.2,"d":"33"}},null,{"$f":"AVERAGE(I15:I19)","v":{"v":6819,"d":"6,819"}},{"$f":"AVERAGE(J15:J19)","v":{"v":87.8,"d":"88"}},{"$f":"AVERAGE(K15:K19)","v":{"v":6906.8,"d":"6,907"}}]
["1991-1995",{"$f":"AVERAGE(B20:B24)","v":{"v":870.6,"d":"871"}},{"$f":"AVERAGE(C20:C24)","v":27},{"v":233.2,"d":"233"},null,{"v":2774.4,"d":"2,774"},0,null,{"v":3590.4,"d":"3,590"},{"v":64.6,"d":"65"},{"v":3655,"d":"3,655"}]
["1996-2000",{"$f":"AVERAGE(B25:B29)","v":{"v":759.2,"d":"759"}},{"$f":"AVERAGE(C25:C29)","v":29},{"v":303.2,"d":"303"},null,{"v":2545,"d":"2,545"},0,null,{"v":3611.2,"d":"3,611"},{"v":25.2,"d":"25"},{"v":3636.4,"d":"3,636"}]
["2001-2005",{"$f":"AVERAGE(B30:B34)","v":{"v":941.8,"d":"942"}},{"$f":"AVERAGE(C30:C34)","v":{"v":30.2,"d":"30"}},{"v":315.8,"d":"316"},null,{"v":3217.2,"d":"3,217"},{"v":30.8,"d":"31"},null,{"v":4350.278845640899,"d":"4,350"},{"v":154.72115435910104,"d":"155"},{"v":4505,"d":"4,505"}]
["2006-2010",{"$f":"AVERAGE(B35:B39)","v":560},{"$f":"AVERAGE(C35:C39)","v":12},221,null,{"v":2154,"d":"2,154"},0,null,{"v":2925,"d":"2,925"},22,{"v":2947,"d":"2,947"}]
[2011,{"$f":"B40","v":528},0,400,null,{"$f":"F40","v":{"v":1293,"d":"1,293"}},0,null,{"$f":"I40","v":{"v":2163,"d":"2,163"}},58,{"v":2221,"d":"2,221"}]
[2012,929,10,237,null,{"v":1937,"d":"1,937"},0,null,{"v":3014,"d":"3,014"},99,{"v":3113,"d":"3,113"}]
[2013,{"v":1683,"d":"1,683"},10,477,null,{"v":1269,"d":"1,269"},0,null,{"v":3297,"d":"3,297"},142,{"v":3439,"d":"3,439"}]
[2014,658,10,144,null,{"v":1933,"d":"1,933"},0,null,{"v":2664,"d":"2,664"},81,{"v":2745,"d":"2,745"}]
[2015,493,11,198,null,{"v":1795,"d":"1,795"},0,null,{"v":2439,"d":"2,439"},58,{"v":2497,"d":"2,497"}]
[2016,137,3,47,null,{"v":2831,"d":"2,831"},0,null,{"v":3012,"d":"3,012"},6,{"v":3018,"d":"3,018"}]
[2017,518,20,223,null,{"v":1808,"d":"1,808"},0,null,{"v":2547,"d":"2,547"},22,{"v":2569,"d":"2,569"}]
[2018,139,0,94,null,{"v":2478,"d":"2,478"},0,null,{"v":2708,"d":"2,708"},3,{"v":2711,"d":"2,711"}]
[2019,768,0,297,null,{"v":1552,"d":"1,552"},0,null,{"v":2586,"d":"2,586"},31,{"v":2617,"d":"2,617"}]
[2020,{"v":1128,"d":"1,128"},0,325,null,{"v":2273,"d":"2,273"},0,null,{"v":3704,"d":"3,704"},22,{"v":3726,"d":"3,726"}]
[2021,{"v":1167,"d":"1,167"},0,211,null,{"v":2622,"d":"2,622"},0,null,{"v":3952,"d":"3,952"},48,{"v":4000,"d":"4,000"}]
[2022,440,0,147,null,{"v":1866,"d":"1,866"},0,null,{"v":2450,"d":"2,450"},4,{"v":2454,"d":"2,454"}]
[2023,{"$f":"B52","v":700},1,325,null,{"$f":"F52","v":{"v":2323,"d":"2,323"}},0,null,{"$f":"I52","v":{"v":3302,"d":"3,302"}},47,{"v":3349,"d":"3,349"}]
["2024c/",590,0,"NA",null,"NA",0,null,"NA","NA","NA"]
["GOAL",{"$nulls":4},"   1,200d/"]
[{"$f":"A55","v":"a/  Recreational catch of age-3 and older fish."}]
[{"$f":"A56","v":"b/  Includes fish taken for hatchery brood stock."}]
[{"$f":"A57","v":"c/  Preliminary."}]
[{"$f":"A58","v":"d/  Minimum.  Terminal run managed for a maximum 40 percent harvest rate of inriver run size."}]

{"sheet":"B-34","index":35,"n_rows":115,"n_cols":11,"rows_kept":115,"merged":[[0,0,0,10],[1,1,1,3],[2,0,3,0],[2,2,3,2],[2,5,2,6],[2,8,2,10],[54,0,54,10],[55,0,55,10],[56,0,56,10],[57,0,57,10],[58,0,59,10],[60,0,60,10],[83,0,83,10],[84,1,84,3],[85,0,86,0],[85,2,86,2],[85,5,85,6],[85,8,85,10],[108,0,108,10],[109,0,109,10],[110,0,110,10],[111,0,111,10],[112,0,113,10],[114,0,114,10]]}
["TABLE B-34.  Estimated inriver run size, catch, and escapement for Hoh River coho in numbers of fish."]
[null,"  Terminal Catcha/"]
["Year or Average",null,"Ceremonial &  Subsistence",null,null,"Escapement",null,null,"Terminal Run Size"]
[null,"Gillnet",null,"River Sportb/",null,"Naturalc/","       Hatchery",null,"Naturalc/","Hatchery","Total"]
[1976,{"v":1800,"d":"1,800"},50,44,null,{"v":2300,"d":"2,300"},0,null,{"v":4200,"d":"4,200"},0,{"v":4200,"d":"4,200"}]
[1977,{"v":1000,"d":"1,000"},30,6,null,{"v":2400,"d":"2,400"},0,null,{"v":3400,"d":"3,400"},0,{"v":3400,"d":"3,400"}]
[1978,{"v":2800,"d":"2,800"},125,20,null,{"v":2100,"d":"2,100"},0,null,{"v":5100,"d":"5,100"},0,{"v":5100,"d":"5,100"}]
[1979,{"v":2900,"d":"2,900"},100,47,null,{"v":5000,"d":"5,000"},93,null,{"v":8200,"d":"8,200"},593,{"v":8793,"d":"8,793"}]
[1980,{"v":1300,"d":"1,300"},65,23,null,{"v":1700,"d":"1,700"},100,null,{"v":2515,"d":"2,515"},700,{"v":3215,"d":"3,215"}]
[1981,{"v":2073,"d":"2,073"},40,7,null,{"v":1900,"d":"1,900"},100,null,{"v":3245,"d":"3,245"},875,{"v":4120,"d":"4,120"}]
[1982,{"v":2000,"d":"2,000"},100,6,null,{"v":3600,"d":"3,600"},100,null,{"v":5351,"d":"5,351"},319,{"v":5670,"d":"5,670"}]
[1983,152,10,9,null,{"v":1735,"d":"1,735"},260,null,{"v":1810,"d":"1,810"},346,{"v":2156,"d":"2,156"}]
[1984,351,46,9,null,{"v":7400,"d":"7,400"},0,null,{"v":7690,"d":"7,690"},116,{"v":7806,"d":"7,806"}]
[1985,{"v":3444,"d":"3,444"},43,79,null,{"v":2218,"d":"2,218"},0,null,{"v":5178,"d":"5,178"},606,{"v":5784,"d":"5,784"}]
[1986,{"v":2800,"d":"2,800"},42,385,null,{"v":4270,"d":"4,270"},0,null,{"v":6400,"d":"6,400"},795,{"v":7195,"d":"7,195"}]
[1987,{"v":3917,"d":"3,917"},50,239,null,{"v":3516,"d":"3,516"},46,null,{"v":7165,"d":"7,165"},557,{"v":7722,"d":"7,722"}]
[1988,350,20,43,null,{"v":2350,"d":"2,350"},611,null,{"v":2643,"d":"2,643"},731,{"v":3374,"d":"3,374"}]
[1989,{"v":2350,"d":"2,350"},20,115,null,{"v":3497,"d":"3,497"},351,null,{"v":5437,"d":"5,437"},720,{"v":6157,"d":"6,157"}]
[1990,{"v":3119,"d":"3,119"},20,42,null,{"v":2094,"d":"2,094"},184,null,{"v":4460,"d":"4,460"},999,{"v":5459,"d":"5,459"}]
[1991,{"v":1254,"d":"1,254"},20,276,null,{"v":4129,"d":"4,129"},14,null,{"v":5370,"d":"5,370"},323,{"v":5693,"d":"5,693"}]
[1992,{"v":1420,"d":"1,420"},30,110,null,{"v":4045,"d":"4,045"},594,null,{"v":5010,"d":"5,010"},{"v":1189,"d":"1,189"},{"v":6199,"d":"6,199"}]
[1993,709,30,90,null,{"v":1345,"d":"1,345"},0,null,{"v":1874,"d":"1,874"},300,{"v":2174,"d":"2,174"}]
[1994,144,20,123,null,{"v":1161,"d":"1,161"},0,null,{"v":1404,"d":"1,404"},44,{"v":1448,"d":"1,448"}]
[1995,478,30,242,null,{"v":4710,"d":"4,710"},0,null,{"v":5420,"d":"5,420"},40,{"v":5460,"d":"5,460"}]
[1996,972,50,101,null,{"v":4858,"d":"4,858"},0,null,{"v":5835,"d":"5,835"},146,{"v":5981,"d":"5,981"}]
[1997,85,25,4,null,{"v":1386,"d":"1,386"},0,null,{"v":1449,"d":"1,449"},51,{"v":1500,"d":"1,500"}]
[1998,650,20,213,null,{"v":4418,"d":"4,418"},0,null,{"v":5184,"d":"5,184"},118,{"v":5302,"d":"5,302"}]
[1999,{"v":1706,"d":"1,706"},25,256,null,{"v":4594,"d":"4,594"},0,null,{"v":6293,"d":"6,293"},308,{"v":6601,"d":"6,601"}]
[2000,{"v":1932,"d":"1,932"},20,280,null,{"v":6772,"d":"6,772"},0,null,{"$f":"SUM(B29:F29)-J29","v":{"v":8831,"d":"8,831"}},173,{"$f":"I29+J29","v":{"v":9004,"d":"9,004"}}]
[2001,{"v":3909,"d":"3,909"},40,786,null,{"v":10773,"d":"10,773"},840,null,{"v":13961,"d":"13,961"},{"v":1547,"d":"1,547"},{"$f":"I30+J30","v":{"v":15508,"d":"15,508"}}]
["2002e/",{"v":3114,"d":"3,114"},30,401,null,{"v":9009,"d":"9,009"},{"v":1922,"d":"1,922"},null,{"v":9332,"d":"9,332"},{"v":3222,"d":"3,222"},{"$f":"I31+J31","v":{"v":12554,"d":"12,554"}}]
[2003,{"v":1872,"d":"1,872"},20,350,null,{"v":6273,"d":"6,273"},645,null,{"$f":"SUM(B32:F32)-J32","v":{"v":7494,"d":"7,494"}},{"v":1021,"d":"1,021"},{"v":8515,"d":"8,515"}]
[2004,{"v":1255,"d":"1,255"},20,437,null,{"v":4702,"d":"4,702"},14,null,{"v":6277,"d":"6,277"},137,{"v":6414,"d":"6,414"}]
[2005,{"v":3830,"d":"3,830"},30,280,null,{"v":4711,"d":"4,711"},732,null,{"$f":"SUM(B34:F34)-J34","v":{"v":7592,"d":"7,592"}},{"v":1259,"d":"1,259"},{"v":8851,"d":"8,851"}]
[2006,{"v":1313,"d":"1,313"},30,108,null,{"v":1282,"d":"1,282"},0,null,{"$f":"SUM(B35:F35)-J35","v":{"v":2267,"d":"2,267"}},466,{"$f":"I35+J35","v":{"v":2733,"d":"2,733"}}]
[2007,{"v":1757,"d":"1,757"},40,305,null,{"v":3072,"d":"3,072"},0,null,{"v":5120,"d":"5,120"},54,{"v":5174,"d":"5,174"}]
[2008,{"v":1788,"d":"1,788"},4,204,null,{"v":2461,"d":"2,461"},67,null,{"v":4237,"d":"4,237"},220,{"v":4457,"d":"4,457"}]
[2009,{"v":4294,"d":"4,294"},0,505,null,{"v":6595,"d":"6,595"},0,"NA",{"v":10709,"d":"10,709"},685,{"v":11394,"d":"11,394"}]
[2010,{"v":2638,"d":"2,638"},0,515,null,{"v":8231,"d":"8,231"},0,"NA",{"v":10916,"d":"10,916"},468,{"v":11384,"d":"11,384"}]
[2011,{"v":3418,"d":"3,418"},0,{"v":1210,"d":"1,210"},null,{"v":8043,"d":"8,043"},0,"NA",{"v":12463,"d":"12,463"},208,{"v":12671,"d":"12,671"}]
[2012,{"v":2706,"d":"2,706"},10,444,null,{"v":4072,"d":"4,072"},0,"NA",{"$f":"SUM(B41:F41)-J41","v":{"v":7106,"d":"7,106"}},126,{"v":7232,"d":"7,232"}]
[2013,{"v":4830,"d":"4,830"},20,{"v":1093,"d":"1,093"},null,{"v":2899,"d":"2,899"},0,null,{"v":8609,"d":"8,609"},233,{"v":8842,"d":"8,842"}]
[2014,{"v":3879,"d":"3,879"},20,432,"NA",{"v":4565,"d":"4,565"},0,"NA",{"v":8656,"d":"8,656"},240,{"v":8896,"d":"8,896"}]
[2015,579,10,253,"NA",{"v":1794,"d":"1,794"},0,"NA",{"v":2609,"d":"2,609"},27,{"v":2636,"d":"2,636"}]
[2016,297,2,40,"NA",{"v":5009,"d":"5,009"},0,"NA",{"v":5324,"d":"5,324"},24,{"v":5348,"d":"5,348"}]
[2017,{"v":1766,"d":"1,766"},20,885,"NA",{"v":4478,"d":"4,478"},0,"NA",{"v":6981,"d":"6,981"},168,{"v":7149,"d":"7,149"}]
[2018,560,0,408,"NA",{"v":2463,"d":"2,463"},0,"NA",{"v":3395,"d":"3,395"},36,{"v":3431,"d":"3,431"}]
[2019,{"v":1485,"d":"1,485"},1,{"v":1403,"d":"1,403"},"NA",{"v":2445,"d":"2,445"},0,"NA",{"v":5164,"d":"5,164"},170,{"v":5334,"d":"5,334"}]
[2020,{"v":2324,"d":"2,324"},0,863,"NA",{"v":2840,"d":"2,840"},0,"NA",{"v":5924,"d":"5,924"},103,{"v":6027,"d":"6,027"}]
[2021,{"v":1595,"d":"1,595"},0,53,"NA",{"v":6396,"d":"6,396"},0,"NA",{"v":7959,"d":"7,959"},85,{"v":8044,"d":"8,044"}]
[2022,{"v":2431,"d":"2,431"},0,326,"NA",{"v":8224,"d":"8,224"},0,"NA",{"v":10563,"d":"10,563"},418,{"v":10981,"d":"10,981"}]
[2023,815,1,{"v":1233,"d":"1,233"},"NA",{"v":3879,"d":"3,879"},0,"NA",{"v":5776,"d":"5,776"},152,{"v":5928,"d":"5,928"}]
["2024f/",747,0,"NA","NA","NA",0,"NA","NA","NA","NA"]
["GOAL",{"$nulls":4},"   2,000 to 5,000"]
["a/  Includes dip-in fish from other river systems."]
["b/  Recreational catch of adults (coho over 20 inches)."]
["c/  Natural escapement and run sizes estimate include fish taken for hatchery brood stock."]
["d/  In 1997: Recreational fishermen were limited to Chinook only.  Release of adult coho required.  Tribal net fishery used large mesh to minimize coho impacts."]
["e/  In 2002: Sport and tribal gillnet seasons reduced inseason in response to delayed upriver movement of coho caused by extreme low water conditions in October and early November.  Closures were for two weeks."]
[]
["f/  Preliminary. "]
{"$rows_empty":22}
["TABLE B-34.  Estimated inriver run size, catch, and escapement for Hoh River coho in numbers of fish.  "]
[null,"  Terminal Catcha/"]
["Year or Average",null,"Ceremonial &  Subsistence",null,null,"Escapement",null,null,"Terminal Run Size"]
[null,"Gillnet",null,"River Sportb/",null,"Naturalc/","Hatchery",null,"Naturalc/","Hatchery","Total"]
["1981-1985",{"$f":"AVERAGE(B10:B14)","v":{"v":1604,"d":"1,604"}},{"$f":"AVERAGE(C10:C14)","v":{"v":47.8,"d":"48"}},{"$f":"AVERAGE(D10:D14)","v":22},null,{"$f":"AVERAGE(F10:F14)","v":{"v":3370.6,"d":"3,371"}},{"$f":"AVERAGE(G10:G14)","v":92},null,{"$f":"AVERAGE(I10:I14)","v":{"v":4654.8,"d":"4,655"}},{"$f":"AVERAGE(J10:J14)","v":{"v":452.4,"d":"452"}},{"$f":"AVERAGE(K10:K14)","v":{"v":5107.2,"d":"5,107"}}]
["1986-1990",{"$f":"AVERAGE(B15:B19)","v":{"v":2507.2,"d":"2,507"}},{"$f":"AVERAGE(C15:C19)","v":{"v":30.4,"d":"30"}},{"$f":"AVERAGE(D15:D19)","v":{"v":164.8,"d":"165"}},null,{"$f":"AVERAGE(F15:F19)","v":{"v":3145.4,"d":"3,145"}},{"$f":"AVERAGE(G15:G19)","v":{"v":238.4,"d":"238"}},null,{"$f":"AVERAGE(I15:I19)","v":{"v":5221,"d":"5,221"}},{"$f":"AVERAGE(J15:J19)","v":{"v":760.4,"d":"760"}},{"$f":"AVERAGE(K15:K19)","v":{"v":5981.4,"d":"5,981"}}]
["1991-1995",{"$f":"AVERAGE(B20:B24)","v":801},{"$f":"AVERAGE(C20:C24)","v":26},{"v":168.2,"d":"168"},null,{"v":3078,"d":"3,078"},{"v":121.6,"d":"122"},null,{"v":3815.6,"d":"3,816"},{"v":379.2,"d":"379"},{"v":4194.8,"d":"4,195"}]
["1996-2000d/",{"$f":"AVERAGE(B25:B29)","v":{"v":1069,"d":"1,069"}},{"$f":"AVERAGE(C25:C29)","v":28},{"$f":"AVERAGE(D25:D29)","v":{"v":170.8,"d":"171"}},null,{"$f":"AVERAGE(F25:F29)","v":{"v":4405.6,"d":"4,406"}},{"$f":"AVERAGE(G25:G29)","v":0},null,{"$f":"AVERAGE(I25:I29)","v":{"v":5518.4,"d":"5,518"}},{"$f":"AVERAGE(J25:J29)","v":{"v":159.2,"d":"159"}},{"$f":"AVERAGE(K25:K29)","v":{"v":5677.6,"d":"5,678"}}]
["2001-2005e/",{"$f":"AVERAGE(B30:B34)","v":{"v":2796,"d":"2,796"}},{"$f":"AVERAGE(C30:C34)","v":28},{"$f":"AVERAGE(D30:D34)","v":{"v":450.8,"d":"451"}},null,{"$f":"AVERAGE(F30:F34)","v":{"v":7093.6,"d":"7,094"}},{"$f":"AVERAGE(G30:G34)","v":{"v":830.6,"d":"831"}},null,{"$f":"AVERAGE(I30:I34)","v":{"v":8931.2,"d":"8,931"}},{"$f":"AVERAGE(J30:J34)","v":{"v":1437.2,"d":"1,437"}},{"$f":"AVERAGE(K30:K34)","v":{"v":10368.4,"d":"10,368"}}]
["2006-2010",{"$f":"AVERAGE(B35:B39)","v":{"v":2358,"d":"2,358"}},{"$f":"AVERAGE(C35:C39)","v":{"v":14.8,"d":"15"}},{"v":327.4,"d":"327"},null,{"v":4328.2,"d":"4,328"},{"v":13.4,"d":"13"},null,{"v":6649.8,"d":"6,650"},{"v":378.6,"d":"379"},{"v":7028.4,"d":"7,028"}]
[2011,{"$f":"B40","v":{"v":3418,"d":"3,418"}},0,{"v":1210,"d":"1,210"},null,{"$f":"F40","v":{"v":8043,"d":"8,043"}},0,null,{"$f":"I40","v":{"v":12463,"d":"12,463"}},208,{"v":12671,"d":"12,671"}]
[2012,{"v":2706,"d":"2,706"},10,444,null,{"v":4072,"d":"4,072"},0,null,{"v":7106,"d":"7,106"},126,{"v":7232,"d":"7,232"}]
[2013,{"v":4830,"d":"4,830"},20,{"v":1093,"d":"1,093"},null,{"v":2899,"d":"2,899"},0,null,{"v":8609,"d":"8,609"},233,{"v":8842,"d":"8,842"}]
[2014,{"v":3879,"d":"3,879"},20,432,null,{"v":4565,"d":"4,565"},0,null,{"v":8656,"d":"8,656"},240,{"v":8896,"d":"8,896"}]
[2015,579,10,253,null,{"v":1794,"d":"1,794"},0,null,{"v":2609,"d":"2,609"},27,{"v":2636,"d":"2,636"}]
[2016,297,2,40,null,{"v":5009,"d":"5,009"},0,null,{"v":5324,"d":"5,324"},24,{"v":5348,"d":"5,348"}]
[2017,{"v":1766,"d":"1,766"},20,885,null,{"v":4478,"d":"4,478"},0,null,{"v":6981,"d":"6,981"},168,{"v":7149,"d":"7,149"}]
[2018,560,0,408,null,{"v":2463,"d":"2,463"},0,null,{"v":3395,"d":"3,395"},36,{"v":3431,"d":"3,431"}]
[2019,{"v":1485,"d":"1,485"},1,{"v":1403,"d":"1,403"},null,{"v":2445,"d":"2,445"},0,null,{"v":5164,"d":"5,164"},170,{"v":5334,"d":"5,334"}]
[2020,{"$f":"B49","v":{"v":2324,"d":"2,324"}},0,863,null,{"$f":"F49","v":{"v":2840,"d":"2,840"}},0,null,{"$f":"I49","v":{"v":5924,"d":"5,924"}},103,{"v":6027,"d":"6,027"}]
[2021,{"$f":"B50","v":{"v":1595,"d":"1,595"}},0,53,null,{"$f":"F50","v":{"v":6396,"d":"6,396"}},0,null,{"$f":"I50","v":{"v":7959,"d":"7,959"}},85,{"v":8044,"d":"8,044"}]
["2022f/",{"$f":"B51","v":{"v":2431,"d":"2,431"}},{"$f":"C51","v":0},{"$f":"D51","v":326},null,{"$f":"F51","v":{"v":8224,"d":"8,224"}},{"$f":"G51","v":0},null,{"$f":"I51","v":{"v":10563,"d":"10,563"}},{"$f":"J51","v":418},{"$f":"K51","v":{"v":10981,"d":"10,981"}}]
[2023,{"$f":"B52","v":815},1,{"v":1233,"d":"1,233"},null,{"$f":"F52","v":{"v":3879,"d":"3,879"}},0,null,{"$f":"I52","v":{"v":5776,"d":"5,776"}},152,{"v":5928,"d":"5,928"}]
["2024f/",747,0,"NA",null,"NA",0,null,"NA","NA","NA"]
["GOAL",{"$nulls":4},"   2,000 to 5,000"]
[{"$f":"A55","v":"a/  Includes dip-in fish from other river systems."}]
[{"$f":"A56","v":"b/  Recreational catch of adults (coho over 20 inches)."}]
[{"$f":"A57","v":"c/  Natural escapement and run sizes estimate include fish taken for hatchery brood stock."}]
[{"$f":"A58","v":"d/  In 1997: Recreational fishermen were limited to Chinook only.  Release of adult coho required.  Tribal net fishery used large mesh to minimize coho impacts."}]
[{"$f":"A59","v":"e/  In 2002: Sport and tribal gillnet seasons reduced inseason in response to delayed upriver movement of coho caused by extreme low water conditions in October and early November.  Closures were for two weeks."}]
[]
[{"$f":"A61","v":"f/  Preliminary. "}]

{"sheet":"B-35","index":36,"n_rows":109,"n_cols":11,"rows_kept":109,"merged":[[0,0,0,10],[1,1,1,3],[2,0,3,0],[2,2,3,2],[2,5,2,6],[2,8,2,10],[54,0,55,10],[56,0,56,10],[57,0,57,10],[58,0,58,10],[59,0,59,10],[60,0,60,10],[61,0,61,10],[77,0,77,10],[78,1,78,3],[79,0,80,0],[79,2,80,2],[79,5,79,6],[79,8,79,10],[102,0,103,10],[104,0,104,10],[105,0,105,10],[106,0,106,10],[107,0,107,10],[108,0,108,10],[109,0,109,10]]}
["TABLE B-35.  Estimated inriver run size, catch, and escapement for Quillayute River spring/summer Chinook in numbers of fish."]
[null,"  Terminal Catch"]
["Year or Average",null,"Ceremonial &  Subsistencea/",null,null,"Escapement",null,null,"Terminal Run Size"]
[null,"Gillnet",null,"River Sportb/",null,"Naturalc/","       Hatcheryd/",null,"Naturalc/","Hatcheryd/","Total"]
[1976,{"v":2400,"d":"2,400"},20,800,null,{"v":1300,"d":"1,300"},{"v":1800,"d":"1,800"},null,"-","-",{"v":4970,"d":"4,970"}]
[1977,{"v":3200,"d":"3,200"},20,400,null,{"v":3800,"d":"3,800"},900,null,"-","-",{"v":5393,"d":"5,393"}]
[1978,{"v":3400,"d":"3,400"},20,400,null,{"v":2300,"d":"2,300"},700,null,"-","-",{"v":3891,"d":"3,891"}]
[1979,{"v":2600,"d":"2,600"},20,200,null,{"v":2100,"d":"2,100"},200,null,"-","-",{"v":2545,"d":"2,545"}]
[1980,{"v":1000,"d":"1,000"},20,100,null,964,400,null,"-","-",{"v":1692,"d":"1,692"}]
[1981,{"v":1000,"d":"1,000"},20,100,null,815,300,null,"-","-",{"v":1416,"d":"1,416"}]
[1982,{"v":1700,"d":"1,700"},20,36,null,{"v":1126,"d":"1,126"},100,null,"-","-",{"v":1402,"d":"1,402"}]
[1983,400,20,68,null,548,200,null,"-","-",928]
[1984,300,20,18,null,618,400,null,"-","-",{"v":1162,"d":"1,162"}]
[1985,100,20,18,null,550,300,null,"-","-",910]
[1986,400,20,74,null,853,300,null,"-","-",{"v":1336,"d":"1,336"}]
[1987,{"v":1800,"d":"1,800"},20,182,null,666,{"v":1500,"d":"1,500"},null,"-","-",{"v":3608,"d":"3,608"}]
[1988,{"v":1968,"d":"1,968"},20,431,null,{"v":2599,"d":"2,599"},{"v":1200,"d":"1,200"},null,{"v":3943,"d":"3,943"},{"v":2275,"d":"2,275"},{"v":6218,"d":"6,218"}]
[1989,{"v":2255,"d":"2,255"},25,277,null,{"v":2407,"d":"2,407"},{"v":1150,"d":"1,150"},null,{"v":3472,"d":"3,472"},{"v":2642,"d":"2,642"},{"v":6114,"d":"6,114"}]
[1990,{"v":1730,"d":"1,730"},25,326,null,{"v":1483,"d":"1,483"},867,null,{"v":1840,"d":"1,840"},{"v":2591,"d":"2,591"},{"v":4431,"d":"4,431"}]
[1991,{"v":1271,"d":"1,271"},25,381,null,{"v":1188,"d":"1,188"},781,null,{"v":1500,"d":"1,500"},{"v":2146,"d":"2,146"},{"v":3646,"d":"3,646"}]
[1992,917,25,295,null,{"v":1009,"d":"1,009"},{"v":1540,"d":"1,540"},null,{"v":1271,"d":"1,271"},{"v":2515,"d":"2,515"},{"v":3786,"d":"3,786"}]
[1993,{"v":1237,"d":"1,237"},25,367,null,{"v":1292,"d":"1,292"},866,null,{"v":1531,"d":"1,531"},{"v":2256,"d":"2,256"},{"v":3787,"d":"3,787"}]
[1994,570,25,79,null,974,537,null,{"v":1187,"d":"1,187"},998,{"v":2185,"d":"2,185"}]
[1995,471,25,341,null,{"v":1333,"d":"1,333"},438,null,{"v":1731,"d":"1,731"},877,{"v":2608,"d":"2,608"}]
[1996,136,50,257,null,{"v":1170,"d":"1,170"},226,null,{"v":1388,"d":"1,388"},426,{"v":1814,"d":"1,814"}]
[1997,106,50,263,null,890,198,null,{"v":1177,"d":"1,177"},305,{"v":1482,"d":"1,482"}]
[1998,199,50,128,null,{"v":1599,"d":"1,599"},247,null,{"v":1829,"d":"1,829"},369,{"v":2198,"d":"2,198"}]
[1999,368,50,238,null,713,596,null,818,{"v":1147,"d":"1,147"},{"v":1965,"d":"1,965"}]
[2000,254,50,307,null,989,227,null,{"v":1149,"d":"1,149"},678,{"v":1827,"d":"1,827"}]
[2001,330,50,353,null,{"v":1225,"d":"1,225"},973,null,{"v":1399,"d":"1,399"},{"v":1515,"d":"1,515"},{"v":2914,"d":"2,914"}]
[2002,419,50,367,null,{"v":1002,"d":"1,002"},836,null,{"v":1100,"d":"1,100"},{"v":1573,"d":"1,573"},{"v":2673,"d":"2,673"}]
[2003,184,50,343,null,{"v":1219,"d":"1,219"},{"v":1250,"d":"1,250"},null,{"v":1308,"d":"1,308"},{"v":1738,"d":"1,738"},{"v":3046,"d":"3,046"}]
[2004,217,50,341,null,{"v":1093,"d":"1,093"},763,null,{"v":1259,"d":"1,259"},{"v":1195,"d":"1,195"},{"v":2454,"d":"2,454"}]
[2005,332,3,479,null,876,801,null,{"v":1033,"d":"1,033"},{"v":1467,"d":"1,467"},{"v":2500,"d":"2,500"}]
[2006,688,0,318,null,553,{"v":1032,"d":"1,032"},null,604,{"v":1987,"d":"1,987"},{"v":2591,"d":"2,591"}]
[2007,800,0,180,null,502,{"v":1007,"d":"1,007"},null,568,{"v":1921,"d":"1,921"},{"v":2489,"d":"2,489"}]
[2008,993,40,223,null,949,796,null,{"v":1081,"d":"1,081"},{"v":1920,"d":"1,920"},{"$f":"SUM(I37:J37)","v":{"v":3001,"d":"3,001"}}]
[2009,483,30,192,null,646,722,null,772,{"v":1301,"d":"1,301"},{"$f":"SUM(I38:J38)","v":{"v":2073,"d":"2,073"}}]
[2010,567,0,233,null,815,880,null,941,{"v":1554,"d":"1,554"},{"v":2495,"d":"2,495"}]
[2011,599,41,659,null,587,696,null,823,{"v":1759,"d":"1,759"},{"v":2582,"d":"2,582"}]
[2012,880,20,640,null,785,437,null,881,{"v":1881,"d":"1,881"},{"v":2762,"d":"2,762"}]
[2013,{"v":1204,"d":"1,204"},0,803,null,968,528,null,{"v":1123,"d":"1,123"},{"v":2380,"d":"2,380"},{"v":3503,"d":"3,503"}]
[2014,714,0,481,null,625,342,null,832,{"v":1330,"d":"1,330"},{"v":2162,"d":"2,162"}]
[2015,{"v":1075,"d":"1,075"},0,556,null,783,505,null,995,{"v":1924,"d":"1,924"},{"v":2919,"d":"2,919"}]
[2016,{"v":1374,"d":"1,374"},15,480,null,871,745,null,{"v":1142,"d":"1,142"},{"v":2343,"d":"2,343"},{"v":3485,"d":"3,485"}]
[2017,{"v":1239,"d":"1,239"},60,929,null,{"v":1097,"d":"1,097"},521,null,{"v":1362,"d":"1,362"},{"v":2484,"d":"2,484"},{"v":3846,"d":"3,846"}]
[2018,{"v":1426,"d":"1,426"},10,820,null,990,602,null,{"v":1203,"d":"1,203"},{"v":2645,"d":"2,645"},{"v":3848,"d":"3,848"}]
[2019,{"v":1671,"d":"1,671"},35,405,null,{"v":1442,"d":"1,442"},823,null,{"v":1590,"d":"1,590"},{"v":2786,"d":"2,786"},{"v":4376,"d":"4,376"}]
[2020,801,0,491,null,942,742,null,{"v":1082,"d":"1,082"},{"v":1894,"d":"1,894"},{"v":2976,"d":"2,976"}]
[2021,695,10,367,null,{"v":1082,"d":"1,082"},813,null,{"v":1156,"d":"1,156"},{"v":1811,"d":"1,811"},{"v":2967,"d":"2,967"}]
["2022e/",{"v":1236,"d":"1,236"},10,762,null,{"v":1574,"d":"1,574"},776,null,{"v":1791,"d":"1,791"},{"v":2567,"d":"2,567"},{"v":4358,"d":"4,358"}]
[2023,829,13,180,null,{"v":2087,"d":"2,087"},749,null,{"v":2266,"d":"2,266"},{"v":1592,"d":"1,592"},{"v":3858,"d":"3,858"}]
["2024e/",903,10,436,null,{"v":1275,"d":"1,275"},{"v":1624,"d":"1,624"},null,{"v":1428,"d":"1,428"},{"v":2789,"d":"2,789"},{"v":4217,"d":"4,217"}]
["GOAL",{"$nulls":4},"  1,200f/"]
["a/  Beginning in 2005, ceremonial and subsistence catch taken during scheduled gillnet fishery is reported as gillnet catch.  Catch during designated ceremonial and subsistence fisheries is listed separately."]
[]
["b/  Recreational catch of adults; mark selective for adipose fin clipped coho beginning in 2003."]
["c/  Natural escapement includes hatchery strays and broodstock fish."]
["d/  Hatchery escapement and terminal run size exclude hatchery strays."]
["e/  Preliminary."]
["f/  FMP goal is adults; WDFW goal of 1,200 includes age-3 males (jacks)."]
{"$rows_empty":16}
["TABLE B-35.  Estimated inriver run size, catch, and escapement for Quillayute River spring/summer Chinook in numbers of fish. "]
[null,"  Terminal Catch"]
["Year or Average",null,"Ceremonial &  Subsistencea/",null,null,"Escapement",null,null,"Terminal Run Size"]
[null,"Gillnet",null,"River Sportb/",null,"Naturalc/","       Hatcheryd/",null,"Naturalc/","Hatcheryd/","Total"]
["1981-1985",{"$f":"AVERAGE(B10:B14)","v":700},{"$f":"AVERAGE(C10:C14)","v":20},{"$f":"AVERAGE(D10:D14)","v":48},null,{"$f":"AVERAGE(F10:F14)","v":{"v":731.4,"d":"731"}},{"$f":"AVERAGE(G10:G14)","v":260},null,"-","-",{"$f":"AVERAGE(K10:K14)","v":{"v":1163.6,"d":"1,164"}}]
["1986-1990",{"$f":"AVERAGE(B15:B19)","v":{"v":1630.6,"d":"1,631"}},{"$f":"AVERAGE(C15:C19)","v":22},{"$f":"AVERAGE(D15:D19)","v":258},null,{"$f":"AVERAGE(F15:F19)","v":{"v":1601.6,"d":"1,602"}},{"$f":"AVERAGE(G15:G19)","v":{"v":1003.4,"d":"1,003"}},null,{"$f":"AVERAGE(I15:I19)","v":{"v":3085,"d":"3,085"}},{"$f":"AVERAGE(J15:J19)","v":{"v":2502.6666666666665,"d":"2,503"}},{"$f":"AVERAGE(K15:K19)","v":{"v":4341.4,"d":"4,341"}}]
["1991-1995",{"$f":"AVERAGE(B20:B24)","v":{"v":893.2,"d":"893"}},{"$f":"AVERAGE(C20:C24)","v":25},{"v":292.6,"d":"293"},null,{"v":1159.2,"d":"1,159"},{"v":832.4,"d":"832"},null,{"v":1444,"d":"1,444"},{"v":1758.4,"d":"1,758"},{"v":3202.4,"d":"3,202"}]
["1996-2000",{"$f":"AVERAGE(B25:B29)","v":{"v":212.6,"d":"213"}},{"$f":"AVERAGE(C25:C29)","v":50},{"v":238.6,"d":"239"},null,{"v":1072.2,"d":"1,072"},{"v":298.8,"d":"299"},null,{"v":1272.2,"d":"1,272"},585,{"v":1857.2,"d":"1,857"}]
["2001-2005",{"$f":"AVERAGE(B30:B34)","v":{"v":296.4,"d":"296"}},{"$f":"AVERAGE(C30:C34)","v":{"v":40.6,"d":"41"}},{"v":376.6,"d":"377"},null,{"v":1083,"d":"1,083"},{"v":924.6,"d":"925"},null,{"v":1219.8,"d":"1,220"},{"v":1497.6,"d":"1,498"},{"v":2717.4,"d":"2,717"}]
["2006-2010",{"$f":"AVERAGE(B35:B39)","v":{"v":706.2,"d":"706"}},{"$f":"AVERAGE(C35:C39)","v":14},{"v":229.2,"d":"229"},null,693,{"v":887.4,"d":"887"},null,{"v":793.2,"d":"793"},{"v":1736.6,"d":"1,737"},{"v":2529.8,"d":"2,530"}]
[2011,{"$f":"B40","v":599},41,659,null,{"$f":"F40","v":587},696,null,{"$f":"I40","v":823},{"v":1759,"d":"1,759"},{"v":2582,"d":"2,582"}]
[2012,880,20,640,null,785,437,null,881,{"v":1881,"d":"1,881"},{"v":2762,"d":"2,762"}]
[2013,{"v":1204,"d":"1,204"},0,803,null,968,528,null,{"v":1123,"d":"1,123"},{"v":2380,"d":"2,380"},{"v":3503,"d":"3,503"}]
[2014,714,0,481,null,625,342,null,832,{"v":1330,"d":"1,330"},{"v":2162,"d":"2,162"}]
[2015,{"v":1075,"d":"1,075"},0,556,null,783,505,null,995,{"v":1924,"d":"1,924"},{"v":2919,"d":"2,919"}]
[2016,{"v":1374,"d":"1,374"},15,480,null,871,745,null,{"v":1142,"d":"1,142"},{"v":2343,"d":"2,343"},{"v":3485,"d":"3,485"}]
[2017,{"v":1239,"d":"1,239"},60,929,null,{"v":1097,"d":"1,097"},521,null,{"v":1362,"d":"1,362"},{"v":2484,"d":"2,484"},{"v":3846,"d":"3,846"}]
[2018,{"v":1426,"d":"1,426"},10,820,null,990,602,null,{"v":1203,"d":"1,203"},{"v":2645,"d":"2,645"},{"v":3848,"d":"3,848"}]
[2019,{"v":1671,"d":"1,671"},35,405,null,{"v":1442,"d":"1,442"},823,null,{"v":1590,"d":"1,590"},{"v":2786,"d":"2,786"},{"v":4376,"d":"4,376"}]
[2020,801,0,491,null,942,742,null,{"v":1082,"d":"1,082"},{"v":1894,"d":"1,894"},{"v":2976,"d":"2,976"}]
[2021,695,10,367,null,{"v":1082,"d":"1,082"},813,null,{"v":1156,"d":"1,156"},{"v":1811,"d":"1,811"},{"v":2967,"d":"2,967"}]
["2022e/",{"v":1236,"d":"1,236"},10,762,null,{"v":1574,"d":"1,574"},776,null,{"v":1791,"d":"1,791"},{"v":2567,"d":"2,567"},{"v":4358,"d":"4,358"}]
[2023,{"$f":"B52","v":829},13,180,null,{"$f":"F52","v":{"v":2087,"d":"2,087"}},749,null,{"$f":"I52","v":{"v":2266,"d":"2,266"}},{"v":1592,"d":"1,592"},{"v":3858,"d":"3,858"}]
["2024e/",903,10,436,null,{"v":1275,"d":"1,275"},{"v":1624,"d":"1,624"},null,{"v":1428,"d":"1,428"},{"v":2789,"d":"2,789"},{"v":4217,"d":"4,217"}]
["GOAL",{"$nulls":4},"    1,200f/"]
[{"$f":"A55","v":"a/  Beginning in 2005, ceremonial and subsistence catch taken during scheduled gillnet fishery is reported as gillnet catch.  Catch during designated ceremonial and subsistence fisheries is listed separately."}]
[]
[{"$f":"A57","v":"b/  Recreational catch of adults; mark selective for adipose fin clipped coho beginning in 2003."}]
[{"$f":"A58","v":"c/  Natural escapement includes hatchery strays and broodstock fish."}]
[{"$f":"A59","v":"d/  Hatchery escapement and terminal run size exclude hatchery strays."}]
[{"$f":"A60","v":"e/  Preliminary."}]
[{"$f":"A61","v":"f/  FMP goal is adults; WDFW goal of 1,200 includes age-3 males (jacks)."}]

{"sheet":"B-36","index":37,"n_rows":111,"n_cols":12,"rows_kept":111,"merged":[[0,0,0,10],[1,1,1,3],[2,0,3,0],[2,2,3,2],[2,5,2,6],[2,8,2,10],[54,0,54,10],[55,0,55,10],[56,0,56,10],[57,0,57,10],[58,0,58,10],[59,0,59,10],[60,0,60,10],[62,0,62,10],[80,0,80,10],[81,1,81,3],[82,0,83,0],[82,2,83,2],[82,5,82,6],[82,8,82,10],[105,0,105,10]]}
["TABLE B-36.  Estimated inriver run size, catch, and escapement for Quillayute River fall Chinook in numbers of fish."]
[null,"  Terminal Catch"]
["Year or Average",null,"Ceremonial &  Subsistencea/",null,null,"Escapement",null,null,"Terminal Run Size"]
[null,"Gillnet",null,"River Sportb/",null,"Naturalc/","      Hatcheryd/",null,"Naturalc/","Hatcheryd/","Total"]
[1976,{"v":2300,"d":"2,300"},20,300,null,{"v":2500,"d":"2,500"},100,null,{"v":4700,"d":"4,700"},400,{"$f":"SUM(I5:J5)","v":{"v":5100,"d":"5,100"}}]
[1977,{"v":5400,"d":"5,400"},20,100,null,{"v":3300,"d":"3,300"},200,null,{"v":7600,"d":"7,600"},{"v":1400,"d":"1,400"},{"v":9000,"d":"9,000"}]
[1978,{"v":1500,"d":"1,500"},20,300,null,{"v":4700,"d":"4,700"},300,null,{"v":6200,"d":"6,200"},500,{"v":6700,"d":"6,700"}]
[1979,{"v":2700,"d":"2,700"},20,200,null,{"v":3900,"d":"3,900"},100,null,{"v":6600,"d":"6,600"},200,{"v":6800,"d":"6,800"}]
[1980,{"v":1300,"d":"1,300"},20,200,null,{"v":6700,"d":"6,700"},20,null,{"v":7600,"d":"7,600"},700,{"v":8300,"d":"8,300"}]
[1981,{"v":1328,"d":"1,328"},50,109,null,{"v":5963,"d":"5,963"},127,null,{"v":7102,"d":"7,102"},428,{"v":7530,"d":"7,530"}]
[1982,{"v":2765,"d":"2,765"},50,97,null,{"v":7107,"d":"7,107"},76,null,{"v":9651,"d":"9,651"},330,{"v":9981,"d":"9,981"}]
[1983,{"v":2539,"d":"2,539"},50,120,null,{"v":3069,"d":"3,069"},83,null,{"v":5530,"d":"5,530"},296,{"v":5826,"d":"5,826"}]
[1984,{"v":1384,"d":"1,384"},50,124,null,{"v":9128,"d":"9,128"},80,null,{"v":10447,"d":"10,447"},330,{"v":10777,"d":"10,777"}]
[1985,{"v":2360,"d":"2,360"},50,204,null,{"v":6145,"d":"6,145"},20,null,{"v":8367,"d":"8,367"},142,{"v":8509,"d":"8,509"}]
[1986,{"v":2990,"d":"2,990"},50,651,null,{"v":10006,"d":"10,006"},94,null,{"v":13380,"d":"13,380"},257,{"v":13637,"d":"13,637"}]
[1987,{"v":7996,"d":"7,996"},50,386,null,{"v":12352,"d":"12,352"},172,null,{"v":20349,"d":"20,349"},453,{"v":20802,"d":"20,802"}]
[1988,{"v":6241,"d":"6,241"},50,949,null,{"v":15168,"d":"15,168"},171,null,{"v":22115,"d":"22,115"},502,{"v":22617,"d":"22,617"}]
[1989,{"v":7288,"d":"7,288"},50,458,null,{"v":9951,"d":"9,951"},108,null,{"v":17260,"d":"17,260"},586,{"v":17846,"d":"17,846"}]
[1990,{"v":2860,"d":"2,860"},50,377,null,{"v":13711,"d":"13,711"},14,null,{"v":16914,"d":"16,914"},98,{"v":17012,"d":"17,012"}]
[1991,951,50,376,null,{"v":6292,"d":"6,292"},13,null,{"v":7631,"d":"7,631"},51,{"v":7682,"d":"7,682"}]
[1992,{"v":1208,"d":"1,208"},50,200,null,{"v":6342,"d":"6,342"},14,null,{"v":7750,"d":"7,750"},62,{"v":7812,"d":"7,812"}]
[1993,407,50,26,null,{"v":5254,"d":"5,254"},28,null,{"v":5735,"d":"5,735"},30,{"v":5765,"d":"5,765"}]
[1994,448,50,262,null,{"v":4932,"d":"4,932"},0,null,{"v":5692,"d":"5,692"},0,{"v":5692,"d":"5,692"}]
[1995,552,50,582,null,{"v":5532,"d":"5,532"},0,null,{"v":6716,"d":"6,716"},0,{"v":6716,"d":"6,716"}]
[1996,{"v":1377,"d":"1,377"},100,500,null,{"v":7316,"d":"7,316"},0,null,{"v":9293,"d":"9,293"},0,{"v":9293,"d":"9,293"}]
[1997,282,50,310,null,{"v":5405,"d":"5,405"},0,null,{"v":6047,"d":"6,047"},0,{"v":6047,"d":"6,047"}]
[1998,762,100,326,null,{"v":6752,"d":"6,752"},0,null,{"v":7940,"d":"7,940"},0,{"v":7940,"d":"7,940"}]
[1999,{"v":1129,"d":"1,129"},100,195,null,{"v":3334,"d":"3,334"},0,null,{"v":4758,"d":"4,758"},0,{"v":4758,"d":"4,758"}]
[2000,604,100,360,null,{"v":3730,"d":"3,730"},0,null,{"v":4794,"d":"4,794"},0,{"v":4794,"d":"4,794"}]
[2001,{"v":1650,"d":"1,650"},100,659,null,{"v":5136,"d":"5,136"},0,null,{"v":7545,"d":"7,545"},0,{"v":7545,"d":"7,545"}]
[2002,{"v":3074,"d":"3,074"},100,271,null,{"v":6067,"d":"6,067"},0,null,{"v":9512,"d":"9,512"},0,{"v":9512,"d":"9,512"}]
[2003,{"v":1345,"d":"1,345"},100,626,null,{"v":7398,"d":"7,398"},0,null,{"v":9469,"d":"9,469"},23,{"v":9492,"d":"9,492"}]
[2004,527,100,681,null,{"v":3831,"d":"3,831"},0,null,{"v":6133,"d":"6,133"},12,{"v":6145,"d":"6,145"}]
[2005,{"v":1414,"d":"1,414"},0,499,null,{"v":6406,"d":"6,406"},0,null,{"v":8319,"d":"8,319"},32,{"v":8351,"d":"8,351"}]
[2006,{"v":1969,"d":"1,969"},0,35,null,{"v":5642,"d":"5,642"},0,null,{"v":7656,"d":"7,656"},15,{"v":7671,"d":"7,671"}]
[2007,905,0,166,null,{"v":3066,"d":"3,066"},0,null,{"v":4137,"d":"4,137"},0,{"v":4137,"d":"4,137"}]
[2008,{"v":1426,"d":"1,426"},0,217,null,{"v":3612,"d":"3,612"},0,null,{"v":5250,"d":"5,250"},5,{"v":5255,"d":"5,255"}]
[2009,{"v":2434,"d":"2,434"},0,352,null,{"v":3130,"d":"3,130"},0,null,{"v":5874,"d":"5,874"},42,{"v":5916,"d":"5,916"}]
[2010,{"v":1815,"d":"1,815"},0,553,null,{"v":4635,"d":"4,635"},0,null,{"v":6985,"d":"6,985"},18,{"v":7003,"d":"7,003"}]
[2011,{"v":1972,"d":"1,972"},3,868,null,{"v":3963,"d":"3,963"},0,null,{"v":6765,"d":"6,765"},41,{"v":6806,"d":"6,806"}]
[2012,{"v":2842,"d":"2,842"},0,358,null,{"v":3518,"d":"3,518"},0,null,{"v":6682,"d":"6,682"},36,{"v":6718,"d":"6,718"}]
[2013,{"v":2001,"d":"2,001"},0,{"v":1024,"d":"1,024"},null,{"v":3901,"d":"3,901"},0,null,{"v":6877,"d":"6,877"},49,{"v":6926,"d":"6,926"}]
[2014,{"v":4213,"d":"4,213"},0,423,null,{"v":2782,"d":"2,782"},0,null,{"v":7322,"d":"7,322"},96,{"v":7418,"d":"7,418"}]
[2015,{"v":2387,"d":"2,387"},0,868,null,{"v":3440,"d":"3,440"},0,null,{"v":6676,"d":"6,676"},19,{"v":6695,"d":"6,695"}]
[2016,{"v":1328,"d":"1,328"},0,29,null,{"v":3654,"d":"3,654"},0,null,{"v":5005,"d":"5,005"},6,{"v":5011,"d":"5,011"}]
[2017,{"v":3999,"d":"3,999"},0,396,null,{"v":3604,"d":"3,604"},0,null,{"v":7957,"d":"7,957"},42,{"v":7999,"d":"7,999"}]
[2018,{"v":2042,"d":"2,042"},8,735,null,{"v":3937,"d":"3,937"},0,null,{"v":6707,"d":"6,707"},15,{"v":6722,"d":"6,722"}]
["2019e/",{"v":1532,"d":"1,532"},0,859,null,{"v":7765,"d":"7,765"},0,null,{"v":10151,"d":"10,151"},5,{"v":10156,"d":"10,156"}]
["2020e/",{"v":1627,"d":"1,627"},0,757,null,{"v":8672,"d":"8,672"},0,null,{"v":11054,"d":"11,054"},2,{"v":11056,"d":"11,056"}]
["2021e/",719,2,611,null,{"v":5568,"d":"5,568"},0,null,{"v":6897,"d":"6,897"},3,{"v":6900,"d":"6,900"}]
["2022e/",{"v":1361,"d":"1,361"},0,136,null,{"v":8369,"d":"8,369"},0,null,{"v":9858,"d":"9,858"},8,{"v":9866,"d":"9,866"}]
[2023,{"v":2291,"d":"2,291"},0,164,null,{"v":6682,"d":"6,682"},0,null,{"v":9134,"d":"9,134"},3,{"v":9137,"d":"9,137"}]
["2024e/",{"v":1918,"d":"1,918"},0,435,null,{"v":5378,"d":"5,378"},0,null,{"v":7718,"d":"7,718"},13,{"v":7731,"d":"7,731"}]
["GOAL",{"$nulls":4},"3,000f/",{"$nulls":5},{"$f":"GEOMEAN(F51:F53)","v":{"v":6699.878788361828,"d":"6,700"}}]
["a/  Beginning in 2005, ceremonial and subsistence catch taken during scheduled gillnet fishery is reported as gillnet catch."]
["b/  River recreational catch of age-3 and older fish."]
["c/  Includes fish taken for hatchery brood stock and hatchery strays."]
["d/  Hatchery escapement and terminal run size exclude hatchery strays."]
["e/  Preliminary."]
["f/  Minimum.  Terminal run managed at 40 percent harvest rate."]
{"$rows_empty":20}
["TABLE B-36.  Estimated inriver run size, catch, and escapement for Quillayute River fall Chinook in numbers of fish. "]
[null,"  Terminal Catch"]
["Year or Average",null,"Ceremonial &  Subsistencea/",null,null,"Escapement",null,null,"Terminal Run Size"]
[null,"Gillnet",null,"River Sportb/",null,"Naturalc/","      Hatcheryd/",null,"Naturalc/","Hatcheryd/","Total"]
["1981-1985",{"$f":"AVERAGE(B10:B14)","v":{"v":2075.2,"d":"2,075"}},{"$f":"AVERAGE(C10:C14)","v":50},{"$f":"AVERAGE(D10:D14)","v":{"v":130.8,"d":"131"}},null,{"$f":"AVERAGE(F10:F14)","v":{"v":6282.4,"d":"6,282"}},{"$f":"AVERAGE(G10:G14)","v":{"v":77.2,"d":"77"}},null,{"$f":"AVERAGE(I10:I14)","v":{"v":8219.4,"d":"8,219"}},{"$f":"AVERAGE(J10:J14)","v":{"v":305.2,"d":"305"}},{"$f":"AVERAGE(K10:K14)","v":{"v":8524.6,"d":"8,525"}}]
["1986-1990",{"$f":"AVERAGE(B15:B19)","v":{"v":5475,"d":"5,475"}},{"$f":"AVERAGE(C15:C19)","v":50},{"$f":"AVERAGE(D15:D19)","v":{"v":564.2,"d":"564"}},null,{"$f":"AVERAGE(F15:F19)","v":{"v":12237.6,"d":"12,238"}},{"$f":"AVERAGE(G15:G19)","v":{"v":111.8,"d":"112"}},null,{"$f":"AVERAGE(I15:I19)","v":{"v":18003.6,"d":"18,004"}},{"$f":"AVERAGE(J15:J19)","v":{"v":379.2,"d":"379"}},{"$f":"AVERAGE(K15:K19)","v":{"v":18382.8,"d":"18,383"}}]
["1991-1995",{"$f":"AVERAGE(B20:B24)","v":{"v":713.2,"d":"713"}},{"$f":"AVERAGE(C20:C24)","v":50},{"v":289.2,"d":"289"},null,{"v":5670.4,"d":"5,670"},11,null,{"v":6704.8,"d":"6,705"},{"v":28.6,"d":"29"},{"v":6733.4,"d":"6,733"}]
["1996-2000",{"$f":"AVERAGE(B25:B29)","v":{"v":830.8,"d":"831"}},{"$f":"AVERAGE(C25:C29)","v":90},{"v":338.2,"d":"338"},null,{"v":5307.4,"d":"5,307"},0,null,{"v":6566.4,"d":"6,566"},0,{"v":6566.4,"d":"6,566"}]
["2001-2005",{"$f":"AVERAGE(B30:B34)","v":{"v":1602,"d":"1,602"}},{"$f":"AVERAGE(C30:C34)","v":80},{"v":547.2,"d":"547"},null,{"v":5767.6,"d":"5,768"},0,null,{"v":8195.6,"d":"8,196"},{"v":13.4,"d":"13"},{"v":8209,"d":"8,209"}]
["2006-2010",{"$f":"AVERAGE(B35:B39)","v":{"v":1709.8,"d":"1,710"}},{"$f":"AVERAGE(C35:C39)","v":0},{"v":264.6,"d":"265"},null,{"v":4017,"d":"4,017"},0,null,{"v":5980.4,"d":"5,980"},16,{"v":5996.4,"d":"5,996"}]
[2011,{"$f":"B40","v":{"v":1972,"d":"1,972"}},3,868,null,{"$f":"F40","v":{"v":3963,"d":"3,963"}},0,null,{"$f":"I40","v":{"v":6765,"d":"6,765"}},41,{"v":6806,"d":"6,806"}]
[2012,{"v":2842,"d":"2,842"},0,358,null,{"v":3518,"d":"3,518"},0,null,{"v":6682,"d":"6,682"},36,{"v":6718,"d":"6,718"}]
[2013,{"v":2001,"d":"2,001"},0,{"v":1024,"d":"1,024"},null,{"v":3901,"d":"3,901"},0,null,{"v":6877,"d":"6,877"},49,{"v":6926,"d":"6,926"}]
[2014,{"v":4213,"d":"4,213"},0,423,null,{"v":2782,"d":"2,782"},0,null,{"v":7322,"d":"7,322"},96,{"v":7418,"d":"7,418"}]
[2015,{"v":2387,"d":"2,387"},0,868,null,{"v":3440,"d":"3,440"},0,null,{"v":6676,"d":"6,676"},19,{"v":6695,"d":"6,695"}]
[2016,{"v":1328,"d":"1,328"},0,29,null,{"v":3654,"d":"3,654"},0,null,{"v":5005,"d":"5,005"},6,{"v":5011,"d":"5,011"}]
[2017,{"v":3999,"d":"3,999"},0,396,null,{"v":3604,"d":"3,604"},0,null,{"v":7957,"d":"7,957"},42,{"v":7999,"d":"7,999"}]
[2018,{"v":2042,"d":"2,042"},8,735,null,{"v":3937,"d":"3,937"},0,null,{"v":6707,"d":"6,707"},15,{"v":6722,"d":"6,722"}]
["2019e/",{"v":1532,"d":"1,532"},0,859,null,{"v":7765,"d":"7,765"},0,null,{"v":10151,"d":"10,151"},5,{"v":10156,"d":"10,156"}]
["2020e/",{"v":1627,"d":"1,627"},0,757,null,{"v":8672,"d":"8,672"},0,null,{"v":11054,"d":"11,054"},2,{"v":11056,"d":"11,056"}]
["2021e/",719,2,611,null,{"v":5568,"d":"5,568"},0,null,{"v":6897,"d":"6,897"},3,{"v":6900,"d":"6,900"}]
["2022e/",{"v":1361,"d":"1,361"},0,136,null,{"v":8369,"d":"8,369"},0,null,{"v":9858,"d":"9,858"},8,{"v":9866,"d":"9,866"}]
[2023,{"$f":"B52","v":{"v":2291,"d":"2,291"}},0,164,null,{"$f":"F52","v":{"v":6682,"d":"6,682"}},0,null,{"$f":"I52","v":{"v":9134,"d":"9,134"}},3,{"v":9137,"d":"9,137"}]
["2024e/",{"v":1918,"d":"1,918"},0,435,null,{"v":5378,"d":"5,378"},0,null,{"v":7718,"d":"7,718"},13,{"v":7731,"d":"7,731"}]
["GOAL",{"$nulls":4},"3,000f/"]
[{"$f":"A55","v":"a/  Beginning in 2005, ceremonial and subsistence catch taken during scheduled gillnet fishery is reported as gillnet catch."}]
["b/  River recreational catch of age-3 and older fish."]
["c/  Includes fish taken for hatchery brood stock and hatchery strays."]
["d/  Hatchery escapement and terminal run size exclude hatchery strays."]
["e/  Preliminary."]
["f/  Minimum.  Terminal run managed at 40 percent harvest rate."]

{"sheet":"B-37","index":38,"n_rows":198,"n_cols":11,"rows_kept":198,"merged":[[0,0,0,10],[1,1,1,3],[2,0,3,0],[2,2,3,2],[2,5,2,6],[2,8,2,10],[3,3,3,4],[4,0,4,10],[57,0,57,10],[108,0,108,10],[109,0,110,10],[111,0,111,10],[112,0,112,10],[113,0,113,10],[114,0,114,10],[115,0,115,10],[116,0,116,10],[118,0,118,10],[119,0,119,10],[137,0,137,10],[138,1,138,3],[139,0,140,0],[139,2,140,2],[139,5,139,6],[139,8,139,10],[140,3,140,4],[141,0,141,10],[164,0,164,10],[165,1,165,3],[166,0,167,0],[166,2,167,2],[166,5,166,6],[166,8,166,10],[167,3,167,4],[168,0,168,10],[190,0,190,10],[191,0,192,10],[193,0,193,10]]}
["TABLE B-37.  Estimated inriver run size, catch, and escapement for Quillayute River coho stocks in numbers of fish."]
[null,"  Terminal Catcha/"]
["Year or Average",null,"Ceremonial &  Subsistenceb/",null,null,"Escapement",null,null,"Terminal Run Size"]
[null,"Gillnet",null,"River Sportc/",null,"Naturald/","      Hatcherye/",null,"Naturald/","      Hatcherye/","Total"]
["SUMMER COHO"]
[1976,499,20,43,null,{"v":1200,"d":"1,200"},{"v":1239,"d":"1,239"},null,{"v":1477,"d":"1,477"},{"v":1524,"d":"1,524"},{"v":3001,"d":"3,001"}]
[1977,{"v":1304,"d":"1,304"},20,39,null,{"v":1000,"d":"1,000"},{"v":1847,"d":"1,847"},null,{"v":1479,"d":"1,479"},{"v":2731,"d":"2,731"},{"v":4210,"d":"4,210"}]
[1978,837,20,137,null,{"v":1500,"d":"1,500"},{"v":1000,"d":"1,000"},null,{"v":2096,"d":"2,096"},{"v":1398,"d":"1,398"},{"v":3494,"d":"3,494"}]
[1979,{"v":10563,"d":"10,563"},100,580,null,{"v":1460,"d":"1,460"},{"v":9720,"d":"9,720"},null,{"v":2928,"d":"2,928"},{"v":19495,"d":"19,495"},{"v":22423,"d":"22,423"}]
[1980,{"v":11985,"d":"11,985"},120,530,null,800,{"v":9018,"d":"9,018"},null,{"v":1830,"d":"1,830"},{"v":20623,"d":"20,623"},{"v":22453,"d":"22,453"}]
[1981,{"v":2104,"d":"2,104"},30,114,null,800,500,null,{"v":2183,"d":"2,183"},{"v":1365,"d":"1,365"},{"v":3548,"d":"3,548"}]
[1982,{"v":11712,"d":"11,712"},100,74,null,900,{"v":3667,"d":"3,667"},null,{"v":3242,"d":"3,242"},{"v":13211,"d":"13,211"},{"v":16453,"d":"16,453"}]
[1983,391,20,104,null,784,{"v":4048,"d":"4,048"},null,868,{"v":4479,"d":"4,479"},{"v":5347,"d":"5,347"}]
[1984,{"v":4022,"d":"4,022"},50,162,null,{"v":1573,"d":"1,573"},{"v":4519,"d":"4,519"},null,{"v":2666,"d":"2,666"},{"v":7660,"d":"7,660"},{"v":10326,"d":"10,326"}]
[1985,{"v":2082,"d":"2,082"},50,72,null,674,986,null,{"v":1569,"d":"1,569"},{"v":2295,"d":"2,295"},{"v":3864,"d":"3,864"}]
[1986,{"v":5745,"d":"5,745"},50,158,null,700,{"v":8932,"d":"8,932"},null,{"v":1133,"d":"1,133"},{"v":14452,"d":"14,452"},{"v":15585,"d":"15,585"}]
[1987,{"v":7520,"d":"7,520"},50,50,null,600,737,null,{"v":4020,"d":"4,020"},{"v":4937,"d":"4,937"},{"v":8957,"d":"8,957"}]
[1988,{"v":1404,"d":"1,404"},50,93,null,900,{"v":1912,"d":"1,912"},null,{"v":1395,"d":"1,395"},{"v":2964,"d":"2,964"},{"v":4359,"d":"4,359"}]
[1989,797,50,58,null,950,{"v":3631,"d":"3,631"},null,{"v":1138,"d":"1,138"},{"v":4348,"d":"4,348"},{"v":5486,"d":"5,486"}]
[1990,554,50,111,null,465,{"v":4795,"d":"4,795"},null,528,{"v":5447,"d":"5,447"},{"v":5975,"d":"5,975"}]
[1991,{"v":2661,"d":"2,661"},50,319,null,{"v":1001,"d":"1,001"},{"v":9877,"d":"9,877"},null,{"v":1280,"d":"1,280"},{"v":12628,"d":"12,628"},{"v":13908,"d":"13,908"}]
[1992,{"v":1254,"d":"1,254"},50,491,null,921,{"v":15376,"d":"15,376"},null,{"v":1022,"d":"1,022"},{"v":17070,"d":"17,070"},{"v":18092,"d":"18,092"}]
[1993,396,50,63,null,256,{"v":1654,"d":"1,654"},null,324,{"v":2095,"d":"2,095"},{"v":2419,"d":"2,419"}]
[1994,974,50,51,null,683,{"v":1643,"d":"1,643"},null,999,{"v":2402,"d":"2,402"},{"v":3401,"d":"3,401"}]
[1995,{"v":1144,"d":"1,144"},50,29,null,{"v":1060,"d":"1,060"},{"v":3957,"d":"3,957"},null,{"v":1318,"d":"1,318"},{"v":4922,"d":"4,922"},{"v":6240,"d":"6,240"}]
[1996,{"v":2552,"d":"2,552"},50,189,null,465,{"v":3400,"d":"3,400"},null,801,{"v":5855,"d":"5,855"},{"v":6656,"d":"6,656"}]
[1997,70,50,14,null,753,{"v":1509,"d":"1,509"},null,798,{"v":1598,"d":"1,598"},{"v":2396,"d":"2,396"}]
[1998,{"v":1310,"d":"1,310"},50,93,null,346,{"v":1688,"d":"1,688"},null,593,{"v":2894,"d":"2,894"},{"v":3487,"d":"3,487"}]
[1999,945,50,292,null,624,{"v":7527,"d":"7,527"},null,723,{"v":8715,"d":"8,715"},{"v":9438,"d":"9,438"}]
[2000,{"v":1188,"d":"1,188"},50,278,null,{"v":1001,"d":"1,001"},{"v":3745,"d":"3,745"},null,{"v":1237,"d":"1,237"},{"v":5025,"d":"5,025"},{"v":6262,"d":"6,262"}]
[2001,{"v":2196,"d":"2,196"},50,590,null,961,{"v":12993,"d":"12,993"},null,{"v":1841,"d":"1,841"},{"v":14949,"d":"14,949"},{"v":16790,"d":"16,790"}]
[2002,{"v":3982,"d":"3,982"},50,150,null,{"v":1012,"d":"1,012"},{"v":3939,"d":"3,939"},null,{"v":2099,"d":"2,099"},{"v":7034,"d":"7,034"},{"v":9133,"d":"9,133"}]
[2003,{"v":2412,"d":"2,412"},50,326,null,505,{"v":6539,"d":"6,539"},null,{"v":1472,"d":"1,472"},{"v":8360,"d":"8,360"},{"v":9832,"d":"9,832"}]
[2004,{"v":1337,"d":"1,337"},50,343,null,{"v":1269,"d":"1,269"},{"v":6527,"d":"6,527"},null,{"v":1874,"d":"1,874"},{"v":7652,"d":"7,652"},{"v":9526,"d":"9,526"}]
[2005,{"v":10273,"d":"10,273"},0,487,null,1218,{"v":7182,"d":"7,182"},null,{"v":2197,"d":"2,197"},{"v":16963,"d":"16,963"},{"$f":"I35+J35","v":{"v":19160,"d":"19,160"}}]
[2006,{"v":2146,"d":"2,146"},0,141,null,621,{"v":1832,"d":"1,832"},null,{"v":1549,"d":"1,549"},{"v":3191,"d":"3,191"},{"$f":"I36+J36","v":{"v":4740,"d":"4,740"}}]
[2007,645,0,200,null,805,{"v":4778,"d":"4,778"},null,{"v":1029,"d":"1,029"},{"v":5399,"d":"5,399"},{"$f":"I37+J37","v":{"v":6428,"d":"6,428"}}]
[2008,{"v":1313,"d":"1,313"},0,198,null,706,{"v":6419,"d":"6,419"},null,971,{"v":7665,"d":"7,665"},{"$f":"I38+J38","v":{"v":8636,"d":"8,636"}}]
[2009,{"v":3227,"d":"3,227"},0,233,null,{"v":1337,"d":"1,337"},{"v":8085,"d":"8,085"},null,{"v":2210,"d":"2,210"},{"v":10672,"d":"10,672"},{"v":12882,"d":"12,882"}]
[2010,890,0,58,null,273,{"v":1644,"d":"1,644"},null,564,{"v":2304,"d":"2,304"},{"v":2868,"d":"2,868"}]
[2011,757,0,220,null,{"v":1654,"d":"1,654"},{"v":3800,"d":"3,800"},null,{"v":2069,"d":"2,069"},{"v":4362,"d":"4,362"},{"v":6431,"d":"6,431"}]
[2012,430,0,251,null,672,{"v":1588,"d":"1,588"},null,789,{"v":2152,"d":"2,152"},{"v":2941,"d":"2,941"}]
[2013,{"v":1028,"d":"1,028"},0,331,null,451,{"v":2504,"d":"2,504"},null,990,{"v":3324,"d":"3,324"},{"v":4314,"d":"4,314"}]
[2014,{"v":4299,"d":"4,299"},0,934,null,688,{"v":5085,"d":"5,085"},null,{"v":2320,"d":"2,320"},{"v":8686,"d":"8,686"},{"v":11006,"d":"11,006"}]
[2015,444,0,274,null,668,{"v":4570,"d":"4,570"},null,876,{"v":5080,"d":"5,080"},{"v":5956,"d":"5,956"}]
[2016,{"v":2462,"d":"2,462"},0,144,null,772,{"v":2116,"d":"2,116"},null,{"v":1669,"d":"1,669"},{"v":3825,"d":"3,825"},{"v":5494,"d":"5,494"}]
[2017,{"v":4443,"d":"4,443"},0,845,null,688,{"v":7245,"d":"7,245"},null,{"v":1640,"d":"1,640"},{"v":11581,"d":"11,581"},{"v":13221,"d":"13,221"}]
[2018,{"v":1711,"d":"1,711"},0,669,null,233,624,null,{"v":1060,"d":"1,060"},{"v":2177,"d":"2,177"},{"v":3237,"d":"3,237"}]
[2019,619,18,87,null,499,815,null,855,{"v":1183,"d":"1,183"},{"v":2038,"d":"2,038"}]
[2020,610,0,507,null,932,{"v":3719,"d":"3,719"},null,{"v":1025,"d":"1,025"},{"v":4743,"d":"4,743"},{"v":5768,"d":"5,768"}]
[2021,51,0,14,null,380,{"v":3728,"d":"3,728"},null,385,{"v":3778,"d":"3,778"},{"v":4173,"d":"4,173"}]
[2022,861,0,254,null,530,{"v":4786,"d":"4,786"},null,881,{"v":5701,"d":"5,701"},{"v":6582,"d":"6,582"}]
[2023,1,0,81,null,324,420,null,324,435,759]
["2024g/",433,0,168,null,942,{"v":1183,"d":"1,183"},null,{"v":1174,"d":"1,174"},{"v":1552,"d":"1,552"},{"v":2726,"d":"2,726"}]
["  GOAL",{"$nulls":4},"Hatchery Production"]
[]
[]
["FALL COHO"]
[1976,8527,75,109,null,{"v":3900,"d":"3,900"},391,null,{"v":11807,"d":"11,807"},{"v":1195,"d":"1,195"},{"v":13002,"d":"13,002"}]
[1977,{"v":2809,"d":"2,809"},30,18,null,{"v":3526,"d":"3,526"},109,null,{"v":6296,"d":"6,296"},196,{"v":6492,"d":"6,492"}]
[1978,4187,45,88,null,{"v":10344,"d":"10,344"},{"v":3473,"d":"3,473"},null,{"v":13557,"d":"13,557"},{"v":4580,"d":"4,580"},{"v":18137,"d":"18,137"}]
[1979,{"v":7384,"d":"7,384"},60,101,null,{"v":20224,"d":"20,224"},{"v":4984,"d":"4,984"},null,{"v":26257,"d":"26,257"},{"v":6496,"d":"6,496"},{"v":32753,"d":"32,753"}]
[1980,{"v":7018,"d":"7,018"},53,36,null,7017,{"v":3220,"d":"3,220"},null,{"v":11878,"d":"11,878"},{"v":5466,"d":"5,466"},{"v":17344,"d":"17,344"}]
[1981,{"v":3734,"d":"3,734"},50,119,null,6268,624,null,{"v":9807,"d":"9,807"},988,{"v":10795,"d":"10,795"}]
[1982,{"v":5420,"d":"5,420"},48,171,null,10400,{"v":2140,"d":"2,140"},null,{"v":15042,"d":"15,042"},{"v":3137,"d":"3,137"},{"v":18179,"d":"18,179"}]
[1983,674,48,125,null,2660,675,null,3322,860,{"v":4182,"d":"4,182"}]
[1984,595,50,202,null,{"v":10508,"d":"10,508"},{"v":6633,"d":"6,633"},null,{"v":11004,"d":"11,004"},{"v":6984,"d":"6,984"},{"v":17988,"d":"17,988"}]
[1985,{"v":8520,"d":"8,520"},50,203,null,7484,438,null,{"v":15764,"d":"15,764"},931,{"v":16695,"d":"16,695"}]
[1986,{"v":6408,"d":"6,408"},100,534,null,10687,{"v":1062,"d":"1,062"},null,{"v":17055,"d":"17,055"},{"v":1736,"d":"1,736"},{"v":18791,"d":"18,791"}]
[1987,{"v":13849,"d":"13,849"},100,433,null,11416,751,null,{"v":23787,"d":"23,787"},{"v":2762,"d":"2,762"},{"v":26549,"d":"26,549"}]
[1988,{"v":2240,"d":"2,240"},100,165,null,7218,{"v":2149,"d":"2,149"},null,{"v":9132,"d":"9,132"},{"v":2740,"d":"2,740"},{"v":11872,"d":"11,872"}]
[1989,2492,100,433,null,8995,{"v":3591,"d":"3,591"},null,{"v":11117,"d":"11,117"},{"v":4494,"d":"4,494"},{"v":15611,"d":"15,611"}]
[1990,3980,100,359,null,5512,{"v":1300,"d":"1,300"},null,9506,{"v":1745,"d":"1,745"},{"v":11251,"d":"11,251"}]
[1991,{"v":2078,"d":"2,078"},100,626,null,{"v":9532,"d":"9,532"},{"v":7168,"d":"7,168"},null,{"v":10648,"d":"10,648"},{"v":8856,"d":"8,856"},{"v":19504,"d":"19,504"}]
[1992,{"v":7069,"d":"7,069"},100,841,null,8170,{"v":3858,"d":"3,858"},null,{"v":13623,"d":"13,623"},{"v":6415,"d":"6,415"},{"v":20038,"d":"20,038"}]
[1993,1318,100,60,null,4165,{"v":3746,"d":"3,746"},null,4676,{"v":4713,"d":"4,713"},{"v":9389,"d":"9,389"}]
[1994,2138,100,307,null,4882,{"v":3090,"d":"3,090"},null,6415,{"v":4102,"d":"4,102"},{"v":10517,"d":"10,517"}]
[1995,{"v":5386,"d":"5,386"},100,991,null,{"v":10035,"d":"10,035"},{"v":5819,"d":"5,819"},null,{"v":14286,"d":"14,286"},{"v":8045,"d":"8,045"},{"v":22331,"d":"22,331"}]
[1996,{"v":8419,"d":"8,419"},100,1336,null,11009,{"v":11515,"d":"11,515"},null,14596,{"v":17783,"d":"17,783"},{"v":32379,"d":"32,379"}]
["1997f/",456,50,"38f/",null,4623,{"v":2645,"d":"2,645"},null,5021,{"v":2791,"d":"2,791"},{"v":7812,"d":"7,812"}]
[1998,{"v":4606,"d":"4,606"},50,1340,null,13866,{"v":12834,"d":"12,834"},null,16980,{"v":15716,"d":"15,716"},{"v":32696,"d":"32,696"}]
[1999,22946,50,{"v":1054,"d":"1,054"},null,9365,{"v":13528,"d":"13,528"},null,19524,{"v":27515,"d":"27,515"},{"v":47039,"d":"47,039"}]
[2000,{"v":5606,"d":"5,606"},50,{"v":1059,"d":"1,059"},null,{"v":13343,"d":"13,343"},{"v":13118,"d":"13,118"},null,{"v":17706,"d":"17,706"},{"v":15470,"d":"15,470"},{"v":33176,"d":"33,176"}]
[2001,{"v":23991,"d":"23,991"},50,{"v":2620,"d":"2,620"},null,18876,{"v":23892,"d":"23,892"},null,{"v":36714,"d":"36,714"},{"v":32715,"d":"32,715"},{"v":69429,"d":"69,429"}]
[2002,{"v":22214,"d":"22,214"},50,{"v":2002,"d":"2,002"},null,{"v":23016,"d":"23,016"},{"v":30656,"d":"30,656"},null,{"v":34695,"d":"34,695"},{"v":43243,"d":"43,243"},{"v":77938,"d":"77,938"}]
[2003,{"v":13949,"d":"13,949"},50,{"v":2533,"d":"2,533"},null,14756,{"v":13799,"d":"13,799"},"   ",{"v":25188,"d":"25,188"},{"v":19899,"d":"19,899"},{"v":45087,"d":"45,087"}]
[2004,{"v":19321,"d":"19,321"},50,{"v":2831,"d":"2,831"},null,{"v":13354,"d":"13,354"},{"v":21248,"d":"21,248"},null,{"v":25118,"d":"25,118"},{"v":31687,"d":"31,687"},{"v":56805,"d":"56,805"}]
[2005,{"v":29530,"d":"29,530"},0,{"v":3420,"d":"3,420"},null,{"v":11501,"d":"11,501"},{"v":24137,"d":"24,137"},null,{"v":22125,"d":"22,125"},{"v":46463,"d":"46,463"},{"$f":"I88+J88","v":{"v":68588,"d":"68,588"}}]
[2006,{"v":9779,"d":"9,779"},0,291,null,{"v":5210,"d":"5,210"},{"v":4450,"d":"4,450"},null,{"v":12266,"d":"12,266"},{"v":7464,"d":"7,464"},{"v":19730,"d":"19,730"}]
[2007,{"v":10152,"d":"10,152"},0,826,null,{"v":6252,"d":"6,252"},{"v":5423,"d":"5,423"},null,{"v":10942,"d":"10,942"},{"v":11711,"d":"11,711"},{"v":22653,"d":"22,653"}]
[2008,{"v":15722,"d":"15,722"},10,511,null,{"v":6947,"d":"6,947"},{"v":12098,"d":"12,098"},null,{"v":12979,"d":"12,979"},{"v":22309,"d":"22,309"},{"v":35288,"d":"35,288"}]
[2009,{"v":37112,"d":"37,112"},0,4620,null,{"v":7863,"d":"7,863"},{"v":23373,"d":"23,373"},null,{"v":24653,"d":"24,653"},{"v":48315,"d":"48,315"},{"v":72968,"d":"72,968"}]
[2010,{"v":27127,"d":"27,127"},10,3537,null,{"v":9837,"d":"9,837"},{"v":23325,"d":"23,325"},null,{"v":23901,"d":"23,901"},{"v":39935,"d":"39,935"},{"v":63836,"d":"63,836"}]
[2011,{"v":21983,"d":"21,983"},11,{"v":3955,"d":"3,955"},null,{"v":8070,"d":"8,070"},{"v":22487,"d":"22,487"},null,{"v":20887,"d":"20,887"},{"v":35634,"d":"35,634"},{"v":56521,"d":"56,521"}]
[2012,{"v":11051,"d":"11,051"},1,{"v":1317,"d":"1,317"},null,{"v":5846,"d":"5,846"},{"v":2276,"d":"2,276"},null,{"v":15421,"d":"15,421"},{"v":5070,"d":"5,070"},{"v":20490,"d":"20,490"}]
[2013,{"v":12611,"d":"12,611"},0,4370,null,{"v":7072,"d":"7,072"},{"v":5111,"d":"5,111"},null,{"v":18125,"d":"18,125"},{"v":11039,"d":"11,039"},{"v":29164,"d":"29,164"}]
[2014,{"v":27427,"d":"27,427"},0,{"v":5736,"d":"5,736"},null,{"v":7425,"d":"7,425"},{"v":12389,"d":"12,389"},null,{"v":23528,"d":"23,528"},{"v":29449,"d":"29,449"},{"v":52977,"d":"52,977"}]
[2015,{"v":5291,"d":"5,291"},0,{"v":2706,"d":"2,706"},null,{"v":2571,"d":"2,571"},{"v":3595,"d":"3,595"},null,{"v":6978,"d":"6,978"},{"v":7185,"d":"7,185"},{"v":14163,"d":"14,163"}]
[2016,{"v":5678,"d":"5,678"},0,326,null,{"v":9630,"d":"9,630"},{"v":16332,"d":"16,332"},null,{"v":11676,"d":"11,676"},{"v":20290,"d":"20,290"},{"v":31966,"d":"31,966"}]
[2017,{"v":15629,"d":"15,629"},0,{"v":2599,"d":"2,599"},null,{"v":7474,"d":"7,474"},{"v":18299,"d":"18,299"},null,{"v":13034,"d":"13,034"},{"v":30967,"d":"30,967"},{"v":44001,"d":"44,001"}]
[2018,{"v":3840,"d":"3,840"},7,{"v":1129,"d":"1,129"},null,{"v":6091,"d":"6,091"},{"v":9762,"d":"9,762"},null,{"v":8202,"d":"8,202"},{"v":12627,"d":"12,627"},{"v":20829,"d":"20,829"}]
[2019,{"v":3151,"d":"3,151"},0,{"v":2444,"d":"2,444"},null,{"v":6852,"d":"6,852"},{"v":4712,"d":"4,712"},null,{"v":9713,"d":"9,713"},{"v":7446,"d":"7,446"},{"v":17159,"d":"17,159"}]
[2020,{"v":1815,"d":"1,815"},0,{"v":1421,"d":"1,421"},null,{"v":7695,"d":"7,695"},{"v":12832,"d":"12,832"},null,{"v":8777,"d":"8,777"},{"v":14908,"d":"14,908"},{"v":23685,"d":"23,685"}]
[2021,{"v":1624,"d":"1,624"},7,{"v":1833,"d":"1,833"},null,{"v":9938,"d":"9,938"},{"v":9856,"d":"9,856"},null,{"v":11005,"d":"11,005"},{"v":12266,"d":"12,266"},{"v":23271,"d":"23,271"}]
[2022,{"v":3565,"d":"3,565"},10,{"v":1951,"d":"1,951"},null,{"v":16643,"d":"16,643"},{"v":14462,"d":"14,462"},null,{"v":15642,"d":"15,642"},{"v":17542,"d":"17,542"},{"v":33184,"d":"33,184"}]
["2023g/",{"v":2873,"d":"2,873"},0,496,null,{"v":7734,"d":"7,734"},{"v":2416,"d":"2,416"},null,{"v":9673,"d":"9,673"},{"v":3357,"d":"3,357"},{"v":13030,"d":"13,030"}]
["2024g/",{"v":1960,"d":"1,960"},0,443,null,"NA",{"v":4449,"d":"4,449"},null,"NA",{"v":5426,"d":"5,426"},"NA"]
[" GOAL",{"$nulls":4},"6,300-15,800"]
["a/  Includes dip-in fish from other systems."]
["b/  Beginning in 2005, ceremonial and subsistence catch taken during scheduled gillnet fishery is reported as gillnet catch.  Catch during designated ceremonial and subsistence fisheries is listed separately."]
[]
["c/  Recreational catch of adults (coho over 20 inches)."]
["d/  Natural escapement and run size estimates include fish taken for hatchery brood stock."]
["e/  Hatchery escapement and terminal run size exclude hatchery strays."]
["f/  In 1997 river sport:  Regulations required nonretention of coho."]
["g/  Preliminary."]
{"$rows_empty":21}
["TABLE B-37.  Estimated inriver run size, catch, and escapement for Quillayute River coho stocks in numbers of fish.  (Page 1 of 2)"]
[null,"  Terminal Catcha/"]
["Year or Average",null,"Ceremonial &  Subsistenceb/",null,null,"Escapement",null,null,"Terminal Run Size"]
[null,"Gillnet",null,"River Sportc/",null,"Naturald/","      Hatcherye/",null,"Naturald/","      Hatcherye/","Total"]
[{"$f":"A5","v":"SUMMER COHO"}]
["1981-1985",{"$f":"AVERAGE(B11:B15)","v":{"v":4062.2,"d":"4,062"}},{"$f":"AVERAGE(C11:C15)","v":50},{"$f":"AVERAGE(D11:D15)","v":{"v":105.2,"d":"105"}},null,{"$f":"AVERAGE(F11:F15)","v":{"v":946.2,"d":"946"}},{"$f":"AVERAGE(G11:G15)","v":{"v":2744,"d":"2,744"}},null,{"$f":"AVERAGE(I11:I15)","v":{"v":2105.6,"d":"2,106"}},{"$f":"AVERAGE(J11:J15)","v":{"v":5802,"d":"5,802"}},{"$f":"AVERAGE(K11:K15)","v":{"v":7907.6,"d":"7,908"}}]
["1986-1990",{"$f":"AVERAGE(B16:B20)","v":{"v":3204,"d":"3,204"}},{"$f":"AVERAGE(C16:C20)","v":50},{"$f":"AVERAGE(D16:D20)","v":94},null,{"$f":"AVERAGE(F16:F20)","v":723},{"$f":"AVERAGE(G16:G20)","v":{"v":4001.4,"d":"4,001"}},null,{"$f":"AVERAGE(I16:I20)","v":{"v":1642.8,"d":"1,643"}},{"$f":"AVERAGE(J16:J20)","v":{"v":6429.6,"d":"6,430"}},{"$f":"AVERAGE(K16:K20)","v":{"v":8072.4,"d":"8,072"}}]
["1991-1995",{"$f":"AVERAGE(B21:B25)","v":{"v":1285.8,"d":"1,286"}},{"$f":"AVERAGE(C21:C25)","v":50},{"v":190.6,"d":"191"},null,{"v":784.2,"d":"784"},{"v":6501.4,"d":"6,501"},null,{"v":988.6,"d":"989"},{"v":7823.4,"d":"7,823"},{"v":8812,"d":"8,812"}]
["1996-2000",{"$f":"AVERAGE(B26:B30)","v":{"v":1213,"d":"1,213"}},{"$f":"AVERAGE(C26:C30)","v":50},{"v":173.2,"d":"173"},null,{"v":637.8,"d":"638"},{"v":3573.8,"d":"3,574"},null,{"v":830.4,"d":"830"},{"v":4817.4,"d":"4,817"},{"v":5647.8,"d":"5,648"}]
["2001-2005",{"$f":"AVERAGE(B31:B35)","v":{"v":4040,"d":"4,040"}},{"$f":"AVERAGE(C31:C35)","v":40},{"v":379.2,"d":"379"},null,993,{"v":7436,"d":"7,436"},null,{"v":1896.6,"d":"1,897"},{"v":10991.6,"d":"10,992"},{"v":12888.2,"d":"12,888"}]
["2006-2010",{"$f":"AVERAGE(B36:B40)","v":{"v":1644.2,"d":"1,644"}},{"$f":"AVERAGE(C36:C40)","v":0},166,null,{"v":748.4,"d":"748"},{"v":4551.6,"d":"4,552"},null,{"v":1264.6,"d":"1,265"},{"v":5846.2,"d":"5,846"},{"v":7110.8,"d":"7,111"}]
[2011,{"$f":"B41","v":757},0,220,null,{"$f":"F41","v":{"v":1654,"d":"1,654"}},{"v":3800,"d":"3,800"},null,{"$f":"I41","v":{"v":2069,"d":"2,069"}},{"v":4362,"d":"4,362"},{"v":6431,"d":"6,431"}]
[2012,430,0,251,null,672,{"v":1588,"d":"1,588"},null,789,{"v":2152,"d":"2,152"},{"v":2941,"d":"2,941"}]
[2013,{"v":1028,"d":"1,028"},0,331,null,451,{"v":2504,"d":"2,504"},null,990,{"v":3324,"d":"3,324"},{"v":4314,"d":"4,314"}]
[2014,{"v":4299,"d":"4,299"},0,934,null,688,{"v":5085,"d":"5,085"},null,{"v":2320,"d":"2,320"},{"v":8686,"d":"8,686"},{"v":11006,"d":"11,006"}]
[2015,444,0,274,null,668,{"v":4570,"d":"4,570"},null,876,{"v":5080,"d":"5,080"},{"v":5956,"d":"5,956"}]
[2016,{"v":2462,"d":"2,462"},0,144,null,772,{"v":2116,"d":"2,116"},null,{"v":1669,"d":"1,669"},{"v":3825,"d":"3,825"},{"v":5494,"d":"5,494"}]
[2017,{"v":4443,"d":"4,443"},0,845,null,688,{"v":7245,"d":"7,245"},null,{"v":1640,"d":"1,640"},{"v":11581,"d":"11,581"},{"v":13221,"d":"13,221"}]
[2018,{"$f":"B48","v":{"v":1711,"d":"1,711"}},0,669,null,{"$f":"F48","v":233},624,null,{"$f":"I48","v":{"v":1060,"d":"1,060"}},{"v":2177,"d":"2,177"},{"v":3237,"d":"3,237"}]
[2019,{"$f":"B49","v":619},18,87,null,{"$f":"F49","v":499},815,null,{"$f":"I49","v":855},{"v":1183,"d":"1,183"},{"v":2038,"d":"2,038"}]
[2020,{"$f":"B50","v":610},0,507,null,{"$f":"F50","v":932},{"v":3719,"d":"3,719"},null,{"$f":"I50","v":{"v":1025,"d":"1,025"}},{"v":4743,"d":"4,743"},{"v":5768,"d":"5,768"}]
[2021,{"$f":"B51","v":51},0,14,null,{"$f":"F51","v":380},{"v":3728,"d":"3,728"},null,{"$f":"I51","v":385},{"v":3778,"d":"3,778"},{"v":4173,"d":"4,173"}]
[2022,{"$f":"B52","v":861},0,254,null,{"$f":"F52","v":530},{"v":4786,"d":"4,786"},null,{"$f":"I52","v":881},{"v":5701,"d":"5,701"},{"v":6582,"d":"6,582"}]
["2023g/",{"$f":"B53","v":1},0,81,null,{"$f":"F53","v":324},420,null,{"$f":"I53","v":324},435,759]
["2024g/",433,0,168,null,942,{"v":1183,"d":"1,183"},null,{"v":1174,"d":"1,174"},{"v":1552,"d":"1,552"},{"v":2726,"d":"2,726"}]
["  GOAL",{"$nulls":5},"Hatchery Production"]
[]
["TABLE B-37.  Estimated inriver run size, catch, and escapement for Quillayute River coho stocks in numbers of fish.  (Page 2 of 2)"]
[null,"  Terminal Catcha/"]
["Year or Average",null,"Ceremonial &  Subsistenceb/",null,null,"Escapement",null,null,"Terminal Run Size"]
[null,"Gillnet",null,"River Sportc/",null,"Naturald/","      Hatcherye/",null,"Naturald/","      Hatcherye/","Total"]
["FALL COHO"]
["1981-1985",{"$f":"AVERAGE(B64:B68)","v":{"v":3788.6,"d":"3,789"}},{"$f":"AVERAGE(C64:C68)","v":{"v":49.2,"d":"49"}},{"$f":"AVERAGE(D64:D68)","v":164},null,{"$f":"AVERAGE(F64:F68)","v":{"v":7464,"d":"7,464"}},{"$f":"AVERAGE(G64:G68)","v":{"v":2102,"d":"2,102"}},null,{"$f":"AVERAGE(I64:I68)","v":{"v":10987.8,"d":"10,988"}},{"$f":"AVERAGE(J64:J68)","v":{"v":2580,"d":"2,580"}},{"$f":"AVERAGE(K64:K68)","v":{"v":13567.8,"d":"13,568"}}]
["1986-1990",{"$f":"AVERAGE(B69:B73)","v":{"v":5793.8,"d":"5,794"}},{"$f":"AVERAGE(C69:C73)","v":100},{"$f":"AVERAGE(D69:D73)","v":{"v":384.8,"d":"385"}},null,{"$f":"AVERAGE(F69:F73)","v":{"v":8765.6,"d":"8,766"}},{"$f":"AVERAGE(G69:G73)","v":{"v":1770.6,"d":"1,771"}},null,{"$f":"AVERAGE(I69:I73)","v":{"v":14119.4,"d":"14,119"}},{"$f":"AVERAGE(J69:J73)","v":{"v":2695.4,"d":"2,695"}},{"$f":"AVERAGE(K69:K73)","v":{"v":16814.8,"d":"16,815"}}]
["1991-1995",{"$f":"AVERAGE(B74:B78)","v":{"v":3597.8,"d":"3,598"}},{"$f":"AVERAGE(C74:C78)","v":100},565,null,{"v":7356.8,"d":"7,357"},{"v":4736.2,"d":"4,736"},null,{"v":9929.6,"d":"9,930"},{"v":6426.2,"d":"6,426"},{"v":16355.8,"d":"16,356"}]
["1996-2000f/",{"$f":"AVERAGE(B79:B83)","v":{"v":8406.6,"d":"8,407"}},{"$f":"C79","v":100},{"$f":"D79","v":{"v":1336,"d":"1,336"}},null,{"$f":"F79","v":{"v":11009,"d":"11,009"}},{"$f":"G79","v":{"v":11515,"d":"11,515"}},null,{"$f":"I79","v":{"v":14596,"d":"14,596"}},{"v":17783,"d":"17,783"},{"v":32379,"d":"32,379"}]
["2001-2005",{"$f":"AVERAGE(B84:B88)","v":{"v":21801,"d":"21,801"}},{"$f":"C80","v":50},"      38f/",null,{"$f":"F80","v":{"v":4623,"d":"4,623"}},{"$f":"G80","v":{"v":2645,"d":"2,645"}},null,{"v":5021,"d":"5,021"},{"v":2791,"d":"2,791"},{"v":7812,"d":"7,812"}]
["2006-2010",{"$f":"AVERAGE(B89:B93)","v":{"v":19978.4,"d":"19,978"}},{"$f":"AVERAGE(C89:C93)","v":4},{"v":1957,"d":"1,957"},null,{"v":7221.8,"d":"7,222"},{"v":13733.8,"d":"13,734"},null,{"v":16948.2,"d":"16,948"},{"v":25946.8,"d":"25,947"},{"v":42895,"d":"42,895"}]
[2011,{"$f":"B94","v":{"v":21983,"d":"21,983"}},11,{"v":3955,"d":"3,955"},null,{"$f":"F94","v":{"v":8070,"d":"8,070"}},{"v":22487,"d":"22,487"},null,{"$f":"I94","v":{"v":20887,"d":"20,887"}},{"v":35634,"d":"35,634"},{"v":56521,"d":"56,521"}]
[2012,{"v":11051,"d":"11,051"},1,{"v":1317,"d":"1,317"},null,{"v":5846,"d":"5,846"},{"v":2276,"d":"2,276"},null,{"v":15421,"d":"15,421"},{"v":5070,"d":"5,070"},{"v":20490,"d":"20,490"}]
[2013,{"v":12611,"d":"12,611"},0,{"v":4370,"d":"4,370"},null,{"v":7072,"d":"7,072"},{"v":5111,"d":"5,111"},null,{"v":18125,"d":"18,125"},{"v":11039,"d":"11,039"},{"v":29164,"d":"29,164"}]
[2014,{"v":27427,"d":"27,427"},0,{"v":5736,"d":"5,736"},null,{"v":7425,"d":"7,425"},{"v":12389,"d":"12,389"},null,{"v":23528,"d":"23,528"},{"v":29449,"d":"29,449"},{"v":52977,"d":"52,977"}]
[2015,{"v":5291,"d":"5,291"},0,{"v":2706,"d":"2,706"},null,{"v":2571,"d":"2,571"},{"v":3595,"d":"3,595"},null,{"v":6978,"d":"6,978"},{"v":7185,"d":"7,185"},{"v":14163,"d":"14,163"}]
[2016,{"v":5678,"d":"5,678"},0,326,null,{"v":9630,"d":"9,630"},{"v":16332,"d":"16,332"},null,{"v":11676,"d":"11,676"},{"v":20290,"d":"20,290"},{"v":31966,"d":"31,966"}]
[2017,{"v":15629,"d":"15,629"},0,{"v":2599,"d":"2,599"},null,{"v":7474,"d":"7,474"},{"v":18299,"d":"18,299"},null,{"v":13034,"d":"13,034"},{"v":30967,"d":"30,967"},{"v":44001,"d":"44,001"}]
[2018,{"v":3840,"d":"3,840"},7,{"v":1129,"d":"1,129"},null,{"v":6091,"d":"6,091"},{"v":9762,"d":"9,762"},null,{"v":8202,"d":"8,202"},{"v":12627,"d":"12,627"},{"v":20829,"d":"20,829"}]
[2019,{"v":3151,"d":"3,151"},0,{"v":2444,"d":"2,444"},null,{"v":6852,"d":"6,852"},{"v":4712,"d":"4,712"},null,{"v":9713,"d":"9,713"},{"v":7446,"d":"7,446"},{"v":17159,"d":"17,159"}]
[2020,{"$f":"B103","v":{"v":1815,"d":"1,815"}},0,{"v":1421,"d":"1,421"},null,{"$f":"F103","v":{"v":7695,"d":"7,695"}},{"v":12832,"d":"12,832"},null,{"$f":"I103","v":{"v":8777,"d":"8,777"}},{"v":14908,"d":"14,908"},{"v":23685,"d":"23,685"}]
[2021,{"$f":"B104","v":{"v":1624,"d":"1,624"}},7,{"v":1833,"d":"1,833"},null,{"$f":"F104","v":{"v":9938,"d":"9,938"}},{"v":9856,"d":"9,856"},null,{"$f":"I104","v":{"v":11005,"d":"11,005"}},{"v":12266,"d":"12,266"},{"v":23271,"d":"23,271"}]
[2022,{"$f":"B105","v":{"v":3565,"d":"3,565"}},10,{"v":1951,"d":"1,951"},null,{"$f":"F105","v":{"v":16643,"d":"16,643"}},{"v":14462,"d":"14,462"},null,{"$f":"I105","v":{"v":15642,"d":"15,642"}},{"v":17542,"d":"17,542"},{"v":33184,"d":"33,184"}]
["2023g/",{"$f":"B106","v":{"v":2873,"d":"2,873"}},0,496,null,{"$f":"F106","v":{"v":7734,"d":"7,734"}},{"v":2416,"d":"2,416"},null,{"$f":"I106","v":{"v":9673,"d":"9,673"}},{"v":3357,"d":"3,357"},{"v":13030,"d":"13,030"}]
["2024g/",{"v":1960,"d":"1,960"},0,443,null,"NA",{"v":4449,"d":"4,449"},null,"NA",{"v":5426,"d":"5,426"},"NA"]
[" GOAL",{"$nulls":4},{"$f":"F108","v":"6,300-15,800"}]
[{"$f":"A109","v":"a/  Includes dip-in fish from other systems."}]
[{"$f":"A110","v":"b/  Beginning in 2005, ceremonial and subsistence catch taken during scheduled gillnet fishery is reported as gillnet catch.  Catch during designated ceremonial and subsistence fisheries is listed separately."}]
[]
[{"$f":"A112","v":"c/  Recreational catch of adults (coho over 20 inches)."}]
[{"$f":"A113","v":"d/  Natural escapement and run size estimates include fish taken for hatchery brood stock."}]
[{"$f":"A114","v":"e/  Hatchery escapement and terminal run size exclude hatchery strays."}]
[{"$f":"A115","v":"f/  In 1997 river sport:  Regulations required nonretention of coho."}]
[{"$f":"A116","v":"g/  Preliminary."}]

{"sheet":"B-38","index":39,"n_rows":118,"n_cols":11,"rows_kept":118,"merged":[[0,0,0,10],[1,1,1,3],[2,0,3,0],[2,2,3,2],[2,5,2,6],[2,8,2,10],[54,0,54,10],[55,0,55,10],[57,0,57,10],[58,0,58,10],[59,0,59,10],[87,0,87,10],[88,1,88,3],[89,0,90,0],[89,2,90,2],[89,5,89,6],[89,8,89,10],[113,0,113,10],[114,0,114,10],[115,0,115,10],[116,0,116,10],[117,0,117,10],[118,0,118,10]]}
["TABLE B-38.  Estimated inriver run size, catch, and escapement for Hoko River summer/fall Chinook in numbers of fish."]
[null,"  Terminal Catch"]
["Year or Average",null,"Ceremonial &  Subsistence",null,null,"Escapementb/",null,null,"Terminal Run Sizec/"]
[null,"Gillnet",null,"River Sporta/",null,"Natural","Supplemental",null,"Naturalb/","Supplemental","Total"]
[1976,0,0,10,null,"NA","NA",null,"NA","NA",{"$f":"SUM(I5:J5)","v":0}]
[1977,0,0,6,null,"NA","NA",null,"NA","NA",0]
[1978,0,0,50,null,"NA","NA",null,"NA","NA",0]
[1979,0,0,69,null,"NA","NA",null,"NA","NA",0]
[1980,0,0,18,null,"NA","NA",null,"NA","NA",0]
[1981,"-","-",4,null,"NA","NA",null,"NA","NA",0]
[1982,"-","-",18,null,"NA","NA",null,"NA","NA",0]
[1983,"-","-",16,null,"NA","NA",null,"NA","NA",0]
[1984,"-","-",0,null,"NA","NA",null,"NA","NA",0]
[1985,"-","-",4,null,"NA","NA",null,"NA","NA",0]
[1986,"-","-",0,null,"NA","NA",null,"NA","NA",0]
[1987,"-","-",0,null,"NA","NA",null,"NA","NA",0]
[1988,"-","-",7,null,{"v":722.8396544000001,"d":"723"},{"v":14.049945599999997,"d":"14"},null,{"v":722.8396544000001,"d":"723"},{"v":14.049945599999997,"d":"14"},{"v":736.8896000000001,"d":"737"}]
[1989,"-","-",3,null,{"v":735.60909,"d":"736"},{"v":106.39091,"d":"106"},null,{"v":735.60909,"d":"736"},{"v":106.39091,"d":"106"},842]
[1990,"-","-",3,null,{"v":182.29661,"d":"182"},{"v":302.81539000000004,"d":"303"},null,{"v":182.29661,"d":"182"},{"v":302.81539000000004,"d":"303"},{"v":485.112,"d":"485"}]
[1991,"-","-",10,null,{"v":139.095015,"d":"139"},{"v":860.879985,"d":"861"},null,{"v":139.095015,"d":"139"},{"v":860.879985,"d":"861"},{"v":999.975,"d":"1,000"}]
[1992,"-","-",6,null,{"v":419.72179929697376,"d":"420"},{"v":297.12681689742817,"d":"297"},null,{"v":419.72179929697376,"d":"420"},{"v":297.12681689742817,"d":"297"},{"v":716.848616194402,"d":"717"}]
[1993,"-","-",0,null,{"v":687.0688973064362,"d":"687"},{"v":189.31800745546894,"d":"189"},null,{"v":687.0688973064362,"d":"687"},{"v":189.31800745546894,"d":"189"},{"v":876.386904761905,"d":"876"}]
[1994,"-","-",8,null,{"v":252.24348617315994,"d":"252"},{"v":168.7565138268402,"d":"169"},null,{"v":252.24348617315994,"d":"252"},{"v":168.7565138268402,"d":"169"},{"v":421.0000000000001,"d":"421"}]
[1995,"-","-",0,null,{"v":266.7602425531907,"d":"267"},{"v":609.6014595744673,"d":"610"},null,{"v":266.7602425531907,"d":"267"},{"v":609.6014595744673,"d":"610"},{"v":876.361702127658,"d":"876"}]
[1996,"-","-",4,null,{"v":434.7,"d":"435"},{"v":829.3,"d":"829"},null,{"v":434.7,"d":"435"},{"v":829.3,"d":"829"},{"v":1264,"d":"1,264"}]
[1997,"-","-",8,null,{"v":365.1662,"d":"365"},{"v":525.8338,"d":"526"},null,{"v":365.1662,"d":"365"},{"v":525.8338,"d":"526"},891]
[1998,"-","-","-",null,705,978,null,705,978,{"v":1683,"d":"1,683"}]
[1999,"-","-","-",null,734,921,null,734,921,{"v":1655,"d":"1,655"}]
[2000,"-","-","-",null,288,375,null,288,375,663]
[2001,"-","-","-",null,494,445,null,494,445,939]
[2002,"-","-","-",null,188,486,null,188,486,674]
[2003,"-","-","-",null,395,685,null,395,685,{"v":1080,"d":"1,080"}]
[2004,"-","-","-",null,259,793,null,259,793,{"v":1052,"d":"1,052"}]
[2005,"-","-","-",null,72,201,null,72,201,273]
[2006,"-","-","-",null,172,723,null,172,723,895]
[2007,"-","-","-",null,250,317,null,250,317,567]
[2008,"-","-","-",null,101,377,null,101,377,478]
[2009,"-","-","-",null,{"v":194.38153106430423,"d":"194"},{"v":126.99618632908658,"d":"127"},null,{"v":194.38153106430423,"d":"194"},{"v":126.99618632908658,"d":"127"},{"v":321.3777173933908,"d":"321"}]
[2010,"-","-","-",null,{"v":57.07681909635014,"d":"57"},{"v":715.9231809036498,"d":"716"},null,{"v":57.07681909635014,"d":"57"},{"v":715.9231809036498,"d":"716"},773]
[2011,"-","-","-",null,{"v":448.86993367871855,"d":"449"},{"v":1050.1300663212817,"d":"1,050"},null,{"v":448.86993367871855,"d":"449"},{"v":1050.1300663212817,"d":"1,050"},{"v":1499.0000000000002,"d":"1,499"}]
[2012,"-","-","-",null,{"v":213.18473122598942,"d":"213"},{"v":406.8152687740106,"d":"407"},null,{"v":213.18473122598942,"d":"213"},{"v":406.8152687740106,"d":"407"},620]
[2013,"-","-","-",null,{"v":487.41940401946044,"d":"487"},{"v":488.9942823822742,"d":"489"},null,{"v":487.41940401946044,"d":"487"},{"v":488.9942823822742,"d":"489"},{"v":976.4136864017346,"d":"976"}]
[2014,"-","-","-",null,{"v":978.3850701293493,"d":"978"},{"v":630.1149298706506,"d":"630"},"NA",{"v":978.3850701293493,"d":"978"},{"v":630.1149298706506,"d":"630"},{"v":1608.5,"d":"1,609"}]
[2015,"-","-","-",null,{"v":1049.8552385261223,"d":"1,050"},{"v":1657.7131245259538,"d":"1,658"},"NA",{"v":1049.8552385261223,"d":"1,050"},{"v":1657.7131245259538,"d":"1,658"},{"v":2707.568363052076,"d":"2,708"}]
[2016,"-","-","-",null,{"v":265.0700497209642,"d":"265"},{"v":995.4944056264587,"d":"995"},"NA",{"v":265.0700497209642,"d":"265"},{"v":995.4944056264587,"d":"995"},{"v":1260.564455347423,"d":"1,261"}]
[2017,"-","-","-",null,{"v":128.09401215907423,"d":"128"},{"v":583.5213541241043,"d":"584"},"NA",{"v":128.09401215907423,"d":"128"},{"v":583.5213541241043,"d":"584"},{"v":711.6153662831784,"d":"712"}]
[2018,"-","-","-",null,{"v":196.46008876696766,"d":"196"},{"v":1906.679418237189,"d":"1,907"},null,{"v":196.46008876696766,"d":"196"},{"v":1906.679418237189,"d":"1,907"},{"v":2103.1395070041567,"d":"2,103"}]
[2019,"-","-","-",null,{"v":233.4926950420776,"d":"233"},{"v":1604.0073049579223,"d":"1,604"},null,{"v":233.4926950420776,"d":"233"},{"v":1604.0073049579223,"d":"1,604"},{"v":1837.5,"d":"1,838"}]
[2020,"-","-","-",null,429,{"v":1673,"d":"1,673"},null,429,{"v":1673,"d":"1,673"},{"v":2102,"d":"2,102"}]
[2021,"-","-","-",null,{"v":364.46071598549116,"d":"364"},{"v":800.0838384699543,"d":"800"},null,{"v":364.46071598549116,"d":"364"},{"v":800.0838384699543,"d":"800"},{"v":1164.5445544554455,"d":"1,165"}]
[2022,"-","-","-",null,{"v":577.921450957265,"d":"578"},{"v":808.0785490427351,"d":"808"},null,{"v":577.921450957265,"d":"578"},{"v":808.0785490427351,"d":"808"},{"v":1386,"d":"1,386"}]
[2023,"-","-","-",null,{"v":2026,"d":"2,026"},{"v":2367,"d":"2,367"},null,{"v":2026,"d":"2,026"},{"v":2367,"d":"2,367"},{"v":4393,"d":"4,393"}]
[2024,"-","-","-",null,"NA","NA",null,"NA","NA","NA"]
["GOAL",{"$nulls":4},"850d/","200e/"]
["a/  River recreational catch of age-3 and older fish."]
["b/  Natural represents all natural-origin fish returning to the Hoko River, Supplemental represents all hatchery-origin fish returning to the Hoko River."]
["c/  Terminal run size estimates incomplete since inriver sport catch estimates are unavailable."]
["d/  Terminal run size estimates incomplete since inriver sport catch estimates are unavailable."]
["d/  Goal in terms of naturally spawning fish and includes supplementation production."]
["e/  Comanagers goal.  Not an FMP goal."]
{"$rows_empty":27}
["TABLE B-38.  Estimated inriver run size, catch, and escapement for Hoko River summer/fall Chinook in numbers of fish."]
[null,"  Terminal Catch"]
["Year or Average",null,"Ceremonial &  Subsistence",null,null,"Escapementb/",null,null,"Terminal Run Sizec/"]
[null,"Gillnet",null,"River Sporta/",null,"Natural","Supplemental",null,"Naturalb/","Supplemental","Total"]
["1976-1980",{"$f":"AVERAGE(B5:B9)","v":0},{"$f":"AVERAGE(C5:C9)","v":0},{"$f":"AVERAGE(D5:D9)","v":{"v":30.6,"d":"31"}},null,{"$f":"AVERAGE(F5:F9)","v":{"$error":"#DIV/0!"}},{"$f":"AVERAGE(G5:G9)","v":{"$error":"#DIV/0!"}},null,{"$f":"AVERAGE(I5:I9)","v":{"$error":"#DIV/0!"}},{"$f":"AVERAGE(J5:J9)","v":{"$error":"#DIV/0!"}},{"$f":"AVERAGE(K5:K9)","v":0}]
["1981-1985",{"$f":"AVERAGE(B10:B14)","v":{"$error":"#DIV/0!"}},{"$f":"AVERAGE(C10:C14)","v":{"$error":"#DIV/0!"}},{"$f":"AVERAGE(D10:D14)","v":{"v":8.4,"d":"8"}},null,{"$f":"AVERAGE(F10:F14)","v":{"$error":"#DIV/0!"}},{"$f":"AVERAGE(G10:G14)","v":{"$error":"#DIV/0!"}},null,{"$f":"AVERAGE(I10:I14)","v":{"$error":"#DIV/0!"}},{"$f":"AVERAGE(J10:J14)","v":{"$error":"#DIV/0!"}},{"$f":"AVERAGE(K10:K14)","v":0}]
["1986-1990",{"$f":"AVERAGE(B15:B19)","v":{"$error":"#DIV/0!"}},{"$f":"AVERAGE(C15:C19)","v":{"$error":"#DIV/0!"}},{"$f":"AVERAGE(D15:D19)","v":{"v":2.6,"d":"3"}},null,{"$f":"AVERAGE(F15:F19)","v":{"v":546.9151181333333,"d":"547"}},{"$f":"AVERAGE(G15:G19)","v":{"v":141.08541520000003,"d":"141"}},null,{"$f":"AVERAGE(I15:I19)","v":{"v":546.9151181333333,"d":"547"}},{"$f":"AVERAGE(J15:J19)","v":{"v":141.08541520000003,"d":"141"}},{"$f":"AVERAGE(K15:K19)","v":{"v":412.80032,"d":"413"}}]
["1991-1995","-","-",{"$f":"AVERAGE(D20:D24)","v":{"v":4.8,"d":"5"}},null,{"$f":"AVERAGE(F20:F24)","v":{"v":352.9778880659521,"d":"353"}},{"$f":"AVERAGE(G20:G24)","v":{"v":425.13655655084096,"d":"425"}},null,{"$f":"AVERAGE(I20:I24)","v":{"v":352.9778880659521,"d":"353"}},{"$f":"AVERAGE(J20:J24)","v":{"v":425.13655655084096,"d":"425"}},{"$f":"AVERAGE(K20:K24)","v":{"v":778.114444616793,"d":"778"}}]
["1996-2000",{"$f":"B25","v":"-"},{"$f":"C25","v":"-"},{"$f":"AVERAGE(D25:D29)","v":6},null,{"$f":"AVERAGE(F25:F29)","v":{"v":505.37324,"d":"505"}},{"$f":"AVERAGE(G25:G29)","v":{"v":725.82676,"d":"726"}},null,{"$f":"AVERAGE(I25:I29)","v":{"v":505.37324,"d":"505"}},{"v":725.82676,"d":"726"},{"v":1231.2,"d":"1,231"}]
["2001-2005",{"$f":"B30","v":"-"},{"$f":"C30","v":"-"},{"$f":"D30","v":"-"},null,{"$f":"AVERAGE(F30:F34)","v":{"v":281.6,"d":"282"}},{"$f":"AVERAGE(G30:G34)","v":522},null,{"$f":"AVERAGE(I30:I34)","v":{"v":281.6,"d":"282"}},522,{"v":803.6,"d":"804"}]
["2006-2010",{"$f":"B35","v":"-"},{"$f":"C35","v":"-"},{"$f":"D35","v":"-"},null,{"$f":"AVERAGE(F35:F39)","v":{"v":154.8916700321309,"d":"155"}},{"$f":"AVERAGE(G35:G39)","v":{"v":451.9838734465473,"d":"452"}},null,{"$f":"AVERAGE(I35:I39)","v":{"v":154.8916700321309,"d":"155"}},{"v":451.9838734465473,"d":"452"},{"v":606.8755434786782,"d":"607"}]
[2011,{"$f":"B40","v":"-"},"-","-",null,{"$f":"F40","v":{"v":448.86993367871855,"d":"449"}},{"v":1050.1300663212817,"d":"1,050"},null,{"$f":"I40","v":{"v":448.86993367871855,"d":"449"}},{"v":1050.1300663212817,"d":"1,050"},{"v":1499.0000000000002,"d":"1,499"}]
[2012,"-","-","-",null,{"v":213.18473122598942,"d":"213"},{"v":406.8152687740106,"d":"407"},null,{"v":213.18473122598942,"d":"213"},{"v":406.8152687740106,"d":"407"},620]
[2013,"-","-","-",null,{"v":487.41940401946044,"d":"487"},{"v":488.9942823822742,"d":"489"},null,{"v":487.41940401946044,"d":"487"},{"v":488.9942823822742,"d":"489"},{"v":976.4136864017346,"d":"976"}]
[2014,"-","-","-",null,{"v":978.3850701293493,"d":"978"},{"v":630.1149298706506,"d":"630"},null,{"v":978.3850701293493,"d":"978"},{"v":630.1149298706506,"d":"630"},{"v":1608.5,"d":"1,609"}]
[2015,"-","-","-",null,{"v":1049.8552385261223,"d":"1,050"},{"v":1657.7131245259538,"d":"1,658"},null,{"v":1049.8552385261223,"d":"1,050"},{"v":1657.7131245259538,"d":"1,658"},{"v":2707.568363052076,"d":"2,708"}]
[2016,"-","-","-",null,{"v":265.0700497209642,"d":"265"},{"v":995.4944056264587,"d":"995"},null,{"v":265.0700497209642,"d":"265"},{"v":995.4944056264587,"d":"995"},{"v":1260.564455347423,"d":"1,261"}]
[2017,"-","-","-",null,{"v":128.09401215907423,"d":"128"},{"v":583.5213541241043,"d":"584"},null,{"v":128.09401215907423,"d":"128"},{"v":583.5213541241043,"d":"584"},{"v":711.6153662831784,"d":"712"}]
[2018,"-","-","-",null,{"v":196.46008876696766,"d":"196"},{"v":1906.679418237189,"d":"1,907"},null,{"v":196.46008876696766,"d":"196"},{"v":1906.679418237189,"d":"1,907"},{"v":2103.1395070041567,"d":"2,103"}]
[2019,"-","-","-",null,{"v":233.4926950420776,"d":"233"},{"v":1604.0073049579223,"d":"1,604"},null,{"v":233.4926950420776,"d":"233"},{"v":1604.0073049579223,"d":"1,604"},{"v":1837.5,"d":"1,838"}]
[2020,"-","-","-",null,429,{"v":1673,"d":"1,673"},null,429,{"v":1673,"d":"1,673"},{"v":2102,"d":"2,102"}]
[2021,"-","-","-",null,{"v":364.46071598549116,"d":"364"},{"v":800.0838384699543,"d":"800"},null,{"v":364.46071598549116,"d":"364"},{"v":800.0838384699543,"d":"800"},{"v":1164.5445544554455,"d":"1,165"}]
[2022,"-","-","-",null,{"v":577.921450957265,"d":"578"},{"v":808.0785490427351,"d":"808"},null,{"v":577.921450957265,"d":"578"},{"v":808.0785490427351,"d":"808"},{"v":1386,"d":"1,386"}]
[2023,{"$f":"B52","v":"-"},"-","-",null,{"$f":"F52","v":{"v":2026,"d":"2,026"}},{"v":2367,"d":"2,367"},null,{"$f":"I52","v":{"v":2026,"d":"2,026"}},{"v":2367,"d":"2,367"},{"v":4393,"d":"4,393"}]
[2024,"-","-","-",null,"NA","NA",null,"NA","NA","NA"]
["GOAL",{"$nulls":4},"850d/","200e/"]
[{"$f":"A55","v":"a/  River recreational catch of age-3 and older fish."}]
[{"$f":"A56","v":"b/  Natural represents all natural-origin fish returning to the Hoko River, Supplemental represents all hatchery-origin fish returning to the Hoko River."}]
[{"$f":"A57","v":"c/  Terminal run size estimates incomplete since inriver sport catch estimates are unavailable."}]
[{"$f":"A59","v":"d/  Goal in terms of naturally spawning fish and includes supplementation production."}]
[{"$f":"A60","v":"e/  Comanagers goal.  Not an FMP goal."}]

{"sheet":"B-39","index":40,"n_rows":305,"n_cols":9,"rows_kept":305,"merged":[[0,0,0,6],[217,0,217,6],[239,0,239,6],[277,0,277,6],[302,0,302,6],[303,0,303,6],[304,0,304,6]]}
["TABLE B-39.  Puget Sound commercial net and troll fishery salmon catches in numbers of fish.a/"]
["Year or Average","  Fishery","Chinook","Coho","Pinkb/","Chum","Sockeye"]
[1971,"Non-Indian",{"v":138466,"d":"138,466"},{"v":447380,"d":"447,380"},{"v":2389593,"d":"2,389,593"},{"v":124119,"d":"124,119"},{"v":3041087,"d":"3,041,087"}]
[null,"Treaty Indian",{"v":27553,"d":"27,553"},{"v":107714,"d":"107,714"},{"v":88846,"d":"88,846"},{"v":27275,"d":"27,275"},{"v":22016,"d":"22,016"}]
[null,"   Total",{"v":166019,"d":"166,019"},{"v":555094,"d":"555,094"},{"v":2478439,"d":"2,478,439"},{"v":151394,"d":"151,394"},{"v":3063103,"d":"3,063,103"}]
[]
[1972,"Non-Indian",{"v":83431,"d":"83,431"},{"v":452958,"d":"452,958"},118,{"v":735764,"d":"735,764"},{"v":1126336,"d":"1,126,336"}]
[null,"Treaty Indian",{"v":39870,"d":"39,870"},{"v":99757,"d":"99,757"},17,{"v":52404,"d":"52,404"},{"v":18688,"d":"18,688"}]
[null,"   Total",{"v":123301,"d":"123,301"},{"v":552715,"d":"552,715"},135,{"v":788168,"d":"788,168"},{"v":1145024,"d":"1,145,024"}]
[]
[1973,"Non-Indian",{"v":94161,"d":"94,161"},{"v":684313,"d":"684,313"},{"v":2247243,"d":"2,247,243"},{"v":462367,"d":"462,367"},{"v":2616114,"d":"2,616,114"}]
[null,"Treaty Indian",{"v":47868,"d":"47,868"},{"v":119932,"d":"119,932"},{"v":116058,"d":"116,058"},{"v":72694,"d":"72,694"},{"v":58924,"d":"58,924"}]
[null,"   Total",{"v":142029,"d":"142,029"},{"v":804245,"d":"804,245"},{"v":2363301,"d":"2,363,301"},{"v":535061,"d":"535,061"},{"v":2675038,"d":"2,675,038"}]
[]
[1974,"Non-Indian",{"v":80173,"d":"80,173"},{"v":494386,"d":"494,386"},152,{"v":229809,"d":"229,809"},{"v":2452140,"d":"2,452,140"}]
[null,"Treaty Indian",{"v":67492,"d":"67,492"},{"v":382252,"d":"382,252"},15,{"v":166343,"d":"166,343"},{"v":33170,"d":"33,170"}]
[null,"   Total",{"v":147665,"d":"147,665"},{"v":876638,"d":"876,638"},167,{"v":396152,"d":"396,152"},{"v":2485310,"d":"2,485,310"}]
[]
[1975,"Non-Indian",{"v":130431,"d":"130,431"},{"v":550296,"d":"550,296"},{"v":1225965,"d":"1,225,965"},{"v":103084,"d":"103,084"},{"v":1558241,"d":"1,558,241"}]
[null,"Treaty Indian",{"v":105579,"d":"105,579"},{"v":414061,"d":"414,061"},{"v":104156,"d":"104,156"},{"v":72614,"d":"72,614"},{"v":58329,"d":"58,329"}]
[null,"   Total",{"v":236010,"d":"236,010"},{"v":964357,"d":"964,357"},{"v":1330121,"d":"1,330,121"},{"v":175698,"d":"175,698"},{"v":1616570,"d":"1,616,570"}]
[]
[1976,"Non-Indian",{"v":91145,"d":"91,145"},{"v":376123,"d":"376,123"},103,{"v":477880,"d":"477,880"},{"v":1222954,"d":"1,222,954"}]
[null,"Treaty Indian",{"v":133532,"d":"133,532"},{"v":295936,"d":"295,936"},16,{"v":280087,"d":"280,087"},{"v":95549,"d":"95,549"}]
[null,"   Total",{"v":224677,"d":"224,677"},{"v":672059,"d":"672,059"},119,{"v":757967,"d":"757,967"},{"v":1318503,"d":"1,318,503"}]
[]
[1977,"Non-Indian",{"v":136473,"d":"136,473"},{"v":556388,"d":"556,388"},{"v":1858947,"d":"1,858,947"},{"v":279788,"d":"279,788"},{"v":1473453,"d":"1,473,453"}]
[null,"Treaty Indian",{"v":117222,"d":"117,222"},{"v":449077,"d":"449,077"},{"v":175227,"d":"175,227"},{"v":176303,"d":"176,303"},{"v":365726,"d":"365,726"}]
[null,"   Total",{"v":253695,"d":"253,695"},{"v":1005465,"d":"1,005,465"},{"v":2034174,"d":"2,034,174"},{"v":456091,"d":"456,091"},{"v":1839179,"d":"1,839,179"}]
[]
[1978,"Non-Indian",{"v":121156,"d":"121,156"},{"v":383391,"d":"383,391"},208,{"v":751661,"d":"751,661"},{"v":1137584,"d":"1,137,584"}]
[null,"Treaty Indian",{"v":137939,"d":"137,939"},{"v":440148,"d":"440,148"},69,{"v":480530,"d":"480,530"},{"v":235192,"d":"235,192"}]
[null,"   Total",{"v":259095,"d":"259,095"},{"v":823539,"d":"823,539"},277,{"v":1232191,"d":"1,232,191"},{"v":1372776,"d":"1,372,776"}]
[]
[1979,"Non-Indian",{"v":78585,"d":"78,585"},{"v":276691,"d":"276,691"},{"v":3393332,"d":"3,393,332"},{"v":21880,"d":"21,880"},{"v":1372675,"d":"1,372,675"}]
[null,"Treaty Indian",{"v":121766,"d":"121,766"},{"v":484350,"d":"484,350"},{"v":753614,"d":"753,614"},{"v":102706,"d":"102,706"},{"v":424268,"d":"424,268"}]
[null,"   Total",{"v":200351,"d":"200,351"},{"v":761041,"d":"761,041"},{"v":4146946,"d":"4,146,946"},{"v":124586,"d":"124,586"},{"v":1796943,"d":"1,796,943"}]
[]
[1980,"Non-Indian",{"v":90370,"d":"90,370"},{"v":475322,"d":"475,322"},210,{"v":508086,"d":"508,086"},{"v":271351,"d":"271,351"}]
[null,"Treaty Indian",{"v":167501,"d":"167,501"},{"v":793232,"d":"793,232"},227,{"v":440658,"d":"440,658"},{"v":268118,"d":"268,118"}]
[null,"   Total",{"v":257871,"d":"257,871"},{"v":1268554,"d":"1,268,554"},437,{"v":948744,"d":"948,744"},{"v":539469,"d":"539,469"}]
[]
[1981,"Non-Indian",{"v":76737,"d":"76,737"},{"v":276566,"d":"276,566"},{"v":2726306,"d":"2,726,306"},{"v":222705,"d":"222,705"},{"v":755789,"d":"755,789"}]
[null,"Treaty Indian",{"v":153323,"d":"153,323"},{"v":468222,"d":"468,222"},{"v":1172665,"d":"1,172,665"},{"v":274248,"d":"274,248"},{"v":549075,"d":"549,075"}]
[null,"   Total",{"v":230060,"d":"230,060"},{"v":744788,"d":"744,788"},{"v":3898971,"d":"3,898,971"},{"v":496953,"d":"496,953"},{"v":1304864,"d":"1,304,864"}]
[]
[1982,"Non-Indian",{"v":87496,"d":"87,496"},{"v":394632,"d":"394,632"},9,{"v":531353,"d":"531,353"},{"v":1476032,"d":"1,476,032"}]
[null,"Treaty Indian",{"v":142040,"d":"142,040"},{"v":747178,"d":"747,178"},43,{"v":445803,"d":"445,803"},{"v":1392153,"d":"1,392,153"}]
[null,"   Total",{"v":229536,"d":"229,536"},{"v":1141810,"d":"1,141,810"},52,{"v":977156,"d":"977,156"},{"v":2868185,"d":"2,868,185"}]
[]
[1983,"Non-Indian",{"v":49931,"d":"49,931"},{"v":339894,"d":"339,894"},{"v":1045647,"d":"1,045,647"},{"v":208841,"d":"208,841"},{"v":180716,"d":"180,716"}]
[null,"Treaty Indian",{"v":147706,"d":"147,706"},{"v":584102,"d":"584,102"},{"v":800796,"d":"800,796"},{"v":270922,"d":"270,922"},{"v":219765,"d":"219,765"}]
[null,"   Total",{"v":197637,"d":"197,637"},{"v":923996,"d":"923,996"},{"v":1846443,"d":"1,846,443"},{"v":479763,"d":"479,763"},{"v":400481,"d":"400,481"}]
[]
[1984,"Non-Indian",{"v":75538,"d":"75,538"},{"v":297486,"d":"297,486"},8,{"v":322810,"d":"322,810"},{"v":854070,"d":"854,070"}]
[null,"Treaty Indian",{"v":166418,"d":"166,418"},{"v":510832,"d":"510,832"},53,{"v":401777,"d":"401,777"},{"v":850318,"d":"850,318"}]
[null,"   Total",{"v":241956,"d":"241,956"},{"v":808318,"d":"808,318"},61,{"v":724587,"d":"724,587"},{"v":1704388,"d":"1,704,388"}]
[]
[1985,"Non-Indian",{"v":74966,"d":"74,966"},{"v":422047,"d":"422,047"},{"v":2002285,"d":"2,002,285"},{"v":558102,"d":"558,102"},{"v":1375777,"d":"1,375,777"}]
[null,"Treaty Indian",{"v":170342,"d":"170,342"},{"v":730872,"d":"730,872"},{"v":2173141,"d":"2,173,141"},{"v":547004,"d":"547,004"},{"v":1550731,"d":"1,550,731"}]
[null,"   Total",{"v":245308,"d":"245,308"},{"v":1152919,"d":"1,152,919"},{"v":4175426,"d":"4,175,426"},{"v":1105106,"d":"1,105,106"},{"v":2926508,"d":"2,926,508"}]
[]
[1986,"Non-Indian",{"v":73521,"d":"73,521"},{"v":493454,"d":"493,454"},18,{"v":505694,"d":"505,694"},{"v":1393964,"d":"1,393,964"}]
[null,"Treaty Indian",{"v":150439,"d":"150,439"},{"v":865943,"d":"865,943"},93,{"v":650284,"d":"650,284"},{"v":1357374,"d":"1,357,374"}]
[null,"   Total",{"v":223960,"d":"223,960"},{"v":1359397,"d":"1,359,397"},111,{"v":1155978,"d":"1,155,978"},{"v":2751338,"d":"2,751,338"}]
[]
[1987,"Non-Indian",{"v":57270,"d":"57,270"},{"v":664011,"d":"664,011"},{"v":963319,"d":"963,319"},{"v":597292,"d":"597,292"},{"v":971322,"d":"971,322"}]
[null,"Treaty Indian",{"v":155789,"d":"155,789"},{"v":1119494,"d":"1,119,494"},{"v":1106441,"d":"1,106,441"},{"v":704632,"d":"704,632"},{"v":974733,"d":"974,733"}]
[null,"   Total",{"v":213059,"d":"213,059"},{"v":1783505,"d":"1,783,505"},{"v":2069760,"d":"2,069,760"},{"v":1301924,"d":"1,301,924"},{"v":1946055,"d":"1,946,055"}]
[]
[1988,"Non-Indian",{"v":50368,"d":"50,368"},{"v":459808,"d":"459,808"},24,{"v":706316,"d":"706,316"},{"v":348031,"d":"348,031"}]
[null,"Treaty Indian",{"v":181111,"d":"181,111"},{"v":778371,"d":"778,371"},52,{"v":863504,"d":"863,504"},{"v":501366,"d":"501,366"}]
[null,"   Total",{"v":231479,"d":"231,479"},{"v":1238179,"d":"1,238,179"},76,{"v":1569820,"d":"1,569,820"},{"v":849397,"d":"849,397"}]
[]
[1989,"Non-Indian",{"v":54104,"d":"54,104"},{"v":344319,"d":"344,319"},{"v":1583853,"d":"1,583,853"},{"v":368023,"d":"368,023"},{"v":1127771,"d":"1,127,771"}]
[null,"Treaty Indian",{"v":199784,"d":"199,784"},{"v":622422,"d":"622,422"},{"v":1843841,"d":"1,843,841"},{"v":518996,"d":"518,996"},{"v":1123957,"d":"1,123,957"}]
[null,"   Total",{"v":253888,"d":"253,888"},{"v":966741,"d":"966,741"},{"v":3427694,"d":"3,427,694"},{"v":887019,"d":"887,019"},{"v":2251728,"d":"2,251,728"}]
[]
[1990,"Non-Indian",{"v":52486,"d":"52,486"},{"v":390879,"d":"390,879"},10,{"v":526889,"d":"526,889"},{"v":982361,"d":"982,361"}]
[null,"Treaty Indian",{"v":197709,"d":"197,709"},{"v":677330,"d":"677,330"},264,{"v":573660,"d":"573,660"},{"v":1184374,"d":"1,184,374"}]
[null,"   Total",{"v":250195,"d":"250,195"},{"v":1068209,"d":"1,068,209"},274,{"v":1100549,"d":"1,100,549"},{"v":2166735,"d":"2,166,735"}]
[]
[1991,"Non-Indian",{"v":21629,"d":"21,629"},{"v":196928,"d":"196,928"},{"v":1578440,"d":"1,578,440"},{"v":476214,"d":"476,214"},{"v":983408,"d":"983,408"}]
[null,"Treaty Indian",{"v":120057,"d":"120,057"},{"v":406801,"d":"406,801"},{"v":1710032,"d":"1,710,032"},{"v":545421,"d":"545,421"},{"v":844690,"d":"844,690"}]
[null,"   Total",{"v":141686,"d":"141,686"},{"v":603729,"d":"603,729"},{"v":3288472,"d":"3,288,472"},{"v":1021635,"d":"1,021,635"},{"v":1828098,"d":"1,828,098"}]
[]
[1992,"Non-Indian",{"v":19496,"d":"19,496"},{"v":98920,"d":"98,920"},82,{"v":618909,"d":"618,909"},{"v":316113,"d":"316,113"}]
[null,"Treaty Indian",{"v":90331,"d":"90,331"},{"v":292526,"d":"292,526"},121,{"v":763831,"d":"763,831"},{"v":292140,"d":"292,140"}]
[null,"   Total",{"v":109827,"d":"109,827"},{"v":391446,"d":"391,446"},203,{"v":1382740,"d":"1,382,740"},{"v":608253,"d":"608,253"}]
[]
[1993,"Non-Indian",{"v":19040,"d":"19,040"},{"v":27305,"d":"27,305"},{"v":974865,"d":"974,865"},{"v":587690,"d":"587,690"},{"v":1328468,"d":"1,328,468"}]
[null,"Treaty Indian",{"v":62719,"d":"62,719"},{"v":164555,"d":"164,555"},{"v":1117356,"d":"1,117,356"},{"v":540018,"d":"540,018"},{"v":1365219,"d":"1,365,219"}]
[null,"   Total",{"v":81759,"d":"81,759"},{"v":191860,"d":"191,860"},{"v":2092221,"d":"2,092,221"},{"v":1127708,"d":"1,127,708"},{"v":2693687,"d":"2,693,687"}]
[]
[1994,"Non-Indian",{"v":20855,"d":"20,855"},{"v":24248,"d":"24,248"},30,{"v":561243,"d":"561,243"},{"v":880632,"d":"880,632"}]
[null,"Treaty Indian",{"v":65913,"d":"65,913"},{"v":438937,"d":"438,937"},208,{"v":802872,"d":"802,872"},{"v":959599,"d":"959,599"}]
[null,"   Total",{"v":86768,"d":"86,768"},{"v":463185,"d":"463,185"},238,{"v":1364115,"d":"1,364,115"},{"v":1840231,"d":"1,840,231"}]
[]
[1995,"Non-Indian",{"v":6577,"d":"6,577"},{"v":24455,"d":"24,455"},{"v":1366919,"d":"1,366,919"},{"v":372923,"d":"372,923"},{"v":170551,"d":"170,551"}]
[null,"Treaty Indian",{"v":73547,"d":"73,547"},{"v":281100,"d":"281,100"},{"v":1337021,"d":"1,337,021"},{"v":383000,"d":"383,000"},{"v":243641,"d":"243,641"}]
[null,"   Total",{"v":80124,"d":"80,124"},{"v":305555,"d":"305,555"},{"v":2703940,"d":"2,703,940"},{"v":755923,"d":"755,923"},{"v":414192,"d":"414,192"}]
[]
[1996,"Non-Indian",{"v":9046,"d":"9,046"},{"v":19218,"d":"19,218"},2,{"v":530372,"d":"530,372"},{"v":50474,"d":"50,474"}]
[null,"Treaty Indian",{"v":67061,"d":"67,061"},{"v":153748,"d":"153,748"},58,{"v":264486,"d":"264,486"},{"v":286187,"d":"286,187"}]
[null,"   Total",{"v":76107,"d":"76,107"},{"v":172966,"d":"172,966"},60,{"v":794858,"d":"794,858"},{"v":336661,"d":"336,661"}]
[]
[1997,"Non-Indian",{"v":21894,"d":"21,894"},{"v":10454,"d":"10,454"},{"v":869345,"d":"869,345"},{"v":229261,"d":"229,261"},{"v":690236,"d":"690,236"}]
[null,"Treaty Indian",{"v":56638,"d":"56,638"},{"v":133150,"d":"133,150"},{"v":1007380,"d":"1,007,380"},{"v":188850,"d":"188,850"},{"v":678489,"d":"678,489"}]
[null,"   Total",{"v":78532,"d":"78,532"},{"v":143604,"d":"143,604"},{"v":1876725,"d":"1,876,725"},{"v":418111,"d":"418,111"},{"v":1368725,"d":"1,368,725"}]
[]
[1998,"Non-Indian",{"v":12428,"d":"12,428"},{"v":12538,"d":"12,538"},352,{"v":505349,"d":"505,349"},{"v":229313,"d":"229,313"}]
[null,"Treaty Indian",{"v":43273,"d":"43,273"},{"v":148441,"d":"148,441"},512,{"v":320122,"d":"320,122"},{"v":308446,"d":"308,446"}]
[null,"   Total",{"v":55701,"d":"55,701"},{"v":160979,"d":"160,979"},864,{"v":825471,"d":"825,471"},{"v":537759,"d":"537,759"}]
[]
[1999,"Non-Indian",{"v":9512,"d":"9,512"},{"v":11902,"d":"11,902"},{"v":1109,"d":"1,109"},{"v":133404,"d":"133,404"},37]
[null,"Treaty Indian",{"v":83686,"d":"83,686"},{"v":102278,"d":"102,278"},{"v":51432,"d":"51,432"},{"v":117763,"d":"117,763"},{"v":20495,"d":"20,495"}]
[null,"   Total",{"v":93198,"d":"93,198"},{"v":114180,"d":"114,180"},{"v":52541,"d":"52,541"},{"v":251167,"d":"251,167"},{"v":20532,"d":"20,532"}]
[]
[2000,"Non-Indian",{"v":11468,"d":"11,468"},{"v":21910,"d":"21,910"},9,{"v":140611,"d":"140,611"},{"v":230379,"d":"230,379"}]
[null,"Treaty Indian",{"v":71551,"d":"71,551"},{"v":386714,"d":"386,714"},346,{"v":159477,"d":"159,477"},{"v":315628,"d":"315,628"}]
[null,"   Total",{"v":83019,"d":"83,019"},{"v":408624,"d":"408,624"},355,{"v":300088,"d":"300,088"},{"v":546007,"d":"546,007"}]
[]
[2001,"Non-Indian",{"v":18029,"d":"18,029"},{"v":28299,"d":"28,299"},{"v":463083,"d":"463,083"},{"v":824328,"d":"824,328"},{"v":85112,"d":"85,112"}]
[null,"Treaty Indian",{"v":109865,"d":"109,865"},{"v":366011,"d":"366,011"},{"v":319553,"d":"319,553"},{"v":777019,"d":"777,019"},{"v":170309,"d":"170,309"}]
[null,"   Total",{"v":127894,"d":"127,894"},{"v":394310,"d":"394,310"},{"v":782636,"d":"782,636"},{"v":1601347,"d":"1,601,347"},{"v":255421,"d":"255,421"}]
[]
["2002c/","Non-Indian",{"v":17628,"d":"17,628"},{"v":24459,"d":"24,459"},7,{"v":1117666,"d":"1,117,666"},{"v":141456,"d":"141,456"}]
[null,"Treaty Indian",{"v":88513,"d":"88,513"},{"v":279801,"d":"279,801"},323,{"v":741932,"d":"741,932"},{"v":334824,"d":"334,824"}]
[null,"   Total",{"v":115879,"d":"115,879"},{"v":310959,"d":"310,959"},334,{"v":1951163,"d":"1,951,163"},{"v":481229,"d":"481,229"}]
[]
["2003c/","Non-Indian",{"v":8567,"d":"8,567"},{"v":18105,"d":"18,105"},{"v":683393,"d":"683,393"},{"v":764132,"d":"764,132"},{"v":90618,"d":"90,618"}]
[null,"Treaty Indian",{"v":82152,"d":"82,152"},{"v":235919,"d":"235,919"},{"v":544477,"d":"544,477"},{"v":695663,"d":"695,663"},{"v":180576,"d":"180,576"}]
[null,"   Total",{"v":93247,"d":"93,247"},{"v":262196,"d":"262,196"},{"v":1240336,"d":"1,240,336"},{"v":1578344,"d":"1,578,344"},{"v":274288,"d":"274,288"}]
[]
["2004c/","Non-Indian",{"v":5042,"d":"5,042"},{"v":39481,"d":"39,481"},4,{"v":1174295,"d":"1,174,295"},{"v":81031,"d":"81,031"}]
[null,"Treaty Indian",{"v":96261,"d":"96,261"},{"v":533188,"d":"533,188"},698,{"v":1057299,"d":"1,057,299"},{"v":140074,"d":"140,074"},null,"`"]
[null,"   Total",{"$f":"C135+C136","v":{"v":101303,"d":"101,303"}},{"$f":"D135+D136","v":{"v":572669,"d":"572,669"}},{"$f":"E135+E136","v":702},{"$f":"F135+F136","v":{"v":2231594,"d":"2,231,594"}},{"$f":"G135+G136","v":{"v":221105,"d":"221,105"}}]
[]
["2005c/","Non-Indian",{"v":6236,"d":"6,236"},{"v":19694,"d":"19,694"},{"v":144567,"d":"144,567"},{"v":383127,"d":"383,127"},{"v":65931,"d":"65,931"}]
[null,"Treaty Indian",{"v":93776,"d":"93,776"},{"v":287037,"d":"287,037"},{"v":206435,"d":"206,435"},{"v":354831,"d":"354,831"},{"v":144445,"d":"144,445"}]
[null,"   Total",{"$f":"SUM(C139:C140)","v":{"v":100012,"d":"100,012"}},{"$f":"SUM(D139:D140)","v":{"v":306731,"d":"306,731"}},{"$f":"SUM(E139:E140)","v":{"v":351002,"d":"351,002"}},{"$f":"SUM(F139:F140)","v":{"v":737958,"d":"737,958"}},{"$f":"SUM(G139:G140)","v":{"v":210376,"d":"210,376"}}]
[]
["2006c/","Non-Indian",{"v":13298,"d":"13,298"},{"v":9863,"d":"9,863"},6,{"v":877278,"d":"877,278"},{"v":223908,"d":"223,908"}]
[null,"Treaty Indian",{"v":104956,"d":"104,956"},{"v":259779,"d":"259,779"},411,{"v":790603,"d":"790,603"},{"v":548661,"d":"548,661"}]
[null,"   Total",{"$f":"SUM(C143:C144)","v":{"v":118254,"d":"118,254"}},{"$f":"SUM(D143:D144)","v":{"v":269642,"d":"269,642"}},{"$f":"SUM(E143:E144)","v":417},{"$f":"SUM(F143:F144)","v":{"v":1667881,"d":"1,667,881"}},{"$f":"SUM(G143:G144)","v":{"v":772569,"d":"772,569"}}]
[]
["2007c/","Non-Indian",{"v":6785,"d":"6,785"},{"v":13435,"d":"13,435"},{"v":200687,"d":"200,687"},{"v":680385,"d":"680,385"},{"v":6266,"d":"6,266"}]
[null,"Treaty Indian",{"v":120252,"d":"120,252"},{"v":209137,"d":"209,137"},{"v":301847,"d":"301,847"},{"v":782804,"d":"782,804"},{"v":6327,"d":"6,327"}]
[null,"   Total",{"$f":"SUM(C147:C148)","v":{"v":127037,"d":"127,037"}},{"$f":"SUM(D147:D148)","v":{"v":222572,"d":"222,572"}},{"$f":"SUM(E147:E148)","v":{"v":502534,"d":"502,534"}},{"$f":"SUM(F147:F148)","v":{"v":1463189,"d":"1,463,189"}},{"$f":"SUM(G147:G148)","v":{"v":12593,"d":"12,593"}}]
[]
["2008c/","Non-Indian",{"v":6105,"d":"6,105"},{"v":6389,"d":"6,389"},14,{"v":449258,"d":"449,258"},{"v":16319,"d":"16,319"}]
[null,"Treaty Indian",{"v":103181,"d":"103,181"},{"v":227273,"d":"227,273"},744,{"v":575947,"d":"575,947"},{"v":44865,"d":"44,865"}]
[null,"   Total",{"$f":"SUM(C151:C152)","v":{"v":109286,"d":"109,286"}},{"$f":"SUM(D151:D152)","v":{"v":233662,"d":"233,662"}},{"$f":"SUM(E151:E152)","v":758},{"$f":"SUM(F151:F152)","v":{"v":1025205,"d":"1,025,205"}},{"$f":"SUM(G151:G152)","v":{"v":61184,"d":"61,184"}}]
[]
["2009c/","Non-Indian",{"v":2753,"d":"2,753"},{"v":20091,"d":"20,091"},{"v":2789870,"d":"2,789,870"},{"v":294841,"d":"294,841"},{"v":1605,"d":"1,605"}]
[null,"Treaty Indian",{"v":86786.2,"d":"86,786"},{"v":259528.4,"d":"259,528"},{"v":1948562,"d":"1,948,562"},{"v":354963,"d":"354,963"},{"v":2949,"d":"2,949"}]
[null,"   Total",{"$f":"SUM(C155:C156)","v":{"v":89539.2,"d":"89,539"}},{"$f":"SUM(D155:D156)","v":{"v":279619.4,"d":"279,619"}},{"$f":"SUM(E155:E156)","v":{"v":4738432,"d":"4,738,432"}},{"$f":"SUM(F155:F156)","v":{"v":649804,"d":"649,804"}},{"$f":"SUM(G155:G156)","v":{"v":4554,"d":"4,554"}}]
[]
["2010c/","Non-Indian",{"v":7757,"d":"7,757"},{"v":18331,"d":"18,331"},309,{"v":416239,"d":"416,239"},{"v":749717,"d":"749,717"}]
[null,"Treaty Indian",{"v":87510,"d":"87,510"},{"v":153683,"d":"153,683"},{"v":1759,"d":"1,759"},{"v":545794.6,"d":"545,795"},{"v":1222590,"d":"1,222,590"}]
[null,"   Total",{"$f":"SUM(C159:C160)","v":{"v":95267,"d":"95,267"}},{"$f":"SUM(D159:D160)","v":{"v":172014,"d":"172,014"}},{"$f":"SUM(E159:E160)","v":{"v":2068,"d":"2,068"}},{"$f":"SUM(F159:F160)","v":{"v":962033.6,"d":"962,034"}},{"$f":"SUM(G159:G160)","v":{"v":1972307,"d":"1,972,307"}}]
[]
["2011c/","Non-Indian",{"v":10296,"d":"10,296"},{"v":28849,"d":"28,849"},{"v":2266671,"d":"2,266,671"},{"v":462530,"d":"462,530"},{"v":86888,"d":"86,888"}]
[null,"Treaty Indian",{"v":100798,"d":"100,798"},{"v":223800,"d":"223,800"},{"v":2264445.5,"d":"2,264,446"},{"v":600149,"d":"600,149"},{"v":198299,"d":"198,299"}]
[null,"   Total",{"$f":"SUM(C163:C164)","v":{"v":111094,"d":"111,094"}},{"$f":"SUM(D163:D164)","v":{"v":252649,"d":"252,649"}},{"$f":"SUM(E163:E164)","v":{"v":4531116.5,"d":"4,531,117"}},{"$f":"SUM(F163:F164)","v":{"v":1062679,"d":"1,062,679"}},{"$f":"SUM(G163:G164)","v":{"v":285187,"d":"285,187"}}]
[]
["2012c/","Non-Indian",{"v":9047,"d":"9,047"},{"v":35589,"d":"35,589"},417,{"v":572399,"d":"572,399"},{"v":41048,"d":"41,048"}]
[null,"Treaty Indian",{"v":113691,"d":"113,691"},{"v":355839,"d":"355,839"},{"v":1233,"d":"1,233"},{"v":577610,"d":"577,610"},{"v":89865,"d":"89,865"}]
[null,"   Total",{"$f":"SUM(C167:C168)","v":{"v":122738,"d":"122,738"}},{"$f":"SUM(D167:D168)","v":{"v":391428,"d":"391,428"}},{"$f":"SUM(E167:E168)","v":{"v":1650,"d":"1,650"}},{"$f":"SUM(F167:F168)","v":{"v":1150009,"d":"1,150,009"}},{"$f":"SUM(G167:G168)","v":{"v":130913,"d":"130,913"}}]
[]
["2013c/","Non-Indian",{"v":9189,"d":"9,189"},{"v":29577,"d":"29,577"},{"v":3193644,"d":"3,193,644"},{"v":909250,"d":"909,250"},{"v":6999,"d":"6,999"}]
[null,"Treaty Indian",{"v":104479,"d":"104,479"},{"v":298503,"d":"298,503"},{"v":2703304,"d":"2,703,304"},{"v":818691,"d":"818,691"},{"v":31063,"d":"31,063"}]
[null,"   Total",{"$f":"SUM(C171:C172)","v":{"v":113668,"d":"113,668"}},{"$f":"SUM(D171:D172)","v":{"v":328080,"d":"328,080"}},{"$f":"SUM(E171:E172)","v":{"v":5896948,"d":"5,896,948"}},{"$f":"SUM(F171:F172)","v":{"v":1727941,"d":"1,727,941"}},{"$f":"SUM(G171:G172)","v":{"v":38062,"d":"38,062"}}]
[]
["2014c/","Non-Indian",{"v":4343,"d":"4,343"},{"v":11815,"d":"11,815"},29,{"v":543192,"d":"543,192"},{"v":234200,"d":"234,200"}]
[null,"Treaty Indian",{"v":59469,"d":"59,469"},{"v":191166,"d":"191,166"},703,{"v":626919,"d":"626,919"},{"v":497829,"d":"497,829"}]
[null,"   Total",{"$f":"SUM(C175:C176)","v":{"v":63812,"d":"63,812"}},{"$f":"SUM(D175:D176)","v":{"v":202981,"d":"202,981"}},{"$f":"SUM(E175:E176)","v":732},{"$f":"SUM(F175:F176)","v":{"v":1170111,"d":"1,170,111"}},{"$f":"SUM(G175:G176)","v":{"v":732029,"d":"732,029"}}]
[]
["2015c/","Non-Indian",{"v":3367,"d":"3,367"},{"v":4777,"d":"4,777"},{"v":398670,"d":"398,670"},{"v":559632,"d":"559,632"},{"v":16906,"d":"16,906"}]
[null,"Treaty Indian",{"v":65758,"d":"65,758"},{"v":47118,"d":"47,118"},{"v":580679,"d":"580,679"},{"v":618446,"d":"618,446"},{"v":56055,"d":"56,055"}]
[null,"   Total",{"v":69125,"d":"69,125"},{"v":51895,"d":"51,895"},{"v":979349,"d":"979,349"},{"v":1178078,"d":"1,178,078"},{"v":72961,"d":"72,961"}]
[]
["2016c/","Non-Indian",{"v":6604,"d":"6,604"},{"v":14328,"d":"14,328"},0,{"v":444586,"d":"444,586"},0]
[null,"Treaty Indian",{"v":73152,"d":"73,152"},{"v":259957,"d":"259,957"},88,{"v":552012,"d":"552,012"},{"v":21224,"d":"21,224"}]
[null,"   Total",{"$f":"SUM(C183:C184)","v":{"v":79756,"d":"79,756"}},{"$f":"SUM(D183:D184)","v":{"v":274285,"d":"274,285"}},{"$f":"SUM(E183:E184)","v":88},{"$f":"SUM(F183:F184)","v":{"v":996598,"d":"996,598"}},{"$f":"SUM(G183:G184)","v":{"v":21224,"d":"21,224"}}]
[]
["2017c/","Non-Indian",{"v":12065,"d":"12,065"},{"v":11763,"d":"11,763"},{"v":17852,"d":"17,852"},{"v":713535,"d":"713,535"},"-"]
[null,"Treaty Indian",{"v":136424,"d":"136,424"},{"v":191249,"d":"191,249"},{"v":124347,"d":"124,347"},{"v":702227,"d":"702,227"},{"v":18957,"d":"18,957"}]
[null,"   Total",{"$f":"SUM(C187:C188)","v":{"v":148489,"d":"148,489"}},{"$f":"SUM(D187:D188)","v":{"v":203012,"d":"203,012"}},{"$f":"SUM(E187:E188)","v":{"v":142199,"d":"142,199"}},{"$f":"SUM(F187:F188)","v":{"v":1415762,"d":"1,415,762"}},{"$f":"SUM(G187:G188)","v":{"v":18957,"d":"18,957"}}]
[]
["2018c/","Non-Indian",{"v":13700,"d":"13,700"},{"v":9647,"d":"9,647"},3,{"v":388943,"d":"388,943"},{"v":397671,"d":"397,671"}]
[null,"Treaty Indian",{"v":105929,"d":"105,929"},{"v":241830,"d":"241,830"},108,{"v":463317,"d":"463,317"},{"v":618943,"d":"618,943"}]
[null,"   Total",{"$f":"SUM(C191:C192)","v":{"v":119629,"d":"119,629"}},{"$f":"SUM(D191:D192)","v":{"v":251477,"d":"251,477"}},{"$f":"SUM(E191:E192)","v":111},{"$f":"SUM(F191:F192)","v":{"v":852260,"d":"852,260"}},{"$f":"SUM(G191:G192)","v":{"v":1016614,"d":"1,016,614"}}]
[]
["2019c/","Non-Indian",{"v":9509,"d":"9,509"},{"v":2980,"d":"2,980"},{"v":92790,"d":"92,790"},{"v":135230,"d":"135,230"},"-"]
[null,"Treaty Indian",{"v":106254,"d":"106,254"},{"v":90243,"d":"90,243"},{"v":240628,"d":"240,628"},{"v":149344,"d":"149,344"},{"v":9468,"d":"9,468"}]
[null,"   Total",{"$f":"SUM(C195:C196)","v":{"v":115763,"d":"115,763"}},{"$f":"SUM(D195:D196)","v":{"v":93223,"d":"93,223"}},{"$f":"SUM(E195:E196)","v":{"v":333418,"d":"333,418"}},{"$f":"SUM(F195:F196)","v":{"v":284574,"d":"284,574"}},{"$f":"SUM(G195:G196)","v":{"v":9468,"d":"9,468"}}]
[]
["2020c/","Non-Indian",{"v":9286,"d":"9,286"},{"v":6652,"d":"6,652"},0,{"v":103069,"d":"103,069"},"-"]
[null,"Treaty Indian",{"v":46015,"d":"46,015"},{"v":196788,"d":"196,788"},5,{"v":172171,"d":"172,171"},{"v":3369,"d":"3,369"}]
[null,"   Total",{"$f":"SUM(C199:C200)","v":{"v":55301,"d":"55,301"}},{"$f":"SUM(D199:D200)","v":{"v":203440,"d":"203,440"}},{"$f":"SUM(E199:E200)","v":5},{"$f":"SUM(F199:F200)","v":{"v":275240,"d":"275,240"}},{"$f":"SUM(G199:G200)","v":{"v":3369,"d":"3,369"}}]
[]
["2021c/","Non-Indian",{"v":7316,"d":"7,316"},{"v":11964,"d":"11,964"},{"v":155754,"d":"155,754"},{"v":85109,"d":"85,109"},"-"]
[null,"Treaty Indian",{"v":79645,"d":"79,645"},{"v":304077,"d":"304,077"},{"v":275029,"d":"275,029"},{"v":248665,"d":"248,665"},{"v":6242,"d":"6,242"}]
[null,"   Total",{"$f":"SUM(C203:C204)","v":{"v":86961,"d":"86,961"}},{"$f":"SUM(D203:D204)","v":{"v":316041,"d":"316,041"}},{"$f":"SUM(E203:E204)","v":{"v":430783,"d":"430,783"}},{"$f":"SUM(F203:F204)","v":{"v":333774,"d":"333,774"}},{"$f":"SUM(G203:G204)","v":{"v":6242,"d":"6,242"}}]
[]
["2022c/","Non-Indian",{"v":17757,"d":"17,757"},{"v":17192,"d":"17,192"},0,{"v":476477,"d":"476,477"},{"v":75537,"d":"75,537"}]
[null,"Treaty Indian",{"v":89810,"d":"89,810"},{"v":221562,"d":"221,562"},692,{"v":635156,"d":"635,156"},{"v":295677,"d":"295,677"}]
[null,"   Total",{"$f":"SUM(C207:C208)","v":{"v":107567,"d":"107,567"}},{"$f":"SUM(D207:D208)","v":{"v":238754,"d":"238,754"}},{"$f":"SUM(E207:E208)","v":692},{"$f":"SUM(F207:F208)","v":{"v":1111633,"d":"1,111,633"}},{"$f":"SUM(G207:G208)","v":{"v":371214,"d":"371,214"}}]
[]
["2023c/","Non-Indian",{"v":16123,"d":"16,123"},{"v":10247,"d":"10,247"},{"v":229744,"d":"229,744"},{"v":65498,"d":"65,498"},3]
[null,"Treaty Indian",{"v":88398,"d":"88,398"},{"v":180406,"d":"180,406"},{"v":470996,"d":"470,996"},{"v":155143,"d":"155,143"},{"v":19551,"d":"19,551"}]
[null,"   Total",{"$f":"SUM(C211:C212)","v":{"v":104521,"d":"104,521"}},{"$f":"SUM(D211:D212)","v":{"v":190653,"d":"190,653"}},{"$f":"SUM(E211:E212)","v":{"v":700740,"d":"700,740"}},{"$f":"SUM(F211:F212)","v":{"v":220641,"d":"220,641"}},{"$f":"SUM(G211:G212)","v":{"v":19554,"d":"19,554"}}]
[]
["2024c/","Non-Indian",{"v":13262,"d":"13,262"},{"v":16085,"d":"16,085"},0,{"v":884163,"d":"884,163"},3]
[null,"Treaty Indian",{"v":67815,"d":"67,815"},{"v":412483,"d":"412,483"},592,{"v":815156,"d":"815,156"},{"v":18326,"d":"18,326"}]
[null,"   Total",{"$f":"SUM(C215:C216)","v":{"v":81077,"d":"81,077"}},{"$f":"SUM(D215:D216)","v":{"v":428568,"d":"428,568"}},{"$f":"SUM(E215:E216)","v":592},{"$f":"SUM(F215:F216)","v":{"v":1699319,"d":"1,699,319"}},{"$f":"SUM(G215:G216)","v":{"v":18329,"d":"18,329"}}]
["a/  Data do not reflect treaty Indian allocations.  Includes U.S. and Canadian-origin salmon and fish caught in test fisheries. Includes tribal commercial, cermonial, subsistence and taken home catch. Data derived from TOCAS.  "]
["b/  Odd-year averages for pink salmon."]
["c/  Preliminary."]
{"$rows_empty":19}
["TABLE B-39.  Puget Sound commercial net and troll fishery salmon catches in numbers of fish.a/  (Page 1 of 2)"]
["Year or Average","  Fishery","Chinook","Coho","Pinkb/","Chum","Sockeye"]
["1986-1990","Non-Indian",{"$f":"AVERAGE(C63,C67,C71,C75,C79)","v":{"v":57549.8,"d":"57,550"}},{"v":470494.2,"d":"470,494"},{"v":509444.8,"d":"509,445"},{"v":540842.8,"d":"540,843"},{"v":964689.8,"d":"964,690"}]
[null,"Treaty Indian",{"v":176966.4,"d":"176,966"},{"v":812712,"d":"812,712"},{"v":590138.2,"d":"590,138"},{"v":662215.2,"d":"662,215"},{"v":1028360.8,"d":"1,028,361"}]
[null,"   Total",{"v":234516.2,"d":"234,516"},{"v":1283206.2,"d":"1,283,206"},{"v":1099583,"d":"1,099,583"},{"v":1203058,"d":"1,203,058"},{"v":1993050.6,"d":"1,993,051"}]
[]
["1991-1995","Non-Indian",{"$f":"AVERAGE(C99,C95,C91,C87,C83)","v":{"v":17519.4,"d":"17,519"}},{"v":74371.2,"d":"74,371"},{"v":784067.2,"d":"784,067"},{"v":523395.8,"d":"523,396"},{"v":735834.4,"d":"735,834"}]
[null,"Treaty Indian",{"v":82513.4,"d":"82,513"},{"v":316783.8,"d":"316,784"},{"v":832947.6,"d":"832,948"},{"v":607028.4,"d":"607,028"},{"v":741057.8,"d":"741,058"}]
[null,"   Total",{"v":100032.8,"d":"100,033"},{"v":391155,"d":"391,155"},{"v":1617014.8,"d":"1,617,015"},{"v":1130424.2,"d":"1,130,424"},{"v":1476892.2,"d":"1,476,892"}]
[]
["1996-2000","Non-Indian",{"$f":"AVERAGE(C119,C115,C111,C107,C103)","v":{"v":12869.6,"d":"12,870"}},{"v":15204.4,"d":"15,204"},{"v":174163.4,"d":"174,163"},{"v":307799.4,"d":"307,799"},{"v":240087.8,"d":"240,088"}]
[null,"Treaty Indian",{"v":64441.8,"d":"64,442"},{"v":184866.2,"d":"184,866"},{"v":211945.6,"d":"211,946"},{"v":210139.6,"d":"210,140"},{"v":321849,"d":"321,849"}]
[null,"   Total",{"v":77311.4,"d":"77,311"},{"v":200070.6,"d":"200,071"},{"v":386109,"d":"386,109"},{"v":517939,"d":"517,939"},{"v":561936.8,"d":"561,937"}]
[]
["2001-2005","Non-Indian",{"$f":"AVERAGE(C123,C127,C131,C135,C139)","v":{"v":11100.4,"d":"11,100"}},{"v":26007.6,"d":"26,008"},{"v":258210.8,"d":"258,211"},{"v":852709.6,"d":"852,710"},{"v":92829.6,"d":"92,830"}]
[null,"Treaty Indian",{"v":94113.4,"d":"94,113"},{"v":340391.2,"d":"340,391"},{"v":214297.2,"d":"214,297"},{"v":725348.8,"d":"725,349"},{"v":194045.6,"d":"194,046"}]
[null,"   Total",{"v":107667,"d":"107,667"},{"v":369373,"d":"369,373"},{"v":475002,"d":"475,002"},{"v":1620081.2,"d":"1,620,081"},{"v":288483.8,"d":"288,484"}]
[]
["2006-2010c/","Non-Indian",{"$f":"AVERAGE(C143,C147,C151,C155,C159)","v":{"v":7339.6,"d":"7,340"}},{"$f":"AVERAGE(D143,D147,D151,D155,D159)","v":{"v":13621.8,"d":"13,622"}},{"v":598177.2,"d":"598,177"},{"v":543600.2,"d":"543,600"},{"v":199563,"d":"199,563"}]
[null,"Treaty Indian",{"$f":"AVERAGE(C144,C148,C152,C156,C160)","v":{"v":100537.04000000001,"d":"100,537"}},{"$f":"AVERAGE(D144,D148,D152,D156,D160)","v":{"v":221880.08,"d":"221,880"}},{"v":450664.6,"d":"450,665"},{"v":610022.3200000001,"d":"610,022"},{"v":365078.4,"d":"365,078"}]
[null,"   Total",{"$f":"AVERAGE(C145,C149,C153,C157,C161)","v":{"v":107876.63999999998,"d":"107,877"}},{"v":235501.87999999998,"d":"235,502"},{"v":1048841.8,"d":"1,048,842"},{"v":1153622.52,"d":"1,153,623"},{"v":564641.4,"d":"564,641"}]
[]
["2011-2015c/","Non-Indian",{"$f":"AVERAGE(C163,C167,C171,C175,C179)","v":{"v":7248.4,"d":"7,248"}},{"$f":"AVERAGE(D163,D167,D171,D175,D179)","v":{"v":22121.4,"d":"22,121"}},{"v":1171886.2,"d":"1,171,886"},{"v":609400.6,"d":"609,401"},{"v":77208.2,"d":"77,208"}]
[null,"Treaty Indian",{"$f":"AVERAGE(C164,C168,C172,C176,C180)","v":{"v":88839,"d":"88,839"}},{"$f":"AVERAGE(D164,D168,D172,D176,D180)","v":{"v":223285.2,"d":"223,285"}},{"v":1110072.9,"d":"1,110,073"},{"v":648363,"d":"648,363"},{"v":174622.2,"d":"174,622"}]
[null,"   Total",{"$f":"SUM(C262:C263)","v":{"v":96087.4,"d":"96,087"}},{"$f":"SUM(D262:D263)","v":{"v":245406.6,"d":"245,407"}},{"$f":"SUM(E262:E263)","v":{"v":2281959.0999999996,"d":"2,281,959"}},{"$f":"SUM(F262:F263)","v":{"v":1257763.6,"d":"1,257,764"}},{"$f":"SUM(G262:G263)","v":{"v":251830.40000000002,"d":"251,830"}}]
[]
["2016c/","Non-Indian",{"$f":"C183","v":{"v":6604,"d":"6,604"}},{"v":14328,"d":"14,328"},0,{"v":444586,"d":"444,586"},0]
[null,"Treaty Indian",{"v":73152,"d":"73,152"},{"v":259957,"d":"259,957"},88,{"v":552012,"d":"552,012"},{"v":21224,"d":"21,224"}]
[null,"   Total",{"v":79756,"d":"79,756"},{"v":274285,"d":"274,285"},88,{"v":996598,"d":"996,598"},{"v":21224,"d":"21,224"}]
[]
["2017c/","Non-Indian",{"$f":"C187","v":{"v":12065,"d":"12,065"}},{"v":11763,"d":"11,763"},{"v":17852,"d":"17,852"},{"v":713535,"d":"713,535"},"-"]
[null,"Treaty Indian",{"v":136424,"d":"136,424"},{"v":191249,"d":"191,249"},{"v":124347,"d":"124,347"},{"v":702227,"d":"702,227"},{"v":18957,"d":"18,957"}]
[null,"   Total",{"v":148489,"d":"148,489"},{"v":203012,"d":"203,012"},{"v":142199,"d":"142,199"},{"v":1415762,"d":"1,415,762"},{"v":18957,"d":"18,957"}]
[]
["2018c/","Non-Indian",{"$f":"C191","v":{"v":13700,"d":"13,700"}},{"v":9647,"d":"9,647"},3,{"v":388943,"d":"388,943"},{"v":397671,"d":"397,671"}]
[null,"Treaty Indian",{"v":105929,"d":"105,929"},{"v":241830,"d":"241,830"},108,{"v":463317,"d":"463,317"},{"v":618943,"d":"618,943"}]
[null,"   Total",{"v":119629,"d":"119,629"},{"v":251477,"d":"251,477"},111,{"v":852260,"d":"852,260"},{"v":1016614,"d":"1,016,614"}]
[]
["TABLE B-39.  Puget Sound commercial net and troll fishery salmon catches in numbers of fish.a/  (Page 2 of 2)"]
["Year or Average","  Fishery","Chinook","Coho","Pinkb/","Chum","Sockeye"]
["2019c/","Non-Indian",{"$f":"C195","v":{"v":9509,"d":"9,509"}},{"v":2980,"d":"2,980"},{"v":92790,"d":"92,790"},{"v":135230,"d":"135,230"},"-"]
[null,"Treaty Indian",{"v":106254,"d":"106,254"},{"v":90243,"d":"90,243"},{"v":240628,"d":"240,628"},{"v":149344,"d":"149,344"},{"v":9468,"d":"9,468"}]
[null,"   Total",{"v":115763,"d":"115,763"},{"v":93223,"d":"93,223"},{"v":333418,"d":"333,418"},{"v":284574,"d":"284,574"},{"v":9468,"d":"9,468"}]
[]
["2020c/","Non-Indian",{"$f":"C199","v":{"v":9286,"d":"9,286"}},{"$f":"D199","v":{"v":6652,"d":"6,652"}},0,{"v":103069,"d":"103,069"},"-"]
[null,"Treaty Indian",{"$f":"C200","v":{"v":46015,"d":"46,015"}},{"v":196788,"d":"196,788"},5,{"v":172171,"d":"172,171"},{"v":3369,"d":"3,369"}]
[null,"   Total",{"$f":"C201","v":{"v":55301,"d":"55,301"}},{"v":203440,"d":"203,440"},5,{"v":275240,"d":"275,240"},{"v":3369,"d":"3,369"}]
[]
["2021c/","Non-Indian",{"$f":"C203","v":{"v":7316,"d":"7,316"}},{"$f":"D203","v":{"v":11964,"d":"11,964"}},{"v":155754,"d":"155,754"},{"v":85109,"d":"85,109"},"-"]
[null,"Treaty Indian",{"$f":"C204","v":{"v":79645,"d":"79,645"}},{"v":304077,"d":"304,077"},{"v":275029,"d":"275,029"},{"v":248665,"d":"248,665"},{"v":6242,"d":"6,242"}]
[null,"   Total",{"$f":"C205","v":{"v":86961,"d":"86,961"}},{"v":316041,"d":"316,041"},{"v":430783,"d":"430,783"},{"v":333774,"d":"333,774"},{"v":6242,"d":"6,242"}]
[]
["2022c/","Non-Indian",{"$f":"C207","v":{"v":17757,"d":"17,757"}},{"$f":"D207","v":{"v":17192,"d":"17,192"}},0,{"v":476477,"d":"476,477"},{"v":75537,"d":"75,537"}]
[null,"Treaty Indian",{"$f":"C208","v":{"v":89810,"d":"89,810"}},{"v":221562,"d":"221,562"},692,{"v":635156,"d":"635,156"},{"v":295677,"d":"295,677"}]
[null,"   Total",{"$f":"C209","v":{"v":107567,"d":"107,567"}},{"v":238754,"d":"238,754"},692,{"v":1111633,"d":"1,111,633"},{"v":371214,"d":"371,214"}]
[]
["2023c/","Non-Indian",{"$f":"C211","v":{"v":16123,"d":"16,123"}},{"$f":"D211","v":{"v":10247,"d":"10,247"}},{"v":229744,"d":"229,744"},{"v":65498,"d":"65,498"},{"$f":"G211","v":3}]
[null,"Treaty Indian",{"$f":"C212","v":{"v":88398,"d":"88,398"}},{"v":180406,"d":"180,406"},{"v":470996,"d":"470,996"},{"v":155143,"d":"155,143"},{"v":19551,"d":"19,551"}]
[null,"   Total",{"$f":"C213","v":{"v":104521,"d":"104,521"}},{"v":190653,"d":"190,653"},{"v":700740,"d":"700,740"},{"v":220641,"d":"220,641"},{"v":19554,"d":"19,554"}]
[]
["2024c/","Non-Indian",{"$f":"C215","v":{"v":13262,"d":"13,262"}},{"$f":"D215","v":{"v":16085,"d":"16,085"}},0,{"v":884163,"d":"884,163"},{"$f":"G215","v":3}]
[null,"Treaty Indian",{"$f":"C216","v":{"v":67815,"d":"67,815"}},{"v":412483,"d":"412,483"},592,{"v":815156,"d":"815,156"},{"v":18326,"d":"18,326"}]
[null,"   Total",{"$f":"C217","v":{"v":81077,"d":"81,077"}},{"v":428568,"d":"428,568"},592,{"v":1699319,"d":"1,699,319"},{"v":18329,"d":"18,329"}]
[{"$f":"A218","v":"a/  Data do not reflect treaty Indian allocations.  Includes U.S. and Canadian-origin salmon and fish caught in test fisheries. Includes tribal commercial, cermonial, subsistence and taken home catch. Data derived from TOCAS.  "}]
[{"$f":"A219","v":"b/  Odd-year averages for pink salmon."}]
[{"$f":"A220","v":"c/  Preliminary."}]

{"sheet":"B-40","index":41,"n_rows":96,"n_cols":4,"rows_kept":96,"merged":[[0,0,0,3],[56,0,56,3],[57,0,57,3],[58,0,58,3],[69,0,69,3],[93,0,93,3],[94,0,94,3],[95,0,95,3],[97,0,97,3],[98,0,98,3]]}
["TABLE B-40.  Summary of Puget Sound marine recreational salmon catch estimates in numbers of fish from catch record cards.a/"]
["Year or Average","     Chinook","    Coho","Pinkb/"]
[1971,{"v":153384,"d":"153,384"},{"v":98417,"d":"98,417"},{"v":30568,"d":"30,568"}]
[1972,{"v":189138,"d":"189,138"},{"v":74133,"d":"74,133"},0]
[1973,{"v":196304,"d":"196,304"},{"v":61589,"d":"61,589"},{"v":6577,"d":"6,577"}]
[1974,{"v":255391,"d":"255,391"},{"v":163603,"d":"163,603"},0]
[1975,{"v":334035,"d":"334,035"},{"v":198763,"d":"198,763"},{"v":7420,"d":"7,420"}]
[1976,{"v":307192,"d":"307,192"},{"v":223924,"d":"223,924"},165]
[1977,{"v":196060,"d":"196,060"},{"v":177331,"d":"177,331"},{"v":24434,"d":"24,434"}]
[1978,{"v":228695,"d":"228,695"},{"v":232590,"d":"232,590"},134]
[1979,{"v":285683,"d":"285,683"},{"v":258190,"d":"258,190"},{"v":69623,"d":"69,623"}]
[1980,{"v":251184,"d":"251,184"},{"v":122880,"d":"122,880"},163]
[1981,{"v":164433,"d":"164,433"},{"v":177364,"d":"177,364"},{"v":25464,"d":"25,464"}]
[1982,{"v":120157,"d":"120,157"},{"v":209691,"d":"209,691"},17]
[1983,{"v":194467,"d":"194,467"},{"v":274110,"d":"274,110"},{"v":16539,"d":"16,539"}]
[1984,{"v":173817,"d":"173,817"},{"v":141661,"d":"141,661"},18]
[1985,{"v":128042,"d":"128,042"},{"v":180336,"d":"180,336"},{"v":2728,"d":"2,728"}]
[1986,{"v":153426,"d":"153,426"},{"v":253472,"d":"253,472"},13]
[1987,{"v":109374,"d":"109,374"},{"v":260109,"d":"260,109"},{"v":32969,"d":"32,969"}]
[1988,{"v":115300,"d":"115,300"},{"v":204038,"d":"204,038"},40]
[1989,{"v":135696,"d":"135,696"},{"v":220639,"d":"220,639"},{"v":48798,"d":"48,798"}]
[1990,{"v":125504,"d":"125,504"},{"v":317179,"d":"317,179"},39]
[1991,{"v":90566,"d":"90,566"},{"v":252361,"d":"252,361"},{"v":44946,"d":"44,946"}]
[1992,{"v":97733,"d":"97,733"},{"v":189372,"d":"189,372"},384]
[1993,{"v":80166,"d":"80,166"},{"v":135974,"d":"135,974"},{"v":67575,"d":"67,575"}]
[1994,{"v":48286,"d":"48,286"},{"v":31801,"d":"31,801"},5]
[1995,{"v":69799,"d":"69,799"},{"v":78675,"d":"78,675"},{"v":100570,"d":"100,570"}]
[1996,{"v":72069,"d":"72,069"},{"v":85139,"d":"85,139"},50]
[1997,{"v":60425,"d":"60,425"},{"v":137571,"d":"137,571"},{"v":35197,"d":"35,197"}]
[1998,{"v":26114,"d":"26,114"},{"v":89520,"d":"89,520"},201]
[1999,{"v":28739,"d":"28,739"},{"v":22055,"d":"22,055"},{"v":23780,"d":"23,780"}]
[2000,{"v":23679,"d":"23,679"},{"v":74934,"d":"74,934"},17]
[2001,{"v":44422,"d":"44,422"},{"v":193454,"d":"193,454"},{"v":117367,"d":"117,367"}]
[2002,{"v":30743,"d":"30,743"},{"v":66576,"d":"66,576"},31]
[2003,{"v":30349,"d":"30,349"},{"v":92114,"d":"92,114"},{"v":143248,"d":"143,248"}]
[2004,{"v":26727,"d":"26,727"},{"v":83708,"d":"83,708"},138]
[2005,{"v":22879,"d":"22,879"},{"v":58309,"d":"58,309"},{"v":68546,"d":"68,546"}]
[2006,{"v":28582,"d":"28,582"},{"v":26688,"d":"26,688"},19]
[2007,{"v":48726,"d":"48,726"},{"v":65306,"d":"65,306"},{"v":93251,"d":"93,251"}]
[2008,{"v":32422,"d":"32,422"},{"v":21400,"d":"21,400"},4]
[2009,{"v":31305,"d":"31,305"},{"v":75719,"d":"75,719"},{"v":156901,"d":"156,901"}]
[2010,{"v":28306,"d":"28,306"},{"v":20290,"d":"20,290"},27]
[2011,{"v":27507,"d":"27,507"},{"v":56775,"d":"56,775"},{"v":142781,"d":"142,781"}]
[2012,{"v":41632,"d":"41,632"},{"v":169884,"d":"169,884"},5]
[2013,{"v":41036,"d":"41,036"},{"v":115934,"d":"115,934"},{"v":134539,"d":"134,539"}]
[2014,{"v":32358,"d":"32,358"},{"v":124185,"d":"124,185"},52]
[2015,{"v":29168,"d":"29,168"},{"v":142669,"d":"142,669"},{"v":198931,"d":"198,931"}]
[2016,{"v":30195,"d":"30,195"},{"v":4983,"d":"4,983"},10]
[2017,{"v":44040,"d":"44,040"},{"v":36240,"d":"36,240"},{"v":11555,"d":"11,555"}]
[2018,{"v":51518,"d":"51,518"},{"v":73069,"d":"73,069"},14]
["2019c/",{"v":38854,"d":"38,854"},{"v":62450,"d":"62,450"},{"v":53338,"d":"53,338"}]
["2020c/",{"v":19543,"d":"19,543"},{"v":97412,"d":"97,412"},25]
["2021c/",{"v":34599,"d":"34,599"},{"v":95753,"d":"95,753"},{"v":79590,"d":"79,590"}]
["2022c/",{"v":47774,"d":"47,774"},{"v":98917,"d":"98,917"},53]
["2023c/",{"v":32554,"d":"32,554"},{"v":106770,"d":"106,770"},{"v":166134,"d":"166,134"}]
[2024,"NA","NA","NA"]
["a/  WDFW Statistical Areas 5 through 13, which include the Strait of Juan de Fuca, San Juan Islands, and inner Puget Sound. 1981-1987:  Adjusted all Puget Sound and freshwater estimates by 0.833, due to previous estimates being 20% too high.  1988:  Area 5, no adjustment.  Areas 6-13 adjusted by 0.633, due to estimates being 58% too high.  1989-Present:  Area 5, no adjustment.  Areas 6-13 adjusted by 0.685, due to estimates being 46% too high.  1991, 1992, and 1993 catch record card estimates adjusted for results of 1987-1990 WDFW/tribal sports emphasis study."]
["b/  Odd-year averages for pink salmon."]
["c/   Preliminary."]
{"$rows_empty":10}
["TABLE B-40.  Summary of Puget Sound marine recreational salmon catch estimates in numbers of fish from catch record cards.a/  "]
["Year or Average","     Chinook","    Coho","Pinkb/"]
["1971-1975",{"$f":"AVERAGE(B3:B7)","v":{"v":225650.4,"d":"225,650"}},{"$f":"AVERAGE(C3:C7)","v":{"v":119301,"d":"119,301"}},{"$f":"AVERAGE(D3,D5,D7)","v":{"v":14855,"d":"14,855"}}]
["1976-1980",{"$f":"AVERAGE(B8:B12)","v":{"v":253762.8,"d":"253,763"}},{"$f":"AVERAGE(C8:C12)","v":{"v":202983,"d":"202,983"}},{"$f":"AVERAGE(D9,D11)","v":{"v":47028.5,"d":"47,029"}}]
["1981-1985",{"$f":"AVERAGE(B13:B17)","v":{"v":156183.2,"d":"156,183"}},{"$f":"AVERAGE(C13:C17)","v":{"v":196632.4,"d":"196,632"}},{"$f":"AVERAGE(D13,D15,D17)","v":{"v":14910.333333333334,"d":"14,910"}}]
["1986-1990",{"$f":"AVERAGE(B18:B22)","v":{"v":127860,"d":"127,860"}},{"$f":"AVERAGE(C18:C22)","v":{"v":251087.4,"d":"251,087"}},{"$f":"AVERAGE(D19,D21)","v":{"v":40883.5,"d":"40,884"}}]
["1991-1995",{"$f":"AVERAGE(B23:B27)","v":{"v":77310,"d":"77,310"}},{"$f":"AVERAGE(C23:C27)","v":{"v":137636.6,"d":"137,637"}},{"$f":"AVERAGE(D23,D25,D27)","v":{"v":71030.33333333333,"d":"71,030"}}]
["1996-2000",{"$f":"AVERAGE(B28:B32)","v":{"v":42205.2,"d":"42,205"}},{"$f":"AVERAGE(C28:C32)","v":{"v":81843.8,"d":"81,844"}},{"v":11849,"d":"11,849"}]
["2001-2005",{"$f":"AVERAGE(B33:B37)","v":{"v":31024,"d":"31,024"}},{"$f":"AVERAGE(C33:C37)","v":{"v":98832.2,"d":"98,832"}},{"v":65866,"d":"65,866"}]
["2006-2010",{"$f":"AVERAGE(B38:B42)","v":{"v":33868.2,"d":"33,868"}},{"$f":"AVERAGE(C38:C42)","v":{"v":41880.6,"d":"41,881"}},{"v":50040.4,"d":"50,040"}]
[2011,{"$f":"B43","v":{"v":27507,"d":"27,507"}},{"v":56775,"d":"56,775"},{"v":142781,"d":"142,781"}]
[2012,{"v":41632,"d":"41,632"},{"v":169884,"d":"169,884"},5]
[2013,{"v":41036,"d":"41,036"},{"v":115934,"d":"115,934"},{"v":134539,"d":"134,539"}]
[2014,{"v":32358,"d":"32,358"},{"v":124185,"d":"124,185"},52]
[2015,{"v":29168,"d":"29,168"},{"v":142669,"d":"142,669"},{"v":198931,"d":"198,931"}]
[2016,{"v":30195,"d":"30,195"},{"v":4983,"d":"4,983"},10]
[2017,{"v":44040,"d":"44,040"},{"v":36240,"d":"36,240"},{"v":11555,"d":"11,555"}]
[2018,{"$f":"B50","v":{"v":51518,"d":"51,518"}},{"v":73069,"d":"73,069"},14]
["2019c/",{"$f":"B51","v":{"v":38854,"d":"38,854"}},{"v":62450,"d":"62,450"},{"v":53338,"d":"53,338"}]
["2020c/",{"$f":"B52","v":{"v":19543,"d":"19,543"}},{"v":97412,"d":"97,412"},25]
["2022c/",{"v":34599,"d":"34,599"},{"v":95753,"d":"95,753"},{"v":79590,"d":"79,590"}]
["2021c/",{"v":47774,"d":"47,774"},{"v":98917,"d":"98,917"},53]
[2023,{"$f":"B55","v":{"v":32554,"d":"32,554"}},{"v":106770,"d":"106,770"},{"v":166134,"d":"166,134"}]
[2024,"NA","NA","NA"]
[{"$f":"A57","v":"a/  WDFW Statistical Areas 5 through 13, which include the Strait of Juan de Fuca, San Juan Islands, and inner Puget Sound. 1981-1987:  Adjusted all Puget Sound and freshwater estimates by 0.833, due to previous estimates being 20% too high.  1988:  Area 5, no adjustment.  Areas 6-13 adjusted by 0.633, due to estimates being 58% too high.  1989-Present:  Area 5, no adjustment.  Areas 6-13 adjusted by 0.685, due to estimates being 46% too high.  1991, 1992, and 1993 catch record card estimates adjusted for results of 1987-1990 WDFW/tribal sports emphasis study."}]
[{"$f":"A58","v":"b/  Odd-year averages for pink salmon."}]
["c/   Preliminary."]

{"sheet":"B-41","index":42,"n_rows":430,"n_cols":13,"rows_kept":430,"merged":[[0,0,0,11],[1,0,2,0],[1,1,1,3],[1,5,1,7],[1,9,1,11],[3,0,3,11],[50,0,50,11],[97,0,97,11],[144,0,144,11],[191,0,191,11],[238,0,238,11],[284,0,284,11],[285,0,285,11],[286,0,287,11],[288,0,288,11],[289,0,289,11],[290,0,290,11],[291,0,291,11],[297,0,297,11],[298,0,299,0],[298,1,298,3],[298,5,298,7],[298,9,298,11],[300,0,300,11],[319,0,319,11],[338,0,338,11],[339,0,340,0],[339,1,339,3],[339,5,339,7],[339,9,339,11],[341,0,341,11],[360,0,360,11],[379,0,379,11],[380,0,381,0],[380,1,380,3],[380,5,380,7],[380,9,380,11],[382,0,382,11],[401,0,401,11],[419,0,419,11],[421,0,421,11],[422,0,422,11],[423,0,423,11],[424,0,425,11],[426,0,426,11],[427,0,427,11],[428,0,428,11],[429,0,429,11]]}
["TABLE B-41.  Puget Sound commercial net fishery catches and spawning escapements in numbers of fish for hatchery and natural Puget Sound Chinook stocks.a/"]
["Year or Average","Commercial Net Catches",{"$nulls":3},"Spawning Escapement",{"$nulls":3},"Puget Sound Run Sizec/"]
[null,"Hatchery","Naturalb/","Total",null,"Hatchery","Naturalb/","Total",null,"Hatchery","Naturalb/","Total"]
["Strait of Juan de Fuca"]
[1981,{"v":42.121484445975796,"d":"42"},{"v":118.06040435138868,"d":"118"},{"v":160.18188879736454,"d":"160"},null,{"v":425.00005999999996,"d":"425"},{"v":884.0001199999998,"d":"884"},{"v":1309.0001799999998,"d":"1,309"},null,{"v":467.12154444597576,"d":"467"},{"v":1002.0605243513885,"d":"1,002"},{"v":1469.1820687973643,"d":"1,469"}]
[1982,{"v":101.98746814814331,"d":"102"},{"v":283.7659671323586,"d":"284"},{"v":385.7534352805019,"d":"386"},null,{"v":926.0000599999998,"d":"926"},{"v":2195.0001199999997,"d":"2,195"},{"v":3121.0001799999995,"d":"3,121"},null,{"v":1027.9875281481432,"d":"1,028"},{"v":2478.7660871323583,"d":"2,479"},{"v":3506.7536152805014,"d":"3,507"}]
[1983,{"v":59.579717220139514,"d":"60"},{"v":128.1106252856473,"d":"128"},{"v":187.6903425057867,"d":"188"},null,{"v":711.0000599999998,"d":"711"},{"v":1604.00012,"d":"1,604"},{"v":2315.00018,"d":"2,315"},null,{"v":770.5797772201394,"d":"771"},{"v":1732.1107452856472,"d":"1,732"},{"v":2502.6905225057867,"d":"2,503"}]
[1984,{"v":60.3939821167271,"d":"60"},{"v":47.04918790762122,"d":"47"},{"v":107.44317002434809,"d":"107"},null,{"v":1380.0000599999998,"d":"1,380"},{"v":1093.00012,"d":"1,093"},{"v":2473.00018,"d":"2,473"},null,{"v":1440.394042116727,"d":"1,440"},{"v":1140.0493079076211,"d":"1,140"},{"v":2580.443350024348,"d":"2,580"}]
[1985,{"v":28.010970364361924,"d":"28"},{"v":66.676932082235,"d":"67"},{"v":94.68790244659658,"d":"95"},null,{"v":613.0000599999998,"d":"613"},{"v":1473.00012,"d":"1,473"},{"v":2086.00018,"d":"2,086"},null,{"v":641.0110303643618,"d":"641"},{"v":1539.677052082235,"d":"1,540"},{"v":2180.6880824465966,"d":"2,181"}]
[1986,{"v":127.4387489350861,"d":"127"},{"v":109.69376470556404,"d":"110"},{"v":237.13251364065036,"d":"237"},null,{"v":2166.0000600000003,"d":"2,166"},{"v":1894.00012,"d":"1,894"},{"v":4060.00018,"d":"4,060"},null,{"v":2293.4388089350864,"d":"2,293"},{"v":2003.693884705564,"d":"2,004"},{"v":4297.13269364065,"d":"4,297"}]
[1987,{"v":340.0620779576061,"d":"340"},{"v":230.41507980496544,"d":"230"},{"v":570.4771577625716,"d":"570"},null,{"v":2853.0000600000003,"d":"2,853"},{"v":2323.0001199999997,"d":"2,323"},{"v":5176.00018,"d":"5,176"},null,{"v":3193.0621379576064,"d":"3,193"},{"v":2553.415199804965,"d":"2,553"},{"v":5746.477337762572,"d":"5,746"}]
[1988,{"v":450.807396511731,"d":"451"},{"v":832.2418518584191,"d":"832"},{"v":1283.049248370151,"d":"1,283"},null,{"v":3068.1427736000005,"d":"3,068"},{"v":6298.8574063999995,"d":"6,299"},{"v":9367.00018,"d":"9,367"},null,{"v":3518.9501701117315,"d":"3,519"},{"v":7131.099258258419,"d":"7,131"},{"v":10650.04942837015,"d":"10,650"}]
[1989,{"v":137.2632994221949,"d":"137"},{"v":204.97315523196949,"d":"205"},{"v":342.23645465416394,"d":"342"},null,{"v":2294.3909700000004,"d":"2,294"},{"v":3873.60921,"d":"3,874"},{"v":6168.000180000001,"d":"6,168"},null,{"v":2431.6542694221953,"d":"2,432"},{"v":4078.5823652319696,"d":"4,079"},{"v":6510.236634654165,"d":"6,510"}]
[1990,{"v":235.29065909351607,"d":"235"},{"v":239.25125366148222,"d":"239"},{"v":474.5419127549985,"d":"475"},null,{"v":1934.8154499999998,"d":"1,935"},{"v":2152.18473,"d":"2,152"},{"v":4087.00018,"d":"4,087"},null,{"v":2170.106109093516,"d":"2,170"},{"v":2391.435983661482,"d":"2,391"},{"v":4561.5420927549985,"d":"4,562"}]
[1991,{"v":205.2759952336187,"d":"205"},{"v":186.73090320716733,"d":"187"},{"v":392.00689844078624,"d":"392"},null,{"v":2795.880045,"d":"2,796"},{"v":1950.125135,"d":"1,950"},{"v":4746.00518,"d":"4,746"},null,{"v":3001.1560402336186,"d":"3,001"},{"v":2136.8560382071673,"d":"2,137"},{"v":5138.012078440786,"d":"5,138"}]
[1992,{"v":106.04756585449809,"d":"106"},{"v":70.78648538284688,"d":"71"},{"v":176.8340512373452,"d":"177"},null,{"v":1094.126876897428,"d":"1,094"},{"v":1072.873303102572,"d":"1,073"},{"v":2167.00018,"d":"2,167"},null,{"v":1200.174442751926,"d":"1,200"},{"v":1143.6597884854189,"d":"1,144"},{"v":2343.834231237345,"d":"2,344"}]
[1993,{"v":79.560195227657,"d":"80"},{"v":63.46340109251355,"d":"63"},{"v":143.02359632017078,"d":"143"},null,{"v":1138.1558319346286,"d":"1,138"},{"v":1374.8443480653716,"d":"1,375"},{"v":2513.00018,"d":"2,513"},null,{"v":1217.7160271622856,"d":"1,218"},{"v":1438.3077491578852,"d":"1,438"},{"v":2656.023776320171,"d":"2,656"}]
[1994,{"v":67.55173087813432,"d":"68"},{"v":17.51472122036506,"d":"18"},{"v":85.06645209849944,"d":"85"},null,{"v":1346.7565738268402,"d":"1,347"},{"v":484.24360617315995,"d":"484"},{"v":1831.00018,"d":"1,831"},null,{"v":1414.3083047049745,"d":"1,414"},{"v":501.758327393525,"d":"502"},{"v":1916.0666320984994,"d":"1,916"}]
[1995,{"v":28.361891902406114,"d":"28"},{"v":20.398892259660897,"d":"20"},{"v":48.76078416206701,"d":"49"},null,{"v":1334.1274174468076,"d":"1,334"},{"v":957.8727625531905,"d":"958"},{"v":2292.000179999998,"d":"2,292"},null,{"v":1362.4893093492137,"d":"1,362"},{"v":978.2716548128514,"d":"978"},{"v":2340.760964162065,"d":"2,341"}]
[1996,{"v":12.23109360485114,"d":"12"},{"v":4.780899694531172,"d":"5"},{"v":17.011993299382084,"d":"17"},null,{"v":2368.40006,"d":"2,368"},{"v":981.7001199999999,"d":"982"},{"v":3350.10018,"d":"3,350"},null,{"v":2380.631153604851,"d":"2,381"},{"v":986.481019694531,"d":"986"},{"v":3367.112173299382,"d":"3,367"}]
[1997,{"v":21.62122942067981,"d":"22"},{"v":29.463855533493415,"d":"29"},{"v":51.085084954173,"d":"51"},null,{"v":1473.8338599999997,"d":"1,474"},{"v":2000.16632,"d":"2,000"},{"v":3474.00018,"d":"3,474"},null,{"v":1495.4550894206795,"d":"1,495"},{"v":2029.6301755334935,"d":"2,030"},{"v":3525.085264954173,"d":"3,525"}]
[1998,{"v":13.083345701043527,"d":"13"},{"v":7.081236187696504,"d":"7"},{"v":20.16458188874003,"d":"20"},null,{"v":2757.00006,"d":"2,757"},{"v":1535.00012,"d":"1,535"},{"v":4292.00018,"d":"4,292"},null,{"v":2770.0834057010434,"d":"2,770"},{"v":1542.0813561876964,"d":"1,542"},{"v":4312.16476188874,"d":"4,312"}]
[1999,{"v":10.44681109189446,"d":"10"},{"v":12.405478711539672,"d":"12"},{"v":22.852289803433905,"d":"23"},null,{"v":1676.0000599999998,"d":"1,676"},{"v":1712.00012,"d":"1,712"},{"v":3388.00018,"d":"3,388"},null,{"v":1686.4468710918943,"d":"1,686"},{"v":1724.4055987115396,"d":"1,724"},{"v":3410.852469803434,"d":"3,411"}]
[2000,{"v":5.412609467959555,"d":"5"},{"v":4.061940197542981,"d":"4"},{"v":9.474549665502309,"d":"9"},null,{"v":1635.0000599999998,"d":"1,635"},{"v":1227.00012,"d":"1,227"},{"v":2862.00018,"d":"2,862"},null,{"v":1640.4126694679594,"d":"1,640"},{"v":1231.062060197543,"d":"1,231"},{"v":2871.4747296655023,"d":"2,871"}]
[2001,{"v":5.368750937336472,"d":"5"},{"v":4.219243946390179,"d":"4"},{"v":9.587994883726424,"d":"10"},null,{"v":2041.0000599999998,"d":"2,041"},{"v":1604.00012,"d":"1,604"},{"v":3645.00018,"d":"3,645"},null,{"v":2046.3688109373363,"d":"2,046"},{"v":1608.21936394639,"d":"1,608"},{"v":3654.5881748837264,"d":"3,655"}]
[2002,{"v":6.334433084593911,"d":"6"},{"v":5.238865013519899,"d":"5"},{"v":11.57329809811381,"d":"12"},null,{"v":2041.0000599999998,"d":"2,041"},{"v":1688.00012,"d":"1,688"},{"v":3729.00018,"d":"3,729"},null,{"v":2047.3344930845938,"d":"2,047"},{"v":1693.2389850135198,"d":"1,693"},{"v":3740.573478098114,"d":"3,741"}]
[2003,{"v":11.364401088877457,"d":"11"},{"v":11.501888396678169,"d":"12"},{"v":22.866289485555626,"d":"23"},null,{"v":1956.0000599999998,"d":"1,956"},{"v":2087.0001199999997,"d":"2,087"},{"v":4043.0001799999995,"d":"4,043"},null,{"v":1967.3644610888773,"d":"1,967"},{"v":2098.502008396678,"d":"2,099"},{"v":4065.866469485555,"d":"4,066"}]
[2004,{"v":10.552612316153045,"d":"11"},{"v":15.490332132933872,"d":"15"},{"v":26.042944449086463,"d":"26"},null,{"v":2244.00006,"d":"2,244"},{"v":3294.00012,"d":"3,294"},{"v":5538.00018,"d":"5,538"},null,{"v":2254.552672316153,"d":"2,255"},{"v":3309.490452132934,"d":"3,309"},{"v":5564.0431244490865,"d":"5,564"}]
[2005,{"v":6.913135487573072,"d":"7"},{"v":8.088928299890313,"d":"8"},{"v":15.002063787463157,"d":"15"},null,{"v":1737.0000599999998,"d":"1,737"},{"v":1984.00012,"d":"1,984"},{"v":3721.00018,"d":"3,721"},null,{"v":1743.913195487573,"d":"1,744"},{"v":1992.0890482998902,"d":"1,992"},{"v":3736.002243787463,"d":"3,736"}]
[2006,{"v":11.470315227538777,"d":"11"},{"v":11.085821645876422,"d":"11"},{"v":22.556136873416108,"d":"23"},null,{"v":2095.00006,"d":"2,095"},{"v":2270.0001199999997,"d":"2,270"},{"v":4365.000179999999,"d":"4,365"},null,{"v":2106.4703752275386,"d":"2,106"},{"v":2281.085941645876,"d":"2,281"},{"v":4387.556316873415,"d":"4,388"}]
[2007,{"v":4.137575872943671,"d":"4"},{"v":3.04179515156909,"d":"3"},{"v":7.179371024512875,"d":"7"},null,{"v":1184.0000599999998,"d":"1,184"},{"v":936.0001199999998,"d":"936"},{"v":2120.0001799999995,"d":"2,120"},null,{"v":1188.1376358729435,"d":"1,188"},{"v":939.0419151515689,"d":"939"},{"v":2127.1795510245124,"d":"2,127"}]
[2008,{"v":19.701415624384936,"d":"20"},{"v":14.303468183771088,"d":"14"},{"v":34.00488380815614,"d":"34"},null,{"v":1149.0000599999998,"d":"1,149"},{"v":716.0001199999998,"d":"716"},{"v":1865.0001799999995,"d":"1,865"},null,{"v":1168.7014756243848,"d":"1,169"},{"v":730.3035881837709,"d":"730"},{"v":1899.0050638081557,"d":"1,899"}]
[2009,{"v":6.029599003436942,"d":"6"},{"v":7.097292614229673,"d":"7"},{"v":13.126891617666843,"d":"13"},null,{"v":2403.1258445107965,"d":"2,403"},{"v":1971.4288244875913,"d":"1,971"},{"v":4374.554668998388,"d":"4,375"},null,{"v":2409.1554435142334,"d":"2,409"},{"v":1978.526117101821,"d":"1,979"},{"v":4387.681560616054,"d":"4,388"}]
[2010,{"v":18.040587281139324,"d":"18"},{"v":15.9935041277663,"d":"16"},{"v":34.034091408905624,"d":"34"},null,{"v":1561.6859381006639,"d":"1,562"},{"v":1317.314241899336,"d":"1,317"},{"v":2879.00018,"d":"2,879"},null,{"v":1579.7265253818032,"d":"1,580"},{"v":1333.3077460271022,"d":"1,333"},{"v":2913.0342714089056,"d":"2,913"}]
[2011,{"v":12.391673124639965,"d":"12"},{"v":9.989455119519334,"d":"10"},{"v":22.3811282441593,"d":"22"},null,{"v":2264.2507931628843,"d":"2,264"},{"v":1836.7493868371157,"d":"1,837"},{"v":4101.00018,"d":"4,101"},null,{"v":2276.6424662875243,"d":"2,277"},{"v":1846.738841956635,"d":"1,847"},{"v":4123.381308244159,"d":"4,123"}]
[2012,{"v":10.215471523314136,"d":"10"},{"v":13.080141258332333,"d":"13"},{"v":23.295612781646014,"d":"23"},null,{"v":1853.9286771888972,"d":"1,854"},{"v":2377.0715028111026,"d":"2,377"},{"v":4231.00018,"d":"4,231"},null,{"v":1864.1441487122113,"d":"1,864"},{"v":2390.151644069435,"d":"2,390"},{"v":4254.295792781646,"d":"4,254"}]
[2013,{"v":11.757904681518085,"d":"12"},{"v":12.371880402512033,"d":"12"},{"v":24.12978508402921,"d":"24"},null,{"v":3103.9586418556983,"d":"3,104"},{"v":3266.041538144302,"d":"3,266"},{"v":6370.000180000001,"d":"6,370"},null,{"v":3115.7165465372163,"d":"3,116"},{"v":3278.4134185468142,"d":"3,278"},{"v":6394.12996508403,"d":"6,394"}]
[2014,{"v":36.464082049683384,"d":"36"},{"v":41.31920525011765,"d":"41"},{"v":77.78328729980058,"d":"78"},null,{"v":3206.8725714799275,"d":"3,207"},{"v":3649.127608520073,"d":"3,649"},{"v":6856.000180000001,"d":"6,856"},null,{"v":3243.336653529611,"d":"3,243"},{"v":3690.4468137701906,"d":"3,690"},{"v":6933.7834672998015,"d":"6,934"}]
[2015,{"v":38.84603898004116,"d":"39"},{"v":41.979056326876616,"d":"42"},{"v":80.82509530691732,"d":"81"},null,{"v":3363.9455147262165,"d":"3,364"},{"v":3893.4616577454112,"d":"3,893"},{"v":7257.407172471628,"d":"7,257"},null,{"v":3402.7915537062577,"d":"3,403"},{"v":3935.440714072288,"d":"3,935"},{"v":7338.232267778545,"d":"7,338"}]
[2016,{"v":1.4473487741506688,"d":"1"},{"v":3.135283161361258,"d":"3"},{"v":4.582631935511927,"d":"5"},null,{"v":1768.3522172652251,"d":"1,768"},{"v":2696.6227480403127,"d":"2,697"},{"v":4464.974965305538,"d":"4,465"},null,{"v":1769.7995660393758,"d":"1,770"},{"v":2699.758031201674,"d":"2,700"},{"v":4469.55759724105,"d":"4,470"}]
[2017,{"v":2.940406959665779,"d":"3"},{"v":4.655708928094555,"d":"5"},{"v":7.596115887759879,"d":"8"},null,{"v":2174.6358694983064,"d":"2,175"},{"v":2797.840214116151,"d":"2,798"},{"v":4972.476083614458,"d":"4,972"},null,{"v":2177.576276457972,"d":"2,178"},{"v":2802.4959230442455,"d":"2,802"},{"v":4980.072199502218,"d":"4,980"}]
[2018,{"v":24.619571036999332,"d":"25"},{"v":40.64074783297383,"d":"41"},{"v":65.26031886997225,"d":"65"},null,{"v":3931.7165321122293,"d":"3,932"},{"v":6279.28364788777,"d":"6,279"},{"v":10211.00018,"d":"10,211"},null,{"v":3956.3361031492286,"d":"3,956"},{"v":6319.924395720744,"d":"6,320"},{"v":10276.260498869971,"d":"10,276"}]
[2019,{"v":6.671581320259065,"d":"7"},{"v":14.056951099454636,"d":"14"},{"v":20.72853241971461,"d":"21"},null,{"v":2996.2185002067645,"d":"2,996"},{"v":7385.281679793235,"d":"7,385"},{"v":10381.50018,"d":"10,382"},null,{"v":3002.8900815270235,"d":"3,003"},{"v":7399.338630892689,"d":"7,399"},{"v":10402.228712419714,"d":"10,402"}]
[2020,{"v":0.845002936799574,"d":"1"},{"v":3.3505131983702086,"d":"3"},{"v":4.1955161351697825,"d":"4"},null,{"v":2413.00006,"d":"2,413"},{"v":3788.00012,"d":"3,788"},{"v":6201.00018,"d":"6,201"},null,{"v":2413.8450629367994,"d":"2,414"},{"v":3791.3506331983704,"d":"3,791"},{"v":6205.19569613517,"d":"6,205"}]
[2021,{"v":5.557098097694961,"d":"6"},{"v":11.998945250960332,"d":"12"},{"v":17.556043348655294,"d":"18"},null,{"v":2453.00006,"d":"2,453"},{"v":3085.0001199999997,"d":"3,085"},{"v":5538.000179999999,"d":"5,538"},null,{"v":2458.557158097695,"d":"2,459"},{"v":3096.99906525096,"d":"3,097"},{"v":5555.556223348654,"d":"5,556"}]
["2022f/",{"v":1.0378481356174234,"d":"1"},{"v":2.9621518643825766,"d":"3"},4,null,{"v":2201.00006,"d":"2,201"},{"v":4440.000120000001,"d":"4,440"},{"v":6641.000180000001,"d":"6,641"},null,{"v":2202.0379081356173,"d":"2,202"},{"v":4442.962271864383,"d":"4,443"},{"v":6645.000180000001,"d":"6,645"}]
["2023f/",{"v":1.2574102975963797,"d":"1"},{"v":2.7425897024031656,"d":"3"},4,null,{"v":3751.0000600000003,"d":"3,751"},{"v":5612.000120000001,"d":"5,612"},{"v":9363.000180000001,"d":"9,363"},null,{"v":3752.2574702975967,"d":"3,752"},{"v":5614.742709702404,"d":"5,615"},{"v":9367.000180000001,"d":"9,367"}]
[2024,"NA","NA","NA",null,"NA","NA","NA",null,"NA","NA","NA"]
["GOAL",{"$nulls":6},{"v":5300,"d":"5,300"}]
[]
["Nooksack-Samish"]
[1981,{"v":48342.19015954437,"d":"48,342"},{"v":28364.721487099396,"d":"28,365"},{"v":76706.91164664377,"d":"76,707"},null,{"v":10233.000079999998,"d":"10,233"},{"v":3572.0001500000003,"d":"3,572"},{"v":13805.000229999998,"d":"13,805"},null,{"v":58575.19023954437,"d":"58,575"},{"v":31936.721637099396,"d":"31,937"},{"v":90511.91187664376,"d":"90,512"},{"$f":"L52=(J52+K52)","v":true}]
[1982,{"v":54756.493102458684,"d":"54,756"},{"v":36346.36759552928,"d":"36,346"},{"v":91102.86069798796,"d":"91,103"},null,{"v":15012.000079999998,"d":"15,012"},{"v":5658.000150000002,"d":"5,658"},{"v":20670.000229999998,"d":"20,670"},null,{"v":69768.49318245868,"d":"69,768"},{"v":42004.36774552928,"d":"42,004"},{"v":111772.86092798796,"d":"111,773"},true]
[1983,{"v":33194.88080061157,"d":"33,195"},{"v":22363.576890831973,"d":"22,364"},{"v":55558.45769144354,"d":"55,558"},null,{"v":19712.000079999998,"d":"19,712"},{"v":7429.00015,"d":"7,429"},{"v":27141.000229999998,"d":"27,141"},null,{"v":52906.88088061157,"d":"52,907"},{"v":29792.577040831973,"d":"29,793"},{"v":82699.45792144354,"d":"82,699"},true]
[1984,{"v":69889.2878000478,"d":"69,889"},{"v":33743.03483861982,"d":"33,743"},{"v":103632.3226386676,"d":"103,632"},null,{"v":18785.000079999998,"d":"18,785"},{"v":9565.000149999998,"d":"9,565"},{"v":28350.000229999998,"d":"28,350"},null,{"v":88674.28788004779,"d":"88,674"},{"v":43308.03498861982,"d":"43,308"},{"v":131982.3228686676,"d":"131,982"},true]
[1985,{"v":64252.480160007166,"d":"64,252"},{"v":47826.69720161536,"d":"47,827"},{"v":112079.17736162251,"d":"112,079"},null,{"v":16672.000079999998,"d":"16,672"},{"v":6650.000150000001,"d":"6,650"},{"v":23322.000229999998,"d":"23,322"},null,{"v":80924.48024000716,"d":"80,924"},{"v":54476.69735161536,"d":"54,477"},{"v":135401.17759162252,"d":"135,401"},true]
[1986,{"v":50227.63688177172,"d":"50,228"},{"v":43034.96193057531,"d":"43,035"},{"v":93262.59881234702,"d":"93,263"},null,{"v":10672.000079999998,"d":"10,672"},{"v":5331.000150000002,"d":"5,331"},{"v":16003.00023,"d":"16,003"},null,{"v":60899.63696177172,"d":"60,900"},{"v":48365.96208057531,"d":"48,366"},{"v":109265.59904234702,"d":"109,266"},true]
[1987,{"v":31429.546065181537,"d":"31,430"},{"v":23295.43625789061,"d":"23,295"},{"v":54724.982323072145,"d":"54,725"},null,{"v":5830.00008,"d":"5,830"},{"v":2720.00015,"d":"2,720"},{"v":8550.00023,"d":"8,550"},null,{"v":37259.546145181535,"d":"37,260"},{"v":26015.43640789061,"d":"26,015"},{"v":63274.98255307214,"d":"63,275"},true]
[1988,{"v":19413.912523523475,"d":"19,414"},{"v":19615.841461951815,"d":"19,616"},{"v":39029.75398547529,"d":"39,030"},null,{"v":5234.00008,"d":"5,234"},{"v":2740.00015,"d":"2,740"},{"v":7974.00023,"d":"7,974"},null,{"v":24647.912603523473,"d":"24,648"},{"v":22355.841611951815,"d":"22,356"},{"v":47003.75421547529,"d":"47,004"},true]
[1989,{"v":43787.47125635987,"d":"43,787"},{"v":8944.74388689737,"d":"8,945"},{"v":52732.215143257235,"d":"52,732"},null,{"v":18036.000079999998,"d":"18,036"},{"v":1864.0001499999998,"d":"1,864"},{"v":19900.000229999998,"d":"19,900"},null,{"v":61823.47133635987,"d":"61,823"},{"v":10808.74403689737,"d":"10,809"},{"v":72632.21537325723,"d":"72,632"},true]
[1990,{"v":45497.1011585275,"d":"45,497"},{"v":36462.58204311768,"d":"36,463"},{"v":81959.68320164518,"d":"81,960"},null,{"v":13871.000079999998,"d":"13,871"},{"v":7908.000150000001,"d":"7,908"},{"v":21779.000229999998,"d":"21,779"},null,{"v":59368.101238527495,"d":"59,368"},{"v":44370.58219311768,"d":"44,371"},{"v":103738.68343164519,"d":"103,739"},true]
[1991,{"v":26261.14305768955,"d":"26,261"},{"v":4090.481123834569,"d":"4,090"},{"v":30351.624181524123,"d":"30,352"},null,{"v":9436.000079999998,"d":"9,436"},{"v":972.0001499999998,"d":"972"},{"v":10408.000229999998,"d":"10,408"},null,{"v":35697.14313768955,"d":"35,697"},{"v":5062.481273834569,"d":"5,062"},{"v":40759.62441152412,"d":"40,760"},true]
[1992,{"v":15329.139872169977,"d":"15,329"},{"v":2253.2959419771823,"d":"2,253"},{"v":17582.43581414716,"d":"17,582"},null,{"v":8208.000079999998,"d":"8,208"},{"v":867.0001499999998,"d":"867"},{"v":9075.000229999998,"d":"9,075"},null,{"v":23537.139952169975,"d":"23,537"},{"v":3120.296091977182,"d":"3,120"},{"v":26657.436044147158,"d":"26,657"},true]
[1993,{"v":17622.788630701256,"d":"17,623"},{"v":2393.9224051636324,"d":"2,394"},{"v":20016.711035864886,"d":"20,017"},null,{"v":11339.000079999998,"d":"11,339"},{"v":1469.0001499999998,"d":"1,469"},{"v":12808.000229999998,"d":"12,808"},null,{"v":28961.788710701254,"d":"28,962"},{"v":3862.9225551636323,"d":"3,863"},{"v":32824.711265864884,"d":"32,825"},true]
[1994,{"v":17416.039607573028,"d":"17,416"},{"v":3417.8699249156925,"d":"3,418"},{"v":20833.90953248872,"d":"20,834"},null,{"v":6223.000080000001,"d":"6,223"},{"v":1118.0001499999998,"d":"1,118"},{"v":7341.000230000001,"d":"7,341"},null,{"v":23639.03968757303,"d":"23,639"},{"v":4535.870074915692,"d":"4,536"},{"v":28174.90976248872,"d":"28,175"},true]
[1995,{"v":12312.058717135993,"d":"12,312"},{"v":1534.342676248159,"d":"1,534"},{"v":13846.40139338415,"d":"13,846"},null,{"v":8023.00008,"d":"8,023"},{"v":777.0001499999998,"d":"777"},{"v":8800.00023,"d":"8,800"},null,{"v":20335.058797135993,"d":"20,335"},{"v":2311.342826248159,"d":"2,311"},{"v":22646.40162338415,"d":"22,646"},true]
[1996,{"v":18675.889661814468,"d":"18,676"},{"v":735.9669048550378,"d":"736"},{"v":19411.856566669507,"d":"19,412"},null,{"v":9027.000079999998,"d":"9,027"},{"v":463.00014999999996,"d":"463"},{"v":9490.000229999998,"d":"9,490"},null,{"v":27702.889741814466,"d":"27,703"},{"v":1198.9670548550378,"d":"1,199"},{"v":28901.856796669505,"d":"28,902"},true]
[1997,{"v":18215.8449865063,"d":"18,216"},{"v":3743.931794519835,"d":"3,744"},{"v":21959.776781026136,"d":"21,960"},null,{"v":15776.000079999998,"d":"15,776"},{"v":3985.0001500000003,"d":"3,985"},{"v":19761.000229999998,"d":"19,761"},null,{"v":33991.8450665063,"d":"33,992"},{"v":7728.931944519835,"d":"7,729"},{"v":41720.77701102613,"d":"41,721"},true]
[1998,{"v":11953.973315746736,"d":"11,954"},{"v":9353.911986023633,"d":"9,354"},{"v":21307.885301770373,"d":"21,308"},null,{"v":7706.00008,"d":"7,706"},{"v":6568.00015,"d":"6,568"},{"v":14274.00023,"d":"14,274"},null,{"v":19659.973395746736,"d":"19,660"},{"v":15921.912136023633,"d":"15,922"},{"v":35581.88553177037,"d":"35,582"},true]
[1999,{"v":23851.07657094413,"d":"23,851"},{"v":8718.07013289601,"d":"8,718"},{"v":32569.146703840135,"d":"32,569"},null,{"v":5272.000080000001,"d":"5,272"},{"v":3042.0001500000003,"d":"3,042"},{"v":8314.000230000001,"d":"8,314"},null,{"v":29123.07665094413,"d":"29,123"},{"v":11760.07028289601,"d":"11,760"},{"v":40883.14693384014,"d":"40,883"},true]
[2000,{"v":25761.892302156066,"d":"25,762"},{"v":3823.7762932703,"d":"3,824"},{"v":29585.668595426363,"d":"29,586"},null,{"v":3533.0000800000003,"d":"3,533"},{"v":725.00015,"d":"725"},{"v":4258.000230000001,"d":"4,258"},null,{"v":29294.892382156067,"d":"29,295"},{"v":4548.7764432703,"d":"4,549"},{"v":33843.668825426364,"d":"33,844"},true]
[2001,{"v":20175.034497365166,"d":"20,175"},{"v":29271.506468299733,"d":"29,272"},{"v":49446.540965664906,"d":"49,447"},null,{"v":6306.00008,"d":"6,306"},{"v":10776.000149999998,"d":"10,776"},{"v":17082.000229999998,"d":"17,082"},null,{"v":26481.034577365168,"d":"26,481"},{"v":40047.50661829973,"d":"40,048"},{"v":66528.5411956649,"d":"66,529"},true]
[2002,{"v":10382.858175228948,"d":"10,383"},{"v":28341.898938721155,"d":"28,342"},{"v":38724.75711395011,"d":"38,725"},null,{"v":4325.000080000002,"d":"4,325"},{"v":13433.000149999998,"d":"13,433"},{"v":17758.000229999998,"d":"17,758"},null,{"v":14707.85825522895,"d":"14,708"},{"v":41774.899088721155,"d":"41,775"},{"v":56482.75734395011,"d":"56,483"},true]
[2003,{"v":6543.988847399158,"d":"6,544"},{"v":12114.586015910838,"d":"12,115"},{"v":18658.574863309994,"d":"18,659"},null,{"v":3356.0000800000003,"d":"3,356"},{"v":7910.000150000001,"d":"7,910"},{"v":11266.000230000001,"d":"11,266"},null,{"v":9899.988927399158,"d":"9,900"},{"v":20024.586165910838,"d":"20,025"},{"v":29924.575093309995,"d":"29,925"},true]
[2004,{"v":5439.759187615327,"d":"5,440"},{"v":5199.307121414746,"d":"5,199"},{"v":10639.06630903007,"d":"10,639"},null,{"v":3097.0000800000003,"d":"3,097"},{"v":3370.0001500000003,"d":"3,370"},{"v":6467.000230000001,"d":"6,467"},null,{"v":8536.759267615327,"d":"8,537"},{"v":8569.307271414746,"d":"8,569"},{"v":17106.06653903007,"d":"17,106"},true]
[2005,{"v":8442.76378367898,"d":"8,443"},{"v":4062.2853850576903,"d":"4,062"},{"v":12505.049168736672,"d":"12,505"},null,{"v":2461.0000800000003,"d":"2,461"},{"v":1655.0001499999998,"d":"1,655"},{"v":4116.00023,"d":"4,116"},null,{"v":10903.76386367898,"d":"10,904"},{"v":5717.28553505769,"d":"5,717"},{"v":16621.04939873667,"d":"16,621"},true]
[2006,{"v":14045.604101488925,"d":"14,046"},{"v":11337.5002101998,"d":"11,338"},{"v":25383.104311688723,"d":"25,383"},null,{"v":3856.0000800000003,"d":"3,856"},{"v":2706.0001500000003,"d":"2,706"},{"v":6562.000230000001,"d":"6,562"},null,{"v":17901.604181488925,"d":"17,902"},{"v":14043.5003601998,"d":"14,044"},{"v":31945.104541688725,"d":"31,945"},true]
[2007,{"v":8463.416538024638,"d":"8,463"},{"v":9084.789199407478,"d":"9,085"},{"v":17548.20573743212,"d":"17,548"},null,{"v":4452.000080000001,"d":"4,452"},{"v":4554.000150000001,"d":"4,554"},{"v":9006.000230000001,"d":"9,006"},null,{"v":12915.41661802464,"d":"12,915"},{"v":13638.78934940748,"d":"13,639"},{"v":26554.20596743212,"d":"26,554"},true]
[2008,{"v":11449.826309344924,"d":"11,450"},{"v":7891.706420584058,"d":"7,892"},{"v":19341.532729928982,"d":"19,342"},null,{"v":6270.000080000001,"d":"6,270"},{"v":3516.0001500000003,"d":"3,516"},{"v":9786.000230000001,"d":"9,786"},null,{"v":17719.826389344926,"d":"17,720"},{"v":11407.706570584058,"d":"11,408"},{"v":29127.532959928983,"d":"29,128"},true]
[2009,{"v":4106.898470781767,"d":"4,107"},{"v":7243.772167500755,"d":"7,244"},{"v":11350.670638282521,"d":"11,351"},null,{"v":3494.0000800000003,"d":"3,494"},{"v":6069.000150000001,"d":"6,069"},{"v":9563.000230000001,"d":"9,563"},null,{"v":7600.898550781768,"d":"7,601"},{"v":13312.772317500756,"d":"13,313"},{"v":20913.670868282523,"d":"20,914"},true]
[2010,{"v":16918.387670562748,"d":"16,918"},{"v":2162.5585344850238,"d":"2,163"},{"v":19080.94620504777,"d":"19,081"},null,{"v":15892.000079999998,"d":"15,892"},{"v":1296.440626190476,"d":"1,296"},{"v":17188.440706190475,"d":"17,188"},null,{"v":32810.387750562746,"d":"32,810"},{"v":3458.9991606754998,"d":"3,459"},{"v":36269.386911238245,"d":"36,269"},true]
[2011,{"v":20458.057021284276,"d":"20,458"},{"v":3914.5872164876932,"d":"3,915"},{"v":24372.644237771972,"d":"24,373"},null,{"v":8495.000079999998,"d":"8,495"},{"v":668.5953880952379,"d":"669"},{"v":9163.595468095236,"d":"9,164"},null,{"v":28953.057101284274,"d":"28,953"},{"v":4583.182604582931,"d":"4,583"},{"v":33536.23970586721,"d":"33,536"},true]
[2012,{"v":20306.109531943646,"d":"20,306"},{"v":5844.932657662919,"d":"5,845"},{"v":26151.042189606564,"d":"26,151"},null,{"v":6635.000080000001,"d":"6,635"},{"v":940.7501499999998,"d":"941"},{"v":7575.750230000001,"d":"7,576"},null,{"v":26941.109611943648,"d":"26,941"},{"v":6785.682807662919,"d":"6,786"},{"v":33726.792419606565,"d":"33,727"},true]
[2013,{"v":19169.997002696822,"d":"19,170"},{"v":4391.165783853741,"d":"4,391"},{"v":23561.162786550565,"d":"23,561"},null,{"v":8720.000079999998,"d":"8,720"},{"v":620.6191976190476,"d":"621"},{"v":9340.619277619046,"d":"9,341"},null,{"v":27889.99708269682,"d":"27,890"},{"v":5011.784981472789,"d":"5,012"},{"v":32901.78206416961,"d":"32,902"},true]
[2014,{"v":10916.743942779081,"d":"10,917"},{"v":1547.7605569326236,"d":"1,548"},{"v":12464.504499711706,"d":"12,465"},null,{"v":12437.000079999998,"d":"12,437"},{"v":773.1501996031745,"d":"773"},{"v":13210.150279603173,"d":"13,210"},null,{"v":23353.74402277908,"d":"23,354"},{"v":2320.910756535798,"d":"2,321"},{"v":25674.65477931488,"d":"25,675"},true]
[2015,{"v":8336.243420000083,"d":"8,336"},{"v":3695.2678191345485,"d":"3,695"},{"v":12031.51123913463,"d":"12,032"},null,{"v":6162.000080000001,"d":"6,162"},{"v":592.2501499999998,"d":"592"},{"v":6754.250230000001,"d":"6,754"},null,{"v":14498.243500000084,"d":"14,498"},{"v":4287.517969134548,"d":"4,288"},{"v":18785.76146913463,"d":"18,786"},true]
[2016,{"v":8380.532039969046,"d":"8,381"},{"v":2528.6618907440297,"d":"2,529"},{"v":10909.193930713078,"d":"10,909"},null,{"v":4666.000080000001,"d":"4,666"},{"v":336.00014999999996,"d":"336"},{"v":5002.000230000001,"d":"5,002"},null,{"v":13046.532119969048,"d":"13,047"},{"v":2864.6620407440296,"d":"2,865"},{"v":15911.194160713078,"d":"15,911"},true]
[2017,{"v":12735.035986489038,"d":"12,735"},{"v":7014.492076429533,"d":"7,014"},{"v":19749.52806291857,"d":"19,750"},null,{"v":5389.000080000001,"d":"5,389"},{"v":520.0001499999998,"d":"520"},{"v":5909.000230000001,"d":"5,909"},null,{"v":18124.03606648904,"d":"18,124"},{"v":7534.492226429533,"d":"7,534"},{"v":25658.52829291857,"d":"25,659"},true]
[2018,{"v":8253.439259069408,"d":"8,253"},{"v":2201.6525029120808,"d":"2,202"},{"v":10455.09176198149,"d":"10,455"},null,{"v":8306.000079999998,"d":"8,306"},{"v":713.0001499999998,"d":"713"},{"v":9019.000229999998,"d":"9,019"},null,{"v":16559.439339069406,"d":"16,559"},{"v":2914.6526529120806,"d":"2,915"},{"v":19474.091991981488,"d":"19,474"},true]
[2019,{"v":4772.311156066992,"d":"4,772"},{"v":1731.8898071250478,"d":"1,732"},{"v":6504.20096319204,"d":"6,504"},null,{"v":7470.000080000001,"d":"7,470"},{"v":293.00014999999996,"d":"293"},{"v":7763.000230000001,"d":"7,763"},null,{"v":12242.311236066993,"d":"12,242"},{"v":2024.8899571250477,"d":"2,025"},{"v":14267.20119319204,"d":"14,267"},true]
[2020,{"v":5141.089910590271,"d":"5,141"},{"v":1877.3730677477824,"d":"1,877"},{"v":7018.462978338052,"d":"7,018"},null,{"v":6115.000080000001,"d":"6,115"},{"v":1560.0001499999998,"d":"1,560"},{"v":7675.000230000001,"d":"7,675"},null,{"v":11256.089990590272,"d":"11,256"},{"v":3437.3732177477823,"d":"3,437"},{"v":14693.463208338053,"d":"14,693"},true]
[2021,{"v":6553.384083764406,"d":"6,553"},{"v":2055.546190402065,"d":"2,056"},{"v":8608.930274166472,"d":"8,609"},null,{"v":18531.000079999998,"d":"18,531"},{"v":765.0001499999998,"d":"765"},{"v":19296.000229999998,"d":"19,296"},null,{"v":25084.384163764404,"d":"25,084"},{"v":2820.5463404020647,"d":"2,821"},{"v":27904.93050416647,"d":"27,905"},true]
["2022f/",{"v":16118.966412419824,"d":"16,119"},{"v":3474.033597580172,"d":"3,474"},{"v":19593.000009999996,"d":"19,593"},null,{"v":20834.000079999998,"d":"20,834"},{"v":2573.0001500000003,"d":"2,573"},{"v":23407.000229999998,"d":"23,407"},null,{"v":36952.96649241982,"d":"36,953"},{"v":6047.0337475801725,"d":"6,047"},{"v":43000.000239999994,"d":"43,000"},true]
["2023f/",{"v":19175.260162278835,"d":"19,175"},{"v":7757.739847721171,"d":"7,758"},{"v":26933.00001000001,"d":"26,933"},null,{"v":19261.000079999998,"d":"19,261"},{"v":7236.000150000001,"d":"7,236"},{"v":26497.000229999998,"d":"26,497"},null,{"v":38436.26024227883,"d":"38,436"},{"v":14993.739997721172,"d":"14,994"},{"v":53430.00024000001,"d":"53,430"}]
[2024,"NA","NA","NA",null,"NA","NA","NA",null,"NA","NA","NA"]
["GOAL",{"$nulls":4},{"v":1800,"d":"1,800"}]
[]
["Skagit"]
[1981,{"v":697.9861432759217,"d":"698"},{"v":13109.793629201893,"d":"13,110"},{"v":13807.779772477814,"d":"13,808"},null,{"v":441.00001999999995,"d":"441"},{"v":8283.000039999999,"d":"8,283"},{"v":8724.000059999998,"d":"8,724"},null,{"v":1138.9861632759216,"d":"1,139"},{"v":21392.793669201892,"d":"21,393"},{"v":22531.779832477812,"d":"22,532"}]
[1982,{"v":1166.5796830775057,"d":"1,167"},{"v":13681.425363707407,"d":"13,681"},{"v":14848.005046784914,"d":"14,848"},null,{"v":845.00002,"d":"845"},{"v":9910.000039999999,"d":"9,910"},{"v":10755.000059999998,"d":"10,755"},null,{"v":2011.5797030775057,"d":"2,012"},{"v":23591.425403707406,"d":"23,591"},{"v":25603.005106784913,"d":"25,603"}]
[1983,{"v":638.2052245361199,"d":"638"},{"v":6699.234735465812,"d":"6,699"},{"v":7337.4399600019315,"d":"7,337"},null,{"v":831.00002,"d":"831"},{"v":8723.000039999999,"d":"8,723"},{"v":9554.000059999998,"d":"9,554"},null,{"v":1469.2052445361198,"d":"1,469"},{"v":15422.234775465811,"d":"15,422"},{"v":16891.44002000193,"d":"16,891"}]
[1984,{"v":343.9719492681554,"d":"344"},{"v":2756.140694158841,"d":"2,756"},{"v":3100.1126434269972,"d":"3,100"},null,{"v":1576.00002,"d":"1,576"},{"v":12628.000039999999,"d":"12,628"},{"v":14204.000059999998,"d":"14,204"},null,{"v":1919.9719692681554,"d":"1,920"},{"v":15384.14073415884,"d":"15,384"},{"v":17304.112703426996,"d":"17,304"}]
[1985,{"v":146.24531922447534,"d":"146"},{"v":9750.905871090621,"d":"9,751"},{"v":9897.151190315097,"d":"9,897"},null,{"v":240.00002,"d":"240"},{"v":16002.000039999999,"d":"16,002"},{"v":16242.000059999998,"d":"16,242"},null,{"v":386.24533922447534,"d":"386"},{"v":25752.90591109062,"d":"25,753"},{"v":26139.151250315095,"d":"26,139"}]
[1986,{"v":192.49889756592643,"d":"192"},{"v":4482.796067171188,"d":"4,483"},{"v":4675.294964737113,"d":"4,675"},null,{"v":769.00002,"d":"769"},{"v":17908.00004,"d":"17,908"},{"v":18677.00006,"d":"18,677"},null,{"v":961.4989175659264,"d":"961"},{"v":22390.796107171187,"d":"22,391"},{"v":23352.29502473711,"d":"23,352"}]
[1987,{"v":129.23868355903994,"d":"129"},{"v":3960.93387478136,"d":"3,961"},{"v":4090.1725583404004,"d":"4,090"},null,{"v":307.00001999999995,"d":"307"},{"v":9409.000039999999,"d":"9,409"},{"v":9716.000059999998,"d":"9,716"},null,{"v":436.2387035590399,"d":"436"},{"v":13369.933914781359,"d":"13,370"},{"v":13806.172618340399,"d":"13,806"}]
[1988,{"v":377.9423460794958,"d":"378"},{"v":3357.2755792500666,"d":"3,357"},{"v":3735.2179253295617,"d":"3,735"},null,{"v":1291.00002,"d":"1,291"},{"v":11468.000039999999,"d":"11,468"},{"v":12759.000059999998,"d":"12,759"},null,{"v":1668.9423660794957,"d":"1,669"},{"v":14825.275619250066,"d":"14,825"},{"v":16494.21798532956,"d":"16,494"}]
[1989,{"v":387.4219214665203,"d":"387"},{"v":6254.898583287747,"d":"6,255"},{"v":6642.320504754267,"d":"6,642"},null,{"v":414.00001999999995,"d":"414"},{"v":6684.00004,"d":"6,684"},{"v":7098.00006,"d":"7,098"},null,{"v":801.4219414665203,"d":"801"},{"v":12938.898623287747,"d":"12,939"},{"v":13740.320564754267,"d":"13,740"}]
[1990,{"v":169.56766742327136,"d":"170"},{"v":2163.2643992411504,"d":"2,163"},{"v":2332.8320666644213,"d":"2,333"},null,{"v":1295.00002,"d":"1,295"},{"v":16521.00004,"d":"16,521"},{"v":17816.00006,"d":"17,816"},null,{"v":1464.5676874232713,"d":"1,465"},{"v":18684.26443924115,"d":"18,684"},{"v":20148.83212666442,"d":"20,149"}]
[1991,{"v":397.8872512223545,"d":"398"},{"v":2532.563187304063,"d":"2,533"},{"v":2930.450438526417,"d":"2,930"},null,{"v":915.00002,"d":"915"},{"v":5824.00004,"d":"5,824"},{"v":6739.00006,"d":"6,739"},null,{"v":1312.8872712223545,"d":"1,313"},{"v":8356.563227304063,"d":"8,357"},{"v":9669.450498526418,"d":"9,669"}]
[1992,{"v":495.36641199466885,"d":"495"},{"v":1645.5480932371238,"d":"1,646"},{"v":2140.9145052317926,"d":"2,141"},null,{"v":2212.0000200000004,"d":"2,212"},{"v":7348.00004,"d":"7,348"},{"v":9560.00006,"d":"9,560"},null,{"v":2707.3664319946693,"d":"2,707"},{"v":8993.548133237124,"d":"8,994"},{"v":11700.914565231793,"d":"11,701"}]
[1993,{"v":218.49788901819466,"d":"218"},{"v":1070.528920205983,"d":"1,071"},{"v":1289.0268092241768,"d":"1,289"},null,{"v":1184.00002,"d":"1,184"},{"v":5801.00004,"d":"5,801"},{"v":6985.00006,"d":"6,985"},null,{"v":1402.4979090181946,"d":"1,402"},{"v":6871.528960205983,"d":"6,872"},{"v":8274.026869224177,"d":"8,274"}]
[1994,{"v":341.542758658461,"d":"342"},{"v":369.87134544497985,"d":"370"},{"v":711.4141041034418,"d":"711"},null,{"v":5124.0000199999995,"d":"5,124"},{"v":5549.00004,"d":"5,549"},{"v":10673.000059999998,"d":"10,673"},null,{"v":5465.5427786584605,"d":"5,466"},{"v":5918.87138544498,"d":"5,919"},{"v":11384.41416410344,"d":"11,384"}]
[1995,{"v":867.7834181953558,"d":"868"},{"v":2316.6717994205583,"d":"2,317"},{"v":3184.455217615914,"d":"3,184"},null,{"v":2576.0000200000004,"d":"2,576"},{"v":6877.00004,"d":"6,877"},{"v":9453.00006,"d":"9,453"},null,{"v":3443.783438195356,"d":"3,444"},{"v":9193.671839420558,"d":"9,194"},{"v":12637.455277615914,"d":"12,637"}]
[1996,{"v":22.901833637268737,"d":"23"},{"v":214.52529304316158,"d":"215"},{"v":237.42712668043168,"d":"237"},null,{"v":1133.00002,"d":"1,133"},{"v":10613.000039999999,"d":"10,613"},{"v":11746.000059999998,"d":"11,746"},null,{"v":1155.9018536372687,"d":"1,156"},{"v":10827.52533304316,"d":"10,828"},{"v":11983.42718668043,"d":"11,983"}]
[1997,{"v":18.052002288351247,"d":"18"},{"v":1127.5555553822578,"d":"1,128"},{"v":1145.607557670609,"d":"1,146"},null,{"v":78.00002,"d":"78"},{"v":4872.00004,"d":"4,872"},{"v":4950.00006,"d":"4,950"},null,{"v":96.05202228835125,"d":"96"},{"v":5999.555595382258,"d":"6,000"},{"v":6095.607617670609,"d":"6,096"}]
[1998,{"v":2.1131832206639842,"d":"2"},{"v":339.2471095633555,"d":"339"},{"v":341.3602927840202,"d":"341"},null,{"v":91.00002,"d":"91"},{"v":14609.000039999999,"d":"14,609"},{"v":14700.000059999998,"d":"14,700"},null,{"v":93.11320322066399,"d":"93"},{"v":14948.247149563354,"d":"14,948"},{"v":15041.360352784019,"d":"15,041"}]
[1999,{"v":5.743465536068555,"d":"6"},{"v":307.4001997971318,"d":"307"},{"v":313.14366533320026,"d":"313"},null,{"v":92.00002,"d":"92"},{"v":4924.00004,"d":"4,924"},{"v":5016.00006,"d":"5,016"},null,{"v":97.74348553606856,"d":"98"},{"v":5231.400239797132,"d":"5,231"},{"v":5329.143725333201,"d":"5,329"}]
[2000,{"v":3.5080553506131196,"d":"4"},{"v":321.0344367865582,"d":"321"},{"v":324.5424921371705,"d":"325"},null,{"v":185.00002,"d":"185"},{"v":16930.00004,"d":"16,930"},{"v":17115.00006,"d":"17,115"},null,{"v":188.50807535061313,"d":"189"},{"v":17251.034476786557,"d":"17,251"},{"v":17439.54255213717,"d":"17,440"}]
[2001,{"v":2.681281663441439,"d":"3"},{"v":246.55275440029254,"d":"247"},{"v":249.2340360637354,"d":"249"},null,{"v":150.00002,"d":"150"},{"v":13793.000039999999,"d":"13,793"},{"v":13943.000059999998,"d":"13,943"},null,{"v":152.68130166344145,"d":"153"},{"v":14039.552794400292,"d":"14,040"},{"v":14192.234096063734,"d":"14,192"}]
[2002,{"v":1.6459935053491819,"d":"2"},{"v":319.273786570895,"d":"319"},{"v":320.91978007624493,"d":"321"},null,{"v":101.00002,"d":"101"},{"v":19591.00004,"d":"19,591"},{"v":19692.00006,"d":"19,692"},null,{"v":102.64601350534919,"d":"103"},{"v":19910.273826570894,"d":"19,910"},{"v":20012.919840076243,"d":"20,013"}]
[2003,{"v":8.969931022317496,"d":"9"},{"v":294.29198012804227,"d":"294"},{"v":303.2619111503609,"d":"303"},null,{"v":298.00001999999995,"d":"298"},{"v":9777.000039999999,"d":"9,777"},{"v":10075.000059999998,"d":"10,075"},null,{"v":306.96995102231745,"d":"307"},{"v":10071.292020128041,"d":"10,071"},{"v":10378.26197115036,"d":"10,378"}]
[2004,{"v":5.44572111729704,"d":"5"},{"v":567.5356563841306,"d":"568"},{"v":572.9813775014263,"d":"573"},null,{"v":226.00002,"d":"226"},{"v":23553.00004,"d":"23,553"},{"v":23779.00006,"d":"23,779"},null,{"v":231.44574111729705,"d":"231"},{"v":24120.53569638413,"d":"24,121"},{"v":24351.981437501425,"d":"24,352"}]
[2005,{"v":41.38346031223915,"d":"41"},{"v":2600.906569524832,"d":"2,601"},{"v":2642.2900298370732,"d":"2,642"},null,{"v":331.00001999999995,"d":"331"},{"v":20803.00004,"d":"20,803"},{"v":21134.00006,"d":"21,134"},null,{"v":372.3834803122391,"d":"372"},{"v":23403.90660952483,"d":"23,404"},{"v":23776.29008983707,"d":"23,776"}]
[2006,{"v":30.063532717698877,"d":"30"},{"v":1696.6288444324273,"d":"1,697"},{"v":1726.6923771501279,"d":"1,727"},null,{"v":368.00001999999995,"d":"368"},{"v":20768.00004,"d":"20,768"},{"v":21136.00006,"d":"21,136"},null,{"v":398.0635527176988,"d":"398"},{"v":22464.628884432426,"d":"22,465"},{"v":22862.692437150126,"d":"22,863"}]
[2007,{"v":54.3580409360909,"d":"54"},{"v":1657.3325103451716,"d":"1,657"},{"v":1711.6905512812627,"d":"1,712"},null,{"v":370.00001999999995,"d":"370"},{"v":11281.000039999999,"d":"11,281"},{"v":11651.000059999998,"d":"11,651"},null,{"v":424.35806093609085,"d":"424"},{"v":12938.33255034517,"d":"12,938"},{"v":13362.690611281261,"d":"13,363"}]
[2008,{"v":46.5594639277914,"d":"47"},{"v":3311.3995298057725,"d":"3,311"},{"v":3357.958993733564,"d":"3,358"},null,{"v":164.00002,"d":"164"},{"v":11664.000039999999,"d":"11,664"},{"v":11828.000059999998,"d":"11,828"},null,{"v":210.5594839277914,"d":"211"},{"v":14975.399569805772,"d":"14,975"},{"v":15185.959053733563,"d":"15,186"}]
[2009,{"v":56.72996238204607,"d":"57"},{"v":5141.796193474985,"d":"5,142"},{"v":5198.526155857031,"d":"5,199"},null,{"v":77.00002,"d":"77"},{"v":6979.00004,"d":"6,979"},{"v":7056.00006,"d":"7,056"},null,{"v":133.72998238204607,"d":"134"},{"v":12120.796233474985,"d":"12,121"},{"v":12254.526215857031,"d":"12,255"}]
[2010,{"v":14.635445281606664,"d":"15"},{"v":1676.1761697790707,"d":"1,676"},{"v":1690.8116150606766,"d":"1,691"},null,{"v":70.00002,"d":"70"},{"v":8017.00004,"d":"8,017"},{"v":8087.00006,"d":"8,087"},null,{"v":84.63546528160667,"d":"85"},{"v":9693.17620977907,"d":"9,693"},{"v":9777.811675060677,"d":"9,778"}]
[2011,{"v":44.314058059956196,"d":"44"},{"v":3662.1920598014685,"d":"3,662"},{"v":3706.506117861425,"d":"3,707"},null,{"v":67.00002,"d":"67"},{"v":5537.00004,"d":"5,537"},{"v":5604.00006,"d":"5,604"},null,{"v":111.3140780599562,"d":"111"},{"v":9199.192099801468,"d":"9,199"},{"v":9310.506177861425,"d":"9,311"}]
[2012,{"v":11.516414997533147,"d":"12"},{"v":1940.6559034567235,"d":"1,941"},{"v":1952.172318454257,"d":"1,952"},null,{"v":82.00002,"d":"82"},{"v":13818.000039999999,"d":"13,818"},{"v":13900.000059999998,"d":"13,900"},null,{"v":93.51643499753315,"d":"94"},{"v":15758.655943456723,"d":"15,759"},{"v":15852.172378454256,"d":"15,852"}]
[2013,{"v":14.008772146552218,"d":"14"},{"v":2088.265990326192,"d":"2,088"},{"v":2102.2747624727454,"d":"2,102"},null,{"v":73.00002,"d":"73"},{"v":10882.000039999999,"d":"10,882"},{"v":10955.000059999998,"d":"10,955"},null,{"v":87.00879214655222,"d":"87"},{"v":12970.266030326191,"d":"12,970"},{"v":13057.274822472744,"d":"13,057"}]
[2014,{"v":14.241502091387986,"d":"14"},{"v":1584.2910239732337,"d":"1,584"},{"v":1598.5325260646223,"d":"1,599"},null,{"v":94.00002,"d":"94"},{"v":10457.000039999999,"d":"10,457"},{"v":10551.000059999998,"d":"10,551"},null,{"v":108.24152209138799,"d":"108"},{"v":12041.291063973233,"d":"12,041"},{"v":12149.53258606462,"d":"12,150"}]
[2015,{"v":9.838218210690187,"d":"10"},{"v":1439.4066907969682,"d":"1,439"},{"v":1449.2449090076589,"d":"1,449"},null,{"v":91.00002,"d":"91"},{"v":13314.000039999999,"d":"13,314"},{"v":13405.000059999998,"d":"13,405"},null,{"v":100.83823821069019,"d":"101"},{"v":14753.406730796967,"d":"14,753"},{"v":14854.244969007657,"d":"14,854"}]
[2016,{"v":7.251553449334168,"d":"7"},{"v":1726.9436023314338,"d":"1,727"},{"v":1734.1951557807697,"d":"1,734"},null,{"v":81.00002,"d":"81"},{"v":19290.00004,"d":"19,290"},{"v":19371.00006,"d":"19,371"},null,{"v":88.25157344933417,"d":"88"},{"v":21016.943642331433,"d":"21,017"},{"v":21105.19521578077,"d":"21,105"}]
[2017,{"v":7.892959377948046,"d":"8"},{"v":1091.0496099992815,"d":"1,091"},{"v":1098.94256937723,"d":"1,099"},null,{"v":91.00002,"d":"91"},{"v":12579.000039999999,"d":"12,579"},{"v":12670.000059999998,"d":"12,670"},null,{"v":98.89297937794805,"d":"99"},{"v":13670.04964999928,"d":"13,670"},{"v":13768.942629377229,"d":"13,769"}]
[2018,{"v":9.845187586450493,"d":"10"},{"v":1248.1634382047505,"d":"1,248"},{"v":1258.0086257912008,"d":"1,258"},null,{"v":86.00002,"d":"86"},{"v":10903.000039999999,"d":"10,903"},{"v":10989.000059999998,"d":"10,989"},null,{"v":95.8452075864505,"d":"96"},{"v":12151.16347820475,"d":"12,151"},{"v":12247.0086857912,"d":"12,247"}]
[2019,{"v":8.996473739655954,"d":"9"},{"v":1180.5370179383954,"d":"1,181"},{"v":1189.533491678052,"d":"1,190"},null,{"v":90.00002,"d":"90"},{"v":11810.000039999999,"d":"11,810"},{"v":11900.000059999998,"d":"11,900"},null,{"v":98.99649373965596,"d":"99"},{"v":12990.537057938394,"d":"12,991"},{"v":13089.53355167805,"d":"13,090"}]
[2020,{"v":10.312875628131636,"d":"10"},{"v":1546.0832926729017,"d":"1,546"},{"v":1556.3961683010348,"d":"1,556"},null,{"v":73.00002,"d":"73"},{"v":10944.000039999999,"d":"10,944"},{"v":11017.000059999998,"d":"11,017"},null,{"v":83.31289562813164,"d":"83"},{"v":12490.0833326729,"d":"12,490"},{"v":12573.396228301033,"d":"12,573"}]
[2021,{"v":27.570039011056792,"d":"28"},{"v":1707.2393390831085,"d":"1,707"},{"v":1734.8093780941654,"d":"1,735"},null,{"v":118.00002,"d":"118"},{"v":7307.00004,"d":"7,307"},{"v":7425.00006,"d":"7,425"},null,{"v":145.5700590110568,"d":"146"},{"v":9014.239379083108,"d":"9,014"},{"v":9159.809438094166,"d":"9,160"}]
["2022f/",{"v":8.492648231095089,"d":"8"},{"v":1772.5073517689052,"d":"1,773"},{"v":1781,"d":"1,781"},null,{"v":83.00002,"d":"83"},{"v":17323.00004,"d":"17,323"},{"v":17406.00006,"d":"17,406"},null,{"v":91.4926682310951,"d":"91"},{"v":19095.507391768904,"d":"19,096"},{"v":19187.00006,"d":"19,187"}]
["2023f/",{"v":8.073155907721798,"d":"8"},{"v":997.9268440922788,"d":"998"},{"v":1006.0000000000018,"d":"1,006"},null,{"v":95.00002,"d":"95"},{"v":11743.000039999999,"d":"11,743"},{"v":11838.000059999998,"d":"11,838"},null,{"v":103.0731759077218,"d":"103"},{"v":12740.926884092278,"d":"12,741"},{"v":12844.00006,"d":"12,844"}]
[2024,"NA","NA","NA",null,"NA","NA","NA",null,"NA","NA","NA"]
["GOAL",{"$nulls":5},{"v":14900,"d":"14,900"}]
[]
["Hood Canald/"]
[1981,{"v":10316.392510744354,"d":"10,316"},{"v":404.5646332616419,"d":"405"},{"v":10720.957144005995,"d":"10,721"},null,{"v":3055.9598394300783,"d":"3,056"},{"v":190.04060056992216,"d":"190"},{"v":3246.0004400000007,"d":"3,246"},null,{"v":13372.352350174433,"d":"13,372"},{"v":594.6052338315641,"d":"595"},{"v":13966.957584005997,"d":"13,967"}]
[1982,{"v":5665.6979755075745,"d":"5,666"},{"v":387.62411527037193,"d":"388"},{"v":6053.322090777947,"d":"6,053"},null,{"v":5165.119822381704,"d":"5,165"},{"v":220.88061761829655,"d":"221"},{"v":5386.00044,"d":"5,386"},null,{"v":10830.817797889278,"d":"10,831"},{"v":608.5047328886685,"d":"609"},{"v":11439.322530777947,"d":"11,439"}]
[1983,{"v":3975.047380682075,"d":"3,975"},{"v":610.7503606725905,"d":"611"},{"v":4585.797741354665,"d":"4,586"},null,{"v":2862.5505632999007,"d":"2,863"},{"v":894.449876700099,"d":"894"},{"v":3757.00044,"d":"3,757"},null,{"v":6837.597943981976,"d":"6,838"},{"v":1505.2002373726896,"d":"1,505"},{"v":8342.798181354665,"d":"8,343"}]
[1984,{"v":9307.016402113844,"d":"9,307"},{"v":721.417739403521,"d":"721"},{"v":10028.434141517366,"d":"10,028"},null,{"v":6012.801810645544,"d":"6,013"},{"v":1238.198629354457,"d":"1,238"},{"v":7251.000440000001,"d":"7,251"},null,{"v":15319.818212759388,"d":"15,320"},{"v":1959.6163687579779,"d":"1,960"},{"v":17279.434581517366,"d":"17,279"}]
[1985,{"v":10083.563066870393,"d":"10,084"},{"v":1532.5257258530714,"d":"1,533"},{"v":11616.088792723463,"d":"11,616"},null,{"v":6834.693208077365,"d":"6,835"},{"v":2642.307231922636,"d":"2,642"},{"v":9477.000440000002,"d":"9,477"},null,{"v":16918.25627494776,"d":"16,918"},{"v":4174.832957775708,"d":"4,175"},{"v":21093.089232723465,"d":"21,093"}]
[1986,{"v":14469.466093663379,"d":"14,469"},{"v":901.9519894009779,"d":"902"},{"v":15371.418083064356,"d":"15,371"},null,{"v":7035.243174817913,"d":"7,035"},{"v":468.75726518208756,"d":"469"},{"v":7504.000440000001,"d":"7,504"},null,{"v":21504.709268481292,"d":"21,505"},{"v":1370.7092545830656,"d":"1,371"},{"v":22875.418523064356,"d":"22,875"}]
[1987,{"v":17629.389164398377,"d":"17,629"},{"v":853.363008257418,"d":"853"},{"v":18482.752172655797,"d":"18,483"},null,{"v":8220.503091250637,"d":"8,221"},{"v":413.49734874936394,"d":"413"},{"v":8634.000440000002,"d":"8,634"},null,{"v":25849.892255649014,"d":"25,850"},{"v":1266.860357006782,"d":"1,267"},{"v":27116.752612655797,"d":"27,117"}]
[1988,{"v":15741.385941884133,"d":"15,741"},{"v":696.0627982841171,"d":"696"},{"v":16437.44874016825,"d":"16,437"},null,{"v":12160.72784448202,"d":"12,161"},{"v":529.2725955179786,"d":"529"},{"v":12690.00044,"d":"12,690"},null,{"v":27902.113786366153,"d":"27,902"},{"v":1225.3353938020957,"d":"1,225"},{"v":29127.44918016825,"d":"29,127"}]
[1989,{"v":17197.493440133054,"d":"17,197"},{"v":724.4751707053606,"d":"724"},{"v":17921.968610838412,"d":"17,922"},null,{"v":7119.425565895108,"d":"7,119"},{"v":375.5748741048936,"d":"376"},{"v":7495.000440000002,"d":"7,495"},null,{"v":24316.91900602816,"d":"24,317"},{"v":1100.0500448102541,"d":"1,100"},{"v":25416.969050838416,"d":"25,417"}]
[1990,{"v":8468.91694935152,"d":"8,469"},{"v":254.36277683037588,"d":"254"},{"v":8723.279726181896,"d":"8,723"},null,{"v":3957.5774943726396,"d":"3,958"},{"v":164.4229456273602,"d":"164"},{"v":4122.00044,"d":"4,122"},null,{"v":12426.49444372416,"d":"12,426"},{"v":418.7857224577361,"d":"419"},{"v":12845.280166181896,"d":"12,845"}]
[1991,{"v":11227.109418257747,"d":"11,227"},{"v":515.6448519214315,"d":"516"},{"v":11742.75427017918,"d":"11,743"},null,{"v":7134.3076954930975,"d":"7,134"},{"v":359.69274450690375,"d":"360"},{"v":7494.000440000002,"d":"7,494"},null,{"v":18361.417113750846,"d":"18,361"},{"v":875.3375964283352,"d":"875"},{"v":19236.754710179182,"d":"19,237"}]
[1992,{"v":573.7929518565306,"d":"574"},{"v":57.50561720263667,"d":"58"},{"v":631.2985690591672,"d":"631"},null,{"v":1953.0831831424107,"d":"1,953"},{"v":220.91725685758908,"d":"221"},{"v":2174.00044,"d":"2,174"},null,{"v":2526.8761349989413,"d":"2,527"},{"v":278.42287406022575,"d":"278"},{"v":2805.299009059167,"d":"2,805"}]
[1993,{"v":944.995298740786,"d":"945"},{"v":66.88515112768204,"d":"67"},{"v":1011.8804498684676,"d":"1,012"},null,{"v":3457.751314202078,"d":"3,458"},{"v":338.24912579792186,"d":"338"},{"v":3796.00044,"d":"3,796"},null,{"v":4402.746612942864,"d":"4,403"},{"v":405.1342769256039,"d":"405"},{"v":4807.880889868467,"d":"4,808"}]
[1994,{"v":375.4369177254339,"d":"375"},{"v":40.161473703309014,"d":"40"},{"v":415.5983914287426,"d":"416"},null,{"v":2934.6517311570474,"d":"2,935"},{"v":499.3487088429527,"d":"499"},{"v":3434.0004400000003,"d":"3,434"},null,{"v":3310.0886488824813,"d":"3,310"},{"v":539.5101825462617,"d":"540"},{"v":3849.598831428743,"d":"3,850"}]
[1995,{"v":214.53469563131512,"d":"215"},{"v":18.409102502276255,"d":"18"},{"v":232.94379813359228,"d":"233"},null,{"v":9095.519028306775,"d":"9,096"},{"v":780.4814116932235,"d":"780"},{"v":9876.000439999998,"d":"9,876"},null,{"v":9310.05372393809,"d":"9,310"},{"v":798.8905141954998,"d":"799"},{"v":10108.94423813359,"d":"10,109"}]
[1996,{"v":40.612491990758826,"d":"41"},{"v":0.8191674281288783,"d":"1"},{"v":41.43165941888765,"d":"41"},null,{"v":7969.25786669903,"d":"7,969"},{"v":160.74257330097103,"d":"161"},{"v":8130.000440000002,"d":"8,130"},null,{"v":8009.870358689789,"d":"8,010"},{"v":161.5617407290999,"d":"162"},{"v":8171.432099418889,"d":"8,171"}]
[1997,{"v":125.90170687592399,"d":"126"},{"v":1.043863405023572,"d":"1"},{"v":126.94557028094732,"d":"127"},null,{"v":7687.970495103479,"d":"7,688"},{"v":64.02994489652153,"d":"64"},{"v":7752.000440000001,"d":"7,752"},null,{"v":7813.872201979403,"d":"7,814"},{"v":65.0738083015451,"d":"65"},{"v":7878.946010280948,"d":"7,879"}]
[1998,{"v":1198.5085637850425,"d":"1,199"},{"v":6.067596589217146,"d":"6"},{"v":1204.5761603742594,"d":"1,205"},null,{"v":14460.891939683172,"d":"14,461"},{"v":614.1085003168271,"d":"614"},{"v":15075.000439999998,"d":"15,075"},null,{"v":15659.400503468214,"d":"15,659"},{"v":620.1760969060442,"d":"620"},{"v":16279.576600374257,"d":"16,280"}]
[1999,{"v":7612.538806855078,"d":"7,613"},{"v":36.05354663587673,"d":"36"},{"v":7648.592353490956,"d":"7,649"},null,{"v":19834.77406928116,"d":"19,835"},{"v":1420.2263707188372,"d":"1,420"},{"v":21255.000439999996,"d":"21,255"},null,{"v":27447.31287613624,"d":"27,447"},{"v":1456.279917354714,"d":"1,456"},{"v":28903.592793490952,"d":"28,904"}]
[2000,{"v":9464.318248321488,"d":"9,464"},{"v":49.07642683891561,"d":"49"},{"v":9513.394675160405,"d":"9,513"},null,{"v":9624.116377490755,"d":"9,624"},{"v":984.8840625092454,"d":"985"},{"v":10609.00044,"d":"10,609"},null,{"v":19088.434625812242,"d":"19,088"},{"v":1033.960489348161,"d":"1,034"},{"v":20122.395115160405,"d":"20,122"}]
[2001,{"v":9920.81887142434,"d":"9,921"},{"v":126.36686720755029,"d":"126"},{"v":10047.185738631892,"d":"10,047"},null,{"v":14708.401157904766,"d":"14,708"},{"v":1334.5992820952335,"d":"1,335"},{"v":16043.00044,"d":"16,043"},null,{"v":24629.220029329106,"d":"24,629"},{"v":1460.9661493027838,"d":"1,461"},{"v":26090.18617863189,"d":"26,090"}]
[2002,{"v":15035.675696432312,"d":"15,036"},{"v":29.891420572810148,"d":"30"},{"v":15065.567117005121,"d":"15,066"},null,{"v":14740.119906942577,"d":"14,740"},{"v":435.8805330574233,"d":"436"},{"v":15176.00044,"d":"15,176"},null,{"v":29775.79560337489,"d":"29,776"},{"v":465.77195363023344,"d":"466"},{"v":30241.56755700512,"d":"30,242"}]
[2003,{"v":17827.250194734,"d":"17,827"},{"v":35.25938528202141,"d":"35"},{"v":17862.509580016016,"d":"17,863"},null,{"v":14635.56791883056,"d":"14,636"},{"v":531.4325211694397,"d":"531"},{"v":15167.00044,"d":"15,167"},null,{"v":32462.818113564557,"d":"32,463"},{"v":566.6919064514611,"d":"567"},{"v":33029.510020016016,"d":"33,030"}]
[2004,{"v":14834.180091189013,"d":"14,834"},{"v":172.54503302717967,"d":"173"},{"v":15006.725124216195,"d":"15,007"},null,{"v":17759.13481393394,"d":"17,759"},{"v":1572.8656260660587,"d":"1,573"},{"v":19332.000439999996,"d":"19,332"},null,{"v":32593.314905122952,"d":"32,593"},{"v":1745.4106590932383,"d":"1,745"},{"v":34338.72556421619,"d":"34,339"}]
[2005,{"v":31921.402085751735,"d":"31,921"},{"v":167.24977071810167,"d":"167"},{"v":32088.651856469838,"d":"32,089"},null,{"v":21545.1234363944,"d":"21,545"},{"v":1003.877003605601,"d":"1,004"},{"v":22549.00044,"d":"22,549"},null,{"v":53466.525522146134,"d":"53,467"},{"v":1171.1267743237026,"d":"1,171"},{"v":54637.65229646984,"d":"54,638"}]
[2006,{"v":22445.778497211715,"d":"22,446"},{"v":106.75148424089195,"d":"107"},{"v":22552.529981452604,"d":"22,553"},null,{"v":16800.78364482324,"d":"16,801"},{"v":495.2167951767577,"d":"495"},{"v":17296.00044,"d":"17,296"},null,{"v":39246.562142034956,"d":"39,247"},{"v":601.9682794176497,"d":"602"},{"v":39848.530421452604,"d":"39,849"}]
[2007,{"v":15594.822547822281,"d":"15,595"},{"v":44.116323848502304,"d":"44"},{"v":15638.938871670784,"d":"15,639"},null,{"v":16602.923332034054,"d":"16,603"},{"v":187.0771079659463,"d":"187"},{"v":16790.00044,"d":"16,790"},null,{"v":32197.745879856335,"d":"32,198"},{"v":231.19343181444862,"d":"231"},{"v":32428.939311670783,"d":"32,429"}]
[2008,{"v":16710.841855481813,"d":"16,711"},{"v":98.45221476938849,"d":"98"},{"v":16809.294070251202,"d":"16,809"},null,{"v":16178.412460901205,"d":"16,178"},{"v":450.5879790987952,"d":"451"},{"v":16629.00044,"d":"16,629"},null,{"v":32889.25431638302,"d":"32,889"},{"v":549.0401938681837,"d":"549"},{"v":33438.2945102512,"d":"33,438"}]
[2009,{"v":21087.784742090975,"d":"21,088"},{"v":92.01007737844043,"d":"92"},{"v":21179.794819469415,"d":"21,180"},null,{"v":16564.142587478556,"d":"16,564"},{"v":312.85785252144234,"d":"313"},{"v":16877.00044,"d":"16,877"},null,{"v":37651.92732956953,"d":"37,652"},{"v":404.86792989988277,"d":"405"},{"v":38056.795259469414,"d":"38,057"}]
[2010,{"v":22356.534562395307,"d":"22,357"},{"v":152.173578507755,"d":"152"},{"v":22508.70814090306,"d":"22,509"},null,{"v":15007.552644640145,"d":"15,008"},{"v":289.44779535985384,"d":"289"},{"v":15297.00044,"d":"15,297"},null,{"v":37364.08720703545,"d":"37,364"},{"v":441.62137386760884,"d":"442"},{"v":37805.70858090306,"d":"37,806"}]
[2011,{"v":36020.61206871347,"d":"36,021"},{"v":41.07360476602594,"d":"41"},{"v":36061.68567347949,"d":"36,062"},null,{"v":26509.603986572958,"d":"26,510"},{"v":366.3964534270398,"d":"366"},{"v":26876.000439999996,"d":"26,876"},null,{"v":62530.21605528642,"d":"62,530"},{"v":407.4700581930657,"d":"407"},{"v":62937.68611347949,"d":"62,938"}]
[2012,{"v":55216.84984285631,"d":"55,217"},{"v":132.30738359650888,"d":"132"},{"v":55349.15722645282,"d":"55,349"},null,{"v":29652.337923050676,"d":"29,652"},{"v":608.6625169493244,"d":"609"},{"v":30261.00044,"d":"30,261"},null,{"v":84869.18776590699,"d":"84,869"},{"v":740.9699005458333,"d":"741"},{"v":85610.15766645283,"d":"85,610"}]
[2013,{"v":45317.92948824456,"d":"45,318"},{"v":115.05251341862538,"d":"115"},{"v":45432.982001663186,"d":"45,433"},null,{"v":25421.25909512472,"d":"25,421"},{"v":930.7413448752828,"d":"931"},{"v":26352.00044,"d":"26,352"},null,{"v":70739.18858336928,"d":"70,739"},{"v":1045.7938582939082,"d":"1,046"},{"v":71784.98244166319,"d":"71,785"}]
[2014,{"v":15889.926281779073,"d":"15,890"},{"v":109.17905928714794,"d":"109"},{"v":15999.10534106622,"d":"15,999"},null,{"v":8871.432932753989,"d":"8,871"},{"v":303.56750724601045,"d":"304"},{"v":9175.00044,"d":"9,175"},null,{"v":24761.359214533062,"d":"24,761"},{"v":412.7465665331584,"d":"413"},{"v":25174.10578106622,"d":"25,174"}]
[2015,{"v":23679.54932687545,"d":"23,680"},{"v":160.9591188944944,"d":"161"},{"v":23840.508445769945,"d":"23,841"},null,{"v":8697.993414313585,"d":"8,698"},{"v":405.00702568641464,"d":"405"},{"v":9103.00044,"d":"9,103"},null,{"v":32377.542741189034,"d":"32,378"},{"v":565.966144580909,"d":"566"},{"v":32943.508885769945,"d":"32,944"}]
[2016,{"v":38911.245681444816,"d":"38,911"},{"v":109.01645374153577,"d":"109"},{"v":39020.26213518635,"d":"39,020"},null,{"v":26649.96008908863,"d":"26,650"},{"v":547.0403509113718,"d":"547"},{"v":27197.00044,"d":"27,197"},null,{"v":65561.20577053344,"d":"65,561"},{"v":656.0568046529075,"d":"656"},{"v":66217.26257518635,"d":"66,217"}]
[2017,{"v":57701.19243559044,"d":"57,701"},{"v":327.7245573289946,"d":"328"},{"v":58028.91699291943,"d":"58,029"},null,{"v":41953.00016,"d":"41,953"},{"v":997.0002799999999,"d":"997"},{"v":42950.00044,"d":"42,950"},null,{"v":99654.19259559044,"d":"99,654"},{"v":1324.7248373289945,"d":"1,325"},{"v":100978.91743291944,"d":"100,979"}]
[2018,{"v":44133.5733598458,"d":"44,134"},{"v":32.691199427392064,"d":"33"},{"v":44166.264559273186,"d":"44,166"},null,{"v":28183.00016,"d":"28,183"},{"v":162.00028,"d":"162"},{"v":28345.00044,"d":"28,345"},null,{"v":72316.5735198458,"d":"72,317"},{"v":194.69147942739207,"d":"195"},{"v":72511.26499927319,"d":"72,511"}]
[2019,{"v":47396.06699685048,"d":"47,396"},{"v":251.43606231906557,"d":"251"},{"v":47647.50305916954,"d":"47,648"},null,{"v":14488.00016,"d":"14,488"},{"v":371.0002799999999,"d":"371"},{"v":14859.00044,"d":"14,859"},null,{"v":61884.06715685048,"d":"61,884"},{"v":622.4363423190655,"d":"622"},{"v":62506.50349916954,"d":"62,507"}]
[2020,{"v":18141.616674127985,"d":"18,142"},{"v":12.12732698977642,"d":"12"},{"v":18153.74400111776,"d":"18,154"},null,{"v":5422.0001600000005,"d":"5,422"},{"v":37.000280000000004,"d":"37"},{"v":5459.000440000001,"d":"5,459"},null,{"v":23563.616834127984,"d":"23,564"},{"v":49.127606989776424,"d":"49"},{"v":23612.74444111776,"d":"23,613"}]
[2021,{"v":32617.050110160922,"d":"32,617"},{"v":106.38318797368913,"d":"106"},{"v":32723.433298134612,"d":"32,723"},null,{"v":21587.00016,"d":"21,587"},{"v":290.00028,"d":"290"},{"v":21877.00044,"d":"21,877"},null,{"v":54204.05027016092,"d":"54,204"},{"v":396.3834679736891,"d":"396"},{"v":54600.43373813461,"d":"54,600"}]
["2022f/",{"v":37491.22952942841,"d":"37,491"},{"v":151.7704705715737,"d":"152"},{"v":37642.99999999999,"d":"37,643"},null,{"v":37022.000159999996,"d":"37,022"},{"v":1124.00028,"d":"1,124"},{"v":38146.000439999996,"d":"38,146"},null,{"v":74513.22968942841,"d":"74,513"},{"v":1275.7707505715737,"d":"1,276"},{"v":75789.00043999999,"d":"75,789"}]
["2023f/",{"v":33076.99004022626,"d":"33,077"},{"v":363.009959773732,"d":"363"},{"v":33439.999999999985,"d":"33,440"},null,{"v":27457.00016,"d":"27,457"},{"v":1002.0002799999999,"d":"1,002"},{"v":28459.00044,"d":"28,459"},null,{"v":60533.99020022626,"d":"60,534"},{"v":1365.0102397737319,"d":"1,365"},{"v":61899.00043999999,"d":"61,899"}]
[2024,"NA","NA","NA",null,"NA","NA","NA",null,"NA","NA","NA"]
["GOAL",{"$nulls":4},{"v":3400,"d":"3,400"}]
[]
["Stillaguamish-Snohomishe/"]
[1981,{"v":7649.219101513574,"d":"7,649"},{"v":9556.036222750607,"d":"9,556"},{"v":17205.25532426418,"d":"17,205"},null,{"v":3661.0000600000003,"d":"3,661"},{"v":3960.00012,"d":"3,960"},{"v":7621.000180000001,"d":"7,621"},null,{"v":11310.219161513574,"d":"11,310"},{"v":13516.036342750607,"d":"13,516"},{"v":24826.255504264183,"d":"24,826"}]
[1982,{"v":2597.3224383829656,"d":"2,597"},{"v":7596.100875066164,"d":"7,596"},{"v":10193.423313449131,"d":"10,193"},null,{"v":2326.0000600000003,"d":"2,326"},{"v":5271.000120000001,"d":"5,271"},{"v":7597.000180000001,"d":"7,597"},null,{"v":4923.322498382966,"d":"4,923"},{"v":12867.100995066165,"d":"12,867"},{"v":17790.423493449132,"d":"17,790"}]
[1983,{"v":1849.5077970339594,"d":"1,850"},{"v":7810.214213719088,"d":"7,810"},{"v":9659.722010753047,"d":"9,660"},null,{"v":1173.0000599999998,"d":"1,173"},{"v":4924.000120000001,"d":"4,924"},{"v":6097.000180000001,"d":"6,097"},null,{"v":3022.507857033959,"d":"3,023"},{"v":12734.214333719088,"d":"12,734"},{"v":15756.722190753047,"d":"15,757"}]
[1984,{"v":2307.9093316395283,"d":"2,308"},{"v":6615.241587287594,"d":"6,615"},{"v":8923.150918927124,"d":"8,923"},null,{"v":1356.0000599999998,"d":"1,356"},{"v":3858.00012,"d":"3,858"},{"v":5214.00018,"d":"5,214"},null,{"v":3663.909391639528,"d":"3,664"},{"v":10473.241707287594,"d":"10,473"},{"v":14137.151098927123,"d":"14,137"}]
[1985,{"v":2039.3871301925778,"d":"2,039"},{"v":5803.111971495673,"d":"5,803"},{"v":7842.49910168825,"d":"7,842"},null,{"v":1435.0000599999998,"d":"1,435"},{"v":6139.000120000001,"d":"6,139"},{"v":7574.000180000001,"d":"7,574"},null,{"v":3474.3871901925777,"d":"3,474"},{"v":11942.112091495674,"d":"11,942"},{"v":15416.499281688251,"d":"15,416"}]
[1986,{"v":7531.100244641371,"d":"7,531"},{"v":3292.7870606159613,"d":"3,293"},{"v":10823.887305257334,"d":"10,824"},null,{"v":932.0000599999998,"d":"932"},{"v":5811.000120000001,"d":"5,811"},{"v":6743.000180000001,"d":"6,743"},null,{"v":8463.100304641372,"d":"8,463"},{"v":9103.787180615962,"d":"9,104"},{"v":17566.887485257335,"d":"17,567"}]
[1987,{"v":1401.2646934564182,"d":"1,401"},{"v":2749.8935187893167,"d":"2,750"},{"v":4151.158212245735,"d":"4,151"},null,{"v":1227.0000599999998,"d":"1,227"},{"v":6010.000120000001,"d":"6,010"},{"v":7237.000180000001,"d":"7,237"},null,{"v":2628.264753456418,"d":"2,628"},{"v":8759.893638789317,"d":"8,760"},{"v":11388.158392245736,"d":"11,388"}]
[1988,{"v":2891.609084937505,"d":"2,892"},{"v":3334.8862525921186,"d":"3,335"},{"v":6226.495337529623,"d":"6,226"},null,{"v":1154.8455622857825,"d":"1,155"},{"v":5500.029732003352,"d":"5,500"},{"v":6654.875294289135,"d":"6,655"},null,{"v":4046.454647223288,"d":"4,046"},{"v":8834.915984595471,"d":"8,835"},{"v":12881.370631818758,"d":"12,881"}]
[1989,{"v":5047.610583984494,"d":"5,048"},{"v":3291.2283146251293,"d":"3,291"},{"v":8338.838898609623,"d":"8,339"},null,{"v":1526.4909194408435,"d":"1,526"},{"v":4207.506449376028,"d":"4,208"},{"v":5733.997368816872,"d":"5,734"},null,{"v":6574.101503425338,"d":"6,574"},{"v":7498.734764001158,"d":"7,499"},{"v":14072.836267426495,"d":"14,073"}]
[1990,{"v":2212.2538525812824,"d":"2,212"},{"v":5994.8315349924815,"d":"5,995"},{"v":8207.085387573765,"d":"8,207"},null,{"v":1093.8930782400062,"d":"1,094"},{"v":5815.7323550934125,"d":"5,816"},{"v":6909.625433333418,"d":"6,910"},null,{"v":3306.1469308212886,"d":"3,306"},{"v":11810.563890085894,"d":"11,811"},{"v":15116.710820907183,"d":"15,117"}]
[1991,{"v":1659.7678352681844,"d":"1,660"},{"v":4477.494628819044,"d":"4,477"},{"v":6137.262464087228,"d":"6,137"},null,{"v":747.9059719486606,"d":"748"},{"v":4644.924233358623,"d":"4,645"},{"v":5392.830205307283,"d":"5,393"},null,{"v":2407.673807216845,"d":"2,408"},{"v":9122.418862177667,"d":"9,122"},{"v":11530.092669394511,"d":"11,530"}]
[1992,{"v":3261.6601430649816,"d":"3,262"},{"v":605.7919013473961,"d":"606"},{"v":3867.452044412378,"d":"3,867"},null,{"v":1169.0295006058407,"d":"1,169"},{"v":3561.8977069196612,"d":"3,562"},{"v":4730.927207525502,"d":"4,731"},null,{"v":4430.689643670822,"d":"4,431"},{"v":4167.689608267057,"d":"4,168"},{"v":8598.37925193788,"d":"8,598"}]
[1993,{"v":3722.3686071915563,"d":"3,722"},{"v":456.67854396970597,"d":"457"},{"v":4179.047151161262,"d":"4,179"},null,{"v":2394.327136546817,"d":"2,394"},{"v":4726.880159967027,"d":"4,727"},{"v":7121.207296513844,"d":"7,121"},null,{"v":6116.6957437383735,"d":"6,117"},{"v":5183.558703936733,"d":"5,184"},{"v":11300.254447675106,"d":"11,300"}]
[1994,{"v":4642.65485856258,"d":"4,643"},{"v":349.0590919389242,"d":"349"},{"v":4991.713950501504,"d":"4,992"},null,{"v":4376.132151799588,"d":"4,376"},{"v":4204.039204781387,"d":"4,204"},{"v":8580.171356580975,"d":"8,580"},null,{"v":9018.787010362168,"d":"9,019"},{"v":4553.098296720311,"d":"4,553"},{"v":13571.885307082479,"d":"13,572"}]
[1995,{"v":8276.981236449676,"d":"8,277"},{"v":767.6426636843044,"d":"768"},{"v":9044.623900133978,"d":"9,045"},null,{"v":4217.780453244397,"d":"4,218"},{"v":4739.722905561286,"d":"4,740"},{"v":8957.503358805683,"d":"8,958"},null,{"v":12494.761689694073,"d":"12,495"},{"v":5507.36556924559,"d":"5,507"},{"v":18002.12725893966,"d":"18,002"}]
[1996,{"v":10743.36236335797,"d":"10,743"},{"v":691.2932851610713,"d":"691"},{"v":11434.655648519041,"d":"11,435"},null,{"v":5191.527304855449,"d":"5,192"},{"v":7071.830575644386,"d":"7,072"},{"v":12263.357880499836,"d":"12,263"},null,{"v":15934.889668213418,"d":"15,935"},{"v":7763.123860805457,"d":"7,763"},{"v":23698.013529018877,"d":"23,698"}]
[1997,{"v":8811.212850622915,"d":"8,811"},{"v":191.5674920799438,"d":"192"},{"v":9002.78034270286,"d":"9,003"},null,{"v":13154.709674490916,"d":"13,155"},{"v":4361.040108121743,"d":"4,361"},{"v":17515.74978261266,"d":"17,516"},null,{"v":21965.92252511383,"d":"21,966"},{"v":4552.607600201687,"d":"4,553"},{"v":26518.53012531552,"d":"26,519"}]
[1998,{"v":2682.6494060722634,"d":"2,683"},{"v":4626.309411440894,"d":"4,626"},{"v":7308.958817513156,"d":"7,309"},null,{"v":9265.962869924006,"d":"9,266"},{"v":3831.195344282112,"d":"3,831"},{"v":13097.158214206118,"d":"13,097"},null,{"v":11948.61227599627,"d":"11,949"},{"v":8457.504755723006,"d":"8,458"},{"v":20406.117031719274,"d":"20,406"}]
[1999,{"v":5300.532145584563,"d":"5,301"},{"v":10185.011078892141,"d":"10,185"},{"v":15485.543224476705,"d":"15,486"},null,{"v":8015.672982857667,"d":"8,016"},{"v":3042.448735238445,"d":"3,042"},{"v":11058.121718096112,"d":"11,058"},null,{"v":13316.20512844223,"d":"13,316"},{"v":13227.459814130587,"d":"13,227"},{"v":26543.664942572817,"d":"26,544"}]
[2000,{"v":2770.413500015111,"d":"2,770"},{"v":5015.005774715428,"d":"5,015"},{"v":7785.419274730541,"d":"7,785"},null,{"v":5602.9328435410625,"d":"5,603"},{"v":4619.991483012836,"d":"4,620"},{"v":10222.924326553899,"d":"10,223"},null,{"v":8373.346343556173,"d":"8,373"},{"v":9634.997257728264,"d":"9,635"},{"v":18008.34360128444,"d":"18,008"}]
[2001,{"v":5034.544584067098,"d":"5,035"},{"v":468.8234454487565,"d":"469"},{"v":5503.368029515854,"d":"5,503"},null,{"v":3217.6973644412415,"d":"3,218"},{"v":7676.361009925324,"d":"7,676"},{"v":10894.058374366565,"d":"10,894"},null,{"v":8252.24194850834,"d":"8,252"},{"v":8145.18445537408,"d":"8,145"},{"v":16397.42640388242,"d":"16,397"}]
[2002,{"v":1835.833363201661,"d":"1,836"},{"v":3737.26188452775,"d":"3,737"},{"v":5573.095247729412,"d":"5,573"},null,{"v":3241.511769487951,"d":"3,242"},{"v":8669.367493105578,"d":"8,669"},{"v":11910.879262593528,"d":"11,911"},null,{"v":5077.345132689612,"d":"5,077"},{"v":12406.629377633328,"d":"12,407"},{"v":17483.97451032294,"d":"17,484"}]
[2003,{"v":3248.8208983557943,"d":"3,249"},{"v":6120.574777374182,"d":"6,121"},{"v":9369.395675729977,"d":"9,369"},null,{"v":6214.686743496195,"d":"6,215"},{"v":6316.5918516847705,"d":"6,317"},{"v":12531.278595180966,"d":"12,531"},null,{"v":9463.50764185199,"d":"9,464"},{"v":12437.166629058953,"d":"12,437"},{"v":21900.674270910942,"d":"21,901"}]
[2004,{"v":2096.2234271846983,"d":"2,096"},{"v":4141.851614972802,"d":"4,142"},{"v":6238.075042157499,"d":"6,238"},null,{"v":6668.218401502773,"d":"6,668"},{"v":12106.645651399504,"d":"12,107"},{"v":18774.864052902278,"d":"18,775"},null,{"v":8764.441828687472,"d":"8,764"},{"v":16248.497266372306,"d":"16,248"},{"v":25012.939095059777,"d":"25,013"}]
[2005,{"v":2772.6892817441476,"d":"2,773"},{"v":5146.465682913334,"d":"5,146"},{"v":7919.15496465748,"d":"7,919"},null,{"v":4437.698769808886,"d":"4,438"},{"v":5138.139221088118,"d":"5,138"},{"v":9575.837990897004,"d":"9,576"},null,{"v":7210.388051553034,"d":"7,210"},{"v":10284.604904001451,"d":"10,285"},{"v":17494.992955554484,"d":"17,495"}]
[2006,{"v":5440.466521645694,"d":"5,440"},{"v":443.18769345124474,"d":"443"},{"v":5883.65421509694,"d":"5,884"},null,{"v":6520.542477022531,"d":"6,521"},{"v":7612.099734894715,"d":"7,612"},{"v":14132.642211917246,"d":"14,133"},null,{"v":11961.008998668225,"d":"11,961"},{"v":8055.28742834596,"d":"8,055"},{"v":20016.296427014186,"d":"20,016"}]
[2007,{"v":5862.069740095552,"d":"5,862"},{"v":174.33306165012345,"d":"174"},{"v":6036.402801745675,"d":"6,036"},null,{"v":8330.970137754803,"d":"8,331"},{"v":3010.9387121509353,"d":"3,011"},{"v":11341.908849905738,"d":"11,342"},null,{"v":14193.039877850355,"d":"14,193"},{"v":3185.2717738010588,"d":"3,185"},{"v":17378.311651651413,"d":"17,378"}]
[2008,{"v":3619.107257541311,"d":"3,619"},{"v":123.44806436934323,"d":"123"},{"v":3742.555321910655,"d":"3,743"},null,{"v":8360.346643597395,"d":"8,360"},{"v":7912.903536402604,"d":"7,913"},{"v":16273.25018,"d":"16,273"},null,{"v":11979.453901138706,"d":"11,979"},{"v":8036.351600771947,"d":"8,036"},{"v":20015.805501910654,"d":"20,016"}]
[2009,{"v":1270.9052521983403,"d":"1,271"},{"v":46.96582126861131,"d":"47"},{"v":1317.871073466952,"d":"1,318"},null,{"v":3769.7421018161403,"d":"3,770"},{"v":2217.662840088621,"d":"2,218"},{"v":5987.4049419047615,"d":"5,987"},null,{"v":5040.647354014481,"d":"5,041"},{"v":2264.6286613572324,"d":"2,265"},{"v":7305.276015371714,"d":"7,305"}]
[2010,{"v":2825.234953356592,"d":"2,825"},{"v":119.01185541903669,"d":"119"},{"v":2944.246808775628,"d":"2,944"},null,{"v":5176.800785919792,"d":"5,177"},{"v":3971.0517750325894,"d":"3,971"},{"v":9147.852560952382,"d":"9,148"},null,{"v":8002.035739276384,"d":"8,002"},{"v":4090.063630451626,"d":"4,090"},{"v":12092.09936972801,"d":"12,092"}]
[2011,{"v":4221.782169324539,"d":"4,222"},{"v":91.4738309276936,"d":"91"},{"v":4313.256000252231,"d":"4,313"},null,{"v":5256.206956551725,"d":"5,256"},{"v":1861.7932234482757,"d":"1,862"},{"v":7118.000180000001,"d":"7,118"},null,{"v":9477.989125876264,"d":"9,478"},{"v":1953.2670543759693,"d":"1,953"},{"v":11431.256180252232,"d":"11,431"}]
[2012,{"v":419.6285315426139,"d":"420"},{"v":28.859665723987746,"d":"29"},{"v":448.4881972666026,"d":"448"},null,{"v":9200.607729616519,"d":"9,201"},{"v":4382.392450383481,"d":"4,382"},{"v":13583.00018,"d":"13,583"},null,{"v":9620.236261159132,"d":"9,620"},{"v":4411.252116107469,"d":"4,411"},{"v":14031.488377266602,"d":"14,031"}]
[2013,{"v":1771.4976868671101,"d":"1,771"},{"v":95.25739391538355,"d":"95"},{"v":1866.7550807824955,"d":"1,867"},null,{"v":6279.533393333333,"d":"6,280"},{"v":3607.466786666667,"d":"3,607"},{"v":9887.00018,"d":"9,887"},null,{"v":8051.031080200443,"d":"8,051"},{"v":3702.7241805820504,"d":"3,703"},{"v":11753.755260782495,"d":"11,754"}]
[2014,{"v":1791.8842032150333,"d":"1,792"},{"v":54.651731302931694,"d":"55"},{"v":1846.5359345179659,"d":"1,847"},null,{"v":6538.680615555555,"d":"6,539"},{"v":2639.3195644444445,"d":"2,639"},{"v":9178.00018,"d":"9,178"},null,{"v":8330.564818770588,"d":"8,331"},{"v":2693.971295747376,"d":"2,694"},{"v":11024.536114517965,"d":"11,025"}]
[2015,{"v":862.4065469788284,"d":"862"},{"v":1515.885360551761,"d":"1,516"},{"v":2378.291907530589,"d":"2,378"},null,{"v":4977.000060000001,"d":"4,977"},{"v":2822.00012,"d":"2,822"},{"v":7799.000180000001,"d":"7,799"},null,{"v":5839.40660697883,"d":"5,839"},{"v":4337.885480551761,"d":"4,338"},{"v":10177.29208753059,"d":"10,177"}]
[2016,{"v":2248.1954298314813,"d":"2,248"},{"v":4092.7430224131476,"d":"4,093"},{"v":6340.938452244631,"d":"6,341"},null,{"v":10166.000059999998,"d":"10,166"},{"v":4154.000120000001,"d":"4,154"},{"v":14320.00018,"d":"14,320"},null,{"v":12414.19548983148,"d":"12,414"},{"v":8246.743142413148,"d":"8,247"},{"v":20660.93863224463,"d":"20,661"}]
[2017,{"v":11635.708848860297,"d":"11,636"},{"v":207.07501254346425,"d":"207"},{"v":11842.783861403761,"d":"11,843"},null,{"v":9344.000059999998,"d":"9,344"},{"v":4826.000120000001,"d":"4,826"},{"v":14170.00018,"d":"14,170"},null,{"v":20979.708908860295,"d":"20,980"},{"v":5033.075132543465,"d":"5,033"},{"v":26012.78404140376,"d":"26,013"}]
[2018,{"v":9742.221337654488,"d":"9,742"},{"v":211.60357420617902,"d":"212"},{"v":9953.824911860667,"d":"9,954"},null,{"v":6475.00006,"d":"6,475"},{"v":3336.00012,"d":"3,336"},{"v":9811.000180000001,"d":"9,811"},null,{"v":16217.221397654488,"d":"16,217"},{"v":3547.603694206179,"d":"3,548"},{"v":19764.825091860668,"d":"19,765"}]
[2019,{"v":9146.880569830348,"d":"9,147"},{"v":75.4181409618518,"d":"75"},{"v":9222.298710792202,"d":"9,222"},null,{"v":6702.00006,"d":"6,702"},{"v":1237.00012,"d":"1,237"},{"v":7939.00018,"d":"7,939"},null,{"v":15848.880629830348,"d":"15,849"},{"v":1312.4182609618517,"d":"1,312"},{"v":17161.2988907922,"d":"17,161"}]
[2020,{"v":3520.4520083444513,"d":"3,520"},{"v":65.96542883826805,"d":"66"},{"v":3586.4174371827194,"d":"3,586"},null,{"v":6275.00006,"d":"6,275"},{"v":3387.00012,"d":"3,387"},{"v":9662.000180000001,"d":"9,662"},null,{"v":9795.452068344452,"d":"9,795"},{"v":3452.965548838268,"d":"3,453"},{"v":13248.41761718272,"d":"13,248"}]
[2021,{"v":1559.0391033448286,"d":"1,559"},{"v":30.633005566643078,"d":"31"},{"v":1589.6721089114708,"d":"1,590"},null,{"v":7485.0000599999985,"d":"7,485"},{"v":2511.0001199999997,"d":"2,511"},{"v":9996.00018,"d":"9,996"},null,{"v":9044.039163344827,"d":"9,044"},{"v":2541.633125566643,"d":"2,542"},{"v":11585.67228891147,"d":"11,586"}]
["2022f/",{"v":3290.464901971749,"d":"3,290"},{"v":108.5350980282501,"d":"109"},{"v":3398.999999999998,"d":"3,399"},null,{"v":9111.00006,"d":"9,111"},{"v":4419.000120000001,"d":"4,419"},{"v":13530.000180000001,"d":"13,530"},null,{"v":12401.46496197175,"d":"12,401"},{"v":4527.535218028251,"d":"4,528"},{"v":16929.00018,"d":"16,929"}]
["2023f/",{"v":1330.8943930215883,"d":"1,331"},{"v":2140.105606978409,"d":"2,140"},{"v":3470.9999999999964,"d":"3,471"},null,{"v":6729.00006,"d":"6,729"},{"v":2032.00012,"d":"2,032"},{"v":8761.000180000001,"d":"8,761"},null,{"v":8059.894453021589,"d":"8,060"},{"v":4172.105726978409,"d":"4,172"},{"v":12232.000179999997,"d":"12,232"}]
[2024,"NA","NA","NA",null,"NA","NA","NA",null,"NA","NA","NA"]
["GOAL",{"$nulls":5},{"v":7300,"d":"7,300"}]
[]
["South Puget Soundg/"]
[1981,{"v":25363.793521586413,"d":"25,364"},{"v":2752.729595317713,"d":"2,753"},{"v":28116.523116904125,"d":"28,117"},null,{"v":25875.760239999996,"d":"25,876"},{"v":1872.0004399999993,"d":"1,872"},{"v":27747.760679999996,"d":"27,748"},null,{"v":51239.55376158641,"d":"51,240"},{"v":4624.7300353177125,"d":"4,625"},{"v":55864.28379690412,"d":"55,864"}]
[1982,{"v":8734.09727447839,"d":"8,734"},{"v":9915.731267294399,"d":"9,916"},{"v":18649.82854177279,"d":"18,650"},null,{"v":15311.480219999994,"d":"15,311"},{"v":4597.00046,"d":"4,597"},{"v":19908.480679999993,"d":"19,908"},null,{"v":24045.577494478384,"d":"24,046"},{"v":14512.731727294398,"d":"14,513"},{"v":38558.30922177278,"d":"38,558"}]
[1983,{"v":23331.069927836143,"d":"23,331"},{"v":16784.088116650688,"d":"16,784"},{"v":40115.15804448682,"d":"40,115"},null,{"v":21913.400219999996,"d":"21,913"},{"v":7840.000460000001,"d":"7,840"},{"v":29753.40068,"d":"29,753"},null,{"v":45244.47014783614,"d":"45,244"},{"v":24624.08857665069,"d":"24,624"},{"v":69868.55872448682,"d":"69,869"}]
[1984,{"v":29543.110543174203,"d":"29,543"},{"v":8169.542366066635,"d":"8,170"},{"v":37712.65290924084,"d":"37,713"},null,{"v":28197.040219999995,"d":"28,197"},{"v":7023.700460000002,"d":"7,024"},{"v":35220.740679999995,"d":"35,221"},null,{"v":57740.1507631742,"d":"57,740"},{"v":15193.242826066637,"d":"15,193"},{"v":72933.39358924083,"d":"72,933"}]
[1985,{"v":25268.583417351056,"d":"25,269"},{"v":8631.16581421893,"d":"8,631"},{"v":33899.74923156998,"d":"33,900"},null,{"v":22167.36022,"d":"22,167"},{"v":6645.600460000002,"d":"6,646"},{"v":28812.96068,"d":"28,813"},null,{"v":47435.943637351054,"d":"47,436"},{"v":15276.766274218931,"d":"15,277"},{"v":62712.70991156998,"d":"62,713"}]
[1986,{"v":21540.159829375832,"d":"21,540"},{"v":6636.123708596824,"d":"6,636"},{"v":28176.283537972653,"d":"28,176"},null,{"v":27279.200219999995,"d":"27,279"},{"v":8463.00044,"d":"8,463"},{"v":35742.200659999995,"d":"35,742"},null,{"v":48819.36004937583,"d":"48,819"},{"v":15099.124148596824,"d":"15,099"},{"v":63918.48419797265,"d":"63,918"}]
[1987,{"v":25162.82435687362,"d":"25,163"},{"v":18504.202654144254,"d":"18,504"},{"v":43667.02701101787,"d":"43,667"},null,{"v":32263.960219999994,"d":"32,264"},{"v":15937.000459999994,"d":"15,937"},{"v":48200.96067999999,"d":"48,201"},null,{"v":57426.784576873615,"d":"57,427"},{"v":34441.20311414425,"d":"34,441"},{"v":91867.98769101786,"d":"91,868"}]
[1988,{"v":30619.394617138583,"d":"30,619"},{"v":24658.43074122336,"d":"24,658"},{"v":55277.82535836195,"d":"55,278"},null,{"v":28022.760219999996,"d":"28,023"},{"v":15713.000459999994,"d":"15,713"},{"v":43735.76067999999,"d":"43,736"},null,{"v":58642.15483713858,"d":"58,642"},{"v":40371.43120122336,"d":"40,371"},{"v":99013.58603836194,"d":"99,014"}]
[1989,{"v":33911.64040409073,"d":"33,912"},{"v":25633.96900570469,"d":"25,634"},{"v":59545.609409795434,"d":"59,546"},null,{"v":53755.720219999996,"d":"53,756"},{"v":22831.000439999996,"d":"22,831"},{"v":76586.72065999999,"d":"76,587"},null,{"v":87667.36062409072,"d":"87,667"},{"v":48464.969445704686,"d":"48,465"},{"v":136132.33006979543,"d":"136,132"}]
[1990,{"v":35150.79417900675,"d":"35,151"},{"v":30735.79070836248,"d":"30,736"},{"v":65886.58488736923,"d":"65,887"},null,{"v":44439.640219999994,"d":"44,440"},{"v":28546.000439999996,"d":"28,546"},{"v":72985.64065999999,"d":"72,986"},null,{"v":79590.43439900674,"d":"79,590"},{"v":59281.79114836248,"d":"59,282"},{"v":138872.22554736922,"d":"138,872"}]
[1991,{"v":21613.678259159013,"d":"21,614"},{"v":13464.649978632733,"d":"13,465"},{"v":35078.32823779175,"d":"35,078"},null,{"v":25928.160219999994,"d":"25,928"},{"v":17533.000439999996,"d":"17,533"},{"v":43461.160659999994,"d":"43,461"},null,{"v":47541.83847915901,"d":"47,542"},{"v":30997.65041863273,"d":"30,998"},{"v":78539.48889779174,"d":"78,539"}]
[1992,{"v":18722.133251939696,"d":"18,722"},{"v":11610.837152238046,"d":"11,611"},{"v":30332.970404177737,"d":"30,333"},null,{"v":21103.160219999998,"d":"21,103"},{"v":12736.200439999999,"d":"12,736"},{"v":33839.36066,"d":"33,839"},null,{"v":39825.293471939694,"d":"39,825"},{"v":24347.037592238044,"d":"24,347"},{"v":64172.331064177735,"d":"64,172"}]
[1993,{"v":21885.377648728347,"d":"21,885"},{"v":7321.989238043049,"d":"7,322"},{"v":29207.366886771393,"d":"29,207"},null,{"v":26702.360219999995,"d":"26,702"},{"v":7946.0004400000025,"d":"7,946"},{"v":34648.36066,"d":"34,648"},null,{"v":48587.73786872834,"d":"48,588"},{"v":15267.989678043052,"d":"15,268"},{"v":63855.72754677139,"d":"63,856"}]
[1994,{"v":23517.34848498783,"d":"23,517"},{"v":12810.036802718518,"d":"12,810"},{"v":36327.38528770634,"d":"36,327"},null,{"v":30644.080219999996,"d":"30,644"},{"v":12400.000440000003,"d":"12,400"},{"v":43044.08066,"d":"43,044"},null,{"v":54161.428704987826,"d":"54,161"},{"v":25210.03724271852,"d":"25,210"},{"v":79371.46594770634,"d":"79,371"}]
[1995,{"v":24995.806366729303,"d":"24,996"},{"v":13810.916680797178,"d":"13,811"},{"v":38806.72304752648,"d":"38,807"},null,{"v":52538.60021999999,"d":"52,539"},{"v":18368.400439999994,"d":"18,368"},{"v":70907.00065999999,"d":"70,907"},null,{"v":77534.4065867293,"d":"77,534"},{"v":32179.31712079717,"d":"32,179"},{"v":109713.72370752647,"d":"109,714"}]
[1996,{"v":18209.933431644306,"d":"18,210"},{"v":12353.31293907145,"d":"12,353"},{"v":30563.24637071576,"d":"30,563"},null,{"v":36539.80022,"d":"36,540"},{"v":24240.200439999997,"d":"24,240"},{"v":60780.00065999999,"d":"60,780"},null,{"v":54749.7336516443,"d":"54,750"},{"v":36593.513379071446,"d":"36,594"},{"v":91343.24703071575,"d":"91,343"}]
[1997,{"v":10958.998514972052,"d":"10,959"},{"v":4753.982288958905,"d":"4,754"},{"v":15712.980803930957,"d":"15,713"},null,{"v":28057.000219999994,"d":"28,057"},{"v":24288.000439999993,"d":"24,288"},{"v":52345.00065999999,"d":"52,345"},null,{"v":39015.99873497205,"d":"39,016"},{"v":29041.982728958897,"d":"29,042"},{"v":68057.98146393095,"d":"68,058"}]
[1998,{"v":12282.808365281846,"d":"12,283"},{"v":7322.118962537053,"d":"7,322"},{"v":19604.9273278189,"d":"19,605"},null,{"v":38883.20022,"d":"38,883"},{"v":22920.80044,"d":"22,921"},{"v":61804.00066,"d":"61,804"},null,{"v":51166.008585281845,"d":"51,166"},{"v":30242.919402537053,"d":"30,243"},{"v":81408.9279878189,"d":"81,409"}]
[1999,{"v":23148.406504968683,"d":"23,148"},{"v":9331.548085742048,"d":"9,332"},{"v":32479.954590710724,"d":"32,480"},null,{"v":52199.20021999999,"d":"52,199"},{"v":29527.80044,"d":"29,528"},{"v":81727.00065999999,"d":"81,727"},null,{"v":75347.60672496867,"d":"75,348"},{"v":38859.34852574205,"d":"38,859"},{"v":114206.95525071071,"d":"114,207"}]
[2000,{"v":15070.759794517817,"d":"15,071"},{"v":13677.377163149675,"d":"13,677"},{"v":28748.1369576675,"d":"28,748"},null,{"v":29359.68022,"d":"29,360"},{"v":23157.10044,"d":"23,157"},{"v":52516.78066,"d":"52,517"},null,{"v":44430.440014517815,"d":"44,430"},{"v":36834.47760314967,"d":"36,834"},{"v":81264.9176176675,"d":"81,265"}]
[2001,{"v":23611.91982259528,"d":"23,612"},{"v":16470.14334315183,"d":"16,470"},{"v":40082.063165747095,"d":"40,082"},null,{"v":56009.20021999999,"d":"56,009"},{"v":28986.80043999999,"d":"28,987"},{"v":84996.00065999999,"d":"84,996"},null,{"v":79621.12004259527,"d":"79,621"},{"v":45456.94378315182,"d":"45,457"},{"v":125078.06382574709,"d":"125,078"}]
[2002,{"v":26193.981988887652,"d":"26,194"},{"v":14267.261203004236,"d":"14,267"},{"v":40461.24319189189,"d":"40,461"},null,{"v":48612.24021999999,"d":"48,612"},{"v":35116.6895660943,"d":"35,117"},{"v":83728.92978609429,"d":"83,729"},null,{"v":74806.22220888764,"d":"74,806"},{"v":49383.950769098534,"d":"49,384"},{"v":124190.17297798618,"d":"124,190"}]
[2003,{"v":26476.704711312203,"d":"26,477"},{"v":10946.543368507391,"d":"10,947"},{"v":37423.24807981959,"d":"37,423"},null,{"v":41018.81406479231,"d":"41,019"},{"v":17474.126681987324,"d":"17,474"},{"v":58492.940746779626,"d":"58,493"},null,{"v":67495.51877610451,"d":"67,496"},{"v":28420.670050494715,"d":"28,421"},{"v":95916.18882659922,"d":"95,916"}]
[2004,{"v":29099.433835764386,"d":"29,099"},{"v":7811.015971419125,"d":"7,811"},{"v":36910.4498071835,"d":"36,910"},null,{"v":54806.554614620705,"d":"54,807"},{"v":14348.887693184173,"d":"14,349"},{"v":69155.44230780489,"d":"69,155"},null,{"v":83905.98845038509,"d":"83,906"},{"v":22159.9036646033,"d":"22,160"},{"v":106065.89211498838,"d":"106,066"}]
[2005,{"v":24780.819411854616,"d":"24,781"},{"v":5834.756915559905,"d":"5,835"},{"v":30615.576327414514,"d":"30,616"},null,{"v":51920.01604039367,"d":"51,920"},{"v":9422.17153335282,"d":"9,422"},{"v":61342.18757374649,"d":"61,342"},null,{"v":76700.83545224828,"d":"76,701"},{"v":15256.928448912724,"d":"15,257"},{"v":91957.763901161,"d":"91,958"}]
[2006,{"v":45628.75671982944,"d":"45,629"},{"v":9334.09255924429,"d":"9,334"},{"v":54962.84927907372,"d":"54,963"},null,{"v":70826.79550426596,"d":"70,827"},{"v":13205.978894376738,"d":"13,206"},{"v":84032.7743986427,"d":"84,033"},null,{"v":116455.5522240954,"d":"116,456"},{"v":22540.07145362103,"d":"22,540"},{"v":138995.62367771642,"d":"138,996"}]
[2007,{"v":68225.3262265891,"d":"68,225"},{"v":10183.956450195026,"d":"10,184"},{"v":78409.2826767841,"d":"78,409"},null,{"v":81843.62990987251,"d":"81,844"},{"v":12113.049554119363,"d":"12,113"},{"v":93956.67946399188,"d":"93,957"},null,{"v":150068.9561364616,"d":"150,069"},{"v":22297.00600431439,"d":"22,297"},{"v":172365.96214077598,"d":"172,366"}]
[2008,{"v":48913.71997379574,"d":"48,914"},{"v":10820.884035771109,"d":"10,821"},{"v":59734.60400956686,"d":"59,735"},null,{"v":53247.5888707313,"d":"53,248"},{"v":11538.134456398799,"d":"11,538"},{"v":64785.723327130094,"d":"64,786"},null,{"v":102161.30884452704,"d":"102,161"},{"v":22359.018492169907,"d":"22,359"},{"v":124520.32733669695,"d":"124,520"}]
[2009,{"v":35449.74154926206,"d":"35,450"},{"v":3775.749111566265,"d":"3,776"},{"v":39225.49066082831,"d":"39,225"},null,{"v":42310.304369193655,"d":"42,310"},{"v":6167.683755309305,"d":"6,168"},{"v":48477.98812450296,"d":"48,478"},null,{"v":77760.04591845571,"d":"77,760"},{"v":9943.43286687557,"d":"9,943"},{"v":87703.47878533127,"d":"87,703"}]
[2010,{"v":31912.159777367597,"d":"31,912"},{"v":3645.515585227712,"d":"3,646"},{"v":35557.675362595306,"d":"35,558"},null,{"v":54530.655204859555,"d":"54,531"},{"v":5949.34545514044,"d":"5,949"},{"v":60480.00066,"d":"60,480"},null,{"v":86442.81498222715,"d":"86,443"},{"v":9594.861040368152,"d":"9,595"},{"v":96037.6760225953,"d":"96,038"}]
[2011,{"v":29815.856847879644,"d":"29,816"},{"v":4140.900932225002,"d":"4,141"},{"v":33956.75778010464,"d":"33,957"},null,{"v":47095.94012593051,"d":"47,096"},{"v":7249.060534069484,"d":"7,249"},{"v":54345.00065999999,"d":"54,345"},null,{"v":76911.79697381015,"d":"76,912"},{"v":11389.961466294486,"d":"11,390"},{"v":88301.75844010463,"d":"88,302"}]
[2012,{"v":23849.369705878133,"d":"23,849"},{"v":3478.9894886543116,"d":"3,479"},{"v":27328.359194532444,"d":"27,328"},null,{"v":44597.612721046164,"d":"44,598"},{"v":12132.887938953838,"d":"12,133"},{"v":56730.500660000005,"d":"56,731"},null,{"v":68446.9824269243,"d":"68,447"},{"v":15611.87742760815,"d":"15,612"},{"v":84058.85985453245,"d":"84,059"}]
[2013,{"v":22194.806787012516,"d":"22,195"},{"v":9829.915146927991,"d":"9,830"},{"v":32024.721933940506,"d":"32,025"},null,{"v":52082.58594642468,"d":"52,083"},{"v":6838.414713575314,"d":"6,838"},{"v":58921.00066,"d":"58,921"},null,{"v":74277.3927334372,"d":"74,277"},{"v":16668.329860503305,"d":"16,668"},{"v":90945.7225939405,"d":"90,946"}]
[2014,{"v":10292.838918993355,"d":"10,293"},{"v":3343.2062695660898,"d":"3,343"},{"v":13636.045188559445,"d":"13,636"},null,{"v":27382.252084614924,"d":"27,382"},{"v":4205.748575385074,"d":"4,206"},{"v":31588.000659999998,"d":"31,588"},null,{"v":37675.09100360828,"d":"37,675"},{"v":7548.954844951164,"d":"7,549"},{"v":45224.04584855944,"d":"45,224"}]
[2015,{"v":9618.117912605776,"d":"9,618"},{"v":4483.5844426689855,"d":"4,484"},{"v":14101.702355274763,"d":"14,102"},null,{"v":34554.15298473389,"d":"34,554"},{"v":7051.34767526611,"d":"7,051"},{"v":41605.50066,"d":"41,606"},null,{"v":44172.270897339666,"d":"44,172"},{"v":11534.932117935095,"d":"11,535"},{"v":55707.20301527476,"d":"55,707"}]
[2016,{"v":10298.500908611502,"d":"10,299"},{"v":6127.040005601375,"d":"6,127"},{"v":16425.540914212877,"d":"16,426"},null,{"v":66509.50285209203,"d":"66,510"},{"v":9723.997807907977,"d":"9,724"},{"v":76233.50066,"d":"76,234"},null,{"v":76808.00376070353,"d":"76,808"},{"v":15851.037813509352,"d":"15,851"},{"v":92659.04157421288,"d":"92,659"}]
[2017,{"v":37672.6071048663,"d":"37,673"},{"v":8027.884947168428,"d":"8,028"},{"v":45700.49205203474,"d":"45,700"},null,{"v":95596.00022000002,"d":"95,596"},{"v":13103.000440000005,"d":"13,103"},{"v":108699.00066000002,"d":"108,699"},null,{"v":133268.60732486632,"d":"133,269"},{"v":21130.885387168433,"d":"21,131"},{"v":154399.49271203476,"d":"154,399"}]
[2018,{"v":34519.24012780659,"d":"34,519"},{"v":10068.893736020274,"d":"10,069"},{"v":44588.13386382685,"d":"44,588"},null,{"v":63525.000219999994,"d":"63,525"},{"v":10339.000440000005,"d":"10,339"},{"v":73864.00066,"d":"73,864"},null,{"v":98044.24034780658,"d":"98,044"},{"v":20407.89417602028,"d":"20,408"},{"v":118452.13452382686,"d":"118,452"}]
[2019,{"v":27304.89540290043,"d":"27,305"},{"v":13275.253168517058,"d":"13,275"},{"v":40580.14857141749,"d":"40,580"},null,{"v":51932.000219999994,"d":"51,932"},{"v":7122.00044,"d":"7,122"},{"v":59054.00065999999,"d":"59,054"},null,{"v":79236.89562290043,"d":"79,237"},{"v":20397.253608517058,"d":"20,397"},{"v":99634.14923141748,"d":"99,634"}]
[2020,{"v":15127.674951037894,"d":"15,128"},{"v":6988.401481655583,"d":"6,988"},{"v":22116.076432693488,"d":"22,116"},null,{"v":37321.000219999994,"d":"37,321"},{"v":6465.00044,"d":"6,465"},{"v":43786.00065999999,"d":"43,786"},null,{"v":52448.67517103789,"d":"52,449"},{"v":13453.401921655583,"d":"13,453"},{"v":65902.07709269348,"d":"65,902"}]
[2021,{"v":25452.599086720867,"d":"25,453"},{"v":11580.240232291631,"d":"11,580"},{"v":37032.8393190125,"d":"37,033"},null,{"v":55868.000219999994,"d":"55,868"},{"v":7911.000440000001,"d":"7,911"},{"v":63779.00066,"d":"63,779"},null,{"v":81320.59930672086,"d":"81,321"},{"v":19491.24067229163,"d":"19,491"},{"v":100811.8399790125,"d":"100,812"}]
["2022f/",{"v":16419.70928241987,"d":"16,420"},{"v":10423.290677580117,"d":"10,423"},{"v":26842.999959999986,"d":"26,843"},null,{"v":57870.000219999994,"d":"57,870"},{"v":10047.000440000007,"d":"10,047"},{"v":67917.00066,"d":"67,917"},null,{"v":74289.70950241986,"d":"74,290"},{"v":20470.291117580124,"d":"20,470"},{"v":94760.00061999999,"d":"94,760"}]
["2023f/",{"v":15558.108291732155,"d":"15,558"},{"v":6783.191668267846,"d":"6,783"},{"v":22341.299960000004,"d":"22,341"},null,{"v":54048.000219999994,"d":"54,048"},{"v":6641.00044,"d":"6,641"},{"v":60689.00065999999,"d":"60,689"},null,{"v":69606.10851173215,"d":"69,606"},{"v":13424.192108267845,"d":"13,424"},{"v":83030.30062,"d":"83,030"}]
[2024,"NA","NA","NA",null,"NA","NA","NA",null,"NA","NA","NA"]
["GOAL"]
["a/   Includes treaty Indian and non-Indian net commercial catches during the adult accounting period.  Source:  Puget Sound run reconstruction model."]
["b/  Includes estimated off-station returns."]
["c/  Puget Sound run size is defined as the run available to Puget Sound net fisheries; spawning escapement plus Puget Sound net fishery catch.  Does not include fish caught by troll and recreational fisheries inside Puget Sound."]
[]
["d/  Natural escapement includes NORs and supplementation origin fish in the Mid Hood Canal management unit streams.  Escapement management objectives in the Skokomish River are for total river spawners (HOR & NOR) and are not comparable to the natural escapement column in this table.  NOR/HOR breakout of Skokomish R spawners from prior to mass adipose clipping (pre-2010) are based on the average pHOS from after mass adipose clipping (2010-2017) ."]
["e/  Since 1999, numbers include Tulalip hatchery returns, which are not added into escapement since no broodstock is taken at the hatchery."]
["f/  Preliminary."]
["g/  Includes the following stock groups: miscellaneous Area 10 - Seattle, Lake Washington, Green-Duwamish, miscellaneous Area 10E - Port Orchard, Puyallup, miscellaneous Area 13 - south Puget Sound, Chambers Creek, Nisqually, miscellaneous Area 13A - Minter Creek, Deschutes, miscellaneous Area 13B streams."]
[]
[]
[]
[]
[]
["TABLE B-41.  Puget Sound commercial net fishery catches and spawning escapements in numbers of fish for hatchery and natural Puget Sound Chinook stocks.a/  (Page 1 of 4)"]
["Year or Average","Commercial Net Catches",{"$nulls":3},"Spawning Escapement",{"$nulls":3},"Puget Sound Run Sizec/"]
[null,"Hatchery","Naturalb/","Total",null,"Hatchery","Naturalb/","Total",null,"Hatchery","Naturalb/","Total"]
[{"$f":"A4","v":"Strait of Juan de Fuca"}]
["1981-1985",{"$f":"AVERAGE(B5:B9)","v":{"v":58.41872445906953,"d":"58"}},{"$f":"AVERAGE(C5:C9)","v":{"v":128.73262335185015,"d":"129"}},{"$f":"AVERAGE(D5:D9)","v":{"v":187.15134781091956,"d":"187"}},null,{"$f":"AVERAGE(F5:F9)","v":{"v":811.0000599999998,"d":"811"}},{"$f":"AVERAGE(G5:G9)","v":{"v":1449.8001199999997,"d":"1,450"}},{"$f":"AVERAGE(H5:H9)","v":{"v":2260.8001799999997,"d":"2,261"}},null,{"$f":"AVERAGE(J5:J9)","v":{"v":869.4187844590693,"d":"869"}},{"$f":"AVERAGE(K5:K9)","v":{"v":1578.53274335185,"d":"1,579"}},{"$f":"AVERAGE(L5:L9)","v":{"v":2447.9515278109197,"d":"2,448"}}]
["1986-1990",{"$f":"AVERAGE(B10:B14)","v":{"v":258.1724363840268,"d":"258"}},{"$f":"AVERAGE(C10:C14)","v":{"v":323.31502105248006,"d":"323"}},{"$f":"AVERAGE(D10:D14)","v":{"v":581.487457436507,"d":"581"}},null,{"$f":"AVERAGE(F10:F14)","v":{"v":2463.26986272,"d":"2,463"}},{"$f":"AVERAGE(G10:G14)","v":{"v":3308.3303172799997,"d":"3,308"}},{"$f":"AVERAGE(H10:H14)","v":{"v":5771.60018,"d":"5,772"}},null,{"$f":"AVERAGE(J10:J14)","v":{"v":2721.4422991040274,"d":"2,721"}},{"$f":"AVERAGE(K10:K14)","v":{"v":3631.6453383324797,"d":"3,632"}},{"$f":"AVERAGE(L10:L14)","v":{"v":6353.087637436506,"d":"6,353"}}]
["1991-1995",{"$f":"AVERAGE(B15:B19)","v":{"v":97.35947581926284,"d":"97"}},{"$f":"AVERAGE(C15:C19)","v":{"v":71.77888063251075,"d":"72"}},{"v":169.13835645177375,"d":"169"},null,{"v":1541.8093490211409,"d":"1,542"},{"v":1167.9918309788586,"d":"1,168"},{"v":2709.80118,"d":"2,710"},null,{"v":1639.1688248404037,"d":"1,639"},{"v":1239.7707116113695,"d":"1,240"},{"v":2878.9395364517736,"d":"2,879"}]
["1996-2000",{"$f":"AVERAGE(B20:B24)","v":{"v":12.5590178572857,"d":"13"}},{"$f":"AVERAGE(C20:C24)","v":{"v":11.558682064960749,"d":"12"}},{"v":24.117699922246267,"d":"24"},null,{"v":1982.04682,"d":"1,982"},{"v":1491.1733599999998,"d":"1,491"},{"v":3473.2201799999993,"d":"3,473"},null,{"v":1994.6058378572857,"d":"1,995"},{"v":1502.7320420649608,"d":"1,503"},{"v":3497.337879922247,"d":"3,497"}]
["2001-2005",{"$f":"AVERAGE(B25:B29)","v":{"v":8.106666582906792,"d":"8"}},{"$f":"AVERAGE(C25:C29)","v":{"v":8.907851557882486,"d":"9"}},{"$f":"AVERAGE(D25:D29)","v":{"v":17.014518140789097,"d":"17"}},null,{"$f":"AVERAGE(F25:F29)","v":{"v":2003.80006,"d":"2,004"}},{"$f":"AVERAGE(G25:G29)","v":{"v":2131.4001200000002,"d":"2,131"}},{"$f":"AVERAGE(H25:H29)","v":{"v":4135.20018,"d":"4,135"}},null,{"$f":"AVERAGE(J25:J29)","v":{"v":2011.9067265829065,"d":"2,012"}},{"$f":"AVERAGE(K25:K29)","v":{"v":2140.3079715578824,"d":"2,140"}},{"$f":"AVERAGE(L25:L29)","v":{"v":4152.214698140789,"d":"4,152"}}]
["2006-2010",{"$f":"AVERAGE(B30:B34)","v":{"v":11.87589860188873,"d":"12"}},{"$f":"AVERAGE(C30:C34)","v":{"v":10.304376344642515,"d":"10"}},{"v":22.18027494653152,"d":"22"},null,{"v":1678.5623925222917,"d":"1,679"},{"v":1442.1486852773853,"d":"1,442"},{"v":3120.7110777996772,"d":"3,121"},{"$error":"#DIV/0!"},{"v":1690.438291124181,"d":"1,690"},{"v":1452.4530616220277,"d":"1,452"},{"v":3142.8913527462087,"d":"3,143"}]
["2011-2015",{"$f":"AVERAGE(B35:B39)","v":{"v":21.935034071839347,"d":"22"}},{"$f":"AVERAGE(C35:C39)","v":{"v":23.747947671471593,"d":"24"}},{"$f":"AVERAGE(D35:D39)","v":{"v":45.682981743310485,"d":"46"}},null,{"$f":"AVERAGE(F35:F39)","v":{"v":2758.591239682725,"d":"2,759"}},{"$f":"AVERAGE(G35:G39)","v":{"v":3004.490338811601,"d":"3,004"}},{"$f":"AVERAGE(H35:H39)","v":{"v":5763.081578494326,"d":"5,763"}},null,{"$f":"AVERAGE(J35:J39)","v":{"v":2780.5262737545645,"d":"2,781"}},{"$f":"AVERAGE(K35:K39)","v":{"v":3028.2382864830724,"d":"3,028"}},{"$f":"AVERAGE(L35:L39)","v":{"v":5808.764560237637,"d":"5,809"}}]
[2016,{"$f":"B40","v":{"v":1.4473487741506688,"d":"1"}},{"v":3.135283161361258,"d":"3"},{"v":4.582631935511927,"d":"5"},null,{"$f":"F40","v":{"v":1768.3522172652251,"d":"1,768"}},{"v":2696.6227480403127,"d":"2,697"},{"v":4464.974965305538,"d":"4,465"},null,{"$f":"J40","v":{"v":1769.7995660393758,"d":"1,770"}},{"v":2699.758031201674,"d":"2,700"},{"v":4469.55759724105,"d":"4,470"}]
[2017,{"v":2.940406959665779,"d":"3"},{"v":4.655708928094555,"d":"5"},{"v":7.596115887759879,"d":"8"},null,{"v":2174.6358694983064,"d":"2,175"},{"v":2797.840214116151,"d":"2,798"},{"v":4972.476083614458,"d":"4,972"},null,{"v":2177.576276457972,"d":"2,178"},{"v":2802.4959230442455,"d":"2,802"},{"v":4980.072199502218,"d":"4,980"}]
[2018,{"v":24.619571036999332,"d":"25"},{"v":40.64074783297383,"d":"41"},{"v":65.26031886997225,"d":"65"},null,{"v":3931.7165321122293,"d":"3,932"},{"v":6279.28364788777,"d":"6,279"},{"v":10211.00018,"d":"10,211"},null,{"v":3956.3361031492286,"d":"3,956"},{"v":6319.924395720744,"d":"6,320"},{"v":10276.260498869971,"d":"10,276"}]
[2019,{"v":6.671581320259065,"d":"7"},{"v":14.056951099454636,"d":"14"},{"v":20.72853241971461,"d":"21"},null,{"v":2996.2185002067645,"d":"2,996"},{"v":7385.281679793235,"d":"7,385"},{"v":10381.50018,"d":"10,382"},null,{"v":3002.8900815270235,"d":"3,003"},{"v":7399.338630892689,"d":"7,399"},{"v":10402.228712419714,"d":"10,402"}]
[2020,{"v":0.845002936799574,"d":"1"},{"v":3.3505131983702086,"d":"3"},{"v":4.1955161351697825,"d":"4"},null,{"v":2413.00006,"d":"2,413"},{"v":3788.00012,"d":"3,788"},{"v":6201.00018,"d":"6,201"},null,{"v":2413.8450629367994,"d":"2,414"},{"v":3791.3506331983704,"d":"3,791"},{"v":6205.19569613517,"d":"6,205"}]
[2021,{"v":5.557098097694961,"d":"6"},{"v":11.998945250960332,"d":"12"},{"v":17.556043348655294,"d":"18"},null,{"v":2453.00006,"d":"2,453"},{"v":3085.0001199999997,"d":"3,085"},{"v":5538.000179999999,"d":"5,538"},null,{"v":2458.557158097695,"d":"2,459"},{"v":3096.99906525096,"d":"3,097"},{"v":5555.556223348654,"d":"5,556"}]
["2022f/",{"v":1.0378481356174234,"d":"1"},{"v":2.9621518643825766,"d":"3"},4,null,{"v":2201.00006,"d":"2,201"},{"v":4440.000120000001,"d":"4,440"},{"v":6641.000180000001,"d":"6,641"},null,{"v":2202.0379081356173,"d":"2,202"},{"v":4442.962271864383,"d":"4,443"},{"v":6645.000180000001,"d":"6,645"}]
["2023f/",{"$f":"B47","v":{"v":1.2574102975963797,"d":"1"}},{"v":2.7425897024031656,"d":"3"},4,null,{"$f":"F47","v":{"v":3751.0000600000003,"d":"3,751"}},{"v":5612.000120000001,"d":"5,612"},{"v":9363.000180000001,"d":"9,363"},null,{"$f":"J47","v":{"v":3752.2574702975967,"d":"3,752"}},{"v":5614.742709702404,"d":"5,615"},{"v":9367.000180000001,"d":"9,367"}]
[2024,"NA","NA","NA",null,"NA","NA","NA",null,"NA","NA","NA"]
["GOAL",{"$nulls":6},{"$f":"H49","v":{"v":5300,"d":"5,300"}}]
[]
[{"$f":"A51","v":"Nooksack-Samish"}]
["1981-1985",{"$f":"AVERAGE(B52:B56)","v":{"v":54087.06640453392,"d":"54,087"}},{"$f":"AVERAGE(C52:C56)","v":{"v":33728.879602739165,"d":"33,729"}},{"$f":"AVERAGE(D52:D56)","v":{"v":87815.94600727307,"d":"87,816"}},null,{"$f":"AVERAGE(F52:F56)","v":{"v":16082.800079999997,"d":"16,083"}},{"$f":"AVERAGE(G52:G56)","v":{"v":6574.80015,"d":"6,575"}},{"$f":"AVERAGE(H52:H56)","v":{"v":22657.60023,"d":"22,658"}},null,{"$f":"AVERAGE(J52:J56)","v":{"v":70169.86648453391,"d":"70,170"}},{"$f":"AVERAGE(K52:K56)","v":{"v":40303.67975273916,"d":"40,304"}},{"$f":"AVERAGE(L52:L56)","v":{"v":110473.54623727307,"d":"110,474"}}]
["1986-1990",{"$f":"AVERAGE(B57:B61)","v":{"v":38071.13357707282,"d":"38,071"}},{"$f":"AVERAGE(C57:C61)","v":{"v":26270.713116086554,"d":"26,271"}},{"$f":"AVERAGE(D57:D61)","v":{"v":64341.84669315937,"d":"64,342"}},null,{"$f":"AVERAGE(F57:F61)","v":{"v":10728.600079999998,"d":"10,729"}},{"$f":"AVERAGE(G57:G61)","v":{"v":4112.60015,"d":"4,113"}},{"$f":"AVERAGE(H57:H61)","v":{"v":14841.200229999999,"d":"14,841"}},null,{"$f":"AVERAGE(J57:J61)","v":{"v":48799.73365707282,"d":"48,800"}},{"$f":"AVERAGE(K57:K61)","v":{"v":30383.313266086556,"d":"30,383"}},{"$f":"AVERAGE(L57:L61)","v":{"v":79183.04692315936,"d":"79,183"}}]
["1991-1995",{"$f":"AVERAGE(B62:B66)","v":{"v":17788.233977053962,"d":"17,788"}},{"$f":"AVERAGE(C62:C66)","v":{"v":2737.9824144278473,"d":"2,738"}},{"v":20526.216391481805,"d":"20,526"},null,{"v":8645.800079999997,"d":"8,646"},{"v":1040.6001499999998,"d":"1,041"},{"v":9686.400229999997,"d":"9,686"},null,{"v":26434.03405705396,"d":"26,434"},{"v":3778.582564427847,"d":"3,779"},{"v":30212.616621481808,"d":"30,213"}]
["1996-2000",{"$f":"AVERAGE(B67:B71)","v":{"v":19691.73536743354,"d":"19,692"}},{"$f":"AVERAGE(C67:C71)","v":{"v":5275.131422312963,"d":"5,275"}},{"v":24966.866789746502,"d":"24,967"},null,{"v":8262.800079999997,"d":"8,263"},{"v":2956.6001499999998,"d":"2,957"},{"v":11219.400229999997,"d":"11,219"},null,{"v":27954.53544743354,"d":"27,955"},{"v":8231.731572312963,"d":"8,232"},{"v":36186.267019746505,"d":"36,186"}]
["2001-2005",{"$f":"AVERAGE(B72:B76)","v":{"v":10196.880898257517,"d":"10,197"}},{"$f":"AVERAGE(C72:C76)","v":{"v":15797.916785880832,"d":"15,798"}},{"$f":"AVERAGE(D72:D76)","v":{"v":25994.797684138353,"d":"25,995"}},null,{"$f":"AVERAGE(F72:F76)","v":{"v":3909.0000800000007,"d":"3,909"}},{"$f":"AVERAGE(G72:G76)","v":{"v":7428.80015,"d":"7,429"}},{"$f":"AVERAGE(H72:H76)","v":{"v":11337.800229999999,"d":"11,338"}},null,{"$f":"AVERAGE(J72:J76)","v":{"v":14105.880978257517,"d":"14,106"}},{"$f":"AVERAGE(K72:K76)","v":{"v":23226.71693588083,"d":"23,227"}},{"$f":"AVERAGE(L72:L76)","v":{"v":37332.59791413836,"d":"37,333"}}]
["2006-2010",{"$f":"AVERAGE(B77:B81)","v":{"v":10996.826618040599,"d":"10,997"}},{"$f":"AVERAGE(C77:C81)","v":{"v":7544.065306435424,"d":"7,544"}},{"v":18540.891924476025,"d":"18,541"},null,{"v":6792.800080000001,"d":"6,793"},{"v":3628.288245238096,"d":"3,628"},{"v":10421.088325238097,"d":"10,421"},{"$error":"#DIV/0!"},{"v":17789.6266980406,"d":"17,790"},{"v":11172.353551673517,"d":"11,172"},{"v":28961.980249714117,"d":"28,962"}]
["2011-2015",{"$f":"AVERAGE(B82:B86)","v":{"v":15837.430183740784,"d":"15,837"}},{"$f":"AVERAGE(C82:C86)","v":{"v":3878.7428068143054,"d":"3,879"}},{"$f":"AVERAGE(D82:D86)","v":{"v":19716.172990555086,"d":"19,716"}},null,{"$f":"AVERAGE(F82:F86)","v":{"v":8489.800079999997,"d":"8,490"}},{"v":719.0730170634919,"d":"719"},{"v":9208.87309706349,"d":"9,209"},{"$error":"#DIV/0!"},{"v":24327.23026374078,"d":"24,327"},{"v":4597.815823877797,"d":"4,598"},{"v":28925.04608761858,"d":"28,925"}]
[2016,{"$f":"B87","v":{"v":8380.532039969046,"d":"8,381"}},{"$f":"C87","v":{"v":2528.6618907440297,"d":"2,529"}},{"v":10909.193930713078,"d":"10,909"},null,{"v":4666.000080000001,"d":"4,666"},{"v":336.00014999999996,"d":"336"},{"v":5002.000230000001,"d":"5,002"},0,{"v":13046.532119969048,"d":"13,047"},{"v":2864.6620407440296,"d":"2,865"},{"$f":"L87","v":{"v":15911.194160713078,"d":"15,911"}}]
[2017,{"v":12735.035986489038,"d":"12,735"},{"$f":"C88","v":{"v":7014.492076429533,"d":"7,014"}},{"v":19749.52806291857,"d":"19,750"},null,{"v":5389.000080000001,"d":"5,389"},{"v":520.0001499999998,"d":"520"},{"v":5909.000230000001,"d":"5,909"},0,{"v":18124.03606648904,"d":"18,124"},{"v":7534.492226429533,"d":"7,534"},{"v":25658.52829291857,"d":"25,659"}]
[2018,{"v":8253.439259069408,"d":"8,253"},{"$f":"C89","v":{"v":2201.6525029120808,"d":"2,202"}},{"v":10455.09176198149,"d":"10,455"},null,{"$f":"F89","v":{"v":8306.000079999998,"d":"8,306"}},{"v":713.0001499999998,"d":"713"},{"v":9019.000229999998,"d":"9,019"},0,{"v":16559.439339069406,"d":"16,559"},{"v":2914.6526529120806,"d":"2,915"},{"v":19474.091991981488,"d":"19,474"}]
[2019,{"v":4772.311156066992,"d":"4,772"},{"v":1731.8898071250478,"d":"1,732"},{"v":6504.20096319204,"d":"6,504"},null,{"$f":"F90","v":{"v":7470.000080000001,"d":"7,470"}},{"v":293.00014999999996,"d":"293"},{"v":7763.000230000001,"d":"7,763"},0,{"v":12242.311236066993,"d":"12,242"},{"v":2024.8899571250477,"d":"2,025"},{"v":14267.20119319204,"d":"14,267"}]
[2020,{"v":5141.089910590271,"d":"5,141"},{"v":1877.3730677477824,"d":"1,877"},{"v":7018.462978338052,"d":"7,018"},null,{"$f":"F91","v":{"v":6115.000080000001,"d":"6,115"}},{"v":1560.0001499999998,"d":"1,560"},{"v":7675.000230000001,"d":"7,675"},0,{"v":11256.089990590272,"d":"11,256"},{"v":3437.3732177477823,"d":"3,437"},{"v":14693.463208338053,"d":"14,693"}]
[2021,{"v":6553.384083764406,"d":"6,553"},{"v":2055.546190402065,"d":"2,056"},{"v":8608.930274166472,"d":"8,609"},null,{"$f":"F92","v":{"v":18531.000079999998,"d":"18,531"}},{"v":765.0001499999998,"d":"765"},{"v":19296.000229999998,"d":"19,296"},0,{"v":25084.384163764404,"d":"25,084"},{"v":2820.5463404020647,"d":"2,821"},{"v":27904.93050416647,"d":"27,905"}]
["2022f/",{"v":16118.966412419824,"d":"16,119"},{"v":3474.033597580172,"d":"3,474"},{"v":19593.000009999996,"d":"19,593"},null,{"$f":"F93","v":{"v":20834.000079999998,"d":"20,834"}},{"v":2573.0001500000003,"d":"2,573"},{"v":23407.000229999998,"d":"23,407"},0,{"v":36952.96649241982,"d":"36,953"},{"v":6047.0337475801725,"d":"6,047"},{"v":43000.000239999994,"d":"43,000"}]
["2023f/",{"$f":"B94","v":{"v":19175.260162278835,"d":"19,175"}},{"v":7757.739847721171,"d":"7,758"},{"v":26933.00001000001,"d":"26,933"},null,{"v":19261.000079999998,"d":"19,261"},{"v":7236.000150000001,"d":"7,236"},{"v":26497.000229999998,"d":"26,497"},0,{"v":38436.26024227883,"d":"38,436"},{"v":14993.739997721172,"d":"14,994"},{"$f":"L94","v":{"v":53430.00024000001,"d":"53,430"}}]
[2024,"NA","NA","NA",null,"NA","NA","NA",0,"NA","NA","NA"]
["GOAL",{"$nulls":4},{"$f":"F96","v":{"v":1800,"d":"1,800"}}]
[]
["TABLE B-41.  Puget Sound commercial net fishery catches and spawning escapements in numbers of fish for hatchery and natural Puget Sound Chinook stocks.a/  (Page 2 of 4)"]
["Year or Average","Commercial Net Catches",{"$nulls":3},"Spawning Escapement",{"$nulls":3},"Puget Sound Run Sizec/"]
[null,"Hatchery","Naturalb/","Total",null,"Hatchery","Naturalb/","Total",null,"Hatchery","Naturalb/","Total"]
[{"$f":"A98","v":"Skagit"}]
["1981-1985",{"$f":"AVERAGE(B99:B103)","v":{"v":598.5976638764355,"d":"599"}},{"$f":"AVERAGE(C99:C103)","v":{"v":9199.500058724914,"d":"9,200"}},{"$f":"AVERAGE(D99:D103)","v":{"v":9798.097722601351,"d":"9,798"}},null,{"$f":"AVERAGE(F99:F103)","v":{"v":786.60002,"d":"787"}},{"$f":"AVERAGE(G99:G103)","v":{"v":11109.20004,"d":"11,109"}},{"$f":"AVERAGE(H99:H103)","v":{"v":11895.800059999998,"d":"11,896"}},null,{"$f":"AVERAGE(J99:J103)","v":{"v":1385.1976838764356,"d":"1,385"}},{"$f":"AVERAGE(K99:K103)","v":{"v":20308.700098724912,"d":"20,309"}},{"$f":"AVERAGE(L99:L103)","v":{"v":21693.89778260135,"d":"21,694"}}]
["1986-1990",{"$f":"AVERAGE(B104:B108)","v":{"v":251.33390321885076,"d":"251"}},{"$f":"AVERAGE(C104:C108)","v":{"v":4043.8337007463024,"d":"4,044"}},{"$f":"AVERAGE(D104:D108)","v":{"v":4295.167603965153,"d":"4,295"}},null,{"$f":"AVERAGE(F104:F108)","v":{"v":815.20002,"d":"815"}},{"$f":"AVERAGE(G104:G108)","v":{"v":12398.000039999999,"d":"12,398"}},{"$f":"AVERAGE(H104:H108)","v":{"v":13213.200059999997,"d":"13,213"}},null,{"$f":"AVERAGE(J104:J108)","v":{"v":1066.5339232188508,"d":"1,067"}},{"$f":"AVERAGE(K104:K108)","v":{"v":16441.833740746304,"d":"16,442"}},{"$f":"AVERAGE(L104:L108)","v":{"v":17508.367663965153,"d":"17,508"}}]
["1991-1995",{"$f":"AVERAGE(B109:B113)","v":{"v":464.2155458178069,"d":"464"}},{"$f":"AVERAGE(C109:C113)","v":{"v":1587.0366691225415,"d":"1,587"}},{"v":2051.2522149403485,"d":"2,051"},null,{"v":2402.20002,"d":"2,402"},{"v":6279.80004,"d":"6,280"},{"v":8682.00006,"d":"8,682"},null,{"v":2866.415565817807,"d":"2,866"},{"v":7866.836709122542,"d":"7,867"},{"v":10733.252274940349,"d":"10,733"}]
["1996-2000",{"$f":"AVERAGE(B114:B118)","v":{"v":10.463708006593128,"d":"10"}},{"$f":"AVERAGE(C114:C118)","v":{"v":461.952518914493,"d":"462"}},{"v":472.4162269210863,"d":"472"},null,{"v":315.80001999999996,"d":"316"},{"v":10389.60004,"d":"10,390"},{"v":10705.400059999998,"d":"10,705"},null,{"v":326.26372800659317,"d":"326"},{"v":10851.552558914493,"d":"10,852"},{"v":11177.816286921085,"d":"11,178"}]
["2001-2005",{"$f":"AVERAGE(B119:B123)","v":{"v":12.025277524128862,"d":"12"}},{"$f":"AVERAGE(C119:C123)","v":{"v":805.7121494016385,"d":"806"}},{"$f":"AVERAGE(D119:D123)","v":{"v":817.7374269257682,"d":"818"}},null,{"$f":"AVERAGE(F119:F123)","v":{"v":221.20002,"d":"221"}},{"$f":"AVERAGE(G119:G123)","v":{"v":17503.40004,"d":"17,503"}},{"$f":"AVERAGE(H119:H123)","v":{"v":17724.600059999997,"d":"17,725"}},null,{"$f":"AVERAGE(J119:J123)","v":{"v":233.22529752412885,"d":"233"}},{"$f":"AVERAGE(K119:K123)","v":{"v":18309.112189401636,"d":"18,309"}},{"$f":"AVERAGE(L119:L123)","v":{"v":18542.337486925768,"d":"18,542"}}]
["2006-2010",{"$f":"AVERAGE(B124:B128)","v":{"v":40.46928904904678,"d":"40"}},{"$f":"AVERAGE(C124:C128)","v":{"v":2696.666649567486,"d":"2,697"}},{"v":2737.1359386165323,"d":"2,737"},null,{"v":209.80001999999996,"d":"210"},{"v":11741.800039999998,"d":"11,742"},{"v":11951.600059999999,"d":"11,952"},{"$error":"#DIV/0!"},{"v":250.26930904904674,"d":"250"},{"v":14438.466689567484,"d":"14,438"},{"v":14688.73599861653,"d":"14,689"}]
["2011-2015",{"$f":"AVERAGE(B129:B133)","v":{"v":18.783793101223946,"d":"19"}},{"$f":"AVERAGE(C129:C133)","v":{"v":2142.962333670917,"d":"2,143"}},{"$f":"AVERAGE(D129:D133)","v":{"v":2161.746126772142,"d":"2,162"}},null,{"$f":"AVERAGE(F129:F133)","v":{"v":81.40002000000001,"d":"81"}},{"$f":"AVERAGE(G129:G133)","v":{"v":10801.60004,"d":"10,802"}},{"$f":"AVERAGE(H129:H133)","v":{"v":10883.000059999998,"d":"10,883"}},{"$error":"#DIV/0!"},{"$f":"AVERAGE(J129:J133)","v":{"v":100.18381310122395,"d":"100"}},{"$f":"AVERAGE(K129:K133)","v":{"v":12944.562373670915,"d":"12,945"}},{"$f":"AVERAGE(L129:L133)","v":{"v":13044.74618677214,"d":"13,045"}}]
[2016,{"$f":"B134","v":{"v":7.251553449334168,"d":"7"}},{"v":1726.9436023314338,"d":"1,727"},{"v":1734.1951557807697,"d":"1,734"},null,{"$f":"F134","v":{"v":81.00002,"d":"81"}},{"v":19290.00004,"d":"19,290"},{"v":19371.00006,"d":"19,371"},null,{"$f":"J134","v":{"v":88.25157344933417,"d":"88"}},{"v":21016.943642331433,"d":"21,017"},{"v":21105.19521578077,"d":"21,105"}]
[2017,{"v":7.892959377948046,"d":"8"},{"v":1091.0496099992815,"d":"1,091"},{"v":1098.94256937723,"d":"1,099"},null,{"v":91.00002,"d":"91"},{"v":12579.000039999999,"d":"12,579"},{"v":12670.000059999998,"d":"12,670"},null,{"v":98.89297937794805,"d":"99"},{"v":13670.04964999928,"d":"13,670"},{"v":13768.942629377229,"d":"13,769"}]
[2018,{"v":9.845187586450493,"d":"10"},{"v":1248.1634382047505,"d":"1,248"},{"v":1258.0086257912008,"d":"1,258"},null,{"v":86.00002,"d":"86"},{"v":10903.000039999999,"d":"10,903"},{"v":10989.000059999998,"d":"10,989"},null,{"v":95.8452075864505,"d":"96"},{"v":12151.16347820475,"d":"12,151"},{"v":12247.0086857912,"d":"12,247"}]
[2019,{"v":8.996473739655954,"d":"9"},{"v":1180.5370179383954,"d":"1,181"},{"v":1189.533491678052,"d":"1,190"},null,{"v":90.00002,"d":"90"},{"v":11810.000039999999,"d":"11,810"},{"v":11900.000059999998,"d":"11,900"},null,{"v":98.99649373965596,"d":"99"},{"v":12990.537057938394,"d":"12,991"},{"v":13089.53355167805,"d":"13,090"}]
[2020,{"v":10.312875628131636,"d":"10"},{"v":1546.0832926729017,"d":"1,546"},{"v":1556.3961683010348,"d":"1,556"},null,{"v":73.00002,"d":"73"},{"v":10944.000039999999,"d":"10,944"},{"v":11017.000059999998,"d":"11,017"},null,{"v":83.31289562813164,"d":"83"},{"v":12490.0833326729,"d":"12,490"},{"v":12573.396228301033,"d":"12,573"}]
[2021,{"v":27.570039011056792,"d":"28"},{"v":1707.2393390831085,"d":"1,707"},{"v":1734.8093780941654,"d":"1,735"},null,{"v":118.00002,"d":"118"},{"v":7307.00004,"d":"7,307"},{"v":7425.00006,"d":"7,425"},null,{"v":145.5700590110568,"d":"146"},{"v":9014.239379083108,"d":"9,014"},{"v":9159.809438094166,"d":"9,160"}]
["2022f/",{"v":8.492648231095089,"d":"8"},{"v":1772.5073517689052,"d":"1,773"},{"v":1781,"d":"1,781"},null,{"v":83.00002,"d":"83"},{"v":17323.00004,"d":"17,323"},{"v":17406.00006,"d":"17,406"},null,{"v":91.4926682310951,"d":"91"},{"v":19095.507391768904,"d":"19,096"},{"v":19187.00006,"d":"19,187"}]
["2023f/",{"$f":"B141","v":{"v":8.073155907721798,"d":"8"}},{"v":997.9268440922788,"d":"998"},{"v":1006.0000000000018,"d":"1,006"},null,{"$f":"F141","v":{"v":95.00002,"d":"95"}},{"v":11743.000039999999,"d":"11,743"},{"v":11838.000059999998,"d":"11,838"},null,{"$f":"J141","v":{"v":103.0731759077218,"d":"103"}},{"v":12740.926884092278,"d":"12,741"},{"v":12844.00006,"d":"12,844"}]
[2024,"NA","NA","NA",null,"NA","NA","NA",null,"NA","NA","NA"]
["GOAL",{"$nulls":5},{"$f":"G143","v":{"v":14900,"d":"14,900"}}]
[]
["Hood Canald/"]
["1981-1985",{"$f":"AVERAGE(B146:B150)","v":{"v":7869.5434671836465,"d":"7,870"}},{"$f":"AVERAGE(C146:C150)","v":{"v":731.3765148922394,"d":"731"}},{"$f":"AVERAGE(D146:D150)","v":{"v":8600.919982075888,"d":"8,601"}},null,{"$f":"AVERAGE(F146:F150)","v":{"v":4786.225048766919,"d":"4,786"}},{"$f":"AVERAGE(G146:G150)","v":{"v":1037.175391233082,"d":"1,037"}},{"$f":"AVERAGE(H146:H150)","v":{"v":5823.40044,"d":"5,823"}},null,{"$f":"AVERAGE(J146:J150)","v":{"v":12655.768515950567,"d":"12,656"}},{"$f":"AVERAGE(K146:K150)","v":{"v":1768.5519061253217,"d":"1,769"}},{"$f":"AVERAGE(L146:L150)","v":{"v":14424.320422075887,"d":"14,424"}}]
["1986-1990",{"$f":"AVERAGE(B151:B155)","v":{"v":14701.330317886092,"d":"14,701"}},{"$f":"AVERAGE(C151:C155)","v":{"v":686.0431486956498,"d":"686"}},{"$f":"AVERAGE(D151:D155)","v":{"v":15387.373466581741,"d":"15,387"}},null,{"$f":"AVERAGE(F151:F155)","v":{"v":7698.695434163665,"d":"7,699"}},{"$f":"AVERAGE(G151:G155)","v":{"v":390.3050058363368,"d":"390"}},{"$f":"AVERAGE(H151:H155)","v":{"v":8089.000440000001,"d":"8,089"}},null,{"$f":"AVERAGE(J151:J155)","v":{"v":22400.02575204976,"d":"22,400"}},{"$f":"AVERAGE(K151:K155)","v":{"v":1076.3481545319867,"d":"1,076"}},{"$f":"AVERAGE(L151:L155)","v":{"v":23476.373906581743,"d":"23,476"}}]
["1991-1995",{"$f":"AVERAGE(B156:B160)","v":{"v":2667.1738564423626,"d":"2,667"}},{"$f":"AVERAGE(C156:C160)","v":{"v":139.7212392914671,"d":"140"}},{"v":2806.89509573383,"d":"2,807"},null,{"v":4915.062590460281,"d":"4,915"},{"v":439.7378495397182,"d":"440"},{"v":5354.800440000001,"d":"5,355"},null,{"v":7582.236446902645,"d":"7,582"},{"v":579.4590888311852,"d":"579"},{"v":8161.69553573383,"d":"8,162"}]
["1996-2000",{"$f":"AVERAGE(B161:B165)","v":{"v":3688.3759635656584,"d":"3,688"}},{"$f":"AVERAGE(C161:C165)","v":{"v":18.612120179432388,"d":"19"}},{"v":3706.988083745091,"d":"3,707"},null,{"v":11915.402149651518,"d":"11,915"},{"v":648.7982903484805,"d":"649"},{"v":12564.20044,"d":"12,564"},null,{"v":15603.778113217177,"d":"15,604"},{"v":667.4104105279127,"d":"667"},{"v":16271.188523745088,"d":"16,271"}]
["2001-2005",{"$f":"AVERAGE(B166:B170)","v":{"v":17907.86538790628,"d":"17,908"}},{"$f":"AVERAGE(C166:C170)","v":{"v":106.26249536153264,"d":"106"}},{"v":18014.127883267814,"d":"18,014"},null,{"v":16677.66944680125,"d":"16,678"},{"v":975.7309931987513,"d":"976"},{"v":17653.400439999998,"d":"17,653"},null,{"v":34585.53483470753,"d":"34,586"},{"v":1081.9934885602838,"d":"1,082"},{"v":35667.528323267805,"d":"35,668"}]
["2006-2010",{"$f":"AVERAGE(B171:B175)","v":{"v":19639.152441000417,"d":"19,639"}},{"$f":"AVERAGE(C171:C175)","v":{"v":98.70073574899564,"d":"99"}},{"v":19737.853176749413,"d":"19,738"},null,{"v":16230.76293397544,"d":"16,231"},{"v":347.0375060245591,"d":"347"},{"v":16577.80044,"d":"16,578"},{"$error":"#DIV/0!"},{"v":35869.91537497586,"d":"35,870"},{"v":445.7382417735547,"d":"446"},{"v":36315.65361674941,"d":"36,316"}]
["2011-2015",{"$f":"AVERAGE(B176:B180)","v":{"v":35224.97340169377,"d":"35,225"}},{"$f":"AVERAGE(C176:C180)","v":{"v":111.71433599256052,"d":"112"}},{"$f":"AVERAGE(D176:D180)","v":{"v":35336.68773768634,"d":"35,337"}},null,{"$f":"AVERAGE(F176:F180)","v":{"v":19830.525470363187,"d":"19,831"}},{"$f":"AVERAGE(G176:G180)","v":{"v":522.8749696368144,"d":"523"}},{"$f":"AVERAGE(H176:H180)","v":{"v":20353.40044,"d":"20,353"}},{"$error":"#DIV/0!"},{"$f":"AVERAGE(J176:J180)","v":{"v":55055.49887205695,"d":"55,055"}},{"$f":"AVERAGE(K176:K180)","v":{"v":634.589305629375,"d":"635"}},{"$f":"AVERAGE(L176:L180)","v":{"v":55690.08817768634,"d":"55,690"}}]
[2016,{"$f":"B181","v":{"v":38911.245681444816,"d":"38,911"}},{"v":109.01645374153577,"d":"109"},{"v":39020.26213518635,"d":"39,020"},null,{"$f":"F181","v":{"v":26649.96008908863,"d":"26,650"}},{"v":547.0403509113718,"d":"547"},{"v":27197.00044,"d":"27,197"},null,{"$f":"J181","v":{"v":65561.20577053344,"d":"65,561"}},{"v":656.0568046529075,"d":"656"},{"v":66217.26257518635,"d":"66,217"}]
[2017,{"v":57701.19243559044,"d":"57,701"},{"v":327.7245573289946,"d":"328"},{"v":58028.91699291943,"d":"58,029"},null,{"v":41953.00016,"d":"41,953"},{"v":997.0002799999999,"d":"997"},{"v":42950.00044,"d":"42,950"},null,{"v":99654.19259559044,"d":"99,654"},{"v":1324.7248373289945,"d":"1,325"},{"v":100978.91743291944,"d":"100,979"}]
[2018,{"v":44133.5733598458,"d":"44,134"},{"v":32.691199427392064,"d":"33"},{"v":44166.264559273186,"d":"44,166"},null,{"v":28183.00016,"d":"28,183"},{"v":162.00028,"d":"162"},{"v":28345.00044,"d":"28,345"},null,{"v":72316.5735198458,"d":"72,317"},{"v":194.69147942739207,"d":"195"},{"v":72511.26499927319,"d":"72,511"}]
[2019,{"v":47396.06699685048,"d":"47,396"},{"v":251.43606231906557,"d":"251"},{"v":47647.50305916954,"d":"47,648"},null,{"v":14488.00016,"d":"14,488"},{"v":371.0002799999999,"d":"371"},{"v":14859.00044,"d":"14,859"},null,{"v":61884.06715685048,"d":"61,884"},{"v":622.4363423190655,"d":"622"},{"v":62506.50349916954,"d":"62,507"}]
[2020,{"v":18141.616674127985,"d":"18,142"},{"v":12.12732698977642,"d":"12"},{"v":18153.74400111776,"d":"18,154"},null,{"v":5422.0001600000005,"d":"5,422"},{"v":37.000280000000004,"d":"37"},{"v":5459.000440000001,"d":"5,459"},null,{"v":23563.616834127984,"d":"23,564"},{"v":49.127606989776424,"d":"49"},{"v":23612.74444111776,"d":"23,613"}]
[2021,{"v":32617.050110160922,"d":"32,617"},{"v":106.38318797368913,"d":"106"},{"v":32723.433298134612,"d":"32,723"},null,{"v":21587.00016,"d":"21,587"},{"v":290.00028,"d":"290"},{"v":21877.00044,"d":"21,877"},null,{"v":54204.05027016092,"d":"54,204"},{"v":396.3834679736891,"d":"396"},{"v":54600.43373813461,"d":"54,600"}]
["2022f/",{"v":37491.22952942841,"d":"37,491"},{"v":151.7704705715737,"d":"152"},{"v":37642.99999999999,"d":"37,643"},null,{"v":37022.000159999996,"d":"37,022"},{"v":1124.00028,"d":"1,124"},{"v":38146.000439999996,"d":"38,146"},null,{"v":74513.22968942841,"d":"74,513"},{"v":1275.7707505715737,"d":"1,276"},{"v":75789.00043999999,"d":"75,789"}]
["2023f/",{"$f":"B188","v":{"v":33076.99004022626,"d":"33,077"}},{"v":363.009959773732,"d":"363"},{"v":33439.999999999985,"d":"33,440"},null,{"$f":"F188","v":{"v":27457.00016,"d":"27,457"}},{"v":1002.0002799999999,"d":"1,002"},{"v":28459.00044,"d":"28,459"},null,{"$f":"J188","v":{"v":60533.99020022626,"d":"60,534"}},{"v":1365.0102397737319,"d":"1,365"},{"v":61899.00043999999,"d":"61,899"}]
[2024,"NA","NA","NA",null,"NA","NA","NA",null,"NA","NA","NA"]
["GOAL",{"$nulls":4},{"$f":"F190","v":{"v":3400,"d":"3,400"}}]
[]
["TABLE B-41.  Puget Sound commercial net fishery catches and spawning escapements in numbers of fish for hatchery and natural Puget Sound Chinook stocks.a/  (Page 3 of 4)"]
["Year or Average","Commercial Net Catches",{"$nulls":3},"Spawning Escapement",{"$nulls":3},"Puget Sound Run Sizec/"]
[null,"Hatchery","Naturalb/","Total",null,"Hatchery","Naturalb/","Total",null,"Hatchery","Naturalb/","Total"]
["Stillaguamish-Snohomishe/"]
["1981-1985",{"$f":"AVERAGE(B193:B197)","v":{"v":3288.6691597525214,"d":"3,289"}},{"$f":"AVERAGE(C193:C197)","v":{"v":7476.140974063825,"d":"7,476"}},{"$f":"AVERAGE(D193:D197)","v":{"v":10764.810133816345,"d":"10,765"}},null,{"$f":"AVERAGE(F193:F197)","v":{"v":1990.2000600000003,"d":"1,990"}},{"$f":"AVERAGE(G193:G197)","v":{"v":4830.40012,"d":"4,830"}},{"$f":"AVERAGE(H193:H197)","v":{"v":6820.600179999999,"d":"6,821"}},null,{"$f":"AVERAGE(J193:J197)","v":{"v":5278.8692197525215,"d":"5,279"}},{"$f":"AVERAGE(K193:K197)","v":{"v":12306.541094063825,"d":"12,307"}},{"$f":"AVERAGE(L193:L197)","v":{"v":17585.410313816345,"d":"17,585"}}]
["1986-1990",{"$f":"AVERAGE(B198:B202)","v":{"v":3816.767691920214,"d":"3,817"}},{"$f":"AVERAGE(C198:C202)","v":{"v":3732.725336323001,"d":"3,733"}},{"$f":"AVERAGE(D198:D202)","v":{"v":7549.493028243216,"d":"7,549"}},null,{"$f":"AVERAGE(F198:F202)","v":{"v":1186.8459359933265,"d":"1,187"}},{"$f":"AVERAGE(G198:G202)","v":{"v":5468.853755294559,"d":"5,469"}},{"$f":"AVERAGE(H198:H202)","v":{"v":6655.699691287885,"d":"6,656"}},null,{"$f":"AVERAGE(J198:J202)","v":{"v":5003.613627913541,"d":"5,004"}},{"$f":"AVERAGE(K198:K202)","v":{"v":9201.579091617561,"d":"9,202"}},{"$f":"AVERAGE(L198:L202)","v":{"v":14205.192719531104,"d":"14,205"}}]
["1991-1995",{"$f":"AVERAGE(B203:B207)","v":{"v":4312.686536107396,"d":"4,313"}},{"$f":"AVERAGE(C203:C207)","v":{"v":1331.333365951875,"d":"1,331"}},{"v":5644.01990205927,"d":"5,644"},null,{"v":2581.0350428290612,"d":"2,581"},{"v":4375.492842117596,"d":"4,375"},{"v":6956.527884946658,"d":"6,957"},null,{"v":6893.721578936456,"d":"6,894"},{"v":5706.826208069471,"d":"5,707"},{"v":12600.547787005928,"d":"12,601"}]
["1996-2000",{"$f":"AVERAGE(B208:B212)","v":{"v":6061.634053130563,"d":"6,062"}},{"$f":"AVERAGE(C208:C212)","v":{"v":4141.837408457895,"d":"4,142"}},{"v":10203.471461588462,"d":"10,203"},null,{"v":8246.16113513382,"d":"8,246"},{"v":4585.301249259905,"d":"4,585"},{"v":12831.462384393724,"d":"12,831"},null,{"v":14307.795188264383,"d":"14,308"},{"v":8727.1386577178,"d":"8,727"},{"v":23034.93384598218,"d":"23,035"}]
["2001-2005",{"$f":"AVERAGE(B213:B217)","v":{"v":2997.6223109106795,"d":"2,998"}},{"$f":"AVERAGE(C213:C217)","v":{"v":3922.9954810473655,"d":"3,923"}},{"v":6920.617791958044,"d":"6,921"},null,{"v":4755.962609747409,"d":"4,756"},{"v":7981.421045440659,"d":"7,981"},{"v":12737.383655188069,"d":"12,737"},null,{"v":7753.58492065809,"d":"7,754"},{"v":11904.416526488023,"d":"11,904"},{"v":19658.00144714611,"d":"19,658"}]
["2006-2010",{"$f":"AVERAGE(B218:B222)","v":{"v":3803.5567449674986,"d":"3,804"}},{"$f":"AVERAGE(C218:C222)","v":{"v":181.38929923167188,"d":"181"}},{"v":3984.94604419917,"d":"3,985"},null,{"v":6431.680429222133,"d":"6,432"},{"v":4944.931319713893,"d":"4,945"},{"v":11376.611748936024,"d":"11,377"},{"$error":"#DIV/0!"},{"v":10235.23717418963,"d":"10,235"},{"v":5126.320618945565,"d":"5,126"},{"v":15361.557793135193,"d":"15,362"}]
["2011-2015",{"$f":"AVERAGE(B223:B227)","v":{"v":1813.439827585625,"d":"1,813"}},{"$f":"AVERAGE(C223:C227)","v":{"v":357.2255964843515,"d":"357"}},{"$f":"AVERAGE(D223:D227)","v":{"v":2170.665424069977,"d":"2,171"}},null,{"$f":"AVERAGE(F223:F227)","v":{"v":6450.405751011427,"d":"6,450"}},{"$f":"AVERAGE(G223:G227)","v":{"v":3062.594428988574,"d":"3,063"}},{"$f":"AVERAGE(H223:H227)","v":{"v":9513.00018,"d":"9,513"}},{"$error":"#DIV/0!"},{"$f":"AVERAGE(J223:J227)","v":{"v":8263.845578597051,"d":"8,264"}},{"$f":"AVERAGE(K223:K227)","v":{"v":3419.820025472925,"d":"3,420"}},{"$f":"AVERAGE(L223:L227)","v":{"v":11683.665604069975,"d":"11,684"}}]
[2016,{"$f":"B228","v":{"v":2248.1954298314813,"d":"2,248"}},{"v":4092.7430224131476,"d":"4,093"},{"v":6340.938452244631,"d":"6,341"},null,{"$f":"F228","v":{"v":10166.000059999998,"d":"10,166"}},{"v":4154.000120000001,"d":"4,154"},{"v":14320.00018,"d":"14,320"},null,{"$f":"J228","v":{"v":12414.19548983148,"d":"12,414"}},{"v":8246.743142413148,"d":"8,247"},{"v":20660.93863224463,"d":"20,661"}]
[2017,{"v":11635.708848860297,"d":"11,636"},{"v":207.07501254346425,"d":"207"},{"v":11842.783861403761,"d":"11,843"},null,{"v":9344.000059999998,"d":"9,344"},{"v":4826.000120000001,"d":"4,826"},{"v":14170.00018,"d":"14,170"},null,{"v":20979.708908860295,"d":"20,980"},{"v":5033.075132543465,"d":"5,033"},{"v":26012.78404140376,"d":"26,013"}]
[2018,{"v":9742.221337654488,"d":"9,742"},{"v":211.60357420617902,"d":"212"},{"v":9953.824911860667,"d":"9,954"},null,{"v":6475.00006,"d":"6,475"},{"v":3336.00012,"d":"3,336"},{"v":9811.000180000001,"d":"9,811"},null,{"v":16217.221397654488,"d":"16,217"},{"v":3547.603694206179,"d":"3,548"},{"v":19764.825091860668,"d":"19,765"}]
[2019,{"v":9146.880569830348,"d":"9,147"},{"v":75.4181409618518,"d":"75"},{"v":9222.298710792202,"d":"9,222"},null,{"v":6702.00006,"d":"6,702"},{"v":1237.00012,"d":"1,237"},{"v":7939.00018,"d":"7,939"},null,{"v":15848.880629830348,"d":"15,849"},{"v":1312.4182609618517,"d":"1,312"},{"v":17161.2988907922,"d":"17,161"}]
[2020,{"v":3520.4520083444513,"d":"3,520"},{"v":65.96542883826805,"d":"66"},{"v":3586.4174371827194,"d":"3,586"},null,{"v":6275.00006,"d":"6,275"},{"v":3387.00012,"d":"3,387"},{"v":9662.000180000001,"d":"9,662"},null,{"v":9795.452068344452,"d":"9,795"},{"v":3452.965548838268,"d":"3,453"},{"v":13248.41761718272,"d":"13,248"}]
[2021,{"v":1559.0391033448286,"d":"1,559"},{"v":30.633005566643078,"d":"31"},{"v":1589.6721089114708,"d":"1,590"},null,{"v":7485.0000599999985,"d":"7,485"},{"v":2511.0001199999997,"d":"2,511"},{"v":9996.00018,"d":"9,996"},null,{"v":9044.039163344827,"d":"9,044"},{"v":2541.633125566643,"d":"2,542"},{"v":11585.67228891147,"d":"11,586"}]
["2022f/",{"v":3290.464901971749,"d":"3,290"},{"v":108.5350980282501,"d":"109"},{"v":3398.999999999998,"d":"3,399"},null,{"v":9111.00006,"d":"9,111"},{"v":4419.000120000001,"d":"4,419"},{"v":13530.000180000001,"d":"13,530"},null,{"v":12401.46496197175,"d":"12,401"},{"v":4527.535218028251,"d":"4,528"},{"v":16929.00018,"d":"16,929"}]
["2023f/",{"$f":"B235","v":{"v":1330.8943930215883,"d":"1,331"}},{"v":2140.105606978409,"d":"2,140"},{"v":3470.9999999999964,"d":"3,471"},null,{"$f":"F235","v":{"v":6729.00006,"d":"6,729"}},{"v":2032.00012,"d":"2,032"},{"v":8761.000180000001,"d":"8,761"},null,{"$f":"J235","v":{"v":8059.894453021589,"d":"8,060"}},{"v":4172.105726978409,"d":"4,172"},{"v":12232.000179999997,"d":"12,232"}]
[2024,"NA","NA","NA",null,"NA","NA","NA",null,"NA","NA","NA"]
["GOAL",{"$nulls":5},{"$f":"G237","v":{"v":7300,"d":"7,300"}}]
[]
["South Puget Soundg/"]
["1981-1985",{"$f":"AVERAGE(B240:B244)","v":{"v":22448.13093688524,"d":"22,448"}},{"$f":"AVERAGE(C240:C244)","v":{"v":9250.651431909671,"d":"9,251"}},{"$f":"AVERAGE(D240:D244)","v":{"v":31698.78236879491,"d":"31,699"}},null,{"$f":"AVERAGE(F240:F244)","v":{"v":22693.008223999997,"d":"22,693"}},{"$f":"AVERAGE(G240:G244)","v":{"v":5595.6604560000005,"d":"5,596"}},{"$f":"AVERAGE(H240:H244)","v":{"v":28288.66867999999,"d":"28,289"}},null,{"$f":"AVERAGE(J240:J244)","v":{"v":45141.13916088523,"d":"45,141"}},{"$f":"AVERAGE(K240:K244)","v":{"v":14846.311887909673,"d":"14,846"}},{"$f":"AVERAGE(L240:L244)","v":{"v":59987.4510487949,"d":"59,987"}}]
["1986-1990",{"$f":"AVERAGE(B245:B249)","v":{"v":29276.962677297102,"d":"29,277"}},{"$f":"AVERAGE(C245:C249)","v":{"v":21233.70336360632,"d":"21,234"}},{"$f":"AVERAGE(D245:D249)","v":{"v":50510.66604090344,"d":"50,511"}},null,{"$f":"AVERAGE(F245:F249)","v":{"v":37152.256219999996,"d":"37,152"}},{"$f":"AVERAGE(G245:G249)","v":{"v":18298.000447999995,"d":"18,298"}},{"$f":"AVERAGE(H245:H249)","v":{"v":55450.256667999995,"d":"55,450"}},null,{"$f":"AVERAGE(J245:J249)","v":{"v":66429.21889729709,"d":"66,429"}},{"$f":"AVERAGE(K245:K249)","v":{"v":39531.70381160632,"d":"39,532"}},{"$f":"AVERAGE(L245:L249)","v":{"v":105960.92270890341,"d":"105,961"}}]
["1991-1995",{"$f":"AVERAGE(B250:B254)","v":{"v":22146.86880230884,"d":"22,147"}},{"$f":"AVERAGE(C250:C254)","v":{"v":11803.685970485905,"d":"11,804"}},{"v":33950.554772794734,"d":"33,951"},null,{"v":31383.272219999995,"d":"31,383"},{"v":13796.72044,"d":"13,797"},{"v":45179.99266,"d":"45,180"},null,{"v":53530.14102230883,"d":"53,530"},{"v":25600.406410485906,"d":"25,600"},{"v":79130.54743279473,"d":"79,131"}]
["1996-2000",{"$f":"AVERAGE(B255:B259)","v":{"v":15934.181322276942,"d":"15,934"}},{"$f":"AVERAGE(C255:C259)","v":{"v":9487.667887891826,"d":"9,488"}},{"v":25421.84921016877,"d":"25,422"},null,{"v":37007.77622,"d":"37,008"},{"v":24826.780439999995,"d":"24,827"},{"v":61834.55665999999,"d":"61,835"},null,{"v":52941.95754227694,"d":"52,942"},{"v":34314.44832789182,"d":"34,314"},{"v":87256.40587016875,"d":"87,256"}]
["2001-2005",{"$f":"AVERAGE(B260:B264)","v":{"v":26032.571954082825,"d":"26,033"}},{"$f":"AVERAGE(C260:C264)","v":{"v":11065.944160328498,"d":"11,066"}},{"v":37098.516114411315,"d":"37,099"},null,{"v":50473.36503196133,"d":"50,473"},{"v":21069.73518292372,"d":"21,070"},{"v":71543.10021488505,"d":"71,543"},null,{"v":76505.93698604417,"d":"76,506"},{"v":32135.67934325222,"d":"32,136"},{"v":108641.61632929638,"d":"108,642"}]
["2006-2010",{"$f":"AVERAGE(B265:B269)","v":{"v":46025.94084936879,"d":"46,026"}},{"$f":"AVERAGE(C265:C269)","v":{"v":7552.0395484008795,"d":"7,552"}},{"v":53577.98039776966,"d":"53,578"},null,{"v":60551.79477178459,"d":"60,552"},{"v":9794.83842306893,"d":"9,795"},{"v":70346.63319485352,"d":"70,347"},{"$error":"#DIV/0!"},{"v":106577.73562115338,"d":"106,578"},{"v":17346.87797146981,"d":"17,347"},{"v":123924.61359262318,"d":"123,925"}]
["2011-2015",{"$f":"AVERAGE(B270:B274)","v":{"v":19154.19803447388,"d":"19,154"}},{"$f":"AVERAGE(C270:C274)","v":{"v":5055.319256008476,"d":"5,055"}},{"$f":"AVERAGE(D270:D274)","v":{"v":24209.517290482363,"d":"24,210"}},null,{"$f":"AVERAGE(F270:F274)","v":{"v":41142.508772550034,"d":"41,143"}},{"$f":"AVERAGE(G270:G274)","v":{"v":7495.491887449965,"d":"7,495"}},{"$f":"AVERAGE(H270:H274)","v":{"v":48638.00066,"d":"48,638"}},{"$error":"#DIV/0!"},{"$f":"AVERAGE(J270:J274)","v":{"v":60296.70680702392,"d":"60,297"}},{"$f":"AVERAGE(K270:K274)","v":{"v":12550.811143458439,"d":"12,551"}},{"$f":"AVERAGE(L270:L274)","v":{"v":72847.51795048235,"d":"72,848"}}]
[2016,{"$f":"B275","v":{"v":10298.500908611502,"d":"10,299"}},{"v":6127.040005601375,"d":"6,127"},{"v":16425.540914212877,"d":"16,426"},null,{"$f":"F275","v":{"v":66509.50285209203,"d":"66,510"}},{"v":9723.997807907977,"d":"9,724"},{"v":76233.50066,"d":"76,234"},null,{"$f":"J275","v":{"v":76808.00376070353,"d":"76,808"}},{"v":15851.037813509352,"d":"15,851"},{"v":92659.04157421288,"d":"92,659"}]
[2017,{"v":37672.6071048663,"d":"37,673"},{"v":8027.884947168428,"d":"8,028"},{"v":45700.49205203474,"d":"45,700"},null,{"v":95596.00022000002,"d":"95,596"},{"v":13103.000440000005,"d":"13,103"},{"v":108699.00066000002,"d":"108,699"},null,{"v":133268.60732486632,"d":"133,269"},{"v":21130.885387168433,"d":"21,131"},{"v":154399.49271203476,"d":"154,399"}]
[2018,{"v":34519.24012780659,"d":"34,519"},{"v":10068.893736020274,"d":"10,069"},{"v":44588.13386382685,"d":"44,588"},null,{"v":63525.000219999994,"d":"63,525"},{"v":10339.000440000005,"d":"10,339"},{"v":73864.00066,"d":"73,864"},null,{"v":98044.24034780658,"d":"98,044"},{"v":20407.89417602028,"d":"20,408"},{"v":118452.13452382686,"d":"118,452"}]
[2019,{"v":27304.89540290043,"d":"27,305"},{"v":13275.253168517058,"d":"13,275"},{"v":40580.14857141749,"d":"40,580"},null,{"v":51932.000219999994,"d":"51,932"},{"v":7122.00044,"d":"7,122"},{"v":59054.00065999999,"d":"59,054"},null,{"v":79236.89562290043,"d":"79,237"},{"v":20397.253608517058,"d":"20,397"},{"v":99634.14923141748,"d":"99,634"}]
[2020,{"v":15127.674951037894,"d":"15,128"},{"v":6988.401481655583,"d":"6,988"},{"v":22116.076432693488,"d":"22,116"},null,{"v":37321.000219999994,"d":"37,321"},{"v":6465.00044,"d":"6,465"},{"v":43786.00065999999,"d":"43,786"},null,{"v":52448.67517103789,"d":"52,449"},{"v":13453.401921655583,"d":"13,453"},{"v":65902.07709269348,"d":"65,902"}]
[2021,{"v":25452.599086720867,"d":"25,453"},{"v":11580.240232291631,"d":"11,580"},{"v":37032.8393190125,"d":"37,033"},null,{"v":55868.000219999994,"d":"55,868"},{"v":7911.000440000001,"d":"7,911"},{"v":63779.00066,"d":"63,779"},null,{"v":81320.59930672086,"d":"81,321"},{"v":19491.24067229163,"d":"19,491"},{"v":100811.8399790125,"d":"100,812"}]
["2022f/",{"v":16419.70928241987,"d":"16,420"},{"v":10423.290677580117,"d":"10,423"},{"v":26842.999959999986,"d":"26,843"},null,{"v":57870.000219999994,"d":"57,870"},{"v":10047.000440000007,"d":"10,047"},{"v":67917.00066,"d":"67,917"},null,{"v":74289.70950241986,"d":"74,290"},{"v":20470.291117580124,"d":"20,470"},{"v":94760.00061999999,"d":"94,760"}]
["2023f/",{"$f":"B282","v":{"v":15558.108291732155,"d":"15,558"}},{"v":6783.191668267846,"d":"6,783"},{"v":22341.299960000004,"d":"22,341"},null,{"$f":"F282","v":{"v":54048.000219999994,"d":"54,048"}},{"v":6641.00044,"d":"6,641"},{"v":60689.00065999999,"d":"60,689"},null,{"$f":"J282","v":{"v":69606.10851173215,"d":"69,606"}},{"v":13424.192108267845,"d":"13,424"},{"v":83030.30062,"d":"83,030"}]
[2024,"NA","NA","NA",null,"NA","NA","NA",null,"NA","NA","NA"]
["GOAL",{"$nulls":6},{"$f":"H284","v":0}]
["TABLE B-41.  Puget Sound commercial net fishery catches and spawning escapements in numbers of fish for hatchery and natural Puget Sound Chinook stocks.a/  (Page 4 of 4)"]
[]
["TABLE B-41.  Puget Sound commercial net fishery catches and spawning escapements in numbers of fish for hatchery and natural Puget Sound Chinook stocks.a/  (Page 4 of 4)"]
[{"$f":"A285","v":"a/   Includes treaty Indian and non-Indian net commercial catches during the adult accounting period.  Source:  Puget Sound run reconstruction model."}]
[{"$f":"A286","v":"b/  Includes estimated off-station returns."}]
[{"$f":"A287","v":"c/  Puget Sound run size is defined as the run available to Puget Sound net fisheries; spawning escapement plus Puget Sound net fishery catch.  Does not include fish caught by troll and recreational fisheries inside Puget Sound."}]
[]
[{"$f":"A289","v":"d/  Natural escapement includes NORs and supplementation origin fish in the Mid Hood Canal management unit streams.  Escapement management objectives in the Skokomish River are for total river spawners (HOR & NOR) and are not comparable to the natural escapement column in this table.  NOR/HOR breakout of Skokomish R spawners from prior to mass adipose clipping (pre-2010) are based on the average pHOS from after mass adipose clipping (2010-2017) ."}]
[{"$f":"A290","v":"e/  Since 1999, numbers include Tulalip hatchery returns, which are not added into escapement since no broodstock is taken at the hatchery."}]
[{"$f":"A291","v":"f/  Preliminary."}]
[{"$f":"A292","v":"g/  Includes the following stock groups: miscellaneous Area 10 - Seattle, Lake Washington, Green-Duwamish, miscellaneous Area 10E - Port Orchard, Puyallup, miscellaneous Area 13 - south Puget Sound, Chambers Creek, Nisqually, miscellaneous Area 13A - Minter Creek, Deschutes, miscellaneous Area 13B streams."}]

{"sheet":"B-42","index":43,"n_rows":514,"n_cols":14,"rows_kept":514,"merged":[[0,0,0,11],[1,0,2,0],[1,1,1,3],[1,5,1,7],[1,9,1,11],[3,0,3,11],[50,0,50,11],[97,0,97,11],[144,0,144,11],[191,0,191,11],[236,0,236,1],[238,0,238,11],[283,0,283,1],[285,0,285,11],[333,0,333,11],[335,0,335,11],[336,0,336,11],[362,0,362,11],[363,0,363,11],[364,0,365,0],[364,1,364,3],[364,5,364,7],[364,9,364,11],[366,0,366,11],[384,0,384,11],[404,0,404,11],[405,0,406,0],[405,1,405,3],[405,5,405,7],[405,9,405,11],[407,0,407,11],[425,0,425,11],[445,0,445,11],[446,0,447,0],[446,1,446,3],[446,5,446,7],[446,9,446,11],[448,0,448,11],[465,0,465,1],[466,0,466,11],[483,0,483,1],[486,0,486,11],[487,0,488,0],[487,1,487,3],[487,5,487,7],[487,9,487,11],[489,0,489,11],[507,0,507,11],[508,0,508,11],[509,0,511,11],[512,0,512,11],[513,0,513,11],[514,0,514,11]]}
["TABLE B-42.  Puget Sound commercial net fishery catches and spawning escapements in numbers of fish for hatchery and natural Puget Sound coho stocks.a/"]
["Year or Average","Commercial Net Catchesc/",{"$nulls":3},"Spawning Escapement",{"$nulls":3},"Terminal Run Sizec/"]
[null,"Hatcheryb/","Natural","Total",null,"Hatcheryb/","Natural","Total",null,"Hatcheryb/","Natural","Total"]
["Strait of Juan de Fuca"]
[1981,{"v":12961,"d":"12,961"},463,{"v":13424,"d":"13,424"},null,{"v":15900,"d":"15,900"},{"v":3300,"d":"3,300"},{"v":19200,"d":"19,200"},null,{"v":28861,"d":"28,861"},{"v":3763,"d":"3,763"},{"v":32624,"d":"32,624"}]
[1982,{"v":42991,"d":"42,991"},{"v":1962,"d":"1,962"},{"v":44953,"d":"44,953"},null,{"v":11700,"d":"11,700"},{"v":9900,"d":"9,900"},{"v":21600,"d":"21,600"},null,{"v":54691,"d":"54,691"},{"v":11862,"d":"11,862"},{"v":66553,"d":"66,553"}]
[1983,{"v":23117,"d":"23,117"},2,{"v":23119,"d":"23,119"},null,{"v":7600,"d":"7,600"},{"v":3500,"d":"3,500"},{"v":11100,"d":"11,100"},null,{"v":30717,"d":"30,717"},{"v":3502,"d":"3,502"},{"v":34219,"d":"34,219"}]
[1984,{"v":6459,"d":"6,459"},150,{"v":6609,"d":"6,609"},null,{"v":4700,"d":"4,700"},{"v":4200,"d":"4,200"},{"v":8900,"d":"8,900"},null,{"v":11159,"d":"11,159"},{"v":4350,"d":"4,350"},{"v":15509,"d":"15,509"}]
[1985,{"v":11282,"d":"11,282"},57,{"v":11339,"d":"11,339"},null,{"v":7300,"d":"7,300"},{"v":2400,"d":"2,400"},{"v":9700,"d":"9,700"},null,{"v":18582,"d":"18,582"},{"v":2457,"d":"2,457"},{"v":21039,"d":"21,039"}]
[1986,{"v":9380,"d":"9,380"},183,{"v":9563,"d":"9,563"},null,{"v":5036,"d":"5,036"},{"v":9700,"d":"9,700"},{"v":14736,"d":"14,736"},null,{"v":14416,"d":"14,416"},{"v":9883,"d":"9,883"},{"v":24299,"d":"24,299"}]
[1987,{"v":14833,"d":"14,833"},60,{"v":14893,"d":"14,893"},null,{"v":3711,"d":"3,711"},{"v":4800,"d":"4,800"},{"v":8511,"d":"8,511"},null,{"v":18544,"d":"18,544"},{"v":4860,"d":"4,860"},{"v":23404,"d":"23,404"}]
[1988,{"v":5682,"d":"5,682"},32,{"v":5714,"d":"5,714"},null,{"v":2264,"d":"2,264"},{"v":4300,"d":"4,300"},{"v":6564,"d":"6,564"},null,{"v":7946,"d":"7,946"},{"v":4332,"d":"4,332"},{"v":12278,"d":"12,278"}]
[1989,{"v":9273,"d":"9,273"},22,{"v":9295,"d":"9,295"},null,{"v":1724,"d":"1,724"},{"v":7200,"d":"7,200"},{"v":8924,"d":"8,924"},null,{"v":10997,"d":"10,997"},{"v":7222,"d":"7,222"},{"v":18219,"d":"18,219"}]
[1990,{"v":5894,"d":"5,894"},330,{"v":6224,"d":"6,224"},null,{"v":2330,"d":"2,330"},{"v":3700,"d":"3,700"},{"v":6030,"d":"6,030"},null,{"v":8224,"d":"8,224"},{"v":4030,"d":"4,030"},{"v":12254,"d":"12,254"}]
[1991,{"v":3498,"d":"3,498"},52,{"v":3550,"d":"3,550"},null,{"v":3146,"d":"3,146"},{"v":3700,"d":"3,700"},{"v":6846,"d":"6,846"},null,{"v":6644,"d":"6,644"},{"v":3752,"d":"3,752"},{"v":10396,"d":"10,396"}]
[1992,{"v":3022,"d":"3,022"},26,{"v":3048,"d":"3,048"},null,{"v":3423,"d":"3,423"},{"v":6100,"d":"6,100"},{"v":9523,"d":"9,523"},null,{"v":6445,"d":"6,445"},{"v":6126,"d":"6,126"},{"v":12571,"d":"12,571"}]
[1993,421,29,450,null,{"v":4071,"d":"4,071"},{"v":3300,"d":"3,300"},{"v":7371,"d":"7,371"},null,{"v":4492,"d":"4,492"},{"v":3329,"d":"3,329"},{"v":7821,"d":"7,821"}]
[1994,{"v":2107,"d":"2,107"},3,{"v":2110,"d":"2,110"},null,{"v":2117,"d":"2,117"},{"v":2500,"d":"2,500"},{"v":4617,"d":"4,617"},null,{"v":4224,"d":"4,224"},{"v":2503,"d":"2,503"},{"v":6727,"d":"6,727"}]
[1995,{"v":4125,"d":"4,125"},7,{"v":4132,"d":"4,132"},null,{"v":8393,"d":"8,393"},{"v":6379,"d":"6,379"},{"v":14772,"d":"14,772"},null,{"v":12518,"d":"12,518"},{"v":6386,"d":"6,386"},{"v":18904,"d":"18,904"}]
[1996,{"v":4900,"d":"4,900"},7,{"v":4907,"d":"4,907"},null,{"v":7053,"d":"7,053"},{"v":2950,"d":"2,950"},{"v":10003,"d":"10,003"},null,{"v":11953,"d":"11,953"},{"v":2957,"d":"2,957"},{"v":14910,"d":"14,910"}]
[1997,226,65,291,null,{"v":13166,"d":"13,166"},{"v":13065,"d":"13,065"},{"v":26231,"d":"26,231"},null,{"v":13865,"d":"13,865"},{"v":13257,"d":"13,257"},{"v":27122,"d":"27,122"}]
[1998,{"v":5011,"d":"5,011"},{"v":1225,"d":"1,225"},{"v":6236,"d":"6,236"},null,{"v":5166,"d":"5,166"},{"v":18113,"d":"18,113"},{"v":23279,"d":"23,279"},null,{"v":11261,"d":"11,261"},{"v":19568,"d":"19,568"},{"v":30829,"d":"30,829"}]
[1999,{"v":3441,"d":"3,441"},702,{"v":4143,"d":"4,143"},null,{"v":6253,"d":"6,253"},{"v":8484,"d":"8,484"},{"v":14737,"d":"14,737"},null,{"v":10889,"d":"10,889"},{"v":9466,"d":"9,466"},{"v":20355,"d":"20,355"}]
[2000,{"v":7730,"d":"7,730"},{"v":1984,"d":"1,984"},{"v":9714,"d":"9,714"},null,{"v":19233,"d":"19,233"},{"v":22654,"d":"22,654"},{"v":41887,"d":"41,887"},null,{"v":29021,"d":"29,021"},{"v":25185,"d":"25,185"},{"v":54206,"d":"54,206"}]
[2001,{"v":10694,"d":"10,694"},{"v":2727,"d":"2,727"},{"v":13421,"d":"13,421"},null,{"v":24768,"d":"24,768"},{"v":35274,"d":"35,274"},{"v":60042,"d":"60,042"},null,{"v":41381,"d":"41,381"},{"v":39552,"d":"39,552"},{"v":80933,"d":"80,933"}]
[2002,{"v":7680,"d":"7,680"},{"v":1882,"d":"1,882"},{"v":9562,"d":"9,562"},null,{"v":10398,"d":"10,398"},{"v":22375,"d":"22,375"},{"v":32773,"d":"32,773"},null,{"v":19894,"d":"19,894"},{"v":24663,"d":"24,663"},{"v":44557,"d":"44,557"}]
[2003,{"v":3652,"d":"3,652"},361,{"v":4013,"d":"4,013"},null,{"v":18951,"d":"18,951"},{"v":17042,"d":"17,042"},{"v":35993,"d":"35,993"},null,{"v":23651,"d":"23,651"},{"v":17403,"d":"17,403"},{"v":41054,"d":"41,054"}]
[2004,{"v":4475,"d":"4,475"},0,{"v":4475,"d":"4,475"},null,{"v":6690,"d":"6,690"},{"v":19755,"d":"19,755"},{"v":26445,"d":"26,445"},null,{"v":12258,"d":"12,258"},{"v":19899,"d":"19,899"},{"v":32157,"d":"32,157"}]
[2005,{"v":4057,"d":"4,057"},0,{"v":4057,"d":"4,057"},null,{"v":4899,"d":"4,899"},{"v":10201,"d":"10,201"},{"v":15100,"d":"15,100"},null,{"v":9903,"d":"9,903"},{"v":10245,"d":"10,245"},{"v":20148,"d":"20,148"}]
[2006,{"v":1055,"d":"1,055"},10,{"v":1065,"d":"1,065"},null,738,{"v":3801,"d":"3,801"},{"v":4536,"d":"4,536"},null,{"v":2075,"d":"2,075"},{"v":3811,"d":"3,811"},{"v":5886,"d":"5,886"}]
[2007,{"v":3455,"d":"3,455"},22,{"v":3455,"d":"3,455"},null,{"v":2516,"d":"2,516"},{"v":7525,"d":"7,525"},{"v":10044,"d":"10,044"},null,{"v":6657,"d":"6,657"},{"v":7547,"d":"7,547"},{"v":14204,"d":"14,204"}]
[2008,832,0,832,null,849,{"v":3999,"d":"3,999"},{"v":4027,"d":"4,027"},null,{"v":1696,"d":"1,696"},{"v":3999,"d":"3,999"},{"v":5695,"d":"5,695"}]
[2009,{"v":6877,"d":"6,877"},22,{"v":6877,"d":"6,877"},null,{"v":12407,"d":"12,407"},{"v":14957,"d":"14,957"},{"v":27364,"d":"27,364"},null,{"v":20322,"d":"20,322"},{"v":14985,"d":"14,985"},{"v":35307,"d":"35,307"}]
[2010,{"v":2521,"d":"2,521"},21,{"v":2542,"d":"2,542"},null,{"v":5204,"d":"5,204"},{"v":18419,"d":"18,419"},{"v":23623,"d":"23,623"},null,{"v":8009,"d":"8,009"},{"v":18442,"d":"18,442"},{"v":26451,"d":"26,451"}]
[2011,{"v":5607,"d":"5,607"},1,{"v":5608,"d":"5,608"},null,{"v":11056,"d":"11,056"},{"v":10731,"d":"10,731"},{"v":21787,"d":"21,787"},null,{"v":18808,"d":"18,808"},{"v":10732,"d":"10,732"},{"v":29540,"d":"29,540"}]
[2012,{"v":5281,"d":"5,281"},3,{"v":5284,"d":"5,284"},null,{"v":7945,"d":"7,945"},{"v":11020,"d":"11,020"},{"v":18965,"d":"18,965"},null,{"v":14119,"d":"14,119"},{"v":11023,"d":"11,023"},{"v":25142,"d":"25,142"}]
[2013,{"v":2057,"d":"2,057"},42,{"v":2099,"d":"2,099"},null,{"v":6765,"d":"6,765"},{"v":8458,"d":"8,458"},{"v":15223,"d":"15,223"},null,{"v":10260,"d":"10,260"},{"v":8500,"d":"8,500"},{"v":18760,"d":"18,760"}]
[2014,{"v":3195,"d":"3,195"},28,{"v":3223,"d":"3,223"},null,{"v":3686,"d":"3,686"},{"v":11488,"d":"11,488"},{"v":15174,"d":"15,174"},null,{"v":7345,"d":"7,345"},{"v":11516,"d":"11,516"},{"v":18861,"d":"18,861"}]
[2015,298,34,332,null,{"v":1018,"d":"1,018"},{"v":3859,"d":"3,859"},{"v":4877,"d":"4,877"},null,{"v":1619,"d":"1,619"},{"v":3893,"d":"3,893"},{"v":5512,"d":"5,512"}]
[2016,{"v":3931,"d":"3,931"},16,{"v":3947,"d":"3,947"},null,{"v":4103,"d":"4,103"},{"v":8435,"d":"8,435"},{"v":12538,"d":"12,538"},null,{"v":8672,"d":"8,672"},{"v":8451,"d":"8,451"},{"v":17123,"d":"17,123"}]
[2017,{"v":4842,"d":"4,842"},9,{"v":4851,"d":"4,851"},null,{"v":5763,"d":"5,763"},{"v":5530,"d":"5,530"},{"v":11293,"d":"11,293"},null,{"v":11635,"d":"11,635"},{"v":5539,"d":"5,539"},{"v":17174,"d":"17,174"}]
[2018,{"v":3313,"d":"3,313"},1,{"v":3314,"d":"3,314"},null,{"v":2042,"d":"2,042"},{"v":5470,"d":"5,470"},{"v":7512,"d":"7,512"},null,{"v":5567,"d":"5,567"},{"v":5471,"d":"5,471"},{"v":11038,"d":"11,038"}]
["2019d/",{"v":1200,"d":"1,200"},11,{"v":1211,"d":"1,211"},null,{"v":3344,"d":"3,344"},{"v":4625,"d":"4,625"},{"v":7969,"d":"7,969"},null,{"v":5183,"d":"5,183"},{"v":4636,"d":"4,636"},{"v":9819,"d":"9,819"}]
["2020d/",{"v":3473,"d":"3,473"},3,{"v":3476,"d":"3,476"},null,{"v":8704,"d":"8,704"},{"v":8548,"d":"8,548"},{"v":17252,"d":"17,252"},null,{"v":12466,"d":"12,466"},{"v":8551,"d":"8,551"},{"v":21017,"d":"21,017"}]
["2021d/",572,109,681,null,{"v":13115,"d":"13,115"},{"v":20837,"d":"20,837"},{"v":33952,"d":"33,952"},null,{"v":15650,"d":"15,650"},{"v":21035,"d":"21,035"},{"v":36685,"d":"36,685"}]
["2022d/",{"v":7181,"d":"7,181"},99,{"v":7280,"d":"7,280"},null,{"v":15190,"d":"15,190"},{"v":16977,"d":"16,977"},{"v":32167,"d":"32,167"},null,{"v":24190,"d":"24,190"},{"v":17105,"d":"17,105"},{"v":41295,"d":"41,295"}]
["2023d/",{"v":1778,"d":"1,778"},11,{"v":1789,"d":"1,789"},null,{"v":8022,"d":"8,022"},{"v":13887,"d":"13,887"},{"v":21909,"d":"21,909"},null,{"v":10716,"d":"10,716"},{"v":13898,"d":"13,898"},{"v":24614,"d":"24,614"}]
["2024d/","NA","NA","NA",null,"NA","NA","NA",null,"NA","NA","NA"]
[" GOAL  ",{"$nulls":5},"7,000-11,000"]
[]
["Nooksack-Samish",{"$nulls":5},"Nooksack-Samish"]
[1981,{"v":80480,"d":"80,480"},{"v":12182,"d":"12,182"},{"v":92662,"d":"92,662"},null,{"v":34300,"d":"34,300"},{"v":7500,"d":"7,500"},{"v":41800,"d":"41,800"},null,{"v":114780,"d":"114,780"},{"v":19682,"d":"19,682"},{"v":134462,"d":"134,462"}]
[1982,{"v":144869,"d":"144,869"},{"v":13590,"d":"13,590"},{"v":158459,"d":"158,459"},null,{"v":22000,"d":"22,000"},{"v":4400,"d":"4,400"},{"v":26400,"d":"26,400"},null,{"v":166869,"d":"166,869"},{"v":17990,"d":"17,990"},{"v":184859,"d":"184,859"}]
[1983,{"v":128712,"d":"128,712"},{"v":25026,"d":"25,026"},{"v":153738,"d":"153,738"},null,{"v":15200,"d":"15,200"},{"v":8900,"d":"8,900"},{"v":24100,"d":"24,100"},null,{"v":143912,"d":"143,912"},{"v":33926,"d":"33,926"},{"v":177838,"d":"177,838"}]
[1984,{"v":114763,"d":"114,763"},{"v":18036,"d":"18,036"},{"v":132799,"d":"132,799"},null,{"v":18600,"d":"18,600"},{"v":9500,"d":"9,500"},{"v":28100,"d":"28,100"},null,{"v":133363,"d":"133,363"},{"v":27536,"d":"27,536"},{"v":160899,"d":"160,899"}]
[1985,{"v":138414,"d":"138,414"},{"v":18313,"d":"18,313"},{"v":156727,"d":"156,727"},null,{"v":32000,"d":"32,000"},{"v":5700,"d":"5,700"},{"v":37700,"d":"37,700"},null,{"v":170414,"d":"170,414"},{"v":24013,"d":"24,013"},{"v":194427,"d":"194,427"}]
[1986,{"v":164346,"d":"164,346"},{"v":16594,"d":"16,594"},{"v":180940,"d":"180,940"},null,{"v":22049,"d":"22,049"},{"v":6700,"d":"6,700"},{"v":28749,"d":"28,749"},null,{"v":186395,"d":"186,395"},{"v":23294,"d":"23,294"},{"v":209689,"d":"209,689"}]
[1987,{"v":180704,"d":"180,704"},{"v":47661,"d":"47,661"},{"v":228365,"d":"228,365"},null,{"v":33309,"d":"33,309"},{"v":12600,"d":"12,600"},{"v":45909,"d":"45,909"},null,{"v":214013,"d":"214,013"},{"v":60261,"d":"60,261"},{"v":274274,"d":"274,274"}]
[1988,{"v":154071,"d":"154,071"},{"v":14867,"d":"14,867"},{"v":168938,"d":"168,938"},null,{"v":21204,"d":"21,204"},{"v":6900,"d":"6,900"},{"v":28104,"d":"28,104"},null,{"v":175275,"d":"175,275"},{"v":21767,"d":"21,767"},{"v":197042,"d":"197,042"}]
[1989,{"v":97815,"d":"97,815"},{"v":11514,"d":"11,514"},{"v":109329,"d":"109,329"},null,{"v":15772,"d":"15,772"},{"v":3600,"d":"3,600"},{"v":19372,"d":"19,372"},null,{"v":113587,"d":"113,587"},{"v":15114,"d":"15,114"},{"v":128701,"d":"128,701"}]
[1990,{"v":106731,"d":"106,731"},{"v":18168,"d":"18,168"},{"v":124899,"d":"124,899"},null,{"v":13103,"d":"13,103"},{"v":7300,"d":"7,300"},{"v":20403,"d":"20,403"},null,{"v":119834,"d":"119,834"},{"v":25468,"d":"25,468"},{"v":145302,"d":"145,302"}]
[1991,{"v":48041,"d":"48,041"},{"v":16895,"d":"16,895"},{"v":64936,"d":"64,936"},null,{"v":9710,"d":"9,710"},{"v":11500,"d":"11,500"},{"v":21210,"d":"21,210"},null,{"v":57751,"d":"57,751"},{"v":28395,"d":"28,395"},{"v":86146,"d":"86,146"}]
[1992,{"v":60755,"d":"60,755"},{"v":9291,"d":"9,291"},{"v":70046,"d":"70,046"},null,{"v":19616,"d":"19,616"},{"v":8400,"d":"8,400"},{"v":28016,"d":"28,016"},null,{"v":80371,"d":"80,371"},{"v":17691,"d":"17,691"},{"v":98062,"d":"98,062"}]
[1993,{"v":39955,"d":"39,955"},{"v":15524,"d":"15,524"},{"v":55479,"d":"55,479"},null,{"v":23043,"d":"23,043"},{"v":10800,"d":"10,800"},{"v":33843,"d":"33,843"},null,{"v":62998,"d":"62,998"},{"v":26324,"d":"26,324"},{"v":89322,"d":"89,322"}]
[1994,{"v":43703,"d":"43,703"},{"v":20431,"d":"20,431"},{"v":64134,"d":"64,134"},null,{"v":12083,"d":"12,083"},{"v":13800,"d":"13,800"},{"v":25883,"d":"25,883"},null,{"v":55786,"d":"55,786"},{"v":34231,"d":"34,231"},{"v":90017,"d":"90,017"}]
[1995,{"v":47827,"d":"47,827"},{"v":7220,"d":"7,220"},{"v":55047,"d":"55,047"},null,{"v":24514,"d":"24,514"},{"v":7100,"d":"7,100"},{"v":31614,"d":"31,614"},null,{"v":72341,"d":"72,341"},{"v":14320,"d":"14,320"},{"v":86661,"d":"86,661"}]
[1996,{"v":50711,"d":"50,711"},{"v":1607,"d":"1,607"},{"v":52318,"d":"52,318"},null,{"v":38293,"d":"38,293"},{"v":2018,"d":"2,018"},{"v":40311,"d":"40,311"},null,{"v":89004,"d":"89,004"},{"v":3625,"d":"3,625"},{"v":92629,"d":"92,629"}]
[1997,{"v":14464,"d":"14,464"},546,{"v":15010,"d":"15,010"},null,{"v":34305,"d":"34,305"},{"v":6700,"d":"6,700"},{"v":41005,"d":"41,005"},null,{"v":50675,"d":"50,675"},{"v":7932,"d":"7,932"},{"v":58607,"d":"58,607"}]
[1998,{"v":15752,"d":"15,752"},{"v":7134,"d":"7,134"},{"v":22886,"d":"22,886"},null,{"v":21089,"d":"21,089"},{"v":10300,"d":"10,300"},{"v":31389,"d":"31,389"},null,{"v":39088,"d":"39,088"},{"v":18527,"d":"18,527"},{"v":57615,"d":"57,615"}]
[1999,{"v":41924,"d":"41,924"},{"v":7460,"d":"7,460"},{"v":49384,"d":"49,384"},null,{"v":41876,"d":"41,876"},{"v":8042,"d":"8,042"},{"v":49918,"d":"49,918"},null,{"v":86310,"d":"86,310"},{"v":16302,"d":"16,302"},{"v":102612,"d":"102,612"}]
[2000,{"v":57993,"d":"57,993"},{"v":9613,"d":"9,613"},{"v":67606,"d":"67,606"},null,{"v":49035,"d":"49,035"},{"v":10993,"d":"10,993"},{"v":60028,"d":"60,028"},null,{"v":110201,"d":"110,201"},{"v":21499,"d":"21,499"},{"v":131700,"d":"131,700"}]
[2001,{"v":49326,"d":"49,326"},{"v":25816,"d":"25,816"},{"v":75142,"d":"75,142"},null,{"v":49788,"d":"49,788"},{"v":27512,"d":"27,512"},{"v":77300,"d":"77,300"},null,{"v":102822,"d":"102,822"},{"v":55103,"d":"55,103"},{"v":157925,"d":"157,925"}]
[2002,{"v":34705,"d":"34,705"},{"v":16746,"d":"16,746"},{"v":51451,"d":"51,451"},null,{"v":45161,"d":"45,161"},{"v":20313,"d":"20,313"},{"v":65474,"d":"65,474"},null,{"v":81534,"d":"81,534"},{"v":38996,"d":"38,996"},{"v":120530,"d":"120,530"}]
[2003,{"v":31747,"d":"31,747"},{"v":11647,"d":"11,647"},{"v":43394,"d":"43,394"},null,{"v":35154,"d":"35,154"},{"v":15816,"d":"15,816"},{"v":50970,"d":"50,970"},null,{"v":67247,"d":"67,247"},{"v":27948,"d":"27,948"},{"v":95195,"d":"95,195"}]
[2004,{"v":68641,"d":"68,641"},{"v":21032,"d":"21,032"},{"v":89673,"d":"89,673"},null,{"v":26338,"d":"26,338"},{"v":13016,"d":"13,016"},{"v":39354,"d":"39,354"},null,{"v":95097,"d":"95,097"},{"v":34357,"d":"34,357"},{"v":129454,"d":"129,454"}]
[2005,{"v":32997,"d":"32,997"},{"v":2702,"d":"2,702"},{"v":35699,"d":"35,699"},null,{"v":22585,"d":"22,585"},{"v":1902,"d":"1,902"},{"v":24487,"d":"24,487"},null,{"v":55582,"d":"55,582"},{"v":4912,"d":"4,912"},{"v":60494,"d":"60,494"}]
[2006,{"v":19052,"d":"19,052"},{"v":2740,"d":"2,740"},{"v":21792,"d":"21,792"},null,{"v":7555,"d":"7,555"},845,{"v":8400,"d":"8,400"},null,{"v":26616,"d":"26,616"},{"v":3866,"d":"3,866"},{"v":30482,"d":"30,482"}]
[2007,{"v":26171,"d":"26,171"},{"v":8706,"d":"8,706"},{"v":34877,"d":"34,877"},null,{"v":11230,"d":"11,230"},{"v":11205,"d":"11,205"},{"v":22435,"d":"22,435"},null,{"v":37572,"d":"37,572"},{"v":20167,"d":"20,167"},{"v":57739,"d":"57,739"}]
[2008,{"v":26147,"d":"26,147"},{"v":2948,"d":"2,948"},{"v":29117,"d":"29,117"},null,{"v":5661,"d":"5,661"},{"v":1047,"d":"1,047"},{"v":6708,"d":"6,708"},null,{"v":31898,"d":"31,898"},{"v":4215,"d":"4,215"},{"v":36113,"d":"36,113"}]
[2009,{"v":36731,"d":"36,731"},{"v":7501,"d":"7,501"},{"v":44232,"d":"44,232"},null,{"v":7180,"d":"7,180"},{"v":1802,"d":"1,802"},{"v":8982,"d":"8,982"},null,{"v":44346,"d":"44,346"},{"v":9303,"d":"9,303"},{"v":53649,"d":"53,649"}]
[2010,{"v":40939,"d":"40,939"},{"v":42584,"d":"42,584"},{"v":83523,"d":"83,523"},null,{"v":15717,"d":"15,717"},{"v":24582,"d":"24,582"},{"v":40299,"d":"40,299"},null,{"v":57852,"d":"57,852"},{"v":67166,"d":"67,166"},{"v":125018,"d":"125,018"}]
[2011,{"v":53796,"d":"53,796"},{"v":15611,"d":"15,611"},{"v":69407,"d":"69,407"},null,{"v":15283,"d":"15,283"},{"v":2228,"d":"2,228"},{"v":17511,"d":"17,511"},null,{"v":70543,"d":"70,543"},{"v":17906,"d":"17,906"},{"v":88449,"d":"88,449"}]
[2012,{"v":32842,"d":"32,842"},{"v":26291,"d":"26,291"},{"v":59133,"d":"59,133"},null,{"v":16370,"d":"16,370"},{"v":9600,"d":"9,600"},{"v":25970,"d":"25,970"},null,{"v":51699,"d":"51,699"},{"v":36095,"d":"36,095"},{"v":87794,"d":"87,794"}]
[2013,{"v":38628,"d":"38,628"},{"v":51180,"d":"51,180"},{"v":89808,"d":"89,808"},null,{"v":18209,"d":"18,209"},{"v":20494,"d":"20,494"},{"v":38703,"d":"38,703"},null,{"v":58726,"d":"58,726"},{"v":72968,"d":"72,968"},{"v":131694,"d":"131,694"}]
[2014,{"v":20038,"d":"20,038"},{"v":8616,"d":"8,616"},{"v":28654,"d":"28,654"},null,{"v":16117,"d":"16,117"},{"v":5455,"d":"5,455"},{"v":21572,"d":"21,572"},null,{"v":37189,"d":"37,189"},{"v":14118,"d":"14,118"},{"v":51307,"d":"51,307"}]
[2015,{"v":9129,"d":"9,129"},{"v":5914,"d":"5,914"},{"v":15043,"d":"15,043"},null,{"v":23891,"d":"23,891"},{"v":1359,"d":"1,359"},{"v":25250,"d":"25,250"},null,{"v":35833,"d":"35,833"},{"v":7507,"d":"7,507"},{"v":43340,"d":"43,340"}]
[2016,{"v":37734,"d":"37,734"},{"v":5301,"d":"5,301"},{"v":43035,"d":"43,035"},null,{"v":11818,"d":"11,818"},{"v":7212,"d":"7,212"},{"v":19030,"d":"19,030"},null,{"v":50295,"d":"50,295"},{"v":12513,"d":"12,513"},{"v":62808,"d":"62,808"}]
[2017,{"v":25772,"d":"25,772"},{"v":1814,"d":"1,814"},{"v":27586,"d":"27,586"},null,{"v":13309,"d":"13,309"},{"v":3257,"d":"3,257"},{"v":16566,"d":"16,566"},null,{"v":39894,"d":"39,894"},{"v":5071,"d":"5,071"},{"v":44965,"d":"44,965"}]
["2018d/",{"v":35030,"d":"35,030"},{"v":19267,"d":"19,267"},{"v":54297,"d":"54,297"},null,{"v":11826,"d":"11,826"},{"v":7622,"d":"7,622"},{"v":19448,"d":"19,448"},null,{"v":50809,"d":"50,809"},{"v":27880,"d":"27,880"},{"v":78689,"d":"78,689"}]
["2019d/",{"v":17417,"d":"17,417"},{"v":10174,"d":"10,174"},{"v":27591,"d":"27,591"},null,{"v":16570,"d":"16,570"},{"v":16162,"d":"16,162"},{"v":32732,"d":"32,732"},null,{"v":35475,"d":"35,475"},{"v":27453,"d":"27,453"},{"v":62928,"d":"62,928"}]
["2020d/",{"v":22982,"d":"22,982"},{"v":12153,"d":"12,153"},{"v":35135,"d":"35,135"},null,{"v":7064,"d":"7,064"},{"v":6490,"d":"6,490"},{"v":13554,"d":"13,554"},null,{"v":31028,"d":"31,028"},{"v":19114,"d":"19,114"},{"v":50142,"d":"50,142"}]
["2021d/",{"v":40958,"d":"40,958"},{"v":11689,"d":"11,689"},{"v":52647,"d":"52,647"},null,{"v":12527,"d":"12,527"},{"v":11672,"d":"11,672"},{"v":24199,"d":"24,199"},null,{"v":54708,"d":"54,708"},{"v":23853,"d":"23,853"},{"v":78561,"d":"78,561"}]
["2022d/",{"v":40618,"d":"40,618"},{"v":5511,"d":"5,511"},{"v":46129,"d":"46,129"},null,{"v":26945,"d":"26,945"},{"v":7277,"d":"7,277"},{"v":34222,"d":"34,222"},null,{"v":70810,"d":"70,810"},{"v":13485,"d":"13,485"},{"v":84295,"d":"84,295"}]
["2023d/",{"v":18335,"d":"18,335"},{"v":1107,"d":"1,107"},{"v":19442,"d":"19,442"},null,{"v":18466,"d":"18,466"},{"v":2631,"d":"2,631"},{"v":21097,"d":"21,097"},null,{"v":40291,"d":"40,291"},{"v":4119,"d":"4,119"},{"v":44410,"d":"44,410"}]
["2024d/","NA","NA","NA",null,"NA","NA","NA",null,"NA","NA","NA"]
[" GOAL  ",{"$nulls":4},{"v":17900,"d":"17,900"}]
[]
["Skagit"]
[1981,{"v":11542,"d":"11,542"},{"v":4112,"d":"4,112"},{"v":15654,"d":"15,654"},null,{"v":42100,"d":"42,100"},{"v":15000,"d":"15,000"},{"v":57100,"d":"57,100"},null,{"v":53642,"d":"53,642"},{"v":19112,"d":"19,112"},{"v":72754,"d":"72,754"}]
[1982,{"v":9700,"d":"9,700"},{"v":18576,"d":"18,576"},{"v":28276,"d":"28,276"},null,{"v":4700,"d":"4,700"},{"v":9000,"d":"9,000"},{"v":13700,"d":"13,700"},null,{"v":14400,"d":"14,400"},{"v":27576,"d":"27,576"},{"v":41976,"d":"41,976"}]
[1983,{"v":4065,"d":"4,065"},{"v":9206,"d":"9,206"},{"v":13271,"d":"13,271"},null,{"v":10600,"d":"10,600"},{"v":24000,"d":"24,000"},{"v":34600,"d":"34,600"},null,{"v":14665,"d":"14,665"},{"v":33206,"d":"33,206"},{"v":47871,"d":"47,871"}]
[1984,{"v":4038,"d":"4,038"},{"v":3021,"d":"3,021"},{"v":7059,"d":"7,059"},null,{"v":44100,"d":"44,100"},{"v":33000,"d":"33,000"},{"v":77100,"d":"77,100"},null,{"v":48138,"d":"48,138"},{"v":36021,"d":"36,021"},{"v":84159,"d":"84,159"}]
[1985,{"v":3751,"d":"3,751"},{"v":9376,"d":"9,376"},{"v":13127,"d":"13,127"},null,{"v":7200,"d":"7,200"},{"v":18000,"d":"18,000"},{"v":25200,"d":"25,200"},null,{"v":10951,"d":"10,951"},{"v":27376,"d":"27,376"},{"v":38327,"d":"38,327"}]
[1986,{"v":8489,"d":"8,489"},{"v":24731,"d":"24,731"},{"v":33220,"d":"33,220"},null,{"v":15446,"d":"15,446"},{"v":45000,"d":"45,000"},{"v":60446,"d":"60,446"},null,{"v":23935,"d":"23,935"},{"v":69731,"d":"69,731"},{"v":93666,"d":"93,666"}]
[1987,{"v":5832,"d":"5,832"},{"v":6410,"d":"6,410"},{"v":12242,"d":"12,242"},null,{"v":30024,"d":"30,024"},{"v":33000,"d":"33,000"},{"v":63024,"d":"63,024"},null,{"v":35856,"d":"35,856"},{"v":39410,"d":"39,410"},{"v":75266,"d":"75,266"}]
[1988,{"v":5069,"d":"5,069"},{"v":9370,"d":"9,370"},{"v":14439,"d":"14,439"},null,{"v":10280,"d":"10,280"},{"v":19000,"d":"19,000"},{"v":29280,"d":"29,280"},null,{"v":15349,"d":"15,349"},{"v":28370,"d":"28,370"},{"v":43719,"d":"43,719"}]
[1989,{"v":2973,"d":"2,973"},{"v":7422,"d":"7,422"},{"v":10395,"d":"10,395"},null,{"v":6811,"d":"6,811"},{"v":17000,"d":"17,000"},{"v":23811,"d":"23,811"},null,{"v":9784,"d":"9,784"},{"v":24422,"d":"24,422"},{"v":34206,"d":"34,206"}]
[1990,{"v":4184,"d":"4,184"},{"v":9307,"d":"9,307"},{"v":13491,"d":"13,491"},null,{"v":6744,"d":"6,744"},{"v":15000,"d":"15,000"},{"v":21744,"d":"21,744"},null,{"v":10928,"d":"10,928"},{"v":24307,"d":"24,307"},{"v":35235,"d":"35,235"}]
[1991,{"v":1116,"d":"1,116"},{"v":2498,"d":"2,498"},{"v":3614,"d":"3,614"},null,{"v":3483,"d":"3,483"},{"v":7800,"d":"7,800"},{"v":11283,"d":"11,283"},null,{"v":4599,"d":"4,599"},{"v":10298,"d":"10,298"},{"v":14897,"d":"14,897"}]
[1992,{"v":2881,"d":"2,881"},{"v":1856,"d":"1,856"},{"v":4737,"d":"4,737"},null,{"v":11641,"d":"11,641"},{"v":7500,"d":"7,500"},{"v":19141,"d":"19,141"},null,{"v":14522,"d":"14,522"},{"v":9356,"d":"9,356"},{"v":23878,"d":"23,878"}]
[1993,548,836,{"v":1384,"d":"1,384"},null,{"v":8789,"d":"8,789"},{"v":13400,"d":"13,400"},{"v":22189,"d":"22,189"},null,{"v":9337,"d":"9,337"},{"v":14236,"d":"14,236"},{"v":23573,"d":"23,573"}]
[1994,987,{"v":1152,"d":"1,152"},{"v":2139,"d":"2,139"},null,{"v":24908,"d":"24,908"},{"v":29100,"d":"29,100"},{"v":54008,"d":"54,008"},null,{"v":25895,"d":"25,895"},{"v":30252,"d":"30,252"},{"v":56147,"d":"56,147"}]
[1995,{"v":1158,"d":"1,158"},{"v":2354,"d":"2,354"},{"v":3512,"d":"3,512"},null,{"v":6589,"d":"6,589"},{"v":13400,"d":"13,400"},{"v":19989,"d":"19,989"},null,{"v":7747,"d":"7,747"},{"v":15754,"d":"15,754"},{"v":23501,"d":"23,501"}]
[1996,719,332,{"v":1051,"d":"1,051"},null,{"v":17983,"d":"17,983"},{"v":8300,"d":"8,300"},{"v":26283,"d":"26,283"},null,{"v":18702,"d":"18,702"},{"v":8632,"d":"8,632"},{"v":27334,"d":"27,334"}]
[1997,111,{"v":1181,"d":"1,181"},{"v":1292,"d":"1,292"},null,{"v":4443,"d":"4,443"},{"v":38999,"d":"38,999"},{"v":43442,"d":"43,442"},"e/",{"v":5133,"d":"5,133"},{"v":45653,"d":"45,653"},{"v":50786,"d":"50,786"}]
[1998,751,{"v":9563,"d":"9,563"},{"v":10314,"d":"10,314"},null,{"v":11046,"d":"11,046"},{"v":72739,"d":"72,739"},{"v":83785,"d":"83,785"},null,{"v":12244,"d":"12,244"},{"v":85233,"d":"85,233"},{"v":97477,"d":"97,477"}]
[1999,520,{"v":6751,"d":"6,751"},{"v":7271,"d":"7,271"},null,{"v":3168,"d":"3,168"},{"v":29699,"d":"29,699"},{"v":32867,"d":"32,867"},null,{"v":3954,"d":"3,954"},{"v":38275,"d":"38,275"},{"v":42229,"d":"42,229"}]
[2000,{"v":1589,"d":"1,589"},{"v":11716,"d":"11,716"},{"v":13305,"d":"13,305"},null,{"v":14191,"d":"14,191"},{"v":60960,"d":"60,960"},{"v":75151,"d":"75,151"},null,{"v":16222,"d":"16,222"},{"v":75062,"d":"75,062"},{"v":91284,"d":"91,284"}]
[2001,{"v":1658,"d":"1,658"},{"v":17933,"d":"17,933"},{"v":19591,"d":"19,591"},null,{"v":16852,"d":"16,852"},{"v":87017,"d":"87,017"},{"v":103869,"d":"103,869"},null,{"v":20390,"d":"20,390"},{"v":115647,"d":"115,647"},{"v":136037,"d":"136,037"}]
[2002,{"v":2204,"d":"2,204"},{"v":11742,"d":"11,742"},{"v":13946,"d":"13,946"},null,{"v":19098,"d":"19,098"},{"v":55968,"d":"55,968"},{"v":75066,"d":"75,066"},null,{"v":22241,"d":"22,241"},{"v":70754,"d":"70,754"},{"v":92995,"d":"92,995"}]
[2003,{"v":6537,"d":"6,537"},{"v":16830,"d":"16,830"},{"v":23367,"d":"23,367"},null,{"v":8558,"d":"8,558"},{"v":89491,"d":"89,491"},{"v":98049,"d":"98,049"},null,{"v":15827,"d":"15,827"},{"v":113671,"d":"113,671"},{"v":129498,"d":"129,498"}]
[2004,{"v":7617,"d":"7,617"},{"v":27815,"d":"27,815"},{"v":35432,"d":"35,432"},null,{"v":11403,"d":"11,403"},{"v":119456,"d":"119,456"},{"v":130859,"d":"130,859"},null,{"v":19557,"d":"19,557"},{"v":152196,"d":"152,196"},{"v":171753,"d":"171,753"}]
[2005,{"v":1282,"d":"1,282"},{"v":18525,"d":"18,525"},{"v":19807,"d":"19,807"},null,{"v":11650,"d":"11,650"},{"v":35274,"d":"35,274"},{"v":46924,"d":"46,924"},null,{"v":13615,"d":"13,615"},{"v":56256,"d":"56,256"},{"v":69871,"d":"69,871"}]
[2006,{"v":1132,"d":"1,132"},{"v":4382,"d":"4,382"},{"v":5514,"d":"5,514"},null,{"v":1236,"d":"1,236"},{"v":8037,"d":"8,037"},{"v":9273,"d":"9,273"},null,{"v":2505,"d":"2,505"},{"v":13311,"d":"13,311"},{"v":15816,"d":"15,816"}]
[2007,{"v":1522,"d":"1,522"},{"v":15554,"d":"15,554"},{"v":17076,"d":"17,076"},null,{"v":10150,"d":"10,150"},{"v":52506,"d":"52,506"},{"v":62656,"d":"62,656"},null,{"v":12537,"d":"12,537"},{"v":72537,"d":"72,537"},{"v":85074,"d":"85,074"}]
[2008,{"v":1813,"d":"1,813"},{"v":6792,"d":"6,792"},{"v":8605,"d":"8,605"},null,{"v":10963,"d":"10,963"},{"v":22740,"d":"22,740"},{"v":33703,"d":"33,703"},null,{"v":13342,"d":"13,342"},{"v":30707,"d":"30,707"},{"v":44049,"d":"44,049"}]
[2009,{"v":1896,"d":"1,896"},{"v":7638,"d":"7,638"},{"v":9534,"d":"9,534"},null,{"v":10717,"d":"10,717"},{"v":76990,"d":"76,990"},{"v":87707,"d":"87,707"},null,{"v":13235,"d":"13,235"},{"v":89102,"d":"89,102"},{"v":102337,"d":"102,337"}]
[2010,{"v":1557,"d":"1,557"},{"v":23527,"d":"23,527"},{"v":25084,"d":"25,084"},null,{"v":4963,"d":"4,963"},{"v":34018,"d":"34,018"},{"v":38981,"d":"38,981"},null,{"v":6800,"d":"6,800"},{"v":60105,"d":"60,105"},{"v":66905,"d":"66,905"}]
[2011,{"v":4184,"d":"4,184"},{"v":17500,"d":"17,500"},{"v":21684,"d":"21,684"},null,{"v":9488,"d":"9,488"},{"v":43916,"d":"43,916"},{"v":53404,"d":"53,404"},null,{"v":14887,"d":"14,887"},{"v":67043,"d":"67,043"},{"v":81930,"d":"81,930"}]
[2012,{"v":2056,"d":"2,056"},{"v":17524,"d":"17,524"},{"v":19580,"d":"19,580"},null,{"v":10833,"d":"10,833"},{"v":92687,"d":"92,687"},{"v":103520,"d":"103,520"},null,{"v":13650,"d":"13,650"},{"v":117699,"d":"117,699"},{"v":131349,"d":"131,349"}]
[2013,{"v":4721,"d":"4,721"},{"v":21812,"d":"21,812"},{"v":26533,"d":"26,533"},null,{"v":14996,"d":"14,996"},{"v":85751,"d":"85,751"},{"v":100747,"d":"100,747"},null,{"v":22194,"d":"22,194"},{"v":121659,"d":"121,659"},{"v":143853,"d":"143,853"}]
[2014,{"v":2657,"d":"2,657"},{"v":11563,"d":"11,563"},{"v":14220,"d":"14,220"},null,{"v":8242,"d":"8,242"},{"v":24820,"d":"24,820"},{"v":33062,"d":"33,062"},null,{"v":11996,"d":"11,996"},{"v":42140,"d":"42,140"},{"v":54136,"d":"54,136"}]
[2015,808,{"v":2188,"d":"2,188"},{"v":2996,"d":"2,996"},null,{"v":2108,"d":"2,108"},{"v":5794,"d":"5,794"},{"v":7902,"d":"7,902"},null,{"v":4232,"d":"4,232"},{"v":12939,"d":"12,939"},{"v":17171,"d":"17,171"}]
[2016,908,{"v":4660,"d":"4,660"},{"v":5568,"d":"5,568"},null,{"v":11394,"d":"11,394"},{"v":35822,"d":"35,822"},{"v":47216,"d":"47,216"},null,{"v":13134,"d":"13,134"},{"v":43097,"d":"43,097"},{"v":56231,"d":"56,231"}]
[2017,263,780,{"v":1043,"d":"1,043"},null,{"v":6831,"d":"6,831"},{"v":20184,"d":"20,184"},{"v":27015,"d":"27,015"},null,{"v":7094,"d":"7,094"},{"v":20964,"d":"20,964"},{"v":28058,"d":"28,058"}]
["2018d/",{"v":3002,"d":"3,002"},{"v":10258,"d":"10,258"},{"v":13260,"d":"13,260"},null,{"v":9960,"d":"9,960"},{"v":19047,"d":"19,047"},{"v":29007,"d":"29,007"},null,{"v":14489,"d":"14,489"},{"v":32866,"d":"32,866"},{"v":47355,"d":"47,355"}]
["2019d/",{"v":1898,"d":"1,898"},{"v":2646,"d":"2,646"},{"v":4544,"d":"4,544"},null,{"v":10228,"d":"10,228"},{"v":14246,"d":"14,246"},{"v":24474,"d":"24,474"},null,{"v":15862,"d":"15,862"},{"v":22103,"d":"22,103"},{"v":37965,"d":"37,965"}]
["2020d/",{"v":3048,"d":"3,048"},{"v":11417,"d":"11,417"},{"v":14465,"d":"14,465"},null,{"v":24135,"d":"24,135"},{"v":23808,"d":"23,808"},{"v":47943,"d":"47,943"},null,{"v":31912,"d":"31,912"},{"v":39890,"d":"39,890"},{"v":71802,"d":"71,802"}]
["2021d/",{"v":6597,"d":"6,597"},{"v":18577,"d":"18,577"},{"v":25174,"d":"25,174"},null,{"v":27095,"d":"27,095"},{"v":75532,"d":"75,532"},{"v":102627,"d":"102,627"},null,{"v":36902,"d":"36,902"},{"v":103056,"d":"103,056"},{"v":139958,"d":"139,958"}]
["2022d/",{"v":4895,"d":"4,895"},{"v":12764,"d":"12,764"},{"v":17659,"d":"17,659"},null,{"v":24938,"d":"24,938"},{"v":92306,"d":"92,306"},{"v":117244,"d":"117,244"},null,{"v":31863,"d":"31,863"},{"v":112582,"d":"112,582"},{"v":144445,"d":"144,445"}]
["2023d/",{"v":1392,"d":"1,392"},{"v":6108,"d":"6,108"},{"v":7500,"d":"7,500"},null,{"v":28563,"d":"28,563"},{"v":54443,"d":"54,443"},{"v":83006,"d":"83,006"},null,{"v":32718,"d":"32,718"},{"v":65820,"d":"65,820"},{"v":98538,"d":"98,538"}]
["2024d/","NA","NA","NA",null,"NA","NA","NA",null,"NA","NA","NA"]
[" GOAL  ",{"$nulls":5},"14,875-25,000"]
[]
["Hood Canal"]
[1981,{"v":24751,"d":"24,751"},{"v":7748,"d":"7,748"},{"v":32499,"d":"32,499"},null,{"v":38700,"d":"38,700"},{"v":21700,"d":"21,700"},{"v":60400,"d":"60,400"},null,{"v":63451,"d":"63,451"},{"v":29448,"d":"29,448"},{"v":92899,"d":"92,899"}]
[1982,{"v":57353,"d":"57,353"},{"v":30808,"d":"30,808"},{"v":88161,"d":"88,161"},null,{"v":16015,"d":"16,015"},{"v":26100,"d":"26,100"},{"v":42115,"d":"42,115"},null,{"v":73368,"d":"73,368"},{"v":56908,"d":"56,908"},{"v":130276,"d":"130,276"}]
[1983,{"v":39321,"d":"39,321"},{"v":18289,"d":"18,289"},{"v":57610,"d":"57,610"},null,{"v":12410,"d":"12,410"},{"v":12800,"d":"12,800"},{"v":25210,"d":"25,210"},null,{"v":51731,"d":"51,731"},{"v":31089,"d":"31,089"},{"v":82820,"d":"82,820"}]
[1984,{"v":42589,"d":"42,589"},{"v":15310,"d":"15,310"},{"v":57899,"d":"57,899"},null,{"v":26310,"d":"26,310"},{"v":36100,"d":"36,100"},{"v":62410,"d":"62,410"},null,{"v":68899,"d":"68,899"},{"v":51410,"d":"51,410"},{"v":120309,"d":"120,309"}]
[1985,{"v":32684,"d":"32,684"},{"v":19396,"d":"19,396"},{"v":52080,"d":"52,080"},null,{"v":8210,"d":"8,210"},{"v":14700,"d":"14,700"},{"v":22910,"d":"22,910"},null,{"v":40894,"d":"40,894"},{"v":34096,"d":"34,096"},{"v":74990,"d":"74,990"}]
[1986,{"v":71066,"d":"71,066"},{"v":36097,"d":"36,097"},{"v":107163,"d":"107,163"},null,{"v":25265,"d":"25,265"},{"v":39400,"d":"39,400"},{"v":64665,"d":"64,665"},null,{"v":96331,"d":"96,331"},{"v":75497,"d":"75,497"},{"v":171828,"d":"171,828"}]
[1987,{"v":85673,"d":"85,673"},{"v":42254,"d":"42,254"},{"v":127927,"d":"127,927"},null,{"v":10624,"d":"10,624"},{"v":17500,"d":"17,500"},{"v":28124,"d":"28,124"},null,{"v":96297,"d":"96,297"},{"v":59754,"d":"59,754"},{"v":156051,"d":"156,051"}]
[1988,{"v":9089,"d":"9,089"},{"v":3226,"d":"3,226"},{"v":12315,"d":"12,315"},null,{"v":9827,"d":"9,827"},{"v":11300,"d":"11,300"},{"v":21127,"d":"21,127"},null,{"v":18916,"d":"18,916"},{"v":14526,"d":"14,526"},{"v":33442,"d":"33,442"}]
[1989,{"v":27233,"d":"27,233"},{"v":7756,"d":"7,756"},{"v":34989,"d":"34,989"},null,{"v":19041,"d":"19,041"},{"v":14900,"d":"14,900"},{"v":33941,"d":"33,941"},null,{"v":46274,"d":"46,274"},{"v":22656,"d":"22,656"},{"v":68930,"d":"68,930"}]
[1990,{"v":35480,"d":"35,480"},{"v":5622,"d":"5,622"},{"v":41102,"d":"41,102"},null,{"v":10739,"d":"10,739"},{"v":6600,"d":"6,600"},{"v":17339,"d":"17,339"},null,{"v":46219,"d":"46,219"},{"v":12222,"d":"12,222"},{"v":58441,"d":"58,441"}]
[1991,{"v":20871,"d":"20,871"},{"v":1101,"d":"1,101"},{"v":21972,"d":"21,972"},null,{"v":6554,"d":"6,554"},{"v":12300,"d":"12,300"},{"v":18854,"d":"18,854"},null,{"v":27425,"d":"27,425"},{"v":13401,"d":"13,401"},{"v":40826,"d":"40,826"}]
[1992,{"v":3666,"d":"3,666"},397,{"v":4063,"d":"4,063"},null,{"v":5578,"d":"5,578"},{"v":19000,"d":"19,000"},{"v":24578,"d":"24,578"},null,{"v":9244,"d":"9,244"},{"v":19397,"d":"19,397"},{"v":28641,"d":"28,641"}]
[1993,{"v":2850,"d":"2,850"},426,{"v":3276,"d":"3,276"},null,{"v":12493,"d":"12,493"},{"v":21900,"d":"21,900"},{"v":34393,"d":"34,393"},null,{"v":15343,"d":"15,343"},{"v":22326,"d":"22,326"},{"v":37669,"d":"37,669"}]
[1994,{"v":31289,"d":"31,289"},259,{"v":31548,"d":"31,548"},null,{"v":24975,"d":"24,975"},{"v":55940,"d":"55,940"},{"v":80915,"d":"80,915"},null,{"v":56264,"d":"56,264"},{"v":56199,"d":"56,199"},{"v":112463,"d":"112,463"}]
[1995,{"v":9088,"d":"9,088"},89,{"v":9177,"d":"9,177"},null,{"v":25560,"d":"25,560"},{"v":39900,"d":"39,900"},{"v":65460,"d":"65,460"},null,{"v":34648,"d":"34,648"},{"v":39989,"d":"39,989"},{"v":74637,"d":"74,637"}]
[1996,{"v":4084,"d":"4,084"},119,{"v":4203,"d":"4,203"},null,{"v":27387,"d":"27,387"},{"v":37001,"d":"37,001"},{"v":64388,"d":"64,388"},null,{"v":31471,"d":"31,471"},{"v":37120,"d":"37,120"},{"v":68591,"d":"68,591"}]
[1997,{"v":4351,"d":"4,351"},{"v":5577,"d":"5,577"},{"v":9928,"d":"9,928"},null,{"v":35296,"d":"35,296"},{"v":95762,"d":"95,762"},{"v":131058,"d":"131,058"},null,{"v":40517,"d":"40,517"},{"v":101776,"d":"101,776"},{"v":142293,"d":"142,293"}]
[1998,{"v":6386,"d":"6,386"},{"v":15586,"d":"15,586"},{"v":21972,"d":"21,972"},null,{"v":13689,"d":"13,689"},{"v":100718,"d":"100,718"},{"v":114407,"d":"114,407"},null,{"v":21492,"d":"21,492"},{"v":118499,"d":"118,499"},{"v":139991,"d":"139,991"}]
[1999,{"v":3872,"d":"3,872"},{"v":1016,"d":"1,016"},{"v":4888,"d":"4,888"},null,{"v":14080,"d":"14,080"},{"v":16430,"d":"16,430"},{"v":30510,"d":"30,510"},null,{"v":18547,"d":"18,547"},{"v":17630,"d":"17,630"},{"v":36177,"d":"36,177"}]
[2000,{"v":11170,"d":"11,170"},{"v":11888,"d":"11,888"},{"v":23058,"d":"23,058"},null,{"v":24934,"d":"24,934"},{"v":27094,"d":"27,094"},{"v":52028,"d":"52,028"},null,{"v":38592,"d":"38,592"},{"v":39740,"d":"39,740"},{"v":78332,"d":"78,332"}]
[2001,{"v":10320,"d":"10,320"},{"v":10342,"d":"10,342"},{"v":20662,"d":"20,662"},null,{"v":39237,"d":"39,237"},{"v":94579,"d":"94,579"},{"v":133816,"d":"133,816"},null,{"v":68478,"d":"68,478"},{"v":110005,"d":"110,005"},{"v":178483,"d":"178,483"}]
[2002,{"v":9759,"d":"9,759"},{"v":8382,"d":"8,382"},{"v":18141,"d":"18,141"},null,{"v":39330,"d":"39,330"},{"v":69296,"d":"69,296"},{"v":108626,"d":"108,626"},null,{"v":58795,"d":"58,795"},{"v":81031,"d":"81,031"},{"v":139826,"d":"139,826"}]
[2003,{"v":10810,"d":"10,810"},{"v":21397,"d":"21,397"},{"v":32207,"d":"32,207"},null,{"v":34297,"d":"34,297"},{"v":172000,"d":"172,000"},{"v":206297,"d":"206,297"},null,{"v":52530,"d":"52,530"},{"v":197986,"d":"197,986"},{"v":250516,"d":"250,516"}]
[2004,{"v":24490,"d":"24,490"},{"v":61083,"d":"61,083"},{"v":85573,"d":"85,573"},null,{"v":28472,"d":"28,472"},{"v":145879,"d":"145,879"},{"v":174351,"d":"174,351"},null,{"v":60880,"d":"60,880"},{"v":214062,"d":"214,062"},{"v":274942,"d":"274,942"}]
[2005,{"v":49830,"d":"49,830"},{"v":10040,"d":"10,040"},{"v":59870,"d":"59,870"},null,{"v":34850,"d":"34,850"},{"v":37503,"d":"37,503"},{"v":72353,"d":"72,353"},null,{"v":93783,"d":"93,783"},{"v":50821,"d":"50,821"},{"v":144604,"d":"144,604"}]
[2006,{"v":42053,"d":"42,053"},{"v":20204,"d":"20,204"},{"v":62257,"d":"62,257"},null,{"v":4586,"d":"4,586"},{"v":13269,"d":"13,269"},{"v":17855,"d":"17,855"},null,{"v":49714,"d":"49,714"},{"v":36030,"d":"36,030"},{"v":85744,"d":"85,744"}]
[2007,{"v":30938,"d":"30,938"},{"v":17169,"d":"17,169"},{"v":48107,"d":"48,107"},null,{"v":16410,"d":"16,410"},{"v":46347,"d":"46,347"},{"v":62757,"d":"62,757"},null,{"v":49991,"d":"49,991"},{"v":65772,"d":"65,772"},{"v":115763,"d":"115,763"}]
[2008,{"v":32331,"d":"32,331"},{"v":5441,"d":"5,441"},{"v":37772,"d":"37,772"},null,{"v":8382,"d":"8,382"},{"v":11516,"d":"11,516"},{"v":19898,"d":"19,898"},null,{"v":43736,"d":"43,736"},{"v":18399,"d":"18,399"},{"v":62135,"d":"62,135"}]
[2009,{"v":48505,"d":"48,505"},{"v":10720,"d":"10,720"},{"v":59225,"d":"59,225"},null,{"v":14312,"d":"14,312"},{"v":26961,"d":"26,961"},{"v":41273,"d":"41,273"},null,{"v":67224,"d":"67,224"},{"v":39328,"d":"39,328"},{"v":106552,"d":"106,552"}]
[2010,{"v":33915,"d":"33,915"},{"v":3856,"d":"3,856"},{"v":37771,"d":"37,771"},null,{"v":9482,"d":"9,482"},{"v":4197,"d":"4,197"},{"v":13679,"d":"13,679"},null,{"v":46660,"d":"46,660"},{"v":9256,"d":"9,256"},{"v":55916,"d":"55,916"}]
[2011,{"v":58757,"d":"58,757"},{"v":15735,"d":"15,735"},{"v":74492,"d":"74,492"},null,{"v":20586,"d":"20,586"},{"v":24389,"d":"24,389"},{"v":44975,"d":"44,975"},null,{"v":87819,"d":"87,819"},{"v":42405,"d":"42,405"},{"v":130224,"d":"130,224"}]
[2012,{"v":63078,"d":"63,078"},{"v":28341,"d":"28,341"},{"v":91419,"d":"91,419"},null,{"v":16900,"d":"16,900"},{"v":45921,"d":"45,921"},{"v":62821,"d":"62,821"},null,{"v":87946,"d":"87,946"},{"v":77378,"d":"77,378"},{"v":165324,"d":"165,324"}]
[2013,{"v":35929,"d":"35,929"},{"v":6886,"d":"6,886"},{"v":42815,"d":"42,815"},null,{"v":18255,"d":"18,255"},{"v":16064,"d":"16,064"},{"v":34319,"d":"34,319"},null,{"v":59942,"d":"59,942"},{"v":24277,"d":"24,277"},{"v":84219,"d":"84,219"}]
[2014,{"v":8020,"d":"8,020"},{"v":16181,"d":"16,181"},{"v":24201,"d":"24,201"},null,{"v":7066,"d":"7,066"},{"v":26787,"d":"26,787"},{"v":33853,"d":"33,853"},null,{"v":16865,"d":"16,865"},{"v":44694,"d":"44,694"},{"v":61559,"d":"61,559"}]
[2015,{"v":4755,"d":"4,755"},{"v":3303,"d":"3,303"},{"v":8058,"d":"8,058"},null,{"v":9593,"d":"9,593"},{"v":26926,"d":"26,926"},{"v":36519,"d":"36,519"},"NA",{"v":16498,"d":"16,498"},{"v":31213,"d":"31,213"},{"v":47711,"d":"47,711"}]
[2016,{"v":45692,"d":"45,692"},{"v":6079,"d":"6,079"},{"v":51771,"d":"51,771"},null,{"v":17301,"d":"17,301"},{"v":24313,"d":"24,313"},{"v":41614,"d":"41,614"},null,{"v":68537,"d":"68,537"},{"v":31729,"d":"31,729"},{"v":100266,"d":"100,266"}]
[2017,{"v":35070,"d":"35,070"},{"v":5276,"d":"5,276"},{"v":40346,"d":"40,346"},null,{"v":15396,"d":"15,396"},{"v":23871,"d":"23,871"},{"v":39267,"d":"39,267"},null,{"v":54251,"d":"54,251"},{"v":30280,"d":"30,280"},{"v":84531,"d":"84,531"}]
["2018d/",{"v":30208,"d":"30,208"},{"v":4428,"d":"4,428"},{"v":34636,"d":"34,636"},null,{"v":8596,"d":"8,596"},{"v":7512,"d":"7,512"},{"v":16108,"d":"16,108"},null,{"v":41851,"d":"41,851"},{"v":12086,"d":"12,086"},{"v":53937,"d":"53,937"}]
["2019d/",{"v":6029,"d":"6,029"},{"v":2100,"d":"2,100"},{"v":8129,"d":"8,129"},null,{"v":12939,"d":"12,939"},{"v":7884,"d":"7,884"},{"v":20823,"d":"20,823"},null,{"v":21387,"d":"21,387"},{"v":10428,"d":"10,428"},{"v":31815,"d":"31,815"}]
["2020d/",{"v":19206,"d":"19,206"},{"v":1702,"d":"1,702"},{"v":20908,"d":"20,908"},null,{"v":20488,"d":"20,488"},{"v":16832,"d":"16,832"},{"v":37320,"d":"37,320"},null,{"v":45079,"d":"45,079"},{"v":19651,"d":"19,651"},{"v":64730,"d":"64,730"}]
["2021d/",{"v":15600,"d":"15,600"},{"v":3230,"d":"3,230"},{"v":18830,"d":"18,830"},null,{"v":34524,"d":"34,524"},{"v":34388,"d":"34,388"},{"v":68912,"d":"68,912"},null,{"v":59132,"d":"59,132"},{"v":39266,"d":"39,266"},{"v":98398,"d":"98,398"}]
["2022d/",{"v":30294,"d":"30,294"},{"v":4590,"d":"4,590"},{"v":34884,"d":"34,884"},null,{"v":19898,"d":"19,898"},{"v":9192,"d":"9,192"},{"v":29090,"d":"29,090"},null,{"v":55731,"d":"55,731"},{"v":14866,"d":"14,866"},{"v":70597,"d":"70,597"}]
["2023d/",{"v":25004,"d":"25,004"},{"v":2431,"d":"2,431"},{"v":27435,"d":"27,435"},null,{"v":18615,"d":"18,615"},{"v":32934,"d":"32,934"},{"v":51549,"d":"51,549"},null,{"v":49373,"d":"49,373"},{"v":37721,"d":"37,721"},{"v":87094,"d":"87,094"}]
["2024d/","NA","NA","NA",null,"NA","NA","NA",null,"NA","NA","NA"]
[" GOAL  ",{"$nulls":5},"10,750-14,350"]
[]
["Stillaguamish"]
[1981,{"v":9614,"d":"9,614"},{"v":16023,"d":"16,023"},{"v":25637,"d":"25,637"},null,{"v":5400,"d":"5,400"},{"v":9000,"d":"9,000"},{"v":14400,"d":"14,400"},null,{"v":15014,"d":"15,014"},{"v":25023,"d":"25,023"},{"v":40037,"d":"40,037"}]
[1982,0,{"v":8010,"d":"8,010"},{"v":8010,"d":"8,010"},null,0,{"v":9000,"d":"9,000"},{"v":9000,"d":"9,000"},null,0,{"v":17010,"d":"17,010"},{"v":17010,"d":"17,010"}]
[1983,0,{"v":5852,"d":"5,852"},{"v":5852,"d":"5,852"},null,0,{"v":15000,"d":"15,000"},{"v":15000,"d":"15,000"},null,0,{"v":20852,"d":"20,852"},{"v":20852,"d":"20,852"}]
[1984,0,{"v":8067,"d":"8,067"},{"v":8067,"d":"8,067"},null,0,{"v":18000,"d":"18,000"},{"v":18000,"d":"18,000"},null,0,{"v":26067,"d":"26,067"},{"v":26067,"d":"26,067"}]
[1985,0,{"v":17119,"d":"17,119"},{"v":17119,"d":"17,119"},null,0,{"v":15000,"d":"15,000"},{"v":15000,"d":"15,000"},null,0,{"v":32119,"d":"32,119"},{"v":32119,"d":"32,119"}]
[1986,0,{"v":24671,"d":"24,671"},{"v":24671,"d":"24,671"},null,0,{"v":23000,"d":"23,000"},{"v":23000,"d":"23,000"},null,0,{"v":47671,"d":"47,671"},{"v":47671,"d":"47,671"}]
[1987,0,{"v":28930,"d":"28,930"},{"v":28930,"d":"28,930"},null,0,{"v":16000,"d":"16,000"},{"v":16000,"d":"16,000"},null,0,{"v":44930,"d":"44,930"},{"v":44930,"d":"44,930"}]
[1988,0,{"v":16603,"d":"16,603"},{"v":16603,"d":"16,603"},null,0,{"v":18000,"d":"18,000"},{"v":18000,"d":"18,000"},null,0,{"v":34603,"d":"34,603"},{"v":34603,"d":"34,603"}]
[1989,0,{"v":6663,"d":"6,663"},{"v":6663,"d":"6,663"},null,0,{"v":6000,"d":"6,000"},{"v":6000,"d":"6,000"},null,0,{"v":12663,"d":"12,663"},{"v":12663,"d":"12,663"}]
[1990,0,{"v":17790,"d":"17,790"},{"v":17790,"d":"17,790"},null,0,{"v":15000,"d":"15,000"},{"v":15000,"d":"15,000"},null,0,{"v":32790,"d":"32,790"},{"v":32790,"d":"32,790"}]
[1991,116,{"v":6632,"d":"6,632"},{"v":6748,"d":"6,748"},null,70,{"v":4000,"d":"4,000"},{"v":4070,"d":"4,070"},null,186,{"v":10632,"d":"10,632"},{"v":10818,"d":"10,818"}]
[1992,10,{"v":5645,"d":"5,645"},{"v":5655,"d":"5,655"},null,23,{"v":12500,"d":"12,500"},{"v":12523,"d":"12,523"},null,33,{"v":18145,"d":"18,145"},{"v":18178,"d":"18,178"}]
[1993,6,350,356,null,134,{"v":8800,"d":"8,800"},{"v":8934,"d":"8,934"},null,140,{"v":9150,"d":"9,150"},{"v":9290,"d":"9,290"}]
[1994,0,0,0,null,262,{"v":25600,"d":"25,600"},{"v":25862,"d":"25,862"},null,262,{"v":25600,"d":"25,600"},{"v":25862,"d":"25,862"}]
[1995,7,{"v":2434,"d":"2,434"},{"v":2441,"d":"2,441"},null,50,{"v":17700,"d":"17,700"},{"v":17750,"d":"17,750"},null,57,{"v":20134,"d":"20,134"},{"v":20191,"d":"20,191"}]
[1996,1,850,851,null,6,{"v":9200,"d":"9,200"},{"v":9206,"d":"9,206"},null,7,{"v":10050,"d":"10,050"},{"v":10057,"d":"10,057"}]
[1997,9,896,905,null,56,{"v":10922,"d":"10,922"},{"v":10978,"d":"10,978"},null,83,{"v":14052,"d":"14,052"},{"v":14135,"d":"14,135"}]
[1998,7,{"v":2514,"d":"2,514"},{"v":2521,"d":"2,521"},null,18,{"v":27273,"d":"27,273"},{"v":27291,"d":"27,291"},null,32,{"v":31137,"d":"31,137"},{"v":31169,"d":"31,169"}]
[1999,1,212,213,null,12,{"v":6996,"d":"6,996"},{"v":7008,"d":"7,008"},null,14,{"v":7487,"d":"7,487"},{"v":7501,"d":"7,501"}]
[2000,4,{"v":1576,"d":"1,576"},{"v":1580,"d":"1,580"},null,80,{"v":28293,"d":"28,293"},{"v":28373,"d":"28,373"},null,90,{"v":31225,"d":"31,225"},{"v":31315,"d":"31,315"}]
[2001,21,{"v":3728,"d":"3,728"},{"v":3749,"d":"3,749"},null,100,{"v":74773,"d":"74,773"},{"v":74873,"d":"74,873"},null,129,{"v":81839,"d":"81,839"},{"v":81968,"d":"81,968"}]
[2002,5,{"v":2622,"d":"2,622"},{"v":2627,"d":"2,627"},null,60,{"v":27305,"d":"27,305"},{"v":27365,"d":"27,365"},null,67,{"v":30395,"d":"30,395"},{"v":30462,"d":"30,462"}]
[2003,0,842,842,null,24,{"v":45691,"d":"45,691"},{"v":45715,"d":"45,715"},null,26,{"v":49253,"d":"49,253"},{"v":49279,"d":"49,279"}]
[2004,16,{"v":8279,"d":"8,279"},{"v":8295,"d":"8,295"},null,128,{"v":65228,"d":"65,228"},{"v":65356,"d":"65,356"},null,147,{"v":74776,"d":"74,776"},{"v":74923,"d":"74,923"}]
[2005,8,{"v":4509,"d":"4,509"},{"v":4517,"d":"4,517"},null,44,{"v":25141,"d":"25,141"},{"v":25185,"d":"25,185"},null,55,{"v":30967,"d":"30,967"},{"v":31022,"d":"31,022"}]
[2006,0,{"v":2810,"d":"2,810"},{"v":2810,"d":"2,810"},null,0,{"v":8549,"d":"8,549"},{"v":8549,"d":"8,549"},null,0,{"v":11738,"d":"11,738"},{"v":11738,"d":"11,738"}]
[2007,16,{"v":3898,"d":"3,898"},{"v":3914,"d":"3,914"},null,160,{"v":38732,"d":"38,732"},{"v":38892,"d":"38,892"},null,187,{"v":45452,"d":"45,452"},{"v":45639,"d":"45,639"}]
[2008,0,{"v":2255,"d":"2,255"},{"v":2255,"d":"2,255"},null,5,{"v":12938,"d":"12,938"},{"v":12943,"d":"12,943"},null,5,{"v":15343,"d":"15,343"},{"v":15348,"d":"15,348"}]
[2009,8,{"v":2309,"d":"2,309"},{"v":2317,"d":"2,317"},null,70,{"v":22179,"d":"22,179"},{"v":22249,"d":"22,249"},null,88,{"v":27690,"d":"27,690"},{"v":27778,"d":"27,778"}]
[2010,14,516,530,null,71,{"v":15172,"d":"15,172"},{"v":15243,"d":"15,243"},null,92,{"v":15206,"d":"15,206"},{"v":15298,"d":"15,298"}]
[2011,16,{"v":5310,"d":"5,310"},{"v":5326,"d":"5,326"},null,155,{"v":49991,"d":"49,991"},{"v":50146,"d":"50,146"},null,180,{"v":58188,"d":"58,188"},{"v":58368,"d":"58,368"}]
[2012,78,{"v":6843,"d":"6,843"},{"v":6921,"d":"6,921"},null,101,{"v":45156,"d":"45,156"},{"v":45257,"d":"45,257"},null,249,{"v":56091,"d":"56,091"},{"v":56340,"d":"56,340"}]
[2013,73,{"v":5057,"d":"5,057"},{"v":5130,"d":"5,130"},null,0,{"v":60387,"d":"60,387"},{"v":60387,"d":"60,387"},null,133,{"v":70597,"d":"70,597"},{"v":70730,"d":"70,730"}]
[2014,30,{"v":5620,"d":"5,620"},{"v":5650,"d":"5,650"},null,180,{"v":35829,"d":"35,829"},{"v":36009,"d":"36,009"},null,233,{"v":44182,"d":"44,182"},{"v":44415,"d":"44,415"}]
[2015,0,447,447,null,0,{"v":2914,"d":"2,914"},{"v":2914,"d":"2,914"},null,0,{"v":4773,"d":"4,773"},{"v":4773,"d":"4,773"}]
[2016,0,{"v":2152,"d":"2,152"},{"v":2152,"d":"2,152"},null,0,{"v":13048,"d":"13,048"},{"v":13048,"d":"13,048"},null,0,{"v":15206,"d":"15,206"},{"v":15206,"d":"15,206"}]
[2017,1,795,796,null,11,{"v":6099,"d":"6,099"},{"v":6110,"d":"6,110"},null,12,{"v":6894,"d":"6,894"},{"v":6906,"d":"6,906"}]
[2018,0,{"v":2906,"d":"2,906"},{"v":2906,"d":"2,906"},null,0,{"v":23937,"d":"23,937"},{"v":23937,"d":"23,937"},null,0,{"v":28970,"d":"28,970"},{"v":28970,"d":"28,970"}]
["2019d/",0,514,514,null,0,{"v":12887,"d":"12,887"},{"v":12887,"d":"12,887"},null,0,{"v":14333,"d":"14,333"},{"v":14333,"d":"14,333"}]
["2020d/",0,{"v":1204,"d":"1,204"},{"v":1204,"d":"1,204"},null,0,{"v":21555,"d":"21,555"},{"v":21555,"d":"21,555"},null,0,{"v":23232,"d":"23,232"},{"v":23232,"d":"23,232"}]
["2021d/",0,{"v":2651,"d":"2,651"},{"v":2651,"d":"2,651"},null,0,{"v":38176,"d":"38,176"},{"v":38176,"d":"38,176"},null,0,{"v":40855,"d":"40,855"},{"v":40855,"d":"40,855"}]
["2022d/",0,{"v":2358,"d":"2,358"},{"v":2358,"d":"2,358"},null,0,{"v":53828,"d":"53,828"},{"v":53828,"d":"53,828"},null,0,{"v":56612,"d":"56,612"},{"v":56612,"d":"56,612"}]
["2023d/",0,{"v":4933,"d":"4,933"},{"v":4933,"d":"4,933"},null,0,{"v":37962,"d":"37,962"},{"v":37962,"d":"37,962"},null,0,{"v":44042,"d":"44,042"},{"v":44042,"d":"44,042"}]
["2024d/","NA","NA","NA",null,"NA","NA","NA",null,"NA","NA","NA"]
[" GOAL",{"$nulls":5},"6,100-10,000"]
[]
["Snohomish"]
[1981,{"v":23833,"d":"23,833"},{"v":37446,"d":"37,446"},{"v":61279,"d":"61,279"},null,{"v":6500,"d":"6,500"},{"v":37000,"d":"37,000"},{"v":43500,"d":"43,500"},null,{"v":30333,"d":"30,333"},{"v":74446,"d":"74,446"},{"v":104779,"d":"104,779"}]
[1982,{"v":17923,"d":"17,923"},{"v":24643,"d":"24,643"},{"v":42566,"d":"42,566"},null,{"v":3700,"d":"3,700"},{"v":56000,"d":"56,000"},{"v":59700,"d":"59,700"},null,{"v":21623,"d":"21,623"},{"v":80643,"d":"80,643"},{"v":102266,"d":"102,266"}]
[1983,{"v":8375,"d":"8,375"},{"v":39383,"d":"39,383"},{"v":47758,"d":"47,758"},null,{"v":9000,"d":"9,000"},{"v":145000,"d":"145,000"},{"v":154000,"d":"154,000"},null,{"v":17375,"d":"17,375"},{"v":184383,"d":"184,383"},{"v":201758,"d":"201,758"}]
[1984,{"v":8560,"d":"8,560"},{"v":23467,"d":"23,467"},{"v":32027,"d":"32,027"},null,{"v":25900,"d":"25,900"},{"v":71000,"d":"71,000"},{"v":96900,"d":"96,900"},null,{"v":34460,"d":"34,460"},{"v":94467,"d":"94,467"},{"v":128927,"d":"128,927"}]
[1985,{"v":31558,"d":"31,558"},{"v":57749,"d":"57,749"},{"v":89307,"d":"89,307"},null,{"v":14200,"d":"14,200"},{"v":65000,"d":"65,000"},{"v":79200,"d":"79,200"},null,{"v":45758,"d":"45,758"},{"v":122749,"d":"122,749"},{"v":168507,"d":"168,507"}]
[1986,{"v":33546,"d":"33,546"},{"v":77735,"d":"77,735"},{"v":111281,"d":"111,281"},null,{"v":26193,"d":"26,193"},{"v":117000,"d":"117,000"},{"v":143193,"d":"143,193"},null,{"v":59739,"d":"59,739"},{"v":194735,"d":"194,735"},{"v":254474,"d":"254,474"}]
[1987,{"v":89541,"d":"89,541"},{"v":90509,"d":"90,509"},{"v":180050,"d":"180,050"},null,{"v":33982,"d":"33,982"},{"v":89000,"d":"89,000"},{"v":122982,"d":"122,982"},null,{"v":123523,"d":"123,523"},{"v":179509,"d":"179,509"},{"v":303032,"d":"303,032"}]
[1988,{"v":49269,"d":"49,269"},{"v":53789,"d":"53,789"},{"v":103058,"d":"103,058"},null,{"v":25044,"d":"25,044"},{"v":78000,"d":"78,000"},{"v":103044,"d":"103,044"},null,{"v":74313,"d":"74,313"},{"v":131789,"d":"131,789"},{"v":206102,"d":"206,102"}]
[1989,{"v":50658,"d":"50,658"},{"v":50822,"d":"50,822"},{"v":101480,"d":"101,480"},null,{"v":25480,"d":"25,480"},{"v":93000,"d":"93,000"},{"v":118480,"d":"118,480"},null,{"v":76138,"d":"76,138"},{"v":143822,"d":"143,822"},{"v":219960,"d":"219,960"}]
[1990,{"v":69702,"d":"69,702"},{"v":66925,"d":"66,925"},{"v":136627,"d":"136,627"},null,{"v":19972,"d":"19,972"},{"v":97000,"d":"97,000"},{"v":116972,"d":"116,972"},null,{"v":89674,"d":"89,674"},{"v":163925,"d":"163,925"},{"v":253599,"d":"253,599"}]
[1991,{"v":55733,"d":"55,733"},{"v":44032,"d":"44,032"},{"v":99765,"d":"99,765"},null,{"v":19160,"d":"19,160"},{"v":41000,"d":"41,000"},{"v":60160,"d":"60,160"},null,{"v":74893,"d":"74,893"},{"v":85032,"d":"85,032"},{"v":159925,"d":"159,925"}]
[1992,{"v":38648,"d":"38,648"},{"v":32317,"d":"32,317"},{"v":70965,"d":"70,965"},null,{"v":26353,"d":"26,353"},{"v":85000,"d":"85,000"},{"v":111353,"d":"111,353"},null,{"v":65001,"d":"65,001"},{"v":117317,"d":"117,317"},{"v":182318,"d":"182,318"}]
[1993,{"v":31196,"d":"31,196"},293,{"v":31489,"d":"31,489"},null,{"v":15044,"d":"15,044"},{"v":54000,"d":"54,000"},{"v":69044,"d":"69,044"},null,{"v":46240,"d":"46,240"},{"v":54293,"d":"54,293"},{"v":100533,"d":"100,533"}]
[1994,{"v":44450,"d":"44,450"},{"v":3917,"d":"3,917"},{"v":48367,"d":"48,367"},null,{"v":24532,"d":"24,532"},{"v":157000,"d":"157,000"},{"v":181532,"d":"181,532"},null,{"v":68982,"d":"68,982"},{"v":160917,"d":"160,917"},{"v":229899,"d":"229,899"}]
[1995,{"v":33360,"d":"33,360"},{"v":11254,"d":"11,254"},{"v":44614,"d":"44,614"},null,{"v":32221,"d":"32,221"},{"v":83000,"d":"83,000"},{"v":115221,"d":"115,221"},null,{"v":65581,"d":"65,581"},{"v":94254,"d":"94,254"},{"v":159835,"d":"159,835"}]
[1996,{"v":23405,"d":"23,405"},{"v":6309,"d":"6,309"},{"v":29714,"d":"29,714"},null,{"v":23577,"d":"23,577"},{"v":50000,"d":"50,000"},{"v":73577,"d":"73,577"},null,{"v":46982,"d":"46,982"},{"v":56309,"d":"56,309"},{"v":103291,"d":"103,291"}]
[1997,{"v":19303,"d":"19,303"},{"v":4816,"d":"4,816"},{"v":24119,"d":"24,119"},null,{"v":22601,"d":"22,601"},{"v":58188,"d":"58,188"},{"v":80789,"d":"80,789"},null,{"v":45933,"d":"45,933"},{"v":79191,"d":"79,191"},{"v":125124,"d":"125,124"}]
[1998,{"v":14514,"d":"14,514"},{"v":7693,"d":"7,693"},{"v":22207,"d":"22,207"},null,{"v":18697,"d":"18,697"},{"v":149992,"d":"149,992"},{"v":168689,"d":"168,689"},null,{"v":34808,"d":"34,808"},{"v":168110,"d":"168,110"},{"v":202918,"d":"202,918"}]
[1999,{"v":16633,"d":"16,633"},{"v":1422,"d":"1,422"},{"v":18055,"d":"18,055"},null,{"v":10168,"d":"10,168"},{"v":61282,"d":"61,282"},{"v":71450,"d":"71,450"},null,{"v":27952,"d":"27,952"},{"v":67453,"d":"67,453"},{"v":95405,"d":"95,405"}]
[2000,{"v":84216,"d":"84,216"},{"v":4105,"d":"4,105"},{"v":88321,"d":"88,321"},null,{"v":31258,"d":"31,258"},{"v":94093,"d":"94,093"},{"v":125351,"d":"125,351"},null,{"v":119407,"d":"119,407"},{"v":105027,"d":"105,027"},{"v":224434,"d":"224,434"}]
[2001,{"v":58354,"d":"58,354"},{"v":13409,"d":"13,409"},{"v":71763,"d":"71,763"},null,{"v":37222,"d":"37,222"},{"v":261550,"d":"261,550"},{"v":298772,"d":"298,772"},null,{"v":100574,"d":"100,574"},{"v":294379,"d":"294,379"},{"v":394953,"d":"394,953"}]
[2002,{"v":49482,"d":"49,482"},{"v":15733,"d":"15,733"},{"v":65215,"d":"65,215"},null,{"v":11798,"d":"11,798"},{"v":161441,"d":"161,441"},{"v":173239,"d":"173,239"},null,{"v":64069,"d":"64,069"},{"v":185092,"d":"185,092"},{"v":249161,"d":"249,161"}]
[2003,{"v":5061,"d":"5,061"},{"v":3382,"d":"3,382"},{"v":8443,"d":"8,443"},null,{"v":14901,"d":"14,901"},{"v":182599,"d":"182,599"},{"v":197500,"d":"197,500"},null,{"v":21138,"d":"21,138"},{"v":197774,"d":"197,774"},{"v":218912,"d":"218,912"}]
[2004,{"v":47826,"d":"47,826"},{"v":32678,"d":"32,678"},{"v":80504,"d":"80,504"},null,{"v":13891,"d":"13,891"},{"v":252768,"d":"252,768"},{"v":266659,"d":"266,659"},null,{"v":62658,"d":"62,658"},{"v":295139,"d":"295,139"},{"v":357797,"d":"357,797"}]
[2005,{"v":12118,"d":"12,118"},{"v":19795,"d":"19,795"},{"v":31913,"d":"31,913"},null,{"v":13583,"d":"13,583"},{"v":109020,"d":"109,020"},{"v":122603,"d":"122,603"},null,{"v":26900,"d":"26,900"},{"v":135937,"d":"135,937"},{"v":162837,"d":"162,837"}]
[2006,{"v":5271,"d":"5,271"},{"v":23779,"d":"23,779"},{"v":29050,"d":"29,050"},null,{"v":6136,"d":"6,136"},{"v":75630,"d":"75,630"},{"v":81766,"d":"81,766"},null,{"v":11668,"d":"11,668"},{"v":101685,"d":"101,685"},{"v":113353,"d":"113,353"}]
[2007,{"v":14107,"d":"14,107"},{"v":11863,"d":"11,863"},{"v":25970,"d":"25,970"},null,{"v":7147,"d":"7,147"},{"v":118455,"d":"118,455"},{"v":125602,"d":"125,602"},null,{"v":22039,"d":"22,039"},{"v":138532,"d":"138,532"},{"v":160571,"d":"160,571"}]
[2008,{"v":31268,"d":"31,268"},{"v":6464,"d":"6,464"},{"v":37732,"d":"37,732"},null,{"v":3312,"d":"3,312"},{"v":35441,"d":"35,441"},{"v":38753,"d":"38,753"},null,{"v":34829,"d":"34,829"},{"v":43988,"d":"43,988"},{"v":78817,"d":"78,817"}]
[2009,{"v":19350,"d":"19,350"},{"v":8967,"d":"8,967"},{"v":28317,"d":"28,317"},null,{"v":10948,"d":"10,948"},{"v":98979,"d":"98,979"},{"v":109927,"d":"109,927"},null,{"v":31430,"d":"31,430"},{"v":116996,"d":"116,996"},{"v":148426,"d":"148,426"}]
[2010,189,{"v":1230,"d":"1,230"},{"v":1419,"d":"1,419"},null,{"v":4822,"d":"4,822"},{"v":49100,"d":"49,100"},{"v":53922,"d":"53,922"},null,{"v":5186,"d":"5,186"},{"v":52148,"d":"52,148"},{"v":57334,"d":"57,334"}]
[2011,{"v":8069,"d":"8,069"},{"v":7947,"d":"7,947"},{"v":16016,"d":"16,016"},null,{"v":8375,"d":"8,375"},{"v":111374,"d":"111,374"},{"v":119749,"d":"119,749"},null,{"v":17210,"d":"17,210"},{"v":129235,"d":"129,235"},{"v":146445,"d":"146,445"}]
[2012,{"v":34605,"d":"34,605"},{"v":15020,"d":"15,020"},{"v":49625,"d":"49,625"},null,{"v":13354,"d":"13,354"},{"v":130637,"d":"130,637"},{"v":143991,"d":"143,991"},null,{"v":48572,"d":"48,572"},{"v":160553,"d":"160,553"},{"v":209125,"d":"209,125"}]
[2013,{"v":37929,"d":"37,929"},{"v":10176,"d":"10,176"},{"v":48105,"d":"48,105"},null,{"v":10277,"d":"10,277"},{"v":125870,"d":"125,870"},{"v":136147,"d":"136,147"},null,{"v":49591,"d":"49,591"},{"v":156856,"d":"156,856"},{"v":206447,"d":"206,447"}]
[2014,{"v":34103,"d":"34,103"},{"v":6932,"d":"6,932"},{"v":41035,"d":"41,035"},null,{"v":13641,"d":"13,641"},{"v":46244,"d":"46,244"},{"v":59885,"d":"59,885"},null,{"v":50809,"d":"50,809"},{"v":58740,"d":"58,740"},{"v":109549,"d":"109,549"}]
[2015,{"v":5462,"d":"5,462"},{"v":2207,"d":"2,207"},{"v":7669,"d":"7,669"},null,{"v":3945,"d":"3,945"},{"v":12804,"d":"12,804"},{"v":16749,"d":"16,749"},null,{"v":10026,"d":"10,026"},{"v":23571,"d":"23,571"},{"v":33597,"d":"33,597"}]
[2016,{"v":66452,"d":"66,452"},{"v":7478,"d":"7,478"},{"v":73930,"d":"73,930"},null,{"v":9201,"d":"9,201"},{"v":44141,"d":"44,141"},{"v":53342,"d":"53,342"},null,{"v":75658,"d":"75,658"},{"v":52834,"d":"52,834"},{"v":128492,"d":"128,492"}]
[2017,{"v":42154,"d":"42,154"},{"v":2597,"d":"2,597"},{"v":44751,"d":"44,751"},null,{"v":6371,"d":"6,371"},{"v":18195,"d":"18,195"},{"v":24566,"d":"24,566"},null,{"v":49163,"d":"49,163"},{"v":22922,"d":"22,922"},{"v":72085,"d":"72,085"}]
["2018d/",{"v":16225,"d":"16,225"},{"v":6859,"d":"6,859"},{"v":23084,"d":"23,084"},null,{"v":5528,"d":"5,528"},{"v":58135,"d":"58,135"},{"v":63663,"d":"63,663"},null,{"v":23388,"d":"23,388"},{"v":71121,"d":"71,121"},{"v":94509,"d":"94,509"}]
["2019d/",{"v":3452,"d":"3,452"},{"v":1252,"d":"1,252"},{"v":4704,"d":"4,704"},null,{"v":5524,"d":"5,524"},{"v":40314,"d":"40,314"},{"v":45838,"d":"45,838"},null,{"v":9558,"d":"9,558"},{"v":43036,"d":"43,036"},{"v":52594,"d":"52,594"}]
["2020d/",{"v":14060,"d":"14,060"},{"v":1946,"d":"1,946"},{"v":16006,"d":"16,006"},null,{"v":9929,"d":"9,929"},{"v":42675,"d":"42,675"},{"v":52604,"d":"52,604"},null,{"v":24461,"d":"24,461"},{"v":44621,"d":"44,621"},{"v":69082,"d":"69,082"}]
["2021d/",{"v":75039,"d":"75,039"},{"v":6325,"d":"6,325"},{"v":81364,"d":"81,364"},null,{"v":10691,"d":"10,691"},{"v":97523,"d":"97,523"},{"v":108214,"d":"108,214"},null,{"v":91685,"d":"91,685"},{"v":103848,"d":"103,848"},{"v":195533,"d":"195,533"}]
["2022d/",809,{"v":2590,"d":"2,590"},{"v":3399,"d":"3,399"},null,{"v":14150,"d":"14,150"},{"v":85692,"d":"85,692"},{"v":99842,"d":"99,842"},null,{"v":17389,"d":"17,389"},{"v":88282,"d":"88,282"},{"v":105671,"d":"105,671"}]
["2023d/",{"v":40182,"d":"40,182"},{"v":7947,"d":"7,947"},{"v":48129,"d":"48,129"},null,{"v":13972,"d":"13,972"},{"v":63042,"d":"63,042"},{"v":77014,"d":"77,014"},null,{"v":56089,"d":"56,089"},{"v":75773,"d":"75,773"},{"v":131862,"d":"131,862"}]
["2024d/","NA","NA","NA",null,"NA","NA","NA",null,"NA","NA","NA"]
[" GOAL",{"$nulls":5},"31,000-50,000"]
[]
["South Puget Sound"]
[1981,{"v":212466,"d":"212,466"},{"v":54816,"d":"54,816"},{"v":267282,"d":"267,282"},null,{"v":73300,"d":"73,300"},{"v":34000,"d":"34,000"},{"v":107300,"d":"107,300"},null,{"v":285766,"d":"285,766"},{"v":88816,"d":"88,816"},{"v":374582,"d":"374,582"}]
[1982,{"v":374133,"d":"374,133"},{"v":144163,"d":"144,163"},{"v":518296,"d":"518,296"},null,{"v":87400,"d":"87,400"},{"v":51500,"d":"51,500"},{"v":138900,"d":"138,900"},null,{"v":461533,"d":"461,533"},{"v":195663,"d":"195,663"},{"v":657196,"d":"657,196"}]
[1983,{"v":379244,"d":"379,244"},{"v":125623,"d":"125,623"},{"v":504867,"d":"504,867"},null,{"v":93500,"d":"93,500"},{"v":31200,"d":"31,200"},{"v":124700,"d":"124,700"},null,{"v":472744,"d":"472,744"},{"v":156823,"d":"156,823"},{"v":629567,"d":"629,567"}]
[1984,{"v":349836,"d":"349,836"},{"v":135946,"d":"135,946"},{"v":485782,"d":"485,782"},null,{"v":80000,"d":"80,000"},{"v":38048,"d":"38,048"},{"v":118048,"d":"118,048"},null,{"v":429836,"d":"429,836"},{"v":173994,"d":"173,994"},{"v":603830,"d":"603,830"}]
[1985,{"v":326902,"d":"326,902"},{"v":245596,"d":"245,596"},{"v":572498,"d":"572,498"},null,{"v":48600,"d":"48,600"},{"v":37800,"d":"37,800"},{"v":86400,"d":"86,400"},null,{"v":375502,"d":"375,502"},{"v":283396,"d":"283,396"},{"v":658898,"d":"658,898"}]
[1986,{"v":523298,"d":"523,298"},{"v":168360,"d":"168,360"},{"v":691658,"d":"691,658"},null,{"v":71993,"d":"71,993"},{"v":26601,"d":"26,601"},{"v":98594,"d":"98,594"},null,{"v":595291,"d":"595,291"},{"v":194961,"d":"194,961"},{"v":790252,"d":"790,252"}]
[1987,{"v":687492,"d":"687,492"},{"v":341742,"d":"341,742"},{"v":1029234,"d":"1,029,234"},null,{"v":85192,"d":"85,192"},{"v":41793,"d":"41,793"},{"v":126985,"d":"126,985"},null,{"v":772684,"d":"772,684"},{"v":383535,"d":"383,535"},{"v":1156219,"d":"1,156,219"}]
[1988,{"v":551369,"d":"551,369"},{"v":247492,"d":"247,492"},{"v":798861,"d":"798,861"},null,{"v":80643,"d":"80,643"},{"v":34550,"d":"34,550"},{"v":115193,"d":"115,193"},null,{"v":632012,"d":"632,012"},{"v":282042,"d":"282,042"},{"v":914054,"d":"914,054"}]
[1989,{"v":392567,"d":"392,567"},{"v":103290,"d":"103,290"},{"v":495857,"d":"495,857"},null,{"v":57330,"d":"57,330"},{"v":14450,"d":"14,450"},{"v":71780,"d":"71,780"},null,{"v":449897,"d":"449,897"},{"v":117740,"d":"117,740"},{"v":567637,"d":"567,637"}]
[1990,{"v":392897,"d":"392,897"},{"v":196497,"d":"196,497"},{"v":589394,"d":"589,394"},null,{"v":50832,"d":"50,832"},{"v":27016,"d":"27,016"},{"v":77848,"d":"77,848"},null,{"v":443729,"d":"443,729"},{"v":223513,"d":"223,513"},{"v":667242,"d":"667,242"}]
[1991,{"v":207490,"d":"207,490"},{"v":72877,"d":"72,877"},{"v":280367,"d":"280,367"},null,{"v":54701,"d":"54,701"},{"v":14972,"d":"14,972"},{"v":69673,"d":"69,673"},null,{"v":262191,"d":"262,191"},{"v":87849,"d":"87,849"},{"v":350040,"d":"350,040"}]
[1992,{"v":158774,"d":"158,774"},{"v":50678,"d":"50,678"},{"v":209452,"d":"209,452"},null,{"v":102723,"d":"102,723"},{"v":16000,"d":"16,000"},{"v":118723,"d":"118,723"},null,{"v":261497,"d":"261,497"},{"v":66678,"d":"66,678"},{"v":328175,"d":"328,175"}]
[1993,{"v":45935,"d":"45,935"},{"v":9245,"d":"9,245"},{"v":55180,"d":"55,180"},null,{"v":101159,"d":"101,159"},{"v":18400,"d":"18,400"},{"v":119559,"d":"119,559"},null,{"v":147094,"d":"147,094"},{"v":27645,"d":"27,645"},{"v":174739,"d":"174,739"}]
[1994,{"v":164252,"d":"164,252"},{"v":100280,"d":"100,280"},{"v":264532,"d":"264,532"},null,{"v":122881,"d":"122,881"},{"v":38957,"d":"38,957"},{"v":161838,"d":"161,838"},null,{"v":287133,"d":"287,133"},{"v":139237,"d":"139,237"},{"v":426370,"d":"426,370"}]
[1995,{"v":113353,"d":"113,353"},{"v":49229,"d":"49,229"},{"v":162582,"d":"162,582"},null,{"v":103547,"d":"103,547"},{"v":31396,"d":"31,396"},{"v":134943,"d":"134,943"},null,{"v":216900,"d":"216,900"},{"v":80625,"d":"80,625"},{"v":297525,"d":"297,525"}]
[1996,{"v":56117,"d":"56,117"},{"v":13503,"d":"13,503"},{"v":69620,"d":"69,620"},null,{"v":107463,"d":"107,463"},{"v":21991,"d":"21,991"},{"v":129454,"d":"129,454"},null,{"v":163580,"d":"163,580"},{"v":35494,"d":"35,494"},{"v":199074,"d":"199,074"}]
[1997,{"v":27435,"d":"27,435"},{"v":51950,"d":"51,950"},{"v":79385,"d":"79,385"},null,{"v":61274,"d":"61,274"},{"v":40488,"d":"40,488"},{"v":101762,"d":"101,762"},null,{"v":107288,"d":"107,288"},{"v":105657,"d":"105,657"},{"v":212945,"d":"212,945"}]
[1998,{"v":50216,"d":"50,216"},{"v":15189,"d":"15,189"},{"v":65405,"d":"65,405"},null,{"v":33290,"d":"33,290"},{"v":18034,"d":"18,034"},{"v":51324,"d":"51,324"},null,{"v":98106,"d":"98,106"},{"v":38571,"d":"38,571"},{"v":136677,"d":"136,677"}]
[1999,{"v":15955,"d":"15,955"},{"v":5451,"d":"5,451"},{"v":21406,"d":"21,406"},null,{"v":26559,"d":"26,559"},{"v":9973,"d":"9,973"},{"v":36532,"d":"36,532"},null,{"v":45663,"d":"45,663"},{"v":17273,"d":"17,273"},{"v":62936,"d":"62,936"}]
[2000,{"v":138517,"d":"138,517"},{"v":60525,"d":"60,525"},{"v":199042,"d":"199,042"},null,{"v":139838,"d":"139,838"},{"v":51198,"d":"51,198"},{"v":191036,"d":"191,036"},null,{"v":289180,"d":"289,180"},{"v":117469,"d":"117,469"},{"v":406649,"d":"406,649"}]
[2001,{"v":110328,"d":"110,328"},{"v":60548,"d":"60,548"},{"v":170876,"d":"170,876"},null,{"v":127179,"d":"127,179"},{"v":37688,"d":"37,688"},{"v":164867,"d":"164,867"},null,{"v":261942,"d":"261,942"},{"v":107969,"d":"107,969"},{"v":369911,"d":"369,911"}]
[2002,{"v":96471,"d":"96,471"},{"v":34214,"d":"34,214"},{"v":130685,"d":"130,685"},null,{"v":115145,"d":"115,145"},{"v":18296,"d":"18,296"},{"v":133441,"d":"133,441"},null,{"v":223889,"d":"223,889"},{"v":55536,"d":"55,536"},{"v":279425,"d":"279,425"}]
[2003,{"v":97148,"d":"97,148"},{"v":30839,"d":"30,839"},{"v":127987,"d":"127,987"},null,{"v":103560,"d":"103,560"},{"v":42738,"d":"42,738"},{"v":146298,"d":"146,298"},null,{"v":221313,"d":"221,313"},{"v":83760,"d":"83,760"},{"v":305073,"d":"305,073"}]
[2004,{"v":177863,"d":"177,863"},{"v":47702,"d":"47,702"},{"v":225565,"d":"225,565"},null,{"v":140143,"d":"140,143"},{"v":39048,"d":"39,048"},{"v":179191,"d":"179,191"},null,{"v":329547,"d":"329,547"},{"v":94327,"d":"94,327"},{"v":423874,"d":"423,874"}]
[2005,{"v":114361,"d":"114,361"},{"v":27900,"d":"27,900"},{"v":142261,"d":"142,261"},null,{"v":86434,"d":"86,434"},{"v":30680,"d":"30,680"},{"v":117114,"d":"117,114"},null,{"v":214402,"d":"214,402"},{"v":65239,"d":"65,239"},{"v":279641,"d":"279,641"}]
[2006,{"v":121746,"d":"121,746"},{"v":22675,"d":"22,675"},{"v":144421,"d":"144,421"},null,{"v":50452,"d":"50,452"},{"v":18332,"d":"18,332"},{"v":68784,"d":"68,784"},null,{"v":178322,"d":"178,322"},{"v":44665,"d":"44,665"},{"v":222987,"d":"222,987"}]
[2007,{"v":58253,"d":"58,253"},{"v":25029,"d":"25,029"},{"v":83282,"d":"83,282"},null,{"v":55011,"d":"55,011"},{"v":31688,"d":"31,688"},{"v":86699,"d":"86,699"},null,{"v":122791,"d":"122,791"},{"v":65548,"d":"65,548"},{"v":188339,"d":"188,339"}]
[2008,{"v":93452,"d":"93,452"},{"v":18898,"d":"18,898"},{"v":112350,"d":"112,350"},null,{"v":54435,"d":"54,435"},{"v":17869,"d":"17,869"},{"v":72304,"d":"72,304"},null,{"v":154528,"d":"154,528"},{"v":40275,"d":"40,275"},{"v":194803,"d":"194,803"}]
[2009,{"v":81390,"d":"81,390"},{"v":24632,"d":"24,632"},{"v":106022,"d":"106,022"},null,{"v":56329,"d":"56,329"},{"v":23834,"d":"23,834"},{"v":80163,"d":"80,163"},null,{"v":158388,"d":"158,388"},{"v":62537,"d":"62,537"},{"v":220925,"d":"220,925"}]
[2010,{"v":16808,"d":"16,808"},{"v":9514,"d":"9,514"},{"v":26322,"d":"26,322"},null,{"v":20881,"d":"20,881"},{"v":12743,"d":"12,743"},{"v":33624,"d":"33,624"},null,{"v":39850,"d":"39,850"},{"v":24182,"d":"24,182"},{"v":64032,"d":"64,032"}]
[2011,{"v":31583,"d":"31,583"},{"v":11106,"d":"11,106"},{"v":42689,"d":"42,689"},null,{"v":45721,"d":"45,721"},{"v":36567,"d":"36,567"},{"v":82288,"d":"82,288"},null,{"v":86625,"d":"86,625"},{"v":59779,"d":"59,779"},{"v":146404,"d":"146,404"}]
[2012,{"v":95993,"d":"95,993"},{"v":37202,"d":"37,202"},{"v":133195,"d":"133,195"},null,{"v":77409,"d":"77,409"},{"v":60078,"d":"60,078"},{"v":137487,"d":"137,487"},null,{"v":191398,"d":"191,398"},{"v":118303,"d":"118,303"},{"v":309701,"d":"309,701"}]
[2013,{"v":68652,"d":"68,652"},{"v":16570,"d":"16,570"},{"v":85222,"d":"85,222"},null,{"v":59791,"d":"59,791"},{"v":30746,"d":"30,746"},{"v":90537,"d":"90,537"},null,{"v":146275,"d":"146,275"},{"v":66946,"d":"66,946"},{"v":213221,"d":"213,221"}]
[2014,{"v":44269,"d":"44,269"},{"v":10537,"d":"10,537"},{"v":54806,"d":"54,806"},null,{"v":51459,"d":"51,459"},{"v":20766,"d":"20,766"},{"v":72225,"d":"72,225"},null,{"v":105929,"d":"105,929"},{"v":39447,"d":"39,447"},{"v":145376,"d":"145,376"}]
[2015,{"v":7404,"d":"7,404"},{"v":3697,"d":"3,697"},{"v":11101,"d":"11,101"},null,{"v":18994,"d":"18,994"},{"v":16408,"d":"16,408"},{"v":35402,"d":"35,402"},null,{"v":34297,"d":"34,297"},{"v":29926,"d":"29,926"},{"v":64223,"d":"64,223"}]
[2016,{"v":57799,"d":"57,799"},{"v":19690,"d":"19,690"},{"v":77489,"d":"77,489"},null,{"v":94259,"d":"94,259"},{"v":37387,"d":"37,387"},{"v":131646,"d":"131,646"},null,{"v":154355,"d":"154,355"},{"v":57838,"d":"57,838"},{"v":212193,"d":"212,193"}]
[2017,{"v":52466,"d":"52,466"},{"v":21477,"d":"21,477"},{"v":73943,"d":"73,943"},null,{"v":48710,"d":"48,710"},{"v":26555,"d":"26,555"},{"v":75265,"d":"75,265"},null,{"v":124170,"d":"124,170"},{"v":53280,"d":"53,280"},{"v":177450,"d":"177,450"}]
["2018d/",{"v":78228,"d":"78,228"},{"v":30628,"d":"30,628"},{"v":108856,"d":"108,856"},null,{"v":72264,"d":"72,264"},{"v":21421,"d":"21,421"},{"v":93685,"d":"93,685"},null,{"v":165081,"d":"165,081"},{"v":62689,"d":"62,689"},{"v":227770,"d":"227,770"}]
["2019d/",{"v":31714,"d":"31,714"},{"v":11088,"d":"11,088"},{"v":42802,"d":"42,802"},null,{"v":66484,"d":"66,484"},{"v":23064,"d":"23,064"},{"v":89548,"d":"89,548"},null,{"v":111900,"d":"111,900"},{"v":45127,"d":"45,127"},{"v":157027,"d":"157,027"}]
["2020d/",{"v":73573,"d":"73,573"},{"v":24770,"d":"24,770"},{"v":98343,"d":"98,343"},null,{"v":67685,"d":"67,685"},{"v":18215,"d":"18,215"},{"v":85900,"d":"85,900"},null,{"v":152380,"d":"152,380"},{"v":53225,"d":"53,225"},{"v":205605,"d":"205,605"}]
["2021d/",{"v":80331,"d":"80,331"},{"v":27161,"d":"27,161"},{"v":107492,"d":"107,492"},null,{"v":77720,"d":"77,720"},{"v":32070,"d":"32,070"},{"v":109790,"d":"109,790"},null,{"v":186762,"d":"186,762"},{"v":70000,"d":"70,000"},{"v":256762,"d":"256,762"}]
["2022d/",{"v":82953,"d":"82,953"},{"v":17131,"d":"17,131"},{"v":100084,"d":"100,084"},null,{"v":38794,"d":"38,794"},{"v":20540,"d":"20,540"},{"v":59334,"d":"59,334"},null,{"v":149268,"d":"149,268"},{"v":52761,"d":"52,761"},{"v":202029,"d":"202,029"}]
["2023d/",{"v":76051,"d":"76,051"},{"v":15790,"d":"15,790"},{"v":91841,"d":"91,841"},null,{"v":72641,"d":"72,641"},{"v":37261,"d":"37,261"},{"v":109902,"d":"109,902"},null,{"v":171606,"d":"171,606"},{"v":63905,"d":"63,905"},{"v":235511,"d":"235,511"}]
["2024d/","NA","NA","NA",null,"NA","NA","NA",null,"NA","NA","NA"]
[" GOAL  ",{"$nulls":4},{"v":52000,"d":"52,000"}]
["a/  Includes treaty Indian and non-Indian net commercial catches during the adult accounting period.  Source:  Puget Sound run reconstruction model."]
["b/  Includes estimated off-station returns and secondary wild stocks."]
["c/  Terminal run size is defined as the run to terminal marine areas; spawning escapement plus commercial net and sport catch (inriver and terminal fishery catch).  Prior to 1997, estimates are Puget Sound run size, which is defined as the run available to Puget Sound net fisheries; spawning escapement plus commercial net catch (inriver, terminal, and pre-terminal Puget Sound net fishery catch), but not including fish caught in Puget Sound troll and recreational fisheries."]
["d/  Preliminary."]
["e/ Hood Canal terminal run size is defined as the run to terminal marine areas; spawning escapement plus commercial net and sport catch (inriver and terminal fishery catch).  Prior to 1997, estimates are Puget Sound run size, which is defined as the run available to Puget Sound net fisheries; spawning escapement plus commercial net catch (inriver, terminal, and pre-terminal Puget Sound net fishery catch),  including fish caught in Puget Sound troll and recreational fisheries."]
{"$rows_empty":27}
["TABLE B-42.  Puget Sound commercial net fishery catches and spawning escapements in numbers of fish for hatchery and natural Puget Sound coho stocks.a/                     (Page 1 of 4)"]
["Year or Average","Commercial Net Catchesc/",{"$nulls":3},"Spawning Escapement",{"$nulls":3},"Terminal Run Sizec/"]
[null,"Hatcheryb/","Natural","Total",null,"Hatcheryb/","Natural","Total",null,"Hatcheryb/","Natural","Total"]
[{"$f":"A4","v":"Strait of Juan de Fuca"}]
["1981-1985",{"$f":"AVERAGE(B5:B9)","v":{"v":19362,"d":"19,362"}},{"$f":"AVERAGE(C5:C9)","v":{"v":526.8,"d":"527"}},{"$f":"AVERAGE(D5:D9)","v":{"v":19888.8,"d":"19,889"}},null,{"$f":"AVERAGE(F5:F9)","v":{"v":9440,"d":"9,440"}},{"$f":"AVERAGE(G5:G9)","v":{"v":4660,"d":"4,660"}},{"$f":"AVERAGE(H5:H9)","v":{"v":14100,"d":"14,100"}},null,{"$f":"AVERAGE(J5:J9)","v":{"v":28802,"d":"28,802"}},{"$f":"AVERAGE(K5:K9)","v":{"v":5186.8,"d":"5,187"}},{"$f":"AVERAGE(L5:L9)","v":{"v":33988.8,"d":"33,989"}}]
["1986-1990",{"$f":"AVERAGE(B10:B14)","v":{"v":9012.4,"d":"9,012"}},{"$f":"AVERAGE(C10:C14)","v":{"v":125.4,"d":"125"}},{"$f":"AVERAGE(D10:D14)","v":{"v":9137.8,"d":"9,138"}},null,{"$f":"AVERAGE(F10:F14)","v":{"v":3013,"d":"3,013"}},{"$f":"AVERAGE(G10:G14)","v":{"v":5940,"d":"5,940"}},{"$f":"AVERAGE(H10:H14)","v":{"v":8953,"d":"8,953"}},null,{"$f":"AVERAGE(J10:J14)","v":{"v":12025.4,"d":"12,025"}},{"$f":"AVERAGE(K10:K14)","v":{"v":6065.4,"d":"6,065"}},{"$f":"AVERAGE(L10:L14)","v":{"v":18090.8,"d":"18,091"}}]
["1991-1995",{"$f":"AVERAGE(B15:B19)","v":{"v":2634.6,"d":"2,635"}},{"$f":"AVERAGE(C15:C19)","v":{"v":23.4,"d":"23"}},{"v":2658,"d":"2,658"},null,{"v":4230,"d":"4,230"},{"v":4395.8,"d":"4,396"},{"v":8625.8,"d":"8,626"},null,{"v":6864.6,"d":"6,865"},{"v":4419.2,"d":"4,419"},{"v":11283.8,"d":"11,284"}]
["1996-2000",{"$f":"AVERAGE(B20:B24)","v":{"v":4261.6,"d":"4,262"}},{"$f":"AVERAGE(C20:C24)","v":{"v":796.6,"d":"797"}},{"v":5058.2,"d":"5,058"},null,{"v":10174.2,"d":"10,174"},{"v":13053.2,"d":"13,053"},{"v":23227.4,"d":"23,227"},null,{"v":15397.8,"d":"15,398"},{"v":14086.6,"d":"14,087"},{"v":29484.4,"d":"29,484"}]
["2001-2005",{"$f":"AVERAGE(B25:B29)","v":{"v":6111.6,"d":"6,112"}},{"$f":"AVERAGE(C25:C29)","v":994},{"$f":"AVERAGE(D25:D29)","v":{"v":7105.6,"d":"7,106"}},null,{"v":13141.2,"d":"13,141"},{"v":20929.4,"d":"20,929"},{"v":34070.6,"d":"34,071"},null,{"v":21417.4,"d":"21,417"},{"v":22352.4,"d":"22,352"},{"v":43769.8,"d":"43,770"}]
["2006-2010",{"$f":"AVERAGE(B30:B34)","v":{"v":2948,"d":"2,948"}},{"$f":"AVERAGE(C30:C34)","v":15},{"v":2954.2,"d":"2,954"},null,{"v":4342.8,"d":"4,343"},{"v":9740.2,"d":"9,740"},{"v":13918.8,"d":"13,919"},null,{"v":7751.8,"d":"7,752"},{"v":9756.8,"d":"9,757"},{"v":17508.6,"d":"17,509"}]
["2011-2015",{"$f":"AVERAGE(B35:B39)","v":{"v":3287.6,"d":"3,288"}},{"$f":"AVERAGE(C35:C39)","v":{"v":21.6,"d":"22"}},{"$f":"AVERAGE(D35:D39)","v":{"v":3309.2,"d":"3,309"}},null,{"$f":"AVERAGE(F35:F39)","v":{"v":6094,"d":"6,094"}},{"$f":"AVERAGE(G35:G39)","v":{"v":9111.2,"d":"9,111"}},{"$f":"AVERAGE(H35:H39)","v":{"v":15205.2,"d":"15,205"}},null,{"$f":"AVERAGE(J35:J39)","v":{"v":10430.2,"d":"10,430"}},{"$f":"AVERAGE(K35:K39)","v":{"v":9132.8,"d":"9,133"}},{"$f":"AVERAGE(L35:L39)","v":{"v":19563,"d":"19,563"}}]
[2016,{"$f":"B40","v":{"v":3931,"d":"3,931"}},16,{"v":3947,"d":"3,947"},null,{"$f":"F40","v":{"v":4103,"d":"4,103"}},{"v":8435,"d":"8,435"},{"v":12538,"d":"12,538"},null,{"$f":"J40","v":{"v":8672,"d":"8,672"}},{"v":8451,"d":"8,451"},{"v":17123,"d":"17,123"}]
[2017,{"v":4842,"d":"4,842"},9,{"v":4851,"d":"4,851"},null,{"v":5763,"d":"5,763"},{"v":5530,"d":"5,530"},{"v":11293,"d":"11,293"},null,{"v":11635,"d":"11,635"},{"v":5539,"d":"5,539"},{"v":17174,"d":"17,174"}]
["2018d/",{"v":3313,"d":"3,313"},1,{"v":3314,"d":"3,314"},null,{"v":2042,"d":"2,042"},{"v":5470,"d":"5,470"},{"v":7512,"d":"7,512"},null,{"v":5567,"d":"5,567"},{"v":5471,"d":"5,471"},{"v":11038,"d":"11,038"}]
["2019d/",{"v":1200,"d":"1,200"},11,{"v":1211,"d":"1,211"},null,{"v":3344,"d":"3,344"},{"v":4625,"d":"4,625"},{"v":7969,"d":"7,969"},null,{"v":5183,"d":"5,183"},{"v":4636,"d":"4,636"},{"v":9819,"d":"9,819"}]
["2020d/",{"v":3473,"d":"3,473"},3,{"v":3476,"d":"3,476"},null,{"v":8704,"d":"8,704"},{"v":8548,"d":"8,548"},{"v":17252,"d":"17,252"},null,{"v":12466,"d":"12,466"},{"v":8551,"d":"8,551"},{"v":21017,"d":"21,017"}]
["2021d/",572,109,681,null,{"v":13115,"d":"13,115"},{"v":20837,"d":"20,837"},{"v":33952,"d":"33,952"},null,{"v":15650,"d":"15,650"},{"v":21035,"d":"21,035"},{"v":36685,"d":"36,685"},null,{"$f":"O370","v":0}]
["2022d/",{"v":7181,"d":"7,181"},99,{"v":7280,"d":"7,280"},null,{"v":15190,"d":"15,190"},{"v":16977,"d":"16,977"},{"v":32167,"d":"32,167"},null,{"v":24190,"d":"24,190"},{"v":17105,"d":"17,105"},{"v":41295,"d":"41,295"}]
["2023d/",{"$f":"B47","v":{"v":1778,"d":"1,778"}},11,{"v":1789,"d":"1,789"},null,{"$f":"F47","v":{"v":8022,"d":"8,022"}},{"v":13887,"d":"13,887"},{"v":21909,"d":"21,909"},null,{"$f":"J47","v":{"v":10716,"d":"10,716"}},{"v":13898,"d":"13,898"},{"v":24614,"d":"24,614"}]
["2024d/","NA","NA","NA",null,"NA","NA","NA",null,"NA","NA","NA"]
["GOAL",{"$nulls":5},{"$f":"G49","v":"7,000-11,000"}]
[{"$f":"G51","v":"Nooksack-Samish"}]
["1981-1985",{"$f":"AVERAGE(B52:B56)","v":{"v":121447.6,"d":"121,448"}},{"$f":"AVERAGE(C52:C56)","v":{"v":17429.4,"d":"17,429"}},{"$f":"AVERAGE(D52:D56)","v":{"v":138877,"d":"138,877"}},null,{"$f":"AVERAGE(F52:F56)","v":{"v":24420,"d":"24,420"}},{"$f":"AVERAGE(G52:G56)","v":{"v":7200,"d":"7,200"}},{"$f":"AVERAGE(H52:H56)","v":{"v":31620,"d":"31,620"}},null,{"$f":"AVERAGE(J52:J56)","v":{"v":145867.6,"d":"145,868"}},{"$f":"AVERAGE(K52:K56)","v":{"v":24629.4,"d":"24,629"}},{"$f":"AVERAGE(L52:L56)","v":{"v":170497,"d":"170,497"}}]
["1986-1990",{"$f":"AVERAGE(B57:B61)","v":{"v":140733.4,"d":"140,733"}},{"$f":"AVERAGE(C57:C61)","v":{"v":21760.8,"d":"21,761"}},{"$f":"AVERAGE(D57:D61)","v":{"v":162494.2,"d":"162,494"}},null,{"$f":"AVERAGE(F57:F61)","v":{"v":21087.4,"d":"21,087"}},{"$f":"AVERAGE(G57:G61)","v":{"v":7420,"d":"7,420"}},{"$f":"AVERAGE(H57:H61)","v":{"v":28507.4,"d":"28,507"}},null,{"$f":"AVERAGE(J57:J61)","v":{"v":161820.8,"d":"161,821"}},{"$f":"AVERAGE(K57:K61)","v":{"v":29180.8,"d":"29,181"}},{"$f":"AVERAGE(L57:L61)","v":{"v":191001.6,"d":"191,002"}}]
["1991-1995",{"$f":"AVERAGE(B62:B66)","v":{"v":48056.2,"d":"48,056"}},{"$f":"AVERAGE(C62:C66)","v":{"v":13872.2,"d":"13,872"}},{"v":61928.4,"d":"61,928"},null,{"v":17793.2,"d":"17,793"},{"v":10320,"d":"10,320"},{"v":28113.2,"d":"28,113"},null,{"v":65849.4,"d":"65,849"},{"v":24192.2,"d":"24,192"},{"v":90041.6,"d":"90,042"}]
["1996-2000",{"$f":"AVERAGE(B67:B71)","v":{"v":36168.8,"d":"36,169"}},{"$f":"AVERAGE(C67:C71)","v":{"v":5272,"d":"5,272"}},{"v":41440.8,"d":"41,441"},null,{"v":36919.6,"d":"36,920"},{"v":7610.6,"d":"7,611"},{"v":44530.2,"d":"44,530"},null,{"v":75055.6,"d":"75,056"},{"v":13577,"d":"13,577"},{"v":88632.6,"d":"88,633"}]
["2001-2005",{"$f":"AVERAGE(B72:B76)","v":{"v":43483.2,"d":"43,483"}},{"$f":"AVERAGE(C72:C76)","v":{"v":15588.6,"d":"15,589"}},{"$f":"AVERAGE(D72:D76)","v":{"v":59071.8,"d":"59,072"}},null,{"v":35805.2,"d":"35,805"},{"v":15711.8,"d":"15,712"},{"v":51517,"d":"51,517"},null,{"v":80456.4,"d":"80,456"},{"v":32263.2,"d":"32,263"},{"v":112719.6,"d":"112,720"}]
["2006-2010",{"$f":"AVERAGE(B77:B81)","v":{"v":29808,"d":"29,808"}},{"$f":"AVERAGE(C77:C81)","v":{"v":12895.8,"d":"12,896"}},{"v":42708.2,"d":"42,708"},null,{"v":9468.6,"d":"9,469"},{"v":7896.2,"d":"7,896"},{"v":17364.8,"d":"17,365"},null,{"v":39656.8,"d":"39,657"},{"v":20943.4,"d":"20,943"},{"v":60600.2,"d":"60,600"}]
["2011-2015",{"$f":"AVERAGE(B82:B86)","v":{"v":30886.6,"d":"30,887"}},{"$f":"AVERAGE(C82:C86)","v":{"v":21522.4,"d":"21,522"}},{"$f":"AVERAGE(D82:D86)","v":{"v":52409,"d":"52,409"}},null,{"$f":"AVERAGE(F82:F86)","v":{"v":17974,"d":"17,974"}},{"$f":"AVERAGE(G82:G86)","v":{"v":7827.2,"d":"7,827"}},{"$f":"AVERAGE(H82:H86)","v":{"v":25801.2,"d":"25,801"}},null,{"$f":"AVERAGE(J82:J86)","v":{"v":50798,"d":"50,798"}},{"$f":"AVERAGE(K82:K86)","v":{"v":29718.8,"d":"29,719"}},{"$f":"AVERAGE(L82:L86)","v":{"v":80516.8,"d":"80,517"}}]
[2016,{"$f":"B87","v":{"v":37734,"d":"37,734"}},{"v":5301,"d":"5,301"},{"v":43035,"d":"43,035"},null,{"$f":"F87","v":{"v":11818,"d":"11,818"}},{"v":7212,"d":"7,212"},{"v":19030,"d":"19,030"},null,{"$f":"J87","v":{"v":50295,"d":"50,295"}},{"v":12513,"d":"12,513"},{"v":62808,"d":"62,808"}]
[2017,{"v":25772,"d":"25,772"},{"v":1814,"d":"1,814"},{"v":27586,"d":"27,586"},null,{"v":13309,"d":"13,309"},{"v":3257,"d":"3,257"},{"v":16566,"d":"16,566"},null,{"v":39894,"d":"39,894"},{"v":5071,"d":"5,071"},{"v":44965,"d":"44,965"}]
["2018d/",{"v":35030,"d":"35,030"},{"v":19267,"d":"19,267"},{"v":54297,"d":"54,297"},null,{"v":11826,"d":"11,826"},{"v":7622,"d":"7,622"},{"v":19448,"d":"19,448"},null,{"v":50809,"d":"50,809"},{"v":27880,"d":"27,880"},{"v":78689,"d":"78,689"}]
["2019d/",{"v":17417,"d":"17,417"},{"v":10174,"d":"10,174"},{"v":27591,"d":"27,591"},null,{"v":16570,"d":"16,570"},{"v":16162,"d":"16,162"},{"v":32732,"d":"32,732"},null,{"v":35475,"d":"35,475"},{"v":27453,"d":"27,453"},{"v":62928,"d":"62,928"}]
["2020d/",{"v":22982,"d":"22,982"},{"v":12153,"d":"12,153"},{"v":35135,"d":"35,135"},null,{"v":7064,"d":"7,064"},{"v":6490,"d":"6,490"},{"v":13554,"d":"13,554"},null,{"v":31028,"d":"31,028"},{"v":19114,"d":"19,114"},{"v":50142,"d":"50,142"}]
["2021d/",{"v":40958,"d":"40,958"},{"v":11689,"d":"11,689"},{"v":52647,"d":"52,647"},null,{"v":12527,"d":"12,527"},{"v":11672,"d":"11,672"},{"v":24199,"d":"24,199"},null,{"v":54708,"d":"54,708"},{"v":23853,"d":"23,853"},{"v":78561,"d":"78,561"}]
["2022d/",{"v":40618,"d":"40,618"},{"v":5511,"d":"5,511"},{"v":46129,"d":"46,129"},null,{"v":26945,"d":"26,945"},{"v":7277,"d":"7,277"},{"v":34222,"d":"34,222"},null,{"v":70810,"d":"70,810"},{"v":13485,"d":"13,485"},{"v":84295,"d":"84,295"}]
["2023d/",{"$f":"B94","v":{"v":18335,"d":"18,335"}},{"v":1107,"d":"1,107"},{"v":19442,"d":"19,442"},null,{"$f":"F94","v":{"v":18466,"d":"18,466"}},{"v":2631,"d":"2,631"},{"v":21097,"d":"21,097"},null,{"$f":"J94","v":{"v":40291,"d":"40,291"}},{"v":4119,"d":"4,119"},{"v":44410,"d":"44,410"}]
["2024d/","NA","NA","NA",null,"NA","NA","NA",null,"NA","NA","NA"]
["GOAL",{"$nulls":4},{"$f":"F96","v":{"v":17900,"d":"17,900"}}]
[]
[]
["TABLE B-42.  Puget Sound commercial net fishery catches and spawning escapements in numbers of fish for hatchery and natural Puget Sound coho stocks.a/ (Page 2 of 4)"]
["Year or Average","Commercial Net Catchesc/",{"$nulls":3},"Spawning Escapement",{"$nulls":3},"Terminal Run Sizec/"]
[null,"Hatcheryb/","Natural","Total",null,"Hatcheryb/","Natural","Total",null,"Hatcheryb/","Natural","Total"]
[{"$f":"A98","v":"Skagit"}]
["1981-1985",{"$f":"AVERAGE(B99:B103)","v":{"v":6619.2,"d":"6,619"}},{"$f":"AVERAGE(C99:C103)","v":{"v":8858.2,"d":"8,858"}},{"$f":"AVERAGE(D99:D103)","v":{"v":15477.4,"d":"15,477"}},null,{"$f":"AVERAGE(F99:F103)","v":{"v":21740,"d":"21,740"}},{"$f":"AVERAGE(G99:G103)","v":{"v":19800,"d":"19,800"}},{"$f":"AVERAGE(H99:H103)","v":{"v":41540,"d":"41,540"}},null,{"$f":"AVERAGE(J99:J103)","v":{"v":28359.2,"d":"28,359"}},{"$f":"AVERAGE(K99:K103)","v":{"v":28658.2,"d":"28,658"}},{"$f":"AVERAGE(L99:L103)","v":{"v":57017.4,"d":"57,017"}}]
["1986-1990",{"$f":"AVERAGE(B104:B108)","v":{"v":5309.4,"d":"5,309"}},{"$f":"AVERAGE(C104:C108)","v":{"v":11448,"d":"11,448"}},{"$f":"AVERAGE(D104:D108)","v":{"v":16757.4,"d":"16,757"}},null,{"$f":"AVERAGE(F104:F108)","v":{"v":13861,"d":"13,861"}},{"$f":"AVERAGE(G104:G108)","v":{"v":25800,"d":"25,800"}},{"$f":"AVERAGE(H104:H108)","v":{"v":39661,"d":"39,661"}},null,{"$f":"AVERAGE(J104:J108)","v":{"v":19170.4,"d":"19,170"}},{"$f":"AVERAGE(K104:K108)","v":{"v":37248,"d":"37,248"}},{"$f":"AVERAGE(L104:L108)","v":{"v":56418.4,"d":"56,418"}}]
["1991-1995",{"$f":"AVERAGE(B109:B113)","v":{"v":1338,"d":"1,338"}},{"$f":"AVERAGE(C109:C113)","v":{"v":1739.2,"d":"1,739"}},{"v":3077.2,"d":"3,077"},null,{"v":11082,"d":"11,082"},{"v":14240,"d":"14,240"},{"v":25322,"d":"25,322"},null,{"v":12420,"d":"12,420"},{"v":15979.2,"d":"15,979"},{"v":28399.2,"d":"28,399"}]
["1996-2000",{"$f":"AVERAGE(B114:B118)","v":738},{"$f":"AVERAGE(C114:C118)","v":{"v":5908.6,"d":"5,909"}},{"v":6646.6,"d":"6,647"},null,{"v":10166.2,"d":"10,166"},{"v":42139.4,"d":"42,139"},{"v":52305.6,"d":"52,306"},null,{"v":11251,"d":"11,251"},{"v":50571,"d":"50,571"},{"v":61822,"d":"61,822"}]
["2001-2005",{"$f":"AVERAGE(B119:B123)","v":{"v":3859.6,"d":"3,860"}},{"$f":"AVERAGE(C119:C123)","v":{"v":18569,"d":"18,569"}},{"v":22428.6,"d":"22,429"},null,{"v":13512.2,"d":"13,512"},{"v":77441.2,"d":"77,441"},{"v":90953.4,"d":"90,953"},null,{"v":18326,"d":"18,326"},{"v":101704.8,"d":"101,705"},{"v":120030.8,"d":"120,031"}]
["2006-2010",{"$f":"AVERAGE(B124:B128)","v":{"v":1584,"d":"1,584"}},{"$f":"AVERAGE(C124:C128)","v":{"v":11578.6,"d":"11,579"}},{"v":13162.6,"d":"13,163"},null,{"v":7605.8,"d":"7,606"},{"v":38858.2,"d":"38,858"},{"v":46464,"d":"46,464"},null,{"v":9683.8,"d":"9,684"},{"v":53152.4,"d":"53,152"},{"v":62836.2,"d":"62,836"}]
["2011-2015",{"$f":"AVERAGE(B129:B133)","v":{"v":2885.2,"d":"2,885"}},{"$f":"AVERAGE(C129:C133)","v":{"v":14117.4,"d":"14,117"}},{"$f":"AVERAGE(D129:D133)","v":{"v":17002.6,"d":"17,003"}},null,{"$f":"AVERAGE(F129:F133)","v":{"v":9133.4,"d":"9,133"}},{"$f":"AVERAGE(G129:G133)","v":{"v":50593.6,"d":"50,594"}},{"$f":"AVERAGE(H129:H133)","v":{"v":59727,"d":"59,727"}},null,{"$f":"AVERAGE(J129:J133)","v":{"v":13391.8,"d":"13,392"}},{"$f":"AVERAGE(K129:K133)","v":{"v":72296,"d":"72,296"}},{"$f":"AVERAGE(L129:L133)","v":{"v":85687.8,"d":"85,688"}}]
[2016,{"$f":"B134","v":908},{"v":4660,"d":"4,660"},{"$f":"D134","v":{"v":5568,"d":"5,568"}},null,{"$f":"F134","v":{"v":11394,"d":"11,394"}},{"$f":"G134","v":{"v":35822,"d":"35,822"}},{"$f":"H134","v":{"v":47216,"d":"47,216"}},null,{"$f":"J134","v":{"v":13134,"d":"13,134"}},{"$f":"K134","v":{"v":43097,"d":"43,097"}},{"$f":"L134","v":{"v":56231,"d":"56,231"}}]
[2017,{"$f":"B135","v":263},780,{"v":1043,"d":"1,043"},null,{"$f":"F135","v":{"v":6831,"d":"6,831"}},{"v":20184,"d":"20,184"},{"v":27015,"d":"27,015"},null,{"$f":"J135","v":{"v":7094,"d":"7,094"}},{"v":20964,"d":"20,964"},{"v":28058,"d":"28,058"}]
["2018d/",{"$f":"B136","v":{"v":3002,"d":"3,002"}},{"v":10258,"d":"10,258"},{"v":13260,"d":"13,260"},null,{"$f":"F136","v":{"v":9960,"d":"9,960"}},{"v":19047,"d":"19,047"},{"v":29007,"d":"29,007"},null,{"$f":"J136","v":{"v":14489,"d":"14,489"}},{"v":32866,"d":"32,866"},{"v":47355,"d":"47,355"}]
["2019d/",{"$f":"B137","v":{"v":1898,"d":"1,898"}},{"v":2646,"d":"2,646"},{"v":4544,"d":"4,544"},null,{"$f":"F137","v":{"v":10228,"d":"10,228"}},{"v":14246,"d":"14,246"},{"v":24474,"d":"24,474"},null,{"$f":"J137","v":{"v":15862,"d":"15,862"}},{"v":22103,"d":"22,103"},{"v":37965,"d":"37,965"}]
["2020d/",{"v":3048,"d":"3,048"},{"v":11417,"d":"11,417"},{"v":14465,"d":"14,465"},null,{"v":24135,"d":"24,135"},{"v":23808,"d":"23,808"},{"v":47943,"d":"47,943"},null,{"v":31912,"d":"31,912"},{"v":39890,"d":"39,890"},{"v":71802,"d":"71,802"}]
["2021d/",{"v":6597,"d":"6,597"},{"v":18577,"d":"18,577"},{"v":25174,"d":"25,174"},null,{"v":27095,"d":"27,095"},{"v":75532,"d":"75,532"},{"v":102627,"d":"102,627"},null,{"v":36902,"d":"36,902"},{"v":103056,"d":"103,056"},{"v":139958,"d":"139,958"},null,{"$f":"GEOMEAN(G420:G422)","v":{"v":54957.62334724186,"d":"54,958"}}]
["2022d/",{"v":4895,"d":"4,895"},{"v":12764,"d":"12,764"},{"v":17659,"d":"17,659"},null,{"v":24938,"d":"24,938"},{"v":92306,"d":"92,306"},{"v":117244,"d":"117,244"},null,{"v":31863,"d":"31,863"},{"v":112582,"d":"112,582"},{"v":144445,"d":"144,445"}]
["2023d/",{"$f":"B141","v":{"v":1392,"d":"1,392"}},{"v":6108,"d":"6,108"},{"v":7500,"d":"7,500"},null,{"$f":"F141","v":{"v":28563,"d":"28,563"}},{"v":54443,"d":"54,443"},{"v":83006,"d":"83,006"},null,{"$f":"J141","v":{"v":32718,"d":"32,718"}},{"v":65820,"d":"65,820"},{"v":98538,"d":"98,538"}]
["2024d/","NA","NA","NA",null,"NA","NA","NA",null,"NA","NA","NA"]
["GOAL",{"$nulls":5},{"$f":"G143","v":"14,875-25,000"}]
["Hood Canale/"]
["1981-1985",{"$f":"AVERAGE(B146:B150)","v":{"v":39339.6,"d":"39,340"}},{"$f":"AVERAGE(C146:C150)","v":{"v":18310.2,"d":"18,310"}},{"$f":"AVERAGE(D146:D150)","v":{"v":57649.8,"d":"57,650"}},null,{"$f":"AVERAGE(F146:F150)","v":{"v":20329,"d":"20,329"}},{"$f":"AVERAGE(G146:G150)","v":{"v":22280,"d":"22,280"}},{"$f":"AVERAGE(H146:H150)","v":{"v":42609,"d":"42,609"}},null,{"$f":"AVERAGE(J146:J150)","v":{"v":59668.6,"d":"59,669"}},{"$f":"AVERAGE(K146:K150)","v":{"v":40590.2,"d":"40,590"}},{"$f":"AVERAGE(L146:L150)","v":{"v":100258.8,"d":"100,259"}}]
["1986-1990",{"$f":"AVERAGE(B151:B155)","v":{"v":45708.2,"d":"45,708"}},{"$f":"AVERAGE(C151:C155)","v":{"v":18991,"d":"18,991"}},{"$f":"AVERAGE(D151:D155)","v":{"v":64699.2,"d":"64,699"}},null,{"$f":"AVERAGE(F151:F155)","v":{"v":15099.2,"d":"15,099"}},{"$f":"AVERAGE(G151:G155)","v":{"v":17940,"d":"17,940"}},{"$f":"AVERAGE(H151:H155)","v":{"v":33039.2,"d":"33,039"}},null,{"$f":"AVERAGE(J151:J155)","v":{"v":60807.4,"d":"60,807"}},{"$f":"AVERAGE(K151:K155)","v":{"v":36931,"d":"36,931"}},{"$f":"AVERAGE(L151:L155)","v":{"v":97738.4,"d":"97,738"}}]
["1991-1995",{"$f":"AVERAGE(B156:B160)","v":{"v":13552.8,"d":"13,553"}},{"$f":"AVERAGE(C156:C160)","v":{"v":454.4,"d":"454"}},{"v":14007.2,"d":"14,007"},null,{"v":15032,"d":"15,032"},{"v":29808,"d":"29,808"},{"v":44840,"d":"44,840"},null,{"v":28584.8,"d":"28,585"},{"v":30262.4,"d":"30,262"},{"v":58847.2,"d":"58,847"}]
["1996-2000",{"$f":"AVERAGE(B161:B165)","v":{"v":5972.6,"d":"5,973"}},{"$f":"AVERAGE(C161:C165)","v":{"v":6837.2,"d":"6,837"}},{"v":12809.8,"d":"12,810"},null,{"v":23077.2,"d":"23,077"},{"v":55401,"d":"55,401"},{"v":78478.2,"d":"78,478"},null,{"v":30123.8,"d":"30,124"},{"v":62953,"d":"62,953"},{"v":93076.8,"d":"93,077"}]
["2001-2005",{"$f":"AVERAGE(B166:B170)","v":{"v":21041.8,"d":"21,042"}},{"$f":"AVERAGE(C166:C170)","v":{"v":22248.8,"d":"22,249"}},{"v":43290.6,"d":"43,291"},null,{"v":35237.2,"d":"35,237"},{"v":103851.4,"d":"103,851"},{"v":139088.6,"d":"139,089"},null,{"v":66893.2,"d":"66,893"},{"v":130781,"d":"130,781"},{"v":197674.2,"d":"197,674"}]
["2006-2010",{"$f":"AVERAGE(B171:B175)","v":{"v":37548.4,"d":"37,548"}},{"$f":"AVERAGE(C171:C175)","v":{"v":11478,"d":"11,478"}},{"v":49026.4,"d":"49,026"},null,{"v":10634.4,"d":"10,634"},{"v":20458,"d":"20,458"},{"v":31092.4,"d":"31,092"},null,{"v":51465,"d":"51,465"},{"v":33757,"d":"33,757"},{"v":85222,"d":"85,222"}]
["2011-2015",{"$f":"AVERAGE(B176:B180)","v":{"v":34107.8,"d":"34,108"}},{"$f":"AVERAGE(C176:C180)","v":{"v":14089.2,"d":"14,089"}},{"$f":"AVERAGE(D176:D180)","v":{"v":48197,"d":"48,197"}},null,{"$f":"AVERAGE(F176:F180)","v":{"v":14480,"d":"14,480"}},{"$f":"AVERAGE(G176:G180)","v":{"v":28017.4,"d":"28,017"}},{"$f":"AVERAGE(H176:H180)","v":{"v":42497.4,"d":"42,497"}},null,{"$f":"AVERAGE(J176:J180)","v":{"v":53814,"d":"53,814"}},{"$f":"AVERAGE(K176:K180)","v":{"v":43993.4,"d":"43,993"}},{"$f":"AVERAGE(L176:L180)","v":{"v":97807.4,"d":"97,807"}}]
[2016,{"$f":"B181","v":{"v":45692,"d":"45,692"}},{"v":6079,"d":"6,079"},{"v":51771,"d":"51,771"},null,{"$f":"F181","v":{"v":17301,"d":"17,301"}},{"v":24313,"d":"24,313"},{"v":41614,"d":"41,614"},null,{"$f":"J181","v":{"v":68537,"d":"68,537"}},{"v":31729,"d":"31,729"},{"v":100266,"d":"100,266"}]
[2017,{"v":35070,"d":"35,070"},{"v":5276,"d":"5,276"},{"v":40346,"d":"40,346"},null,{"v":15396,"d":"15,396"},{"v":23871,"d":"23,871"},{"v":39267,"d":"39,267"},null,{"v":54251,"d":"54,251"},{"v":30280,"d":"30,280"},{"v":84531,"d":"84,531"}]
["2018d/",{"v":30208,"d":"30,208"},{"v":4428,"d":"4,428"},{"v":34636,"d":"34,636"},null,{"v":8596,"d":"8,596"},{"v":7512,"d":"7,512"},{"v":16108,"d":"16,108"},null,{"v":41851,"d":"41,851"},{"v":12086,"d":"12,086"},{"v":53937,"d":"53,937"}]
["2019d/",{"v":6029,"d":"6,029"},{"v":2100,"d":"2,100"},{"v":8129,"d":"8,129"},null,{"v":12939,"d":"12,939"},{"v":7884,"d":"7,884"},{"v":20823,"d":"20,823"},null,{"v":21387,"d":"21,387"},{"v":10428,"d":"10,428"},{"v":31815,"d":"31,815"}]
["2020d/",{"v":19206,"d":"19,206"},{"v":1702,"d":"1,702"},{"v":20908,"d":"20,908"},null,{"v":20488,"d":"20,488"},{"v":16832,"d":"16,832"},{"v":37320,"d":"37,320"},null,{"v":45079,"d":"45,079"},{"v":19651,"d":"19,651"},{"v":64730,"d":"64,730"}]
["2021d/",{"v":15600,"d":"15,600"},{"v":3230,"d":"3,230"},{"v":18830,"d":"18,830"},null,{"v":34524,"d":"34,524"},{"v":34388,"d":"34,388"},{"v":68912,"d":"68,912"},null,{"v":59132,"d":"59,132"},{"v":39266,"d":"39,266"},{"v":98398,"d":"98,398"},null,{"$f":"GEOMEAN(G438:G440)","v":{"v":17457.587149220148,"d":"17,458"}}]
["2022d/",{"v":30294,"d":"30,294"},{"v":4590,"d":"4,590"},{"v":34884,"d":"34,884"},null,{"v":19898,"d":"19,898"},{"v":9192,"d":"9,192"},{"v":29090,"d":"29,090"},null,{"v":55731,"d":"55,731"},{"v":14866,"d":"14,866"},{"v":70597,"d":"70,597"}]
["2023d/",{"$f":"B188","v":{"v":25004,"d":"25,004"}},{"v":2431,"d":"2,431"},{"v":27435,"d":"27,435"},null,{"$f":"F188","v":{"v":18615,"d":"18,615"}},{"v":32934,"d":"32,934"},{"v":51549,"d":"51,549"},null,{"$f":"J188","v":{"v":49373,"d":"49,373"}},{"v":37721,"d":"37,721"},{"v":87094,"d":"87,094"}]
["2024d/","NA","NA","NA",null,"NA","NA","NA",null,"NA","NA","NA"]
["GOAL",{"$nulls":5},{"$f":"G190","v":"10,750-14,350"}]
[]
[]
["TABLE B-42.  Puget Sound commercial net fishery catches and spawning escapements in numbers of fish for hatchery and natural Puget Sound coho stocks.a/ (Page 3 of 4)"]
["Year or Average","Commercial Net Catchesc/",{"$nulls":3},"Spawning Escapement",{"$nulls":3},"Terminal Run Sizec/"]
[null,"Hatcheryb/","Natural","Total",null,"Hatcheryb/","Natural","Total",null,"Hatcheryb/","Natural","Total"]
[{"$f":"A192","v":"Stillaguamish"}]
["1981-1985",{"$f":"AVERAGE(B193:B197)","v":{"v":1922.8,"d":"1,923"}},{"$f":"AVERAGE(C193:C197)","v":{"v":11014.2,"d":"11,014"}},{"$f":"AVERAGE(D193:D197)","v":{"v":12937,"d":"12,937"}},null,{"$f":"AVERAGE(F193:F197)","v":{"v":1080,"d":"1,080"}},{"$f":"AVERAGE(G193:G197)","v":{"v":13200,"d":"13,200"}},{"$f":"AVERAGE(H193:H197)","v":{"v":14280,"d":"14,280"}},null,{"$f":"AVERAGE(J193:J197)","v":{"v":3002.8,"d":"3,003"}},{"$f":"AVERAGE(K193:K197)","v":{"v":24214.2,"d":"24,214"}},{"$f":"AVERAGE(L193:L197)","v":{"v":27217,"d":"27,217"}}]
["1986-1990",{"$f":"AVERAGE(B198:B202)","v":0},{"$f":"AVERAGE(C198:C202)","v":{"v":18931.4,"d":"18,931"}},{"$f":"AVERAGE(D198:D202)","v":{"v":18931.4,"d":"18,931"}},null,{"$f":"AVERAGE(F198:F202)","v":0},{"$f":"AVERAGE(G198:G202)","v":{"v":15600,"d":"15,600"}},{"$f":"AVERAGE(H198:H202)","v":{"v":15600,"d":"15,600"}},null,{"$f":"AVERAGE(J198:J202)","v":0},{"$f":"AVERAGE(K198:K202)","v":{"v":34531.4,"d":"34,531"}},{"$f":"AVERAGE(L198:L202)","v":{"v":34531.4,"d":"34,531"}}]
["1991-1995",{"$f":"AVERAGE(B203:B207)","v":{"v":27.8,"d":"28"}},{"$f":"AVERAGE(C203:C207)","v":{"v":3012.2,"d":"3,012"}},{"v":3040,"d":"3,040"},null,{"v":107.8,"d":"108"},{"v":13720,"d":"13,720"},{"v":13827.8,"d":"13,828"},null,{"v":135.6,"d":"136"},{"v":16732.2,"d":"16,732"},{"v":16867.8,"d":"16,868"}]
["1996-2000",{"$f":"AVERAGE(B208:B212)","v":{"v":4.4,"d":"4"}},{"$f":"AVERAGE(C208:C212)","v":{"v":1209.6,"d":"1,210"}},{"v":1214,"d":"1,214"},null,{"v":34.4,"d":"34"},{"v":16536.8,"d":"16,537"},{"v":16571.2,"d":"16,571"},null,{"v":45.2,"d":"45"},{"v":18790.2,"d":"18,790"},{"v":18835.4,"d":"18,835"}]
["2001-2005",{"$f":"AVERAGE(B213:B217)","v":10},{"$f":"AVERAGE(C213:C217)","v":{"v":3996,"d":"3,996"}},{"v":4006,"d":"4,006"},null,{"v":71.2,"d":"71"},{"v":47627.6,"d":"47,628"},{"v":47698.8,"d":"47,699"},null,{"v":84.8,"d":"85"},{"v":53446,"d":"53,446"},{"v":53530.8,"d":"53,531"}]
["2006-2010",{"$f":"AVERAGE(B218:B222)","v":{"v":7.6,"d":"8"}},{"$f":"AVERAGE(C218:C222)","v":{"v":2357.6,"d":"2,358"}},{"v":2365.2,"d":"2,365"},null,{"v":61.2,"d":"61"},{"v":19514,"d":"19,514"},{"v":19575.2,"d":"19,575"},null,{"v":74.4,"d":"74"},{"v":23085.8,"d":"23,086"},{"v":23160.2,"d":"23,160"}]
["2011-2015",{"$f":"AVERAGE(B223:B227)","v":{"v":39.4,"d":"39"}},{"$f":"AVERAGE(C223:C227)","v":{"v":4655.4,"d":"4,655"}},{"$f":"AVERAGE(D223:D227)","v":{"v":4694.8,"d":"4,695"}},null,{"$f":"AVERAGE(F223:F227)","v":{"v":87.2,"d":"87"}},{"$f":"AVERAGE(G223:G227)","v":{"v":38855.4,"d":"38,855"}},{"$f":"AVERAGE(H223:H227)","v":{"v":38942.6,"d":"38,943"}},null,{"$f":"AVERAGE(J223:J227)","v":159},{"$f":"AVERAGE(K223:K227)","v":{"v":46766.2,"d":"46,766"}},{"$f":"AVERAGE(L223:L227)","v":{"v":46925.2,"d":"46,925"}}]
[2016,{"$f":"B228","v":0},{"v":2152,"d":"2,152"},{"v":2152,"d":"2,152"},null,{"$f":"F228","v":0},{"v":13048,"d":"13,048"},{"v":13048,"d":"13,048"},null,{"$f":"J228","v":0},{"v":15206,"d":"15,206"},{"v":15206,"d":"15,206"}]
[2017,1,795,796,null,11,{"v":6099,"d":"6,099"},{"v":6110,"d":"6,110"},null,12,{"v":6894,"d":"6,894"},{"v":6906,"d":"6,906"}]
["2018d/",0,{"v":2906,"d":"2,906"},{"v":2906,"d":"2,906"},null,0,{"v":23937,"d":"23,937"},{"v":23937,"d":"23,937"},null,0,{"v":28970,"d":"28,970"},{"v":28970,"d":"28,970"}]
["2019d/",0,514,514,null,0,{"v":12887,"d":"12,887"},{"v":12887,"d":"12,887"},null,0,{"v":14333,"d":"14,333"},{"v":14333,"d":"14,333"}]
["2020d/",0,{"v":1204,"d":"1,204"},{"v":1204,"d":"1,204"},null,0,{"v":21555,"d":"21,555"},{"v":21555,"d":"21,555"},null,0,{"v":23232,"d":"23,232"},{"v":23232,"d":"23,232"}]
["2021d/",0,{"v":2651,"d":"2,651"},{"v":2651,"d":"2,651"},null,0,{"v":38176,"d":"38,176"},{"v":38176,"d":"38,176"},null,0,{"v":40855,"d":"40,855"},{"v":40855,"d":"40,855"},null,{"$f":"GEOMEAN(G461:G463)","v":{"v":35381.98800850716,"d":"35,382"}}]
["2022d/",0,{"v":2358,"d":"2,358"},{"v":2358,"d":"2,358"},null,0,{"v":53828,"d":"53,828"},{"v":53828,"d":"53,828"},null,0,{"v":56612,"d":"56,612"},{"v":56612,"d":"56,612"}]
["2023d/",{"$f":"B235","v":0},{"v":4933,"d":"4,933"},{"v":4933,"d":"4,933"},null,{"$f":"F235","v":0},{"v":37962,"d":"37,962"},{"v":37962,"d":"37,962"},null,{"$f":"J235","v":0},{"v":44042,"d":"44,042"},{"v":44042,"d":"44,042"}]
["2024d/","NA","NA","NA",null,"NA","NA","NA",null,"NA","NA","NA"]
[{"$f":"A237","v":" GOAL"},{"$nulls":5},{"$f":"G237","v":"6,100-10,000"}]
[{"$f":"A239","v":"Snohomish"}]
["1981-1985",{"$f":"AVERAGE(B240:B244)","v":{"v":18049.8,"d":"18,050"}},{"$f":"AVERAGE(C240:C244)","v":{"v":36537.6,"d":"36,538"}},{"v":54587.4,"d":"54,587"},null,{"v":11860,"d":"11,860"},{"v":74800,"d":"74,800"},{"v":86660,"d":"86,660"},null,{"v":29909.8,"d":"29,910"},{"v":111337.6,"d":"111,338"},{"v":141247.4,"d":"141,247"}]
["1986-1990",{"$f":"AVERAGE(B245:B249)","v":{"v":58543.2,"d":"58,543"}},{"$f":"AVERAGE(C245:C249)","v":{"v":67956,"d":"67,956"}},{"v":126499.2,"d":"126,499"},null,{"v":26134.2,"d":"26,134"},{"v":94800,"d":"94,800"},{"v":120934.2,"d":"120,934"},null,{"v":84677.4,"d":"84,677"},{"v":162756,"d":"162,756"},{"v":247433.4,"d":"247,433"}]
["1991-1995",{"$f":"AVERAGE(B250:B254)","v":{"v":40677.4,"d":"40,677"}},{"$f":"AVERAGE(C250:C254)","v":{"v":18362.6,"d":"18,363"}},{"v":59040,"d":"59,040"},null,{"v":23462,"d":"23,462"},{"v":84000,"d":"84,000"},{"v":107462,"d":"107,462"},null,{"v":64139.4,"d":"64,139"},{"v":102362.6,"d":"102,363"},{"v":166502,"d":"166,502"}]
["1996-2000",{"$f":"AVERAGE(B255:B259)","v":{"v":31614.2,"d":"31,614"}},{"$f":"AVERAGE(C255:C259)","v":{"v":4869,"d":"4,869"}},{"v":36483.2,"d":"36,483"},null,{"v":21260.2,"d":"21,260"},{"v":82711,"d":"82,711"},{"v":103971.2,"d":"103,971"},null,{"v":55016.4,"d":"55,016"},{"v":95218,"d":"95,218"},{"v":150234.4,"d":"150,234"}]
["2001-2005",{"$f":"AVERAGE(B260:B264)","v":{"v":34568.2,"d":"34,568"}},{"$f":"AVERAGE(C260:C264)","v":{"v":16999.4,"d":"16,999"}},{"v":51567.6,"d":"51,568"},null,{"v":18279,"d":"18,279"},{"v":193475.6,"d":"193,476"},{"v":211754.6,"d":"211,755"},null,{"v":55067.8,"d":"55,068"},{"v":221664.2,"d":"221,664"},{"v":276732,"d":"276,732"}]
["2006-2010",{"$f":"AVERAGE(B265:B269)","v":{"v":14037,"d":"14,037"}},{"$f":"AVERAGE(C265:C269)","v":{"v":10460.6,"d":"10,461"}},{"v":24497.6,"d":"24,498"},null,{"v":6473,"d":"6,473"},{"v":75521,"d":"75,521"},{"v":81994,"d":"81,994"},null,{"v":21030.4,"d":"21,030"},{"v":90669.8,"d":"90,670"},{"v":111700.2,"d":"111,700"}]
["2011-2015",{"$f":"AVERAGE(B270:B274)","v":{"v":24033.6,"d":"24,034"}},{"$f":"AVERAGE(C270:C274)","v":{"v":8456.4,"d":"8,456"}},{"$f":"AVERAGE(D270:D274)","v":{"v":32490,"d":"32,490"}},null,{"$f":"AVERAGE(F270:F274)","v":{"v":9918.4,"d":"9,918"}},{"$f":"AVERAGE(G270:G274)","v":{"v":85385.8,"d":"85,386"}},{"$f":"AVERAGE(H270:H274)","v":{"v":95304.2,"d":"95,304"}},null,{"$f":"AVERAGE(J270:J274)","v":{"v":35241.6,"d":"35,242"}},{"$f":"AVERAGE(K270:K274)","v":{"v":105791,"d":"105,791"}},{"$f":"AVERAGE(L270:L274)","v":{"v":141032.6,"d":"141,033"}}]
[2016,{"$f":"B275","v":{"v":66452,"d":"66,452"}},{"v":7478,"d":"7,478"},{"v":73930,"d":"73,930"},null,{"$f":"F275","v":{"v":9201,"d":"9,201"}},{"v":44141,"d":"44,141"},{"v":53342,"d":"53,342"},null,{"$f":"J275","v":{"v":75658,"d":"75,658"}},{"v":52834,"d":"52,834"},{"v":128492,"d":"128,492"}]
[2017,{"v":42154,"d":"42,154"},{"v":2597,"d":"2,597"},{"v":44751,"d":"44,751"},null,{"v":6371,"d":"6,371"},{"v":18195,"d":"18,195"},{"v":24566,"d":"24,566"},null,{"v":49163,"d":"49,163"},{"v":22922,"d":"22,922"},{"v":72085,"d":"72,085"}]
["2018d/",{"v":16225,"d":"16,225"},{"v":6859,"d":"6,859"},{"v":23084,"d":"23,084"},null,{"v":5528,"d":"5,528"},{"v":58135,"d":"58,135"},{"v":63663,"d":"63,663"},null,{"v":23388,"d":"23,388"},{"v":71121,"d":"71,121"},{"v":94509,"d":"94,509"}]
["2019d/",{"v":3452,"d":"3,452"},{"v":1252,"d":"1,252"},{"v":4704,"d":"4,704"},null,{"v":5524,"d":"5,524"},{"v":40314,"d":"40,314"},{"v":45838,"d":"45,838"},null,{"v":9558,"d":"9,558"},{"v":43036,"d":"43,036"},{"v":52594,"d":"52,594"}]
["2020d/",{"v":14060,"d":"14,060"},{"v":1946,"d":"1,946"},{"v":16006,"d":"16,006"},null,{"v":9929,"d":"9,929"},{"v":42675,"d":"42,675"},{"v":52604,"d":"52,604"},null,{"v":24461,"d":"24,461"},{"v":44621,"d":"44,621"},{"v":69082,"d":"69,082"}]
["2021d/",{"v":75039,"d":"75,039"},{"v":6325,"d":"6,325"},{"v":81364,"d":"81,364"},null,{"v":10691,"d":"10,691"},{"v":97523,"d":"97,523"},{"v":108214,"d":"108,214"},null,{"v":91685,"d":"91,685"},{"v":103848,"d":"103,848"},{"v":195533,"d":"195,533"},null,{"$f":"GEOMEAN(G479:G481)","v":{"v":70915.35595675115,"d":"70,915"}}]
["2022d/",809,{"v":2590,"d":"2,590"},{"v":3399,"d":"3,399"},null,{"v":14150,"d":"14,150"},{"v":85692,"d":"85,692"},{"v":99842,"d":"99,842"},null,{"v":17389,"d":"17,389"},{"v":88282,"d":"88,282"},{"v":105671,"d":"105,671"}]
["2023d/",{"$f":"B282","v":{"v":40182,"d":"40,182"}},{"v":7947,"d":"7,947"},{"v":48129,"d":"48,129"},null,{"$f":"F282","v":{"v":13972,"d":"13,972"}},{"v":63042,"d":"63,042"},{"v":77014,"d":"77,014"},null,{"$f":"J282","v":{"v":56089,"d":"56,089"}},{"v":75773,"d":"75,773"},{"v":131862,"d":"131,862"}]
["2024d/","NA","NA","NA",null,"NA","NA","NA",null,"NA","NA","NA"]
[{"$f":"A284","v":" GOAL"},{"$nulls":5},"31,000-50,000"]
[]
[]
["TABLE B-42.  Puget Sound commercial net fishery catches and spawning escapements in numbers of fish for hatchery and natural Puget Sound coho stocks.a/ (Page 4 of 4)"]
["Year or Average","Commercial Net Catchesc/",{"$nulls":3},"Spawning Escapement",{"$nulls":3},"Terminal Run Sizec/"]
[null,"Hatcheryb/","Natural","Total",null,"Hatcheryb/","Natural","Total",null,"Hatcheryb/","Natural","Total"]
[{"$f":"A286","v":"South Puget Sound"}]
["1981-1985",{"$f":"AVERAGE(B287:B291)","v":{"v":328516.2,"d":"328,516"}},{"$f":"AVERAGE(C287:C291)","v":{"v":141228.8,"d":"141,229"}},{"$f":"AVERAGE(D287:D291)","v":{"v":469745,"d":"469,745"}},null,{"$f":"AVERAGE(F287:F291)","v":{"v":76560,"d":"76,560"}},{"$f":"AVERAGE(G287:G291)","v":{"v":38509.6,"d":"38,510"}},{"$f":"AVERAGE(H287:H291)","v":{"v":115069.6,"d":"115,070"}},null,{"$f":"AVERAGE(J287:J291)","v":{"v":405076.2,"d":"405,076"}},{"$f":"AVERAGE(K287:K291)","v":{"v":179738.4,"d":"179,738"}},{"$f":"AVERAGE(L287:L291)","v":{"v":584814.6,"d":"584,815"}}]
["1986-1990",{"$f":"AVERAGE(B292:B296)","v":{"v":509524.6,"d":"509,525"}},{"$f":"AVERAGE(C292:C296)","v":{"v":211476.2,"d":"211,476"}},{"$f":"AVERAGE(D292:D296)","v":{"v":721000.8,"d":"721,001"}},null,{"$f":"AVERAGE(F292:F296)","v":{"v":69198,"d":"69,198"}},{"$f":"AVERAGE(G292:G296)","v":{"v":28882,"d":"28,882"}},{"$f":"AVERAGE(H292:H296)","v":{"v":98080,"d":"98,080"}},null,{"$f":"AVERAGE(J292:J296)","v":{"v":578722.6,"d":"578,723"}},{"$f":"AVERAGE(K292:K296)","v":{"v":240358.2,"d":"240,358"}},{"$f":"AVERAGE(L292:L296)","v":{"v":819080.8,"d":"819,081"}}]
["1991-1995",{"$f":"AVERAGE(B297:B301)","v":{"v":137960.8,"d":"137,961"}},{"$f":"AVERAGE(C297:C301)","v":{"v":56461.8,"d":"56,462"}},{"v":194422.6,"d":"194,423"},null,{"v":97002.2,"d":"97,002"},{"v":23945,"d":"23,945"},{"v":120947.2,"d":"120,947"},null,{"v":234963,"d":"234,963"},{"v":80406.8,"d":"80,407"},{"v":315369.8,"d":"315,370"}]
["1996-2000",{"$f":"AVERAGE(B302:B306)","v":{"v":57648,"d":"57,648"}},{"$f":"AVERAGE(C302:C306)","v":{"v":29323.6,"d":"29,324"}},{"v":86971.6,"d":"86,972"},null,{"v":73684.8,"d":"73,685"},{"v":28336.8,"d":"28,337"},{"v":102021.6,"d":"102,022"},null,{"v":140763.4,"d":"140,763"},{"v":62892.8,"d":"62,893"},{"v":203656.2,"d":"203,656"}]
["2001-2005",{"$f":"AVERAGE(B307:B311)","v":{"v":119234.2,"d":"119,234"}},{"$f":"AVERAGE(C307:C311)","v":{"v":40240.6,"d":"40,241"}},{"v":159474.8,"d":"159,475"},null,{"v":114492.2,"d":"114,492"},{"v":33690,"d":"33,690"},{"v":148182.2,"d":"148,182"},null,{"v":250218.6,"d":"250,219"},{"v":81366.2,"d":"81,366"},{"v":331584.8,"d":"331,585"}]
["2006-2010",{"$f":"AVERAGE(B312:B316)","v":{"v":74329.8,"d":"74,330"}},{"$f":"AVERAGE(C312:C316)","v":{"v":20149.6,"d":"20,150"}},{"v":94479.4,"d":"94,479"},null,{"v":47421.6,"d":"47,422"},{"v":20893.2,"d":"20,893"},{"v":68314.8,"d":"68,315"},null,{"v":130775.8,"d":"130,776"},{"v":47441.4,"d":"47,441"},{"v":178217.2,"d":"178,217"}]
["2011-2015",{"$f":"AVERAGE(B317:B321)","v":{"v":49580.2,"d":"49,580"}},{"$f":"AVERAGE(C317:C321)","v":{"v":15822.4,"d":"15,822"}},{"$f":"AVERAGE(D317:D321)","v":{"v":65402.6,"d":"65,403"}},null,{"$f":"AVERAGE(F317:F321)","v":{"v":50674.8,"d":"50,675"}},{"$f":"AVERAGE(G317:G321)","v":{"v":32913,"d":"32,913"}},{"$f":"AVERAGE(H317:H321)","v":{"v":83587.8,"d":"83,588"}},null,{"$f":"AVERAGE(J317:J321)","v":{"v":112904.8,"d":"112,905"}},{"$f":"AVERAGE(K317:K321)","v":{"v":62880.2,"d":"62,880"}},{"$f":"AVERAGE(L317:L321)","v":{"v":175785,"d":"175,785"}}]
[2016,{"$f":"B322","v":{"v":57799,"d":"57,799"}},{"v":19690,"d":"19,690"},{"v":77489,"d":"77,489"},null,{"$f":"F322","v":{"v":94259,"d":"94,259"}},{"v":37387,"d":"37,387"},{"v":131646,"d":"131,646"},null,{"$f":"J322","v":{"v":154355,"d":"154,355"}},{"v":57838,"d":"57,838"},{"v":212193,"d":"212,193"}]
[2017,{"$f":"B323","v":{"v":52466,"d":"52,466"}},{"v":21477,"d":"21,477"},{"v":73943,"d":"73,943"},null,{"$f":"F323","v":{"v":48710,"d":"48,710"}},{"v":26555,"d":"26,555"},{"v":75265,"d":"75,265"},null,{"$f":"J323","v":{"v":124170,"d":"124,170"}},{"v":53280,"d":"53,280"},{"v":177450,"d":"177,450"}]
["2018d/",{"$f":"B324","v":{"v":78228,"d":"78,228"}},{"v":30628,"d":"30,628"},{"v":108856,"d":"108,856"},null,{"$f":"F324","v":{"v":72264,"d":"72,264"}},{"v":21421,"d":"21,421"},{"v":93685,"d":"93,685"},null,{"$f":"J324","v":{"v":165081,"d":"165,081"}},{"v":62689,"d":"62,689"},{"v":227770,"d":"227,770"}]
["2019d/",{"$f":"B325","v":{"v":31714,"d":"31,714"}},{"v":11088,"d":"11,088"},{"v":42802,"d":"42,802"},null,{"$f":"F325","v":{"v":66484,"d":"66,484"}},{"v":23064,"d":"23,064"},{"v":89548,"d":"89,548"},null,{"$f":"J325","v":{"v":111900,"d":"111,900"}},{"v":45127,"d":"45,127"},{"v":157027,"d":"157,027"}]
["2020d/",{"v":73573,"d":"73,573"},{"v":24770,"d":"24,770"},{"v":98343,"d":"98,343"},null,{"v":67685,"d":"67,685"},{"v":18215,"d":"18,215"},{"v":85900,"d":"85,900"},null,{"v":152380,"d":"152,380"},{"v":53225,"d":"53,225"},{"v":205605,"d":"205,605"}]
["2021d/",{"v":80331,"d":"80,331"},{"v":27161,"d":"27,161"},{"v":107492,"d":"107,492"},null,{"v":77720,"d":"77,720"},{"v":32070,"d":"32,070"},{"v":109790,"d":"109,790"},null,{"v":186762,"d":"186,762"},{"v":70000,"d":"70,000"},{"v":256762,"d":"256,762"}]
["2022d/",{"v":82953,"d":"82,953"},{"v":17131,"d":"17,131"},{"v":100084,"d":"100,084"},null,{"v":38794,"d":"38,794"},{"v":20540,"d":"20,540"},{"v":59334,"d":"59,334"},null,{"v":149268,"d":"149,268"},{"v":52761,"d":"52,761"},{"v":202029,"d":"202,029"}]
["2023d/",{"$f":"B329","v":{"v":76051,"d":"76,051"}},{"v":15790,"d":"15,790"},{"v":91841,"d":"91,841"},null,{"$f":"F329","v":{"v":72641,"d":"72,641"}},{"v":37261,"d":"37,261"},{"v":109902,"d":"109,902"},null,{"$f":"J329","v":{"v":171606,"d":"171,606"}},{"v":63905,"d":"63,905"},{"v":235511,"d":"235,511"}]
["2024d/","NA","NA","NA",null,"NA","NA","NA",null,"NA","NA","NA"]
["GOAL",{"$nulls":4},{"$f":"F331","v":{"v":52000,"d":"52,000"}}]
[{"$f":"A332","v":"a/  Includes treaty Indian and non-Indian net commercial catches during the adult accounting period.  Source:  Puget Sound run reconstruction model."}]
[{"$f":"A333","v":"b/  Includes estimated off-station returns and secondary wild stocks."}]
[{"$f":"A334","v":"c/  Terminal run size is defined as the run to terminal marine areas; spawning escapement plus commercial net and sport catch (inriver and terminal fishery catch).  Prior to 1997, estimates are Puget Sound run size, which is defined as the run available to Puget Sound net fisheries; spawning escapement plus commercial net catch (inriver, terminal, and pre-terminal Puget Sound net fishery catch), but not including fish caught in Puget Sound troll and recreational fisheries."}]
[]
[]
[{"$f":"A335","v":"d/  Preliminary."}]
[{"$f":"A336","v":"e/ Hood Canal terminal run size is defined as the run to terminal marine areas; spawning escapement plus commercial net and sport catch (inriver and terminal fishery catch).  Prior to 1997, estimates are Puget Sound run size, which is defined as the run available to Puget Sound net fisheries; spawning escapement plus commercial net catch (inriver, terminal, and pre-terminal Puget Sound net fishery catch),  including fish caught in Puget Sound troll and recreational fisheries."}]

{"sheet":"B-43","index":44,"n_rows":291,"n_cols":12,"rows_kept":291,"merged":[[0,0,1,11],[2,0,3,0],[2,1,2,3],[2,5,2,7],[2,9,2,11],[4,0,4,11],[27,5,27,7],[29,0,29,11],[54,0,54,11],[79,0,79,11],[102,5,102,6],[104,0,104,11],[130,0,130,11],[154,0,154,11],[155,0,155,11],[156,0,156,11],[157,0,157,11],[158,0,158,11],[159,0,159,11],[160,0,160,11],[168,0,169,11],[170,0,171,0],[170,1,170,3],[170,5,170,7],[170,9,170,11],[172,0,172,11],[187,5,187,7],[188,0,188,11],[205,0,206,11],[207,0,208,0],[207,1,207,3],[207,5,207,7],[207,9,207,11],[209,0,209,11],[226,0,226,11],[241,5,241,6],[243,0,244,11],[245,0,246,0],[245,1,245,3],[245,5,245,7],[245,9,245,11],[247,0,247,11],[265,0,265,11],[282,0,283,11],[284,0,284,11],[285,0,285,11],[286,0,286,11],[287,0,287,11],[288,0,288,11],[289,0,289,11],[290,0,290,11],[291,0,292,11]]}
["TABLE B-43.  Puget Sound commercial net fishery catches and spawning escapements in numbers of fish for hatchery and natural Puget Sound pink stocks.a/ \n(Page 1 of 4)"]
[]
["Year or Average (odd-year) ","Commercial Net Catches",{"$nulls":3},"Spawning Escapement",{"$nulls":3},"Puget Sound Run Sizec/"]
[null,"Hatcheryb/","Natural","Total",null,"Hatcheryb/","Natural","Total",null,"Hatcheryb/","Natural","Total"]
["Strait of Juan de Fuca"]
[1981,0,{"v":1051,"d":"1,051"},{"v":1051,"d":"1,051"},null,0,{"v":3100,"d":"3,100"},{"v":3100,"d":"3,100"},null,0,{"v":4151,"d":"4,151"},{"v":4151,"d":"4,151"}]
[1983,0,156,156,null,0,{"v":5088,"d":"5,088"},{"v":5088,"d":"5,088"},null,0,{"v":5244,"d":"5,244"},{"v":5244,"d":"5,244"}]
[1985,0,62,62,null,0,{"v":4830,"d":"4,830"},{"v":4830,"d":"4,830"},null,0,{"v":4892,"d":"4,892"},{"v":4892,"d":"4,892"}]
[1987,4,161,165,null,47,{"v":1956,"d":"1,956"},{"v":2003,"d":"2,003"},null,50,{"v":2118,"d":"2,118"},{"v":2168,"d":"2,168"}]
[1989,0,{"v":1103,"d":"1,103"},{"v":1103,"d":"1,103"},null,0,{"v":10903,"d":"10,903"},{"v":10903,"d":"10,903"},null,0,{"v":11999,"d":"11,999"},{"v":12006,"d":"12,006"}]
[1991,0,{"v":1196,"d":"1,196"},{"v":1196,"d":"1,196"},null,0,{"v":9896,"d":"9,896"},{"v":9896,"d":"9,896"},null,0,{"v":11092,"d":"11,092"},{"v":11092,"d":"11,092"}]
[1993,0,97,97,null,0,{"v":1696,"d":"1,696"},{"v":1696,"d":"1,696"},null,0,{"v":1793,"d":"1,793"},{"v":1793,"d":"1,793"}]
[1995,3,265,268,null,100,{"v":8254,"d":"8,254"},{"v":8354,"d":"8,354"},null,103,{"v":8519,"d":"8,519"},{"v":8622,"d":"8,622"}]
[1997,7,525,532,null,71,{"v":4953,"d":"4,953"},{"v":5024,"d":"5,024"},null,78,{"v":5478,"d":"5,478"},{"v":5556,"d":"5,556"}]
[1999,0,46,46,null,0,{"v":7307,"d":"7,307"},{"v":7307,"d":"7,307"},null,0,{"v":7353,"d":"7,353"},{"v":7353,"d":"7,353"}]
[2001,4,718,722,null,470,{"v":80950,"d":"80,950"},{"v":81420,"d":"81,420"},null,474,{"v":81668,"d":"81,668"},{"v":82142,"d":"82,142"}]
[2003,0,346,346,null,0,{"v":15149,"d":"15,149"},{"v":15149,"d":"15,149"},null,0,{"v":15495,"d":"15,495"},{"v":15495,"d":"15,495"}]
[2005,0,103,103,null,0,{"v":8669,"d":"8,669"},{"v":8669,"d":"8,669"},null,0,{"v":8772,"d":"8,772"},{"v":8772,"d":"8,772"}]
[2007,0,131,131,null,0,{"v":6252,"d":"6,252"},{"v":6252,"d":"6,252"},null,0,{"v":6383,"d":"6,383"},{"v":6383,"d":"6,383"}]
[2009,0,{"v":2684,"d":"2,684"},{"v":2684,"d":"2,684"},null,0,{"v":41534,"d":"41,534"},{"v":41534,"d":"41,534"},null,0,{"v":44218,"d":"44,218"},{"v":44218,"d":"44,218"}]
[2011,0,{"v":2013,"d":"2,013"},{"v":2013,"d":"2,013"},null,0,{"v":27616,"d":"27,616"},{"v":27616,"d":"27,616"},null,0,{"v":29629,"d":"29,629"},{"v":29629,"d":"29,629"}]
[2013,8,{"v":19886.082095096583,"d":"19,886"},{"$f":"SUM(B22:C22)","v":{"v":19894.082095096583,"d":"19,894"}},null,157,{"v":394517,"d":"394,517"},{"v":394674,"d":"394,674"},null,165,{"v":414403,"d":"414,403"},{"v":414568,"d":"414,568"}]
[2015,0,{"v":18111,"d":"18,111"},{"v":18212,"d":"18,212"},null,0,{"v":337724,"d":"337,724"},{"v":337724,"d":"337,724"},null,0,{"v":355936,"d":"355,936"},{"v":355936,"d":"355,936"}]
[2017,1,565,566,null,44,{"v":17753,"d":"17,753"},{"v":17797,"d":"17,797"},null,45,{"v":18237,"d":"18,237"},{"v":18282,"d":"18,282"}]
[2019,{"$f":"J25-F25","v":1},679,680,"NA",59,{"v":48329,"d":"48,329"},{"v":48388,"d":"48,388"},"NA",60,{"v":49008,"d":"49,008"},{"v":49068,"d":"49,068"}]
[2021,0,{"v":1940,"d":"1,940"},{"v":1940,"d":"1,940"},"NA",0,{"v":158127,"d":"158,127"},{"$f":"F26+G26","v":{"v":158127,"d":"158,127"}},"NA",0,{"v":160067,"d":"160,067"},{"$f":"J26+K26","v":{"v":160067,"d":"160,067"}}]
[2023,0,{"v":1496,"d":"1,496"},{"v":1496,"d":"1,496"},"NA",0,{"v":146510,"d":"146,510"},{"v":146510,"d":"146,510"},"NA",0,{"v":148006,"d":"148,006"},{"v":148006,"d":"148,006"}]
["GOALd/",{"$nulls":4},"Not Agreed Upon"]
[]
["Nooksack-Samish"]
[1981,0,{"v":20642,"d":"20,642"},{"v":20642,"d":"20,642"},null,0,{"v":15000,"d":"15,000"},{"v":15000,"d":"15,000"},null,0,{"v":35642,"d":"35,642"},{"v":35642,"d":"35,642"}]
[1983,0,{"v":13212,"d":"13,212"},{"v":13212,"d":"13,212"},null,0,{"v":60000,"d":"60,000"},{"v":60000,"d":"60,000"},null,0,{"v":73212,"d":"73,212"},{"v":73212,"d":"73,212"}]
[1985,0,{"v":6301,"d":"6,301"},{"v":6301,"d":"6,301"},null,0,{"v":23000,"d":"23,000"},{"v":23000,"d":"23,000"},null,0,{"v":29301,"d":"29,301"},{"v":29301,"d":"29,301"}]
[1987,0,{"v":5519,"d":"5,519"},{"v":5519,"d":"5,519"},null,0,{"v":37003,"d":"37,003"},{"v":37003,"d":"37,003"},null,0,{"v":42522,"d":"42,522"},{"v":42522,"d":"42,522"}]
[1989,200,{"v":26617,"d":"26,617"},{"v":26617,"d":"26,617"},null,0,{"v":136000,"d":"136,000"},{"v":137200,"d":"137,200"},null,200,{"v":162617,"d":"162,617"},{"v":16817,"d":"16,817"}]
[1991,0,{"v":22494,"d":"22,494"},{"v":22494,"d":"22,494"},null,0,{"v":24002,"d":"24,002"},{"v":24002,"d":"24,002"},null,0,{"v":46496,"d":"46,496"},{"v":46496,"d":"46,496"}]
[1993,0,{"v":4767,"d":"4,767"},{"v":4767,"d":"4,767"},null,0,{"v":56004,"d":"56,004"},{"v":56004,"d":"56,004"},null,0,{"v":60771,"d":"60,771"},{"v":60771,"d":"60,771"}]
[1995,0,{"v":14658,"d":"14,658"},{"v":14658,"d":"14,658"},null,0,{"v":220020,"d":"220,020"},{"v":220020,"d":"220,020"},null,0,{"v":234678,"d":"234,678"},{"v":634678,"d":"634,678"}]
[1997,0,{"v":4121,"d":"4,121"},{"v":4121,"d":"4,121"},null,0,{"v":26001,"d":"26,001"},{"v":26001,"d":"26,001"},null,0,{"v":30122,"d":"30,122"},{"v":30122,"d":"30,122"}]
[1999,13,{"v":2857,"d":"2,857"},{"v":2870,"d":"2,870"},null,446,{"v":95001,"d":"95,001"},{"v":95447,"d":"95,447"},null,459,{"v":97858,"d":"97,858"},{"v":98317,"d":"98,317"}]
[2001,215,{"v":14584,"d":"14,584"},{"v":14799,"d":"14,799"},null,{"v":3714,"d":"3,714"},{"v":226001,"d":"226,001"},{"v":229715,"d":"229,715"},null,{"v":3929,"d":"3,929"},{"v":240585,"d":"240,585"},{"v":244514,"d":"244,514"}]
[2003,304,{"v":3177,"d":"3,177"},{"v":3481,"d":"3,481"},null,{"v":7264,"d":"7,264"},{"v":51012,"d":"51,012"},{"v":58276,"d":"58,276"},null,{"v":7568,"d":"7,568"},{"v":54189,"d":"54,189"},{"v":61757,"d":"61,757"}]
[2005,589,{"v":2095,"d":"2,095"},{"v":2684,"d":"2,684"},null,{"v":1791,"d":"1,791"},{"v":3719,"d":"3,719"},{"v":5510,"d":"5,510"},null,{"v":2380,"d":"2,380"},{"v":5814,"d":"5,814"},{"v":8194,"d":"8,194"}]
[2007,15,{"v":1006,"d":"1,006"},{"v":1021,"d":"1,021"},null,276,{"v":9302,"d":"9,302"},{"v":9578,"d":"9,578"},null,291,{"v":10308,"d":"10,308"},{"v":10599,"d":"10,599"}]
[2009,248,{"v":6229,"d":"6,229"},{"v":6477,"d":"6,477"},null,{"v":2097,"d":"2,097"},{"v":45120,"d":"45,120"},{"v":47217,"d":"47,217"},null,{"v":2345,"d":"2,345"},{"v":51349,"d":"51,349"},{"v":53694,"d":"53,694"}]
[2011,49,{"v":12483,"d":"12,483"},{"v":12532,"d":"12,532"},null,285,{"v":53852,"d":"53,852"},{"v":54137,"d":"54,137"},null,334,{"v":66335,"d":"66,335"},{"v":66669,"d":"66,669"}]
[2013,35,{"v":103923.13189068213,"d":"103,923"},{"$f":"SUM(B47:C47)","v":{"v":103958.13189068213,"d":"103,958"}},null,1,{"v":224002,"d":"224,002"},{"v":224003,"d":"224,003"},null,110,{"v":327851,"d":"327,851"},{"v":327961,"d":"327,961"}]
[2015,30,{"v":88358.7331294646,"d":"88,359"},{"v":88388.7331294646,"d":"88,389"},null,90,{"v":247358,"d":"247,358"},{"v":247448,"d":"247,448"},null,115,{"v":335722,"d":"335,722"},{"v":335837,"d":"335,837"}]
[2017,0,{"v":11373,"d":"11,373"},{"v":11373,"d":"11,373"},null,0,{"v":24012,"d":"24,012"},{"v":24012,"d":"24,012"},null,0,{"v":35385,"d":"35,385"},{"v":35385,"d":"35,385"}]
[2019,{"$f":"J50-F50","v":0},{"v":18656,"d":"18,656"},{"v":18656,"d":"18,656"},"NA",0,{"v":50024,"d":"50,024"},{"v":50024,"d":"50,024"},"NA",0,{"v":68680,"d":"68,680"},{"v":68680,"d":"68,680"}]
[2021,0,{"v":24211,"d":"24,211"},{"v":24211,"d":"24,211"},"NA",0,{"v":109427.432,"d":"109,427"},{"v":109427.432,"d":"109,427"},"NA",0,{"v":133638.432,"d":"133,638"},{"v":133638.432,"d":"133,638"}]
[2023,{"v":3.4827213822894167,"d":"3"},{"v":3896.517278617711,"d":"3,897"},{"v":3900.0000000000005,"d":"3,900"},"NA",40,{"v":44212,"d":"44,212"},{"v":44252,"d":"44,252"},"NA",43,{"v":48109,"d":"48,109"},{"v":48152,"d":"48,152"}]
["GOALd/",{"$nulls":5},{"v":50000,"d":"50,000"}]
[]
["Skagit"]
[1981,425,{"v":159846,"d":"159,846"},{"v":160273,"d":"160,273"},null,268,{"v":100268,"d":"100,268"},{"v":100536,"d":"100,536"},null,693,{"v":260114,"d":"260,114"},{"v":260809,"d":"260,809"}]
[1983,6,{"v":20941,"d":"20,941"},{"v":20947,"d":"20,947"},null,128,{"v":470128,"d":"470,128"},{"v":470256,"d":"470,256"},null,133,{"v":491070,"d":"491,070"},{"v":491203,"d":"491,203"}]
[1985,11,{"v":253961,"d":"253,961"},{"v":253972,"d":"253,972"},null,30,{"v":710030,"d":"710,030"},{"v":710060,"d":"710,060"},null,40,{"v":963992,"d":"963,992"},{"v":964032,"d":"964,032"}]
[1987,{"v":1146,"d":"1,146"},{"v":444674,"d":"444,674"},{"v":445824,"d":"445,824"},null,{"v":1535,"d":"1,535"},{"v":593535,"d":"593,535"},{"v":595070,"d":"595,070"},null,{"v":2676,"d":"2,676"},{"v":1038210,"d":"1,038,210"},{"v":1040894,"d":"1,040,894"}]
[1989,9,{"v":704440,"d":"704,440"},{"v":704449,"d":"704,449"},null,5,{"v":401300,"d":"401,300"},{"v":401305,"d":"401,305"},null,14,{"v":1105740,"d":"1,105,740"},{"v":1105754,"d":"1,105,754"}]
[1991,0,{"v":214358,"d":"214,358"},{"v":214358,"d":"214,358"},null,0,{"v":351000,"d":"351,000"},{"v":351000,"d":"351,000"},null,0,{"v":565358,"d":"565,358"},{"v":565358,"d":"565,358"}]
[1993,0,{"v":223550,"d":"223,550"},{"v":223550,"d":"223,550"},null,0,{"v":530000,"d":"530,000"},{"v":530000,"d":"530,000"},null,0,{"v":753550,"d":"753,550"},{"v":753550,"d":"753,550"}]
[1995,0,{"v":687553,"d":"687,553"},{"v":687553,"d":"687,553"},null,0,{"v":857000,"d":"857,000"},{"v":857000,"d":"857,000"},null,0,{"v":1544553,"d":"1,544,553"},{"v":1544553,"d":"1,544,553"}]
[1997,0,{"v":76929,"d":"76,929"},{"v":76929,"d":"76,929"},null,0,{"v":60000,"d":"60,000"},{"v":60000,"d":"60,000"},null,0,{"v":136929,"d":"136,929"},{"v":136929,"d":"136,929"}]
[1999,0,{"v":33892,"d":"33,892"},{"v":33892,"d":"33,892"},null,0,{"v":320000,"d":"320,000"},{"v":320000,"d":"320,000"},null,0,{"v":353892,"d":"353,892"},{"v":353892,"d":"353,892"}]
[2001,0,{"v":305081,"d":"305,081"},{"v":305081,"d":"305,081"},null,0,{"v":894061,"d":"894,061"},{"v":894061,"d":"894,061"},null,0,{"v":1199142,"d":"1,199,142"},{"v":1199142,"d":"1,199,142"}]
[2003,0,{"v":309851,"d":"309,851"},{"v":309851,"d":"309,851"},null,0,{"v":567080,"d":"567,080"},{"v":567080,"d":"567,080"},null,0,{"v":876931,"d":"876,931"},{"v":876931,"d":"876,931"}]
[2005,0,{"v":25191,"d":"25,191"},{"v":25191,"d":"25,191"},null,0,{"v":60000,"d":"60,000"},{"v":60000,"d":"60,000"},null,0,{"v":85191,"d":"85,191"},{"v":85191,"d":"85,191"}]
[2007,0,{"v":14723,"d":"14,723"},{"v":14723,"d":"14,723"},null,0,{"v":300000,"d":"300,000"},{"v":300000,"d":"300,000"},null,0,{"v":314723,"d":"314,723"},{"v":314723,"d":"314,723"}]
[2009,0,{"v":478121,"d":"478,121"},{"v":478121,"d":"478,121"},null,0,{"v":1160000,"d":"1,160,000"},{"v":1160000,"d":"1,160,000"},null,0,{"v":1638121,"d":"1,638,121"},{"v":1638121,"d":"1,638,121"}]
[2011,0,{"v":470769,"d":"470,769"},{"v":470769,"d":"470,769"},null,0,{"v":560000,"d":"560,000"},{"v":560000,"d":"560,000"},null,0,{"v":1030769,"d":"1,030,769"},{"v":1030769,"d":"1,030,769"}]
[2013,{"$f":"J72-F72","v":0},{"v":720872,"d":"720,872"},{"$f":"SUM(B72:C72)","v":{"v":720872,"d":"720,872"}},null,0,{"v":900000,"d":"900,000"},{"v":900000,"d":"900,000"},null,0,{"v":1620872,"d":"1,620,872"},{"v":1620872,"d":"1,620,872"}]
[2015,0,{"v":121155,"d":"121,155"},{"v":121155,"d":"121,155"},null,0,{"v":290000,"d":"290,000"},{"v":290000,"d":"290,000"},null,0,{"v":411155,"d":"411,155"},{"v":411155,"d":"411,155"}]
[2017,0,{"v":6551,"d":"6,551"},{"v":6551,"d":"6,551"},null,0,{"v":110000,"d":"110,000"},{"v":110000,"d":"110,000"},null,0,{"v":116551,"d":"116,551"},{"v":116551,"d":"116,551"}]
[2019,0,{"v":7424,"d":"7,424"},{"v":7424,"d":"7,424"},"NA",0,{"v":300000,"d":"300,000"},{"v":300000,"d":"300,000"},"NA",0,{"v":307424,"d":"307,424"},{"v":307424,"d":"307,424"}]
[2021,0,{"v":159371,"d":"159,371"},{"$f":"SUM(B76:C76)","v":{"v":159371,"d":"159,371"}},"NA",0,{"v":460000,"d":"460,000"},{"v":460000,"d":"460,000"},"NA",0,{"v":619371,"d":"619,371"},{"v":619371,"d":"619,371"}]
["2023g/",{"$f":"J77-F77","v":0},{"$f":"K77-G77","v":{"v":41247,"d":"41,247"}},{"$f":"SUM(B77:C77)","v":{"v":41247,"d":"41,247"}},"NA",0,{"v":470000,"d":"470,000"},{"v":470000,"d":"470,000"},"NA",0,{"v":511247,"d":"511,247"},{"v":511247,"d":"511,247"}]
["GOALd/",{"$nulls":5},{"v":330000,"d":"330,000"}]
[]
["Hood Canal"]
[1981,443,{"v":1495,"d":"1,495"},{"v":1938,"d":"1,938"},null,{"v":1557,"d":"1,557"},{"v":6551,"d":"6,551"},{"v":8108,"d":"8,108"},null,{"v":2000,"d":"2,000"},{"v":8046,"d":"8,046"},{"v":10046,"d":"10,046"}]
[1983,53,934,987,null,503,{"v":25201,"d":"25,201"},{"v":25704,"d":"25,704"},null,556,{"v":26135,"d":"26,135"},{"v":26691,"d":"26,691"}]
[1985,140,{"v":3027,"d":"3,027"},{"v":3167,"d":"3,167"},null,{"v":1456,"d":"1,456"},{"v":64101,"d":"64,101"},{"v":65557,"d":"65,557"},null,{"v":1596,"d":"1,596"},{"v":67128,"d":"67,128"},{"v":68724,"d":"68,724"}]
[1987,{"v":2438,"d":"2,438"},{"v":11039,"d":"11,039"},{"v":13477,"d":"13,477"},null,{"v":8056,"d":"8,056"},{"v":62220,"d":"62,220"},{"v":70276,"d":"70,276"},null,{"v":10494,"d":"10,494"},{"v":73259,"d":"73,259"},{"v":83753,"d":"83,753"}]
[1989,{"v":8186,"d":"8,186"},{"v":32151,"d":"32,151"},{"v":40337,"d":"40,337"},null,{"v":2500,"d":"2,500"},{"v":60970,"d":"60,970"},{"v":63470,"d":"63,470"},null,{"v":10686,"d":"10,686"},{"v":93121,"d":"93,121"},{"v":103807,"d":"103,807"}]
[1991,442,{"v":14750,"d":"14,750"},{"v":15192,"d":"15,192"},null,{"v":3300,"d":"3,300"},{"v":118450,"d":"118,450"},{"v":121750,"d":"121,750"},null,{"v":3742,"d":"3,742"},{"v":133200,"d":"133,200"},{"v":136942,"d":"136,942"}]
[1993,836,{"v":2788,"d":"2,788"},{"v":3624,"d":"3,624"},null,{"v":11497,"d":"11,497"},{"v":35647,"d":"35,647"},{"v":47144,"d":"47,144"},null,{"v":12333,"d":"12,333"},{"v":38435,"d":"38,435"},{"v":50768,"d":"50,768"}]
[1995,{"v":1847,"d":"1,847"},{"v":1369,"d":"1,369"},{"v":3216,"d":"3,216"},null,{"v":24665,"d":"24,665"},{"v":31306,"d":"31,306"},{"v":55971,"d":"55,971"},null,{"v":26512,"d":"26,512"},{"v":32675,"d":"32,675"},{"v":59187,"d":"59,187"}]
[1997,{"v":2887,"d":"2,887"},{"v":1124,"d":"1,124"},{"v":4011,"d":"4,011"},null,{"v":21493,"d":"21,493"},{"v":8363,"d":"8,363"},{"v":29856,"d":"29,856"},null,{"v":24380,"d":"24,380"},{"v":9487,"d":"9,487"},{"v":33867,"d":"33,867"}]
[1999,203,346,549,null,{"v":7639,"d":"7,639"},{"v":12667,"d":"12,667"},{"v":20306,"d":"20,306"},null,{"v":7842,"d":"7,842"},{"v":13013,"d":"13,013"},{"v":20855,"d":"20,855"}]
[2001,{"v":4401,"d":"4,401"},{"v":5956,"d":"5,956"},{"v":10357,"d":"10,357"},null,{"v":71539,"d":"71,539"},{"v":98338,"d":"98,338"},{"v":169877,"d":"169,877"},null,{"v":75940,"d":"75,940"},{"v":104294,"d":"104,294"},{"v":180234,"d":"180,234"}]
[2003,{"v":2060,"d":"2,060"},{"v":3272,"d":"3,272"},{"v":5332,"d":"5,332"},null,{"v":25217,"d":"25,217"},{"v":37531,"d":"37,531"},{"v":62748,"d":"62,748"},null,{"v":27277,"d":"27,277"},{"v":40803,"d":"40,803"},{"v":68080,"d":"68,080"}]
[2005,401,691,{"v":1092,"d":"1,092"},null,{"v":14107,"d":"14,107"},{"v":17481,"d":"17,481"},{"v":31588,"d":"31,588"},null,{"v":14508,"d":"14,508"},{"v":18172,"d":"18,172"},{"v":32680,"d":"32,680"}]
[2007,261,{"v":1722,"d":"1,722"},{"v":1983,"d":"1,983"},null,{"v":4406,"d":"4,406"},{"v":29001,"d":"29,001"},{"v":33407,"d":"33,407"},null,{"v":4667,"d":"4,667"},{"v":30723,"d":"30,723"},{"v":35390,"d":"35,390"}]
[2009,{"v":3552,"d":"3,552"},893,{"v":4445,"d":"4,445"},null,{"v":22455,"d":"22,455"},{"v":11093,"d":"11,093"},{"v":33548,"d":"33,548"},null,{"v":26007,"d":"26,007"},{"v":11986,"d":"11,986"},{"v":37993,"d":"37,993"}]
[2011,{"v":5441,"d":"5,441"},{"v":1375,"d":"1,375"},{"v":6816,"d":"6,816"},null,{"v":17792,"d":"17,792"},{"v":15122,"d":"15,122"},{"v":32914,"d":"32,914"},null,{"v":23233,"d":"23,233"},{"v":16497,"d":"16,497"},{"v":39730,"d":"39,730"}]
[2013,{"$f":"J97-F97","v":{"v":2160,"d":"2,160"}},{"v":12398,"d":"12,398"},{"v":14558,"d":"14,558"},null,{"v":4904,"d":"4,904"},{"v":195600.90000000002,"d":"195,601"},{"v":200504.90000000002,"d":"200,505"},null,{"v":7064,"d":"7,064"},{"v":207998.90000000002,"d":"207,999"},{"v":215062.90000000002,"d":"215,063"}]
[2015,643,{"v":43196,"d":"43,196"},{"v":43839,"d":"43,839"},null,{"v":5948,"d":"5,948"},{"v":595679,"d":"595,679"},{"v":601627,"d":"601,627"},null,{"v":6591,"d":"6,591"},{"v":638875,"d":"638,875"},{"v":645466,"d":"645,466"}]
[2017,{"v":1002,"d":"1,002"},{"v":2308,"d":"2,308"},{"v":3310,"d":"3,310"},null,{"v":2544,"d":"2,544"},{"v":32988,"d":"32,988"},{"v":35532,"d":"35,532"},null,{"v":3546,"d":"3,546"},{"v":35296,"d":"35,296"},{"v":38842,"d":"38,842"}]
[2019,{"v":3090,"d":"3,090"},{"v":2374,"d":"2,374"},{"v":5464,"d":"5,464"},"NA",{"v":9608,"d":"9,608"},{"v":59249,"d":"59,249"},{"v":68857,"d":"68,857"},"NA",{"v":12698,"d":"12,698"},{"v":61623,"d":"61,623"},{"v":74321,"d":"74,321"}]
[2021,{"$f":"J101-F101","v":648},{"v":12926,"d":"12,926"},{"v":13574,"d":"13,574"},"NA",{"v":6672,"d":"6,672"},{"v":475286,"d":"475,286"},{"v":481958,"d":"481,958"},"NA",{"v":7320,"d":"7,320"},{"v":488212,"d":"488,212"},{"v":495532,"d":"495,532"}]
[2023,{"$f":"J102-F102","v":348},{"v":19439,"d":"19,439"},{"v":19787,"d":"19,787"},"NA",{"v":9558,"d":"9,558"},{"v":983450,"d":"983,450"},{"v":993008,"d":"993,008"},"NA",{"v":9906,"d":"9,906"},{"v":1002889,"d":"1,002,889"},{"v":1012795,"d":"1,012,795"}]
["GOALd/",{"$nulls":4},"Not Agreed Upon"]
[]
["Stillaguamish-Snohomish"]
[1981,42,{"v":52271,"d":"52,271"},{"v":52314,"d":"52,314"},null,96,{"v":108096,"d":"108,096"},{"v":108192,"d":"108,192"},null,137,{"v":160368,"d":"160,368"},{"v":160506,"d":"160,506"}]
[1983,51,{"v":58398,"d":"58,398"},{"v":58449,"d":"58,449"},null,283,{"v":324383,"d":"324,383"},{"v":324666,"d":"324,666"},null,334,{"v":382780,"d":"382,780"},{"v":383115,"d":"383,115"}]
[1985,70,{"v":184363,"d":"184,363"},{"v":184433,"d":"184,433"},null,192,{"v":502192,"d":"502,192"},{"v":502384,"d":"502,384"},null,262,{"v":686555,"d":"686,555"},{"v":686817,"d":"686,817"}]
[1987,181,{"v":115389,"d":"115,389"},{"v":115571,"d":"115,571"},null,418,{"v":271418,"d":"271,418"},{"v":271836,"d":"271,836"},null,598,{"v":386807,"d":"386,807"},{"v":387407,"d":"387,407"}]
[1989,34,{"v":362275,"d":"362,275"},{"v":362309,"d":"362,309"},null,16,{"v":150549,"d":"150,549"},{"v":150565,"d":"150,565"},null,50,{"v":512824,"d":"512,824"},{"v":512874,"d":"512,874"}]
[1991,152,{"v":90694,"d":"90,694"},{"v":90847,"d":"90,847"},null,447,{"v":260000,"d":"260,000"},{"v":260447,"d":"260,447"},null,598,{"v":350694,"d":"350,694"},{"v":351294,"d":"351,294"}]
[1993,28,{"v":37726,"d":"37,726"},{"v":37754,"d":"37,754"},null,135,{"v":210000,"d":"210,000"},{"v":210135,"d":"210,135"},null,162,{"v":247726,"d":"247,726"},{"v":247889,"d":"247,889"}]
[1995,13,{"v":121910,"d":"121,910"},{"v":121923,"d":"121,923"},null,26,{"v":309600,"d":"309,600"},{"v":309626,"d":"309,626"},null,39,{"v":431510,"d":"431,510"},{"v":431549,"d":"431,549"}]
[1997,0,{"v":75333,"d":"75,333"},{"v":75333,"d":"75,333"},null,0,{"v":192109,"d":"192,109"},{"v":192109,"d":"192,109"},null,0,{"v":267442,"d":"267,442"},{"v":267442,"d":"267,442"}]
[1999,0,{"v":29613,"d":"29,613"},{"v":29613,"d":"29,613"},null,0,{"v":461543,"d":"461,543"},{"v":461543,"d":"461,543"},null,0,{"v":491156,"d":"491,156"},{"v":491156,"d":"491,156"}]
[2001,0,{"v":199908,"d":"199,908"},{"v":199908,"d":"199,908"},null,0,{"v":1847648,"d":"1,847,648"},{"v":1847648,"d":"1,847,648"},null,0,{"v":2047556,"d":"2,047,556"},{"v":2047556,"d":"2,047,556"}]
[2003,0,{"v":288985,"d":"288,985"},{"v":288985,"d":"288,985"},null,0,{"v":1577001,"d":"1,577,001"},{"v":1577001,"d":"1,577,001"},null,0,{"v":1865986,"d":"1,865,986"},{"v":1865986,"d":"1,865,986"}]
[2005,0,{"v":66615,"d":"66,615"},{"v":66615,"d":"66,615"},null,0,{"v":600124,"d":"600,124"},{"v":600124,"d":"600,124"},null,0,{"v":666739,"d":"666,739"},{"v":666739,"d":"666,739"}]
[2007,0,{"v":132876,"d":"132,876"},{"v":132876,"d":"132,876"},null,0,{"v":1383591,"d":"1,383,591"},{"v":1383591,"d":"1,383,591"},null,0,{"v":1516467,"d":"1,516,467"},{"v":1516467,"d":"1,516,467"}]
[2009,0,{"v":849860,"d":"849,860"},{"v":849860,"d":"849,860"},null,0,{"v":2882373,"d":"2,882,373"},{"v":2882373,"d":"2,882,373"},null,0,{"v":3732233,"d":"3,732,233"},{"v":3732233,"d":"3,732,233"}]
[2011,0,{"v":627735,"d":"627,735"},{"v":627735,"d":"627,735"},null,0,{"v":612903,"d":"612,903"},{"v":612903,"d":"612,903"},null,0,{"v":1240638,"d":"1,240,638"},{"v":1240638,"d":"1,240,638"}]
[2013,{"$f":"J122-F122","v":0},{"v":179818,"d":"179,818"},{"v":179818,"d":"179,818"},null,0,{"v":3255886.255128028,"d":"3,255,886"},{"v":3255886.255128028,"d":"3,255,886"},null,0,{"v":3435704.255128028,"d":"3,435,704"},{"v":3435704.255128028,"d":"3,435,704"}]
[2015,0,{"v":211504,"d":"211,504"},{"v":211504,"d":"211,504"},null,0,{"v":480674,"d":"480,674"},{"v":480674,"d":"480,674"},null,0,{"v":692178,"d":"692,178"},{"v":692178,"d":"692,178"}]
[2017,0,{"v":14875,"d":"14,875"},{"v":14875,"d":"14,875"},null,0,{"v":78953,"d":"78,953"},{"v":78953,"d":"78,953"},null,0,{"v":93828,"d":"93,828"},{"v":93828,"d":"93,828"}]
[2019,3,{"v":30442,"d":"30,442"},{"v":30446,"d":"30,446"},"NA",92,{"v":651275,"d":"651,275"},{"v":651367,"d":"651,367"},"NA",95,{"v":681717,"d":"681,717"},{"v":681813,"d":"681,813"}]
[2021,0,{"v":111467,"d":"111,467"},{"v":111467,"d":"111,467"},"NA",0,{"v":987940.9743336332,"d":"987,941"},{"v":987940.9743336332,"d":"987,941"},"NA",0,{"v":1099407.9743336332,"d":"1,099,408"},{"v":1099407.9743336332,"d":"1,099,408"}]
[2023,0,{"v":128386,"d":"128,386"},{"v":128386,"d":"128,386"},"NA",0,{"v":1102108,"d":"1,102,108"},{"v":1102108,"d":"1,102,108"},"NA",0,{"v":1230494,"d":"1,230,494"},{"v":1230494,"d":"1,230,494"}]
["GOALd/ - Stillaguamish",{"$nulls":5},{"v":155000,"d":"155,000"}]
["GOALd/ - Snohomish",{"$nulls":5},{"v":120000,"d":"120,000"}]
[]
["South Puget Sound"]
[1981,{"v":2008,"d":"2,008"},{"v":12503,"d":"12,503"},{"v":14511,"d":"14,511"},null,791,{"v":12715,"d":"12,715"},{"v":13506,"d":"13,506"},null,{"v":2799,"d":"2,799"},{"v":25218,"d":"25,218"},{"v":28017,"d":"28,017"}]
[1983,583,{"v":12486,"d":"12,486"},{"v":13069,"d":"13,069"},null,149,{"v":12200,"d":"12,200"},{"v":12349,"d":"12,349"},null,732,{"v":24686,"d":"24,686"},{"v":25418,"d":"25,418"}]
[1985,5,{"v":6489,"d":"6,489"},{"v":6494,"d":"6,494"},null,13,{"v":34700,"d":"34,700"},{"v":34713,"d":"34,713"},null,18,{"v":41189,"d":"41,189"},{"v":41207,"d":"41,207"}]
[1987,16,{"v":12399,"d":"12,399"},{"v":12415,"d":"12,415"},null,3,{"v":42200,"d":"42,200"},{"v":42203,"d":"42,203"},null,19,{"v":54599,"d":"54,599"},{"v":54618,"d":"54,618"}]
[1989,644,{"v":41867,"d":"41,867"},{"v":42511,"d":"42,511"},null,452,{"v":62200,"d":"62,200"},{"v":62652,"d":"62,652"},null,{"v":1096,"d":"1,096"},{"v":104067,"d":"104,067"},{"v":105163,"d":"105,163"}]
[1991,398,{"v":6310,"d":"6,310"},{"v":6708,"d":"6,708"},null,346,{"v":15950,"d":"15,950"},{"v":16296,"d":"16,296"},null,743,{"v":22261,"d":"22,261"},{"v":23004,"d":"23,004"}]
["1993e/",7,{"v":3890,"d":"3,890"},{"v":3898,"d":"3,898"},null,21,{"v":10619,"d":"10,619"},{"v":10640,"d":"10,640"},null,28,{"v":14510,"d":"14,510"},{"v":14538,"d":"14,538"}]
["1995e/",36,{"v":7794,"d":"7,794"},{"v":7830,"d":"7,830"},null,84,{"v":18206,"d":"18,206"},{"v":18290,"d":"18,290"},null,120,{"v":26000,"d":"26,000"},{"v":26120,"d":"26,120"}]
["1997e/",0,987,987,null,0,{"v":2966,"d":"2,966"},{"v":2966,"d":"2,966"},null,0,{"v":3953,"d":"3,953"},{"v":3953,"d":"3,953"}]
["1999e/",0,252,252,null,0,{"v":4672,"d":"4,672"},{"v":4672,"d":"4,672"},null,0,{"v":4924,"d":"4,924"},{"v":4924,"d":"4,924"}]
["2001e/f/",0,{"v":3128,"d":"3,128"},{"v":3128,"d":"3,128"},null,0,{"v":26692,"d":"26,692"},{"v":26692,"d":"26,692"},null,0,{"v":29820,"d":"29,820"},{"v":29820,"d":"29,820"}]
["2003e/f/",0,{"v":30795,"d":"30,795"},{"v":30795,"d":"30,795"},null,0,{"v":391702,"d":"391,702"},{"v":391702,"d":"391,702"},null,0,{"v":422497,"d":"422,497"},{"v":422497,"d":"422,497"}]
["2005e/f/",0,{"v":55263,"d":"55,263"},{"v":55263,"d":"55,263"},null,0,{"v":1087906,"d":"1,087,906"},{"v":1087906,"d":"1,087,906"},null,0,{"v":1143169,"d":"1,143,169"},{"v":1143169,"d":"1,143,169"}]
["2007e/f/",0,{"v":84180,"d":"84,180"},{"v":84180,"d":"84,180"},null,0,{"v":1218896,"d":"1,218,896"},{"v":1218896,"d":"1,218,896"},null,0,{"v":1303076,"d":"1,303,076"},{"v":1303076,"d":"1,303,076"}]
["2009e/f/",0,{"v":695324,"d":"695,324"},{"v":695324,"d":"695,324"},null,0,{"v":4091283,"d":"4,091,283"},{"v":4091283,"d":"4,091,283"},null,0,{"v":4786607,"d":"4,786,607"},{"v":4786607,"d":"4,786,607"}]
["2011f/",{"$f":"J147-F147","v":0},{"v":508165,"d":"508,165"},{"v":508165,"d":"508,165"},null,1,{"v":2653807.8904761905,"d":"2,653,808"},{"v":2653808.8904761905,"d":"2,653,809"},null,1,{"v":3161972.8904761905,"d":"3,161,973"},{"v":3161973.8904761905,"d":"3,161,974"}]
["2013f/",40,{"v":546067,"d":"546,067"},{"v":546107,"d":"546,107"},null,6,{"v":2164300,"d":"2,164,300"},{"v":2164306,"d":"2,164,306"},null,46,{"v":2710367,"d":"2,710,367"},{"v":2710413,"d":"2,710,413"}]
["2015f/",65,{"v":288194,"d":"288,194"},{"v":288259,"d":"288,259"},null,115,{"v":1001183,"d":"1,001,183"},{"v":1001298,"d":"1,001,298"},null,180,{"v":1289377,"d":"1,289,377"},{"v":1289557,"d":"1,289,557"}]
["2017f/",0,{"v":31968,"d":"31,968"},{"v":31968,"d":"31,968"},null,2,{"v":215468,"d":"215,468"},{"v":215470,"d":"215,470"},null,2,{"v":247436,"d":"247,436"},{"v":247438,"d":"247,438"}]
["2019f/ ",0,{"v":101175,"d":"101,175"},{"v":101175,"d":"101,175"},"NA",18,{"v":1703440,"d":"1,703,440"},{"v":1703458,"d":"1,703,458"},"NA",18,{"v":1804615,"d":"1,804,615"},{"v":1804633,"d":"1,804,633"}]
["2021g/",48,{"v":143056.00000000012,"d":"143,056"},{"v":143104.00000000012,"d":"143,104"},"NA",1,{"v":1010121.1394050802,"d":"1,010,121"},{"v":1010122.1394050802,"d":"1,010,122"},"NA",49,{"v":1153177.1394050804,"d":"1,153,177"},{"v":1153226.1394050804,"d":"1,153,226"}]
["2023f/",4,{"v":321564.00000000047,"d":"321,564"},{"v":321566.00000000047,"d":"321,566"},"NA",80,{"v":3941871.5120320856,"d":"3,941,872"},{"v":3941951.5120320856,"d":"3,941,952"},"NA",84,{"v":4263435.512032086,"d":"4,263,436"},{"v":4263517.512032086,"d":"4,263,518"}]
["GOALd/",{"$nulls":5},{"v":25000,"d":"25,000"}]
["a/  Includes treaty Indian and non-Indian net commercial catches during the adult accounting period.  Source:  Puget Sound run reconstruction model."]
["b/  Includes estimated off-station returns."]
["c/  Puget Sound run size is defined as the run available to Puget Sound fisheries; spawning escapement plus Puget Sound fishery catch.  Includes fish caught by treaty net fisheries and non-Indian commercial and recreational fisheries inside Puget Sound."]
["d/  State-Tribal comanager goal; the only Council goal is for a total Puget Sound pink salmon spawning escapement of 900,000 natural spawners."]
["e/  Nisqually escapement estimate incomplete."]
["f/   Green river returns included in run reconstruction."]
["g/   Preliminary."]
{"$rows_empty":7}
["TABLE B-43.  Puget Sound commercial net fishery catches and spawning escapements in numbers of fish for hatchery and natural Puget Sound pink stocks.a/ \n(Page 1 of 4)"]
[]
["Year or Average (odd year)","Commercial Net Catches",{"$nulls":3},"Spawning Escapement",{"$nulls":3},"Puget Sound Run Sizec/"]
[null,"Hatcheryb/","Natural","Total",null,"Hatcheryb/","Natural","Total",null,"Hatcheryb/","Natural","Total"]
["Strait of Juan de Fuca"]
["1981-1989",{"$f":"AVERAGE(B6:B10)","v":{"v":0.8,"d":"1"}},{"$f":"AVERAGE(C6:C10)","v":{"v":506.6,"d":"507"}},{"$f":"AVERAGE(D6:D10)","v":{"v":507.4,"d":"507"}},null,{"$f":"AVERAGE(F6:F10)","v":{"v":9.4,"d":"9"}},{"$f":"AVERAGE(G6:G10)","v":{"v":5175.4,"d":"5,175"}},{"$f":"AVERAGE(H6:H10)","v":{"v":5184.8,"d":"5,185"}},null,{"$f":"AVERAGE(J6:J10)","v":10},{"$f":"AVERAGE(K6:K10)","v":{"v":5680.8,"d":"5,681"}},{"$f":"AVERAGE(L6:L10)","v":{"v":5692.2,"d":"5,692"}}]
["1991-1999",{"$f":"AVERAGE(B11:B15)","v":2},{"$f":"AVERAGE(C11:C15)","v":{"v":425.8,"d":"426"}},{"$f":"AVERAGE(D11:D15)","v":{"v":427.8,"d":"428"}},null,{"$f":"AVERAGE(F11:F15)","v":{"v":34.2,"d":"34"}},{"$f":"AVERAGE(G11:G15)","v":{"v":6421.2,"d":"6,421"}},{"$f":"AVERAGE(H11:H15)","v":{"v":6455.4,"d":"6,455"}},null,{"$f":"AVERAGE(J11:J15)","v":{"v":36.2,"d":"36"}},{"$f":"AVERAGE(K11:K15)","v":{"v":6847,"d":"6,847"}},{"$f":"AVERAGE(L11:L15)","v":{"v":6883.2,"d":"6,883"}}]
[2001,{"$f":"B16","v":4},718,722,null,{"$f":"F16","v":470},{"v":80950,"d":"80,950"},{"v":81420,"d":"81,420"},null,{"$f":"J16","v":474},{"v":81668,"d":"81,668"},{"v":82142,"d":"82,142"}]
[2003,0,346,346,null,0,{"v":15149,"d":"15,149"},{"v":15149,"d":"15,149"},null,0,{"v":15495,"d":"15,495"},{"v":15495,"d":"15,495"}]
[2005,0,103,103,null,0,{"v":8669,"d":"8,669"},{"v":8669,"d":"8,669"},null,0,{"v":8772,"d":"8,772"},{"v":8772,"d":"8,772"}]
[2007,0,131,131,null,0,{"v":6252,"d":"6,252"},{"v":6252,"d":"6,252"},null,0,{"v":6383,"d":"6,383"},{"v":6383,"d":"6,383"}]
[2009,0,{"v":2684,"d":"2,684"},{"v":2684,"d":"2,684"},null,0,{"v":41534,"d":"41,534"},{"v":41534,"d":"41,534"},null,0,{"v":44218,"d":"44,218"},{"v":44218,"d":"44,218"}]
[2011,0,{"v":2013,"d":"2,013"},{"v":2013,"d":"2,013"},null,0,{"v":27616,"d":"27,616"},{"v":27616,"d":"27,616"},null,0,{"v":29629,"d":"29,629"},{"v":29629,"d":"29,629"}]
[2013,8,{"v":19886.082095096583,"d":"19,886"},{"v":19894.082095096583,"d":"19,894"},null,157,{"v":394517,"d":"394,517"},{"v":394674,"d":"394,674"},null,165,{"v":414403,"d":"414,403"},{"v":414568,"d":"414,568"}]
[2015,0,{"v":18111,"d":"18,111"},{"v":18212,"d":"18,212"},null,0,{"v":337724,"d":"337,724"},{"v":337724,"d":"337,724"},null,0,{"v":355936,"d":"355,936"},{"v":355936,"d":"355,936"}]
[2017,1,565,566,null,44,{"v":17753,"d":"17,753"},{"v":17797,"d":"17,797"},null,45,{"v":18237,"d":"18,237"},{"v":18282,"d":"18,282"}]
[2019,1,679,680,null,59,{"v":48329,"d":"48,329"},{"v":48388,"d":"48,388"},null,60,{"v":49008,"d":"49,008"},{"v":49068,"d":"49,068"}]
[2021,0,{"v":1940,"d":"1,940"},{"v":1940,"d":"1,940"},null,0,{"v":158127,"d":"158,127"},{"v":158127,"d":"158,127"},null,0,{"v":160067,"d":"160,067"},{"v":160067,"d":"160,067"}]
[2023,0,{"v":1496,"d":"1,496"},{"v":1496,"d":"1,496"},null,0,{"v":146510,"d":"146,510"},{"v":146510,"d":"146,510"},null,0,{"v":148006,"d":"148,006"},{"v":148006,"d":"148,006"}]
["GOALd/",{"$nulls":4},"Not Agreed Upon"]
["Nooksack-Samish"]
["1981-1989",{"$f":"AVERAGE(B31:B35)","v":40},{"$f":"AVERAGE(C31:C35)","v":{"v":14458.2,"d":"14,458"}},{"$f":"AVERAGE(D31:D35)","v":{"v":14458.2,"d":"14,458"}},null,{"$f":"AVERAGE(F31:F35)","v":0},{"$f":"AVERAGE(G31:G35)","v":{"v":54200.6,"d":"54,201"}},{"$f":"AVERAGE(H31:H35)","v":{"v":54440.6,"d":"54,441"}},null,{"$f":"AVERAGE(J31:J35)","v":40},{"$f":"AVERAGE(K31:K35)","v":{"v":68658.8,"d":"68,659"}},{"$f":"AVERAGE(L31:L35)","v":{"v":39498.8,"d":"39,499"}}]
["1991-1999",{"$f":"AVERAGE(B36:B40)","v":{"v":2.6,"d":"3"}},{"$f":"AVERAGE(C36:C40)","v":{"v":9779.4,"d":"9,779"}},{"$f":"AVERAGE(D36:D40)","v":{"v":9782,"d":"9,782"}},null,{"$f":"AVERAGE(F36:F40)","v":{"v":89.2,"d":"89"}},{"$f":"AVERAGE(G36:G40)","v":{"v":84205.6,"d":"84,206"}},{"$f":"AVERAGE(H36:H40)","v":{"v":84294.8,"d":"84,295"}},null,{"$f":"AVERAGE(J36:J40)","v":{"v":91.8,"d":"92"}},{"$f":"AVERAGE(K36:K40)","v":{"v":93985,"d":"93,985"}},{"$f":"AVERAGE(L36:L40)","v":{"v":174076.8,"d":"174,077"}}]
[2001,{"$f":"B41","v":215},{"v":14584,"d":"14,584"},{"v":14799,"d":"14,799"},null,{"$f":"F41","v":{"v":3714,"d":"3,714"}},{"v":226001,"d":"226,001"},{"v":229715,"d":"229,715"},null,{"$f":"J41","v":{"v":3929,"d":"3,929"}},{"v":240585,"d":"240,585"},{"v":244514,"d":"244,514"}]
[2003,304,{"v":3177,"d":"3,177"},{"v":3481,"d":"3,481"},null,{"v":7264,"d":"7,264"},{"v":51012,"d":"51,012"},{"v":58276,"d":"58,276"},null,{"v":7568,"d":"7,568"},{"v":54189,"d":"54,189"},{"v":61757,"d":"61,757"}]
[2005,589,{"v":2095,"d":"2,095"},{"v":2684,"d":"2,684"},null,{"v":1791,"d":"1,791"},{"v":3719,"d":"3,719"},{"v":5510,"d":"5,510"},null,{"v":2380,"d":"2,380"},{"v":5814,"d":"5,814"},{"v":8194,"d":"8,194"}]
[2007,15,{"v":1006,"d":"1,006"},{"v":1021,"d":"1,021"},null,276,{"v":9302,"d":"9,302"},{"v":9578,"d":"9,578"},null,291,{"v":10308,"d":"10,308"},{"v":10599,"d":"10,599"}]
[2009,248,{"v":6229,"d":"6,229"},{"v":6477,"d":"6,477"},null,{"v":2097,"d":"2,097"},{"v":45120,"d":"45,120"},{"v":47217,"d":"47,217"},null,{"v":2345,"d":"2,345"},{"v":51349,"d":"51,349"},{"v":53694,"d":"53,694"}]
[2011,49,{"v":12483,"d":"12,483"},{"v":12532,"d":"12,532"},null,285,{"v":53852,"d":"53,852"},{"v":54137,"d":"54,137"},null,334,{"v":66335,"d":"66,335"},{"v":66669,"d":"66,669"}]
[2013,35,{"v":103923.13189068213,"d":"103,923"},{"v":103958.13189068213,"d":"103,958"},null,1,{"v":224002,"d":"224,002"},{"v":224003,"d":"224,003"},null,110,{"v":327851,"d":"327,851"},{"v":327961,"d":"327,961"}]
[2015,30,{"v":88358.7331294646,"d":"88,359"},{"v":88388.7331294646,"d":"88,389"},null,90,{"v":247358,"d":"247,358"},{"v":247448,"d":"247,448"},null,115,{"v":335722,"d":"335,722"},{"v":335837,"d":"335,837"}]
[2017,0,{"v":11373,"d":"11,373"},{"v":11373,"d":"11,373"},null,0,{"v":24012,"d":"24,012"},{"v":24012,"d":"24,012"},null,0,{"v":35385,"d":"35,385"},{"v":35385,"d":"35,385"}]
[2019,0,{"v":18656,"d":"18,656"},{"v":18656,"d":"18,656"},null,0,{"v":50024,"d":"50,024"},{"v":50024,"d":"50,024"},null,0,{"v":68680,"d":"68,680"},{"v":68680,"d":"68,680"}]
[2021,0,{"v":24211,"d":"24,211"},{"v":24211,"d":"24,211"},null,0,{"v":109427.432,"d":"109,427"},{"v":109427.432,"d":"109,427"},null,0,{"v":133638.432,"d":"133,638"},{"v":133638.432,"d":"133,638"}]
[2023,{"v":3.4827213822894167,"d":"3"},{"v":3896.517278617711,"d":"3,897"},{"v":3900.0000000000005,"d":"3,900"},null,40,{"v":44212,"d":"44,212"},{"v":44252,"d":"44,252"},null,43,{"v":48109,"d":"48,109"},{"v":48152,"d":"48,152"}]
["GOALd/",{"$nulls":5},{"v":50000,"d":"50,000"}]
[]
["TABLE B-43.  Puget Sound commercial net fishery catches and spawning escapements in numbers of fish for hatchery and natural Puget Sound pink stocks.a/  (Page 2 of 4)"]
[]
["Year or Average (odd-year) ","Commercial Net Catches",{"$nulls":3},"Spawning Escapement",{"$nulls":3},"Puget Sound Run Sizec/"]
[null,"Hatcheryb/","Natural","Total",null,"Hatcheryb/","Natural","Total",null,"Hatcheryb/","Natural","Total"]
["Skagit"]
["1981-1989",{"$f":"AVERAGE(B56:B60)","v":{"v":319.4,"d":"319"}},{"$f":"AVERAGE(C56:C60)","v":{"v":316772.4,"d":"316,772"}},{"$f":"AVERAGE(D56:D60)","v":{"v":317093,"d":"317,093"}},null,{"$f":"AVERAGE(F56:F60)","v":{"v":393.2,"d":"393"}},{"$f":"AVERAGE(G56:G60)","v":{"v":455052.2,"d":"455,052"}},{"$f":"AVERAGE(H56:H60)","v":{"v":455445.4,"d":"455,445"}},null,{"$f":"AVERAGE(J56:J60)","v":{"v":711.2,"d":"711"}},{"$f":"AVERAGE(K56:K60)","v":{"v":771825.2,"d":"771,825"}},{"$f":"AVERAGE(L56:L60)","v":{"v":772538.4,"d":"772,538"}}]
["1991-1999",{"$f":"AVERAGE(B61:B65)","v":0},{"$f":"AVERAGE(C61:C65)","v":{"v":247256.4,"d":"247,256"}},{"$f":"AVERAGE(D61:D65)","v":{"v":247256.4,"d":"247,256"}},null,{"$f":"AVERAGE(F61:F65)","v":0},{"$f":"AVERAGE(G61:G65)","v":{"v":423600,"d":"423,600"}},{"$f":"AVERAGE(H61:H65)","v":{"v":423600,"d":"423,600"}},null,{"$f":"AVERAGE(J61:J65)","v":0},{"$f":"AVERAGE(K61:K65)","v":{"v":670856.4,"d":"670,856"}},{"$f":"AVERAGE(L61:L65)","v":{"v":670856.4,"d":"670,856"}}]
[2001,{"$f":"B66","v":0},{"v":305081,"d":"305,081"},{"v":305081,"d":"305,081"},null,{"$f":"F66","v":0},{"v":894061,"d":"894,061"},{"v":894061,"d":"894,061"},null,{"$f":"J66","v":0},{"v":1199142,"d":"1,199,142"},{"v":1199142,"d":"1,199,142"}]
[2003,0,{"v":309851,"d":"309,851"},{"v":309851,"d":"309,851"},null,0,{"v":567080,"d":"567,080"},{"v":567080,"d":"567,080"},null,0,{"v":876931,"d":"876,931"},{"v":876931,"d":"876,931"}]
[2005,0,{"v":25191,"d":"25,191"},{"v":25191,"d":"25,191"},null,0,{"v":60000,"d":"60,000"},{"v":60000,"d":"60,000"},null,0,{"v":85191,"d":"85,191"},{"v":85191,"d":"85,191"}]
[2007,0,{"v":14723,"d":"14,723"},{"v":14723,"d":"14,723"},null,0,{"v":300000,"d":"300,000"},{"v":300000,"d":"300,000"},null,0,{"v":314723,"d":"314,723"},{"v":314723,"d":"314,723"}]
[2009,0,{"v":478121,"d":"478,121"},{"v":478121,"d":"478,121"},null,0,{"v":1160000,"d":"1,160,000"},{"v":1160000,"d":"1,160,000"},null,0,{"v":1638121,"d":"1,638,121"},{"v":1638121,"d":"1,638,121"}]
[2011,0,{"v":470769,"d":"470,769"},{"v":470769,"d":"470,769"},null,0,{"v":560000,"d":"560,000"},{"v":560000,"d":"560,000"},null,0,{"v":1030769,"d":"1,030,769"},{"v":1030769,"d":"1,030,769"}]
[2013,0,{"v":720872,"d":"720,872"},{"v":720872,"d":"720,872"},null,0,{"v":900000,"d":"900,000"},{"v":900000,"d":"900,000"},null,0,{"v":1620872,"d":"1,620,872"},{"v":1620872,"d":"1,620,872"}]
[2015,0,{"v":121155,"d":"121,155"},{"v":121155,"d":"121,155"},null,0,{"v":290000,"d":"290,000"},{"v":290000,"d":"290,000"},null,0,{"v":411155,"d":"411,155"},{"v":411155,"d":"411,155"}]
[2017,0,{"v":6551,"d":"6,551"},{"v":6551,"d":"6,551"},null,0,{"v":110000,"d":"110,000"},{"v":110000,"d":"110,000"},null,0,{"v":116551,"d":"116,551"},{"v":116551,"d":"116,551"}]
[2019,0,{"v":7424,"d":"7,424"},{"v":7424,"d":"7,424"},null,0,{"v":300000,"d":"300,000"},{"v":300000,"d":"300,000"},null,0,{"v":307424,"d":"307,424"},{"v":307424,"d":"307,424"}]
[2021,0,{"v":159371,"d":"159,371"},{"v":159371,"d":"159,371"},null,0,{"v":460000,"d":"460,000"},{"v":460000,"d":"460,000"},null,0,{"v":619371,"d":"619,371"},{"v":619371,"d":"619,371"}]
["2023g/",0,{"v":41247,"d":"41,247"},{"v":41247,"d":"41,247"},null,0,{"v":470000,"d":"470,000"},{"v":470000,"d":"470,000"},null,0,{"v":511247,"d":"511,247"},{"v":511247,"d":"511,247"}]
["GOALd/",{"$nulls":5},{"v":330000,"d":"330,000"}]
[]
["Hood Canal"]
["1981-1989",{"$f":"AVERAGE(B81:B85)","v":{"v":2252,"d":"2,252"}},{"$f":"AVERAGE(C81:C85)","v":{"v":9729.2,"d":"9,729"}},{"$f":"AVERAGE(D81:D85)","v":{"v":11981.2,"d":"11,981"}},null,{"$f":"AVERAGE(F81:F85)","v":{"v":2814.4,"d":"2,814"}},{"$f":"AVERAGE(G81:G85)","v":{"v":43808.6,"d":"43,809"}},{"$f":"AVERAGE(H81:H85)","v":{"v":46623,"d":"46,623"}},null,{"$f":"AVERAGE(J81:J85)","v":{"v":5066.4,"d":"5,066"}},{"$f":"AVERAGE(K81:K85)","v":{"v":53537.8,"d":"53,538"}},{"$f":"AVERAGE(L81:L85)","v":{"v":58604.2,"d":"58,604"}}]
["1991-1999",{"$f":"AVERAGE(B86:B90)","v":{"v":1243,"d":"1,243"}},{"$f":"AVERAGE(C86:C90)","v":{"v":4075.4,"d":"4,075"}},{"$f":"AVERAGE(D86:D90)","v":{"v":5318.4,"d":"5,318"}},null,{"$f":"AVERAGE(F86:F90)","v":{"v":13718.8,"d":"13,719"}},{"$f":"AVERAGE(G86:G90)","v":{"v":41286.6,"d":"41,287"}},{"$f":"AVERAGE(H86:H90)","v":{"v":55005.4,"d":"55,005"}},null,{"$f":"AVERAGE(J86:J90)","v":{"v":14961.8,"d":"14,962"}},{"$f":"AVERAGE(K86:K90)","v":{"v":45362,"d":"45,362"}},{"$f":"AVERAGE(L86:L90)","v":{"v":60323.8,"d":"60,324"}}]
[2001,{"$f":"B91","v":{"v":4401,"d":"4,401"}},{"v":5956,"d":"5,956"},{"v":10357,"d":"10,357"},null,{"$f":"F91","v":{"v":71539,"d":"71,539"}},{"v":98338,"d":"98,338"},{"v":169877,"d":"169,877"},null,{"$f":"J91","v":{"v":75940,"d":"75,940"}},{"v":104294,"d":"104,294"},{"v":180234,"d":"180,234"}]
[2003,{"v":2060,"d":"2,060"},{"v":3272,"d":"3,272"},{"v":5332,"d":"5,332"},null,{"v":25217,"d":"25,217"},{"v":37531,"d":"37,531"},{"v":62748,"d":"62,748"},null,{"v":27277,"d":"27,277"},{"v":40803,"d":"40,803"},{"v":68080,"d":"68,080"}]
[2005,401,691,{"v":1092,"d":"1,092"},null,{"v":14107,"d":"14,107"},{"v":17481,"d":"17,481"},{"v":31588,"d":"31,588"},null,{"v":14508,"d":"14,508"},{"v":18172,"d":"18,172"},{"v":32680,"d":"32,680"}]
[2007,261,{"v":1722,"d":"1,722"},{"v":1983,"d":"1,983"},null,{"v":4406,"d":"4,406"},{"v":29001,"d":"29,001"},{"v":33407,"d":"33,407"},null,{"v":4667,"d":"4,667"},{"v":30723,"d":"30,723"},{"v":35390,"d":"35,390"}]
[2009,{"v":3552,"d":"3,552"},893,{"v":4445,"d":"4,445"},null,{"v":22455,"d":"22,455"},{"v":11093,"d":"11,093"},{"v":33548,"d":"33,548"},null,{"v":26007,"d":"26,007"},{"v":11986,"d":"11,986"},{"v":37993,"d":"37,993"}]
[2011,{"v":5441,"d":"5,441"},{"v":1375,"d":"1,375"},{"v":6816,"d":"6,816"},null,{"v":17792,"d":"17,792"},{"v":15122,"d":"15,122"},{"v":32914,"d":"32,914"},null,{"v":23233,"d":"23,233"},{"v":16497,"d":"16,497"},{"v":39730,"d":"39,730"}]
[2013,{"v":2160,"d":"2,160"},{"v":12398,"d":"12,398"},{"v":14558,"d":"14,558"},null,{"v":4904,"d":"4,904"},{"v":195600.90000000002,"d":"195,601"},{"v":200504.90000000002,"d":"200,505"},null,{"v":7064,"d":"7,064"},{"v":207998.90000000002,"d":"207,999"},{"v":215062.90000000002,"d":"215,063"}]
[2015,643,{"v":43196,"d":"43,196"},{"v":43839,"d":"43,839"},null,{"v":5948,"d":"5,948"},{"v":595679,"d":"595,679"},{"v":601627,"d":"601,627"},null,{"v":6591,"d":"6,591"},{"v":638875,"d":"638,875"},{"v":645466,"d":"645,466"}]
[2017,{"v":1002,"d":"1,002"},{"v":2308,"d":"2,308"},{"v":3310,"d":"3,310"},null,{"v":2544,"d":"2,544"},{"v":32988,"d":"32,988"},{"v":35532,"d":"35,532"},null,{"v":3546,"d":"3,546"},{"v":35296,"d":"35,296"},{"v":38842,"d":"38,842"}]
[2019,{"v":3090,"d":"3,090"},{"v":2374,"d":"2,374"},{"v":5464,"d":"5,464"},null,{"v":9608,"d":"9,608"},{"v":59249,"d":"59,249"},{"v":68857,"d":"68,857"},null,{"v":12698,"d":"12,698"},{"v":61623,"d":"61,623"},{"v":74321,"d":"74,321"}]
[2021,648,{"v":12926,"d":"12,926"},{"v":13574,"d":"13,574"},null,{"v":6672,"d":"6,672"},{"v":475286,"d":"475,286"},{"v":481958,"d":"481,958"},null,{"v":7320,"d":"7,320"},{"v":488212,"d":"488,212"},{"v":495532,"d":"495,532"}]
[2023,348,{"v":19439,"d":"19,439"},{"v":19787,"d":"19,787"},null,{"v":9558,"d":"9,558"},{"v":983450,"d":"983,450"},{"v":993008,"d":"993,008"},null,{"v":9906,"d":"9,906"},{"v":1002889,"d":"1,002,889"},{"v":1012795,"d":"1,012,795"}]
["GOALd/",{"$nulls":4},"Not Agreed Upon"]
[]
["TABLE B-43.  Puget Sound commercial net fishery catches and spawning escapements in numbers of fish for hatchery and natural Puget Sound pink stocks.a/  (Page 3 of 4)"]
[]
["Year or Average (odd-year) ","Commercial Net Catches",{"$nulls":3},"Spawning Escapement",{"$nulls":3},"Puget Sound Run Sizec/"]
[null,"Hatcheryb/","Natural","Total",null,"Hatcheryb/","Natural","Total",null,"Hatcheryb/","Natural","Total"]
["Stillaguamish-Snohomish"]
["1981-1989",{"$f":"AVERAGE(B106:B110)","v":{"v":75.6,"d":"76"}},{"$f":"AVERAGE(C106:C110)","v":{"v":154539.2,"d":"154,539"}},{"$f":"AVERAGE(D106:D110)","v":{"v":154615.2,"d":"154,615"}},null,{"$f":"AVERAGE(F106:F110)","v":201},{"$f":"AVERAGE(G106:G110)","v":{"v":271327.6,"d":"271,328"}},{"$f":"AVERAGE(H106:H110)","v":{"v":271528.6,"d":"271,529"}},null,{"$f":"AVERAGE(J106:J110)","v":{"v":276.2,"d":"276"}},{"$f":"AVERAGE(K106:K110)","v":{"v":425866.8,"d":"425,867"}},{"$f":"AVERAGE(L106:L110)","v":{"v":426143.8,"d":"426,144"}}]
["1991-1999",{"$f":"AVERAGE(B111:B115)","v":{"v":38.6,"d":"39"}},{"$f":"AVERAGE(C111:C115)","v":{"v":71055.2,"d":"71,055"}},{"$f":"AVERAGE(D111:D115)","v":{"v":71094,"d":"71,094"}},null,{"$f":"AVERAGE(F111:F115)","v":{"v":121.6,"d":"122"}},{"$f":"AVERAGE(G111:G115)","v":{"v":286650.4,"d":"286,650"}},{"$f":"AVERAGE(H111:H115)","v":{"v":286772,"d":"286,772"}},null,{"$f":"AVERAGE(J111:J115)","v":{"v":159.8,"d":"160"}},{"$f":"AVERAGE(K111:K115)","v":{"v":357705.6,"d":"357,706"}},{"$f":"AVERAGE(L111:L115)","v":{"v":357866,"d":"357,866"}}]
[2001,{"$f":"B116","v":0},{"v":199908,"d":"199,908"},{"v":199908,"d":"199,908"},null,{"$f":"F116","v":0},{"v":1847648,"d":"1,847,648"},{"v":1847648,"d":"1,847,648"},null,{"$f":"J116","v":0},{"v":2047556,"d":"2,047,556"},{"v":2047556,"d":"2,047,556"}]
[2003,0,{"v":288985,"d":"288,985"},{"v":288985,"d":"288,985"},null,0,{"v":1577001,"d":"1,577,001"},{"v":1577001,"d":"1,577,001"},null,0,{"v":1865986,"d":"1,865,986"},{"v":1865986,"d":"1,865,986"}]
[2005,0,{"v":66615,"d":"66,615"},{"v":66615,"d":"66,615"},null,0,{"v":600124,"d":"600,124"},{"v":600124,"d":"600,124"},null,0,{"v":666739,"d":"666,739"},{"v":666739,"d":"666,739"}]
[2007,0,{"v":132876,"d":"132,876"},{"v":132876,"d":"132,876"},null,0,{"v":1383591,"d":"1,383,591"},{"v":1383591,"d":"1,383,591"},null,0,{"v":1516467,"d":"1,516,467"},{"v":1516467,"d":"1,516,467"}]
[2009,0,{"v":849860,"d":"849,860"},{"v":849860,"d":"849,860"},null,0,{"v":2882373,"d":"2,882,373"},{"v":2882373,"d":"2,882,373"},null,0,{"v":3732233,"d":"3,732,233"},{"v":3732233,"d":"3,732,233"}]
[2011,0,{"v":627735,"d":"627,735"},{"v":627735,"d":"627,735"},null,0,{"v":612903,"d":"612,903"},{"v":612903,"d":"612,903"},null,0,{"v":1240638,"d":"1,240,638"},{"v":1240638,"d":"1,240,638"}]
[2013,0,{"v":179818,"d":"179,818"},{"v":179818,"d":"179,818"},null,0,{"v":3255886.255128028,"d":"3,255,886"},{"v":3255886.255128028,"d":"3,255,886"},null,0,{"v":3435704.255128028,"d":"3,435,704"},{"v":3435704.255128028,"d":"3,435,704"}]
[2015,0,{"v":211504,"d":"211,504"},{"v":211504,"d":"211,504"},null,0,{"v":480674,"d":"480,674"},{"v":480674,"d":"480,674"},null,0,{"v":692178,"d":"692,178"},{"v":692178,"d":"692,178"}]
[2017,0,{"v":14875,"d":"14,875"},{"v":14875,"d":"14,875"},null,0,{"v":78953,"d":"78,953"},{"v":78953,"d":"78,953"},null,0,{"v":93828,"d":"93,828"},{"v":93828,"d":"93,828"}]
[2019,3,{"v":30442,"d":"30,442"},{"v":30446,"d":"30,446"},null,92,{"v":651275,"d":"651,275"},{"v":651367,"d":"651,367"},null,95,{"v":681717,"d":"681,717"},{"v":681813,"d":"681,813"}]
[2021,0,{"v":111467,"d":"111,467"},{"v":111467,"d":"111,467"},null,0,{"v":987940.9743336332,"d":"987,941"},{"v":987940.9743336332,"d":"987,941"},null,0,{"v":1099407.9743336332,"d":"1,099,408"},{"v":1099407.9743336332,"d":"1,099,408"}]
[2023,0,{"v":128386,"d":"128,386"},{"v":128386,"d":"128,386"},null,0,{"v":1102108,"d":"1,102,108"},{"v":1102108,"d":"1,102,108"},null,0,{"v":1230494,"d":"1,230,494"},{"v":1230494,"d":"1,230,494"}]
["GOALd/ - Stillaguamish",{"$nulls":5},{"v":155000,"d":"155,000"}]
["GOALd/ - Snohomish",{"$nulls":5},{"v":120000,"d":"120,000"}]
[]
["South Puget Sound"]
["1981-1989",{"$f":"AVERAGE(B132:B136)","v":{"v":651.2,"d":"651"}},{"$f":"AVERAGE(C132:C136)","v":{"v":17148.8,"d":"17,149"}},{"$f":"AVERAGE(D132:D136)","v":{"v":17800,"d":"17,800"}},null,{"$f":"AVERAGE(F132:F136)","v":{"v":281.6,"d":"282"}},{"$f":"AVERAGE(G132:G136)","v":{"v":32803,"d":"32,803"}},{"$f":"AVERAGE(H132:H136)","v":{"v":33084.6,"d":"33,085"}},null,{"$f":"AVERAGE(J132:J136)","v":{"v":932.8,"d":"933"}},{"$f":"AVERAGE(K132:K136)","v":{"v":49951.8,"d":"49,952"}},{"$f":"AVERAGE(L132:L136)","v":{"v":50884.6,"d":"50,885"}}]
["1991-1999e/",{"$f":"AVERAGE(B137:B141)","v":{"v":88.2,"d":"88"}},{"$f":"AVERAGE(C137:C141)","v":{"v":3846.6,"d":"3,847"}},{"$f":"AVERAGE(D137:D141)","v":{"v":3935,"d":"3,935"}},null,{"$f":"AVERAGE(F137:F141)","v":{"v":90.2,"d":"90"}},{"$f":"AVERAGE(G137:G141)","v":{"v":10482.6,"d":"10,483"}},{"$f":"AVERAGE(H137:H141)","v":{"v":10572.8,"d":"10,573"}},null,{"$f":"AVERAGE(J137:J141)","v":{"v":178.2,"d":"178"}},{"$f":"AVERAGE(K137:K141)","v":{"v":14329.6,"d":"14,330"}},{"$f":"AVERAGE(L137:L141)","v":{"v":14507.8,"d":"14,508"}}]
["2001e/f/",{"$f":"B142","v":0},{"v":3128,"d":"3,128"},{"v":3128,"d":"3,128"},null,{"$f":"F142","v":0},{"v":26692,"d":"26,692"},{"v":26692,"d":"26,692"},null,{"$f":"J142","v":0},{"v":29820,"d":"29,820"},{"v":29820,"d":"29,820"}]
["2003e/f/",0,{"v":30795,"d":"30,795"},{"v":30795,"d":"30,795"},null,0,{"v":391702,"d":"391,702"},{"v":391702,"d":"391,702"},null,0,{"v":422497,"d":"422,497"},{"v":422497,"d":"422,497"}]
["2005e/f/",0,{"v":55263,"d":"55,263"},{"v":55263,"d":"55,263"},null,0,{"v":1087906,"d":"1,087,906"},{"v":1087906,"d":"1,087,906"},null,0,{"v":1143169,"d":"1,143,169"},{"v":1143169,"d":"1,143,169"}]
["2007e/f/",0,{"v":84180,"d":"84,180"},{"v":84180,"d":"84,180"},null,0,{"v":1218896,"d":"1,218,896"},{"v":1218896,"d":"1,218,896"},null,0,{"v":1303076,"d":"1,303,076"},{"v":1303076,"d":"1,303,076"}]
["2009e/f/",0,{"v":695324,"d":"695,324"},{"v":695324,"d":"695,324"},null,0,{"v":4091283,"d":"4,091,283"},{"v":4091283,"d":"4,091,283"},null,0,{"v":4786607,"d":"4,786,607"},{"v":4786607,"d":"4,786,607"}]
["2011f/",0,{"v":508165,"d":"508,165"},{"v":508165,"d":"508,165"},null,1,{"v":2653807.8904761905,"d":"2,653,808"},{"v":2653808.8904761905,"d":"2,653,809"},null,1,{"v":3161972.8904761905,"d":"3,161,973"},{"v":3161973.8904761905,"d":"3,161,974"}]
["2013f/",40,{"v":546067,"d":"546,067"},{"v":546107,"d":"546,107"},null,6,{"v":2164300,"d":"2,164,300"},{"v":2164306,"d":"2,164,306"},null,46,{"v":2710367,"d":"2,710,367"},{"v":2710413,"d":"2,710,413"}]
["2015f/",65,{"v":288194,"d":"288,194"},{"v":288259,"d":"288,259"},null,115,{"v":1001183,"d":"1,001,183"},{"v":1001298,"d":"1,001,298"},null,180,{"v":1289377,"d":"1,289,377"},{"v":1289557,"d":"1,289,557"}]
["2017f/",0,{"v":31968,"d":"31,968"},{"v":31968,"d":"31,968"},null,2,{"v":215468,"d":"215,468"},{"v":215470,"d":"215,470"},null,2,{"v":247436,"d":"247,436"},{"v":247438,"d":"247,438"}]
["2019f/",0,{"v":101175,"d":"101,175"},{"v":101175,"d":"101,175"},null,18,{"v":1703440,"d":"1,703,440"},{"v":1703458,"d":"1,703,458"},null,18,{"v":1804615,"d":"1,804,615"},{"v":1804633,"d":"1,804,633"}]
["2021g/",48,{"v":143056.00000000012,"d":"143,056"},{"v":143104.00000000012,"d":"143,104"},null,1,{"v":1010121.1394050802,"d":"1,010,121"},{"v":1010122.1394050802,"d":"1,010,122"},null,49,{"v":1153177.1394050804,"d":"1,153,177"},{"v":1153226.1394050804,"d":"1,153,226"}]
["2023f/",4,{"v":321564.00000000047,"d":"321,564"},{"v":321566.00000000047,"d":"321,566"},null,80,{"v":3941871.5120320856,"d":"3,941,872"},{"v":3941951.5120320856,"d":"3,941,952"},null,84,{"v":4263435.512032086,"d":"4,263,436"},{"v":4263517.512032086,"d":"4,263,518"}]
["GOALd/",{"$nulls":5},{"v":25000,"d":"25,000"}]
[]
["TABLE B-43.  Puget Sound commercial net fishery catches and spawning escapements in numbers of fish for hatchery and natural Puget Sound pink stocks.a/  (Page 4 of 4)"]
[]
[{"$f":"A155","v":"a/  Includes treaty Indian and non-Indian net commercial catches during the adult accounting period.  Source:  Puget Sound run reconstruction model."}]
["b/  Includes estimated off-station returns."]
["c/  Puget Sound run size is defined as the run available to Puget Sound fisheries; spawning escapement plus Puget Sound fishery catch.  Includes fish caught by treaty net fisheries and non-Indian commercial and recreational fisheries inside Puget Sound."]
["d/  State-Tribal comanager goal; the only Council goal is for a total Puget Sound pink salmon spawning escapement of 900,000 natural spawners."]
["e/  Nisqually escapement estimate incomplete."]
["f/   Green river returns included in run reconstruction."]
["g/   Preliminary."]

{"sheet":"B-44","index":45,"n_rows":109,"n_cols":12,"rows_kept":109,"merged":[[0,0,0,11],[1,1,1,11],[2,1,2,2],[2,4,2,5],[2,7,2,8],[2,10,3,10],[2,11,3,11],[4,7,4,8],[5,7,5,8],[6,7,6,8],[7,7,7,8],[8,7,8,8],[9,7,9,8],[10,7,10,8],[11,7,11,8],[12,7,12,8],[13,7,13,8],[14,7,14,8],[15,7,15,8],[16,7,16,8],[17,7,17,8],[18,7,18,8],[19,7,19,8],[20,7,20,8],[21,7,21,8],[22,7,22,8],[23,7,23,8],[24,7,24,8],[25,7,25,8],[26,7,26,8],[27,7,27,8],[28,7,28,8],[29,7,29,8],[30,7,30,8],[31,7,31,8],[32,7,32,8],[33,7,33,8],[34,7,34,8],[35,7,35,8],[36,7,36,8],[37,7,37,8],[38,7,38,8],[39,7,39,8],[40,7,40,8],[41,7,41,8],[49,0,49,11],[50,0,50,11],[51,0,51,11],[52,0,52,11],[54,0,54,11],[55,0,55,11],[56,0,56,11],[76,0,76,11],[77,1,77,11],[78,1,78,2],[78,4,78,5],[78,7,78,8],[78,10,79,10],[78,11,79,11],[80,7,80,8],[81,7,81,8],[82,7,82,8],[83,7,83,8],[84,7,84,8],[85,7,85,8],[86,7,86,8],[87,7,87,8],[88,7,88,8],[89,7,89,8],[90,7,90,8],[91,7,91,8],[92,7,92,8],[93,7,93,8],[101,0,101,11],[102,0,102,11],[103,0,103,11],[104,0,104,11],[105,0,105,11],[106,0,106,11],[107,0,107,11],[108,0,108,11],[109,0,109,11]]}
["TABLE B-44.  Puget Sound spring Chinook spawning escapement estimates in numbers of adult fish."]
[null,"Stock"]
[null,"Skagit",null,null,"NF Nooksack ",null,null,"SF Nooksacka/",null,null,"White  River Hatcheryf/","Quilcene Hatcheryg/"]
["Year or Average","Hatcheryb/","Natural",null,"Hatcheryb/","Naturalc/d/",null," Hatchery","Naturalc/d/e/"]
[1981,123,{"v":1362,"d":"1,362"},null,"NA","NA",null,"NA",null,null,175,"NA"]
[1982,68,965,null,"NA","NA",null,"NA",null,null,20,"NA"]
[1983,38,710,null,"NA","NA",null,"NA",null,null,42,"NA"]
[1984,6,755,null,0,45,null,188,null,null,52,"NA"]
[1985,12,{"v":3249,"d":"3,249"},null,0,258,null,445,null,null,62,149]
[1986,43,{"v":1977,"d":"1,977"},null,0,226,null,170,null,null,192,197]
[1987,26,{"v":1981,"d":"1,981"},null,0,181,null,248,null,null,261,115]
[1988,123,{"v":2064,"d":"2,064"},null,0,456,null,233,null,null,631,119]
[1989,303,{"v":1516,"d":"1,516"},null,0,303,null,606,null,null,438,120]
[1990,308,{"v":1592,"d":"1,592"},null,0,10,null,142,null,null,517,76]
[1991,386,{"v":1442,"d":"1,442"},null,151,108,null,365,null,null,426,23]
[1992,249,986,null,{"v":1016,"d":"1,016"},498,null,103,null,null,{"v":1039,"d":"1,039"},20]
[1993,{"v":1574,"d":"1,574"},782,null,{"v":1364,"d":"1,364"},449,null,235,null,null,948,27]
[1994,881,470,null,549,45,null,118,null,null,{"v":1227,"d":"1,227"},10]
[1995,984,855,null,769,230,null,290,null,null,{"v":1684,"d":"1,684"},16]
[1996,856,{"v":1051,"d":"1,051"},null,{"v":1070,"d":"1,070"},535,null,203,null,null,{"v":1625,"d":"1,625"},12]
[1997,{"v":1059,"d":"1,059"},{"v":1041,"d":"1,041"},null,{"v":1663,"d":"1,663"},617,null,180,null,null,{"v":1609,"d":"1,609"},16]
[1998,{"v":1050,"d":"1,050"},{"v":1086,"d":"1,086"},null,{"v":1280,"d":"1,280"},370,null,157,null,null,{"v":2710,"d":"2,710"},5]
[1999,{"v":3172,"d":"3,172"},471,null,{"v":3992,"d":"3,992"},823,null,288,null,null,{"v":1448,"d":"1,448"},4]
[2000,{"v":1102,"d":"1,102"},{"v":1021,"d":"1,021"},null,{"v":2052,"d":"2,052"},{"v":1242,"d":"1,242"},null,373,null,null,{"v":2650,"d":"2,650"},0]
[2001,{"v":1566,"d":"1,566"},{"v":1856,"d":"1,856"},null,{"v":5363,"d":"5,363"},{"v":2185,"d":"2,185"},null,420,null,null,{"v":3074,"d":"3,074"},0]
[2002,{"v":1663,"d":"1,663"},{"v":1065,"d":"1,065"},null,{"v":5649,"d":"5,649"},{"v":3741,"d":"3,741"},null,625,null,null,{"v":1656,"d":"1,656"},0]
[2003,{"v":1545,"d":"1,545"},844,null,{"v":5046,"d":"5,046"},{"v":2857,"d":"2,857"},null,570,null,null,{"v":2734,"d":"2,734"},0]
[2004,{"v":3107,"d":"3,107"},{"v":1575,"d":"1,575"},null,{"v":3501,"d":"3,501"},{"v":1719,"d":"1,719"},null,170,null,null,{"v":2863,"d":"2,863"},0]
[2005,{"v":2258,"d":"2,258"},{"v":1246,"d":"1,246"},null,{"v":1569,"d":"1,569"},{"v":2047,"d":"2,047"},null,230,null,null,{"v":3488,"d":"3,488"},0]
[2006,{"v":1487,"d":"1,487"},{"v":1896,"d":"1,896"},null,732,{"v":1184,"d":"1,184"},null,515,null,null,{"v":3864,"d":"3,864"},0]
[2007,{"v":1931,"d":"1,931"},613,null,665,{"v":1438,"d":"1,438"},null,323,null,null,{"v":8005,"d":"8,005"},0]
[2008,{"v":1462,"d":"1,462"},{"v":1470,"d":"1,470"},null,{"v":1194,"d":"1,194"},{"v":1266,"d":"1,266"},null,443,null,null,{"v":3575,"d":"3,575"},0]
[2009,900,978,null,812,{"v":1903,"d":"1,903"},null,453,null,null,{"v":2342,"d":"2,342"},0]
[2010,{"v":1371,"d":"1,371"},{"v":1361,"d":"1,361"},null,{"v":1279,"d":"1,279"},{"v":2048,"d":"2,048"},null,548,null,null,{"v":2071,"d":"2,071"},0]
[2011,{"v":1301,"d":"1,301"},825,null,{"v":1404,"d":"1,404"},865,null,470,null,null,{"v":3151,"d":"3,151"},0]
[2012,{"v":1579,"d":"1,579"},{"v":2774,"d":"2,774"},null,{"v":1215,"d":"1,215"},758,null,508,null,null,{"v":3819,"d":"3,819"},0]
[2013,{"v":1256,"d":"1,256"},{"v":2010,"d":"2,010"},null,{"v":2297,"d":"2,297"},{"v":1346,"d":"1,346"},null,243,null,null,{"v":6541,"d":"6,541"},0]
[2014,{"v":1109,"d":"1,109"},{"v":1608,"d":"1,608"},null,{"v":1998,"d":"1,998"},{"v":1398,"d":"1,398"},null,208,null,null,{"v":2131,"d":"2,131"},0]
[2015,{"v":1836,"d":"1,836"},{"v":1409,"d":"1,409"},null,{"v":2994,"d":"2,994"},{"v":1717,"d":"1,717"},null,135,null,null,{"v":2893,"d":"2,893"},0]
[2016,{"v":2441,"d":"2,441"},{"v":2445,"d":"2,445"},null,{"v":1806,"d":"1,806"},{"v":1141,"d":"1,141"},null,654,null,null,{"v":6585,"d":"6,585"},0]
[2017,{"v":3325,"d":"3,325"},{"v":2850,"d":"2,850"},null,{"v":2301,"d":"2,301"},{"v":2016,"d":"2,016"},null,981,null,null,{"v":9986,"d":"9,986"},0]
[2018,{"v":2333,"d":"2,333"},{"v":2376,"d":"2,376"},null,{"v":2171,"d":"2,171"},{"v":1791,"d":"1,791"},null,{"v":1341,"d":"1,341"},null,null,{"v":6530,"d":"6,530"},0]
["2019h/",{"$f":"1734+91","v":{"v":1825,"d":"1,825"}},{"v":1131,"d":"1,131"},null,{"v":1516,"d":"1,516"},880,null,{"v":1504,"d":"1,504"},579,null,{"v":5108,"d":"5,108"},0]
["2020h/",{"$f":"1827+61","v":{"v":1888,"d":"1,888"}},{"v":1449,"d":"1,449"},null,{"v":1573,"d":"1,573"},349,null,{"v":3026,"d":"3,026"},{"v":1479,"d":"1,479"},null,{"v":4974,"d":"4,974"},0]
["2021h/",{"$f":"2558+643","v":{"v":3201,"d":"3,201"}},{"v":1602,"d":"1,602"},null,{"v":5085,"d":"5,085"},{"v":1151,"d":"1,151"},null,{"v":1637,"d":"1,637"},{"v":3513,"d":"3,513"},null,{"v":6931,"d":"6,931"},0]
["2022h/",{"$f":"3672+214","v":{"v":3886,"d":"3,886"}},{"v":3487,"d":"3,487"},null,{"v":4140,"d":"4,140"},"NA",null,{"v":2826,"d":"2,826"},"NA",null,{"v":5804,"d":"5,804"},0]
["2023h/",{"v":2993,"d":"2,993"},{"v":2174,"d":"2,174"},null,{"v":4005,"d":"4,005"},"NA",null,{"v":2154,"d":"2,154"},"NA",null,{"v":5699,"d":"5,699"},0]
["2024h/",{"v":4026,"d":"4,026"},{"v":2201,"d":"2,201"},null,{"v":4184,"d":"4,184"},"NA",null,{"v":1631,"d":"1,631"},"NA",null,{"v":4109,"d":"4,109"},0]
["GOAL",null,{"v":2000,"d":"2,000"}]
["a/ Beginning in 2019, data were available to independently account for hatchery and natural spawning escapement. Prior to 2019, natural and hatchery spawning escapement are combined."]
["b/  Hatchery escapement estimates include all rack returns (retained and released)."]
["c/  Natural escapement estimates based on carcass counts expanded by a 3.48 multiplier developed from 5 years of redd count-based estimates.  Most natural spawners are hatchery fish spawning in the wild."]
["d/ Nooksack basin co-managers updated spawning ground escapements to report \"Total Basin Escapement\" for each Spring Chinook stock starting with Run Year 2016. "]
["e/ The 2021 SF Nooksack \"natural\" spawning ground escapement includes an estimated 2,333 pre-spawn mortalities from a mass mortality event in the SF Nooksack River."]
["f/ Estimate includes adult returns to Hupp Springs, White R. Hatchery, and Buckley Trap. Data from 1999 - 2017 were updated using new \"agreed-to\" methodology for estimating unsampled portions of Spring Chinook back to Buckley Trap with Fall/Unknown origin fish removed from the estimate. "]
["g/  Program discontinued."]
["h/  Preliminary."]
{"$rows_empty":19}
["TABLE B-44.  Puget Sound spring Chinook spawning escapement estimates in numbers of adult fish."]
[null,"Stock"]
[null,"Skagit",null,null,"NF Nooksack ",null,null,"SF Nooksacka/",null,null,"White  River Hatcheryf/","Quilcene Hatcheryg/"]
["Year or Average","Hatcheryb/","Natural",null,"Hatcheryb/","Naturalc/d/",null," Hatchery","Naturalc/d/e/"]
["1981-1985",{"$f":"AVERAGE(B5:B9)","v":{"v":49.4,"d":"49"}},{"$f":"AVERAGE(C5:C9)","v":{"v":1408.2,"d":"1,408"}},null,0,{"v":151.5,"d":"152"},null,{"$f":"AVERAGE(H8:I9)","v":{"v":316.5,"d":"317"}},null,null,{"v":70.2,"d":"70"},149]
["1986-1990",{"$f":"AVERAGE(B10:B14)","v":{"v":160.6,"d":"161"}},{"$f":"AVERAGE(C10:C14)","v":{"v":1826,"d":"1,826"}},null,0,{"v":235.2,"d":"235"},null,{"$f":"AVERAGE(H10:I14)","v":{"v":279.8,"d":"280"}},null,null,{"v":407.8,"d":"408"},{"v":125.4,"d":"125"}]
["1991-1995",{"$f":"AVERAGE(B15:B19)","v":{"v":814.8,"d":"815"}},{"$f":"AVERAGE(C15:C19)","v":907},null,{"v":769.8,"d":"770"},266,null,{"$f":"AVERAGE(H15:I19)","v":{"v":222.2,"d":"222"}},null,null,{"v":1064.8,"d":"1,065"},{"v":19.2,"d":"19"}]
["1996-2000",{"$f":"AVERAGE(B20:B24)","v":{"v":1447.8,"d":"1,448"}},{"$f":"AVERAGE(C20:C24)","v":934},null,{"v":2011.4,"d":"2,011"},{"v":717.4,"d":"717"},null,{"$f":"AVERAGE(H20:I24)","v":{"v":240.2,"d":"240"}},null,null,{"v":2008.4,"d":"2,008"},{"v":7.4,"d":"7"}]
["2001-2005",{"$f":"AVERAGE(B25:B29)","v":{"v":2027.8,"d":"2,028"}},{"$f":"AVERAGE(C25:C29)","v":{"v":1317.2,"d":"1,317"}},null,{"v":4225.6,"d":"4,226"},{"v":2509.8,"d":"2,510"},null,{"$f":"AVERAGE(H25:I29)","v":403},null,null,{"v":2763,"d":"2,763"},0]
["2006-2010",{"$f":"AVERAGE(B30:B34)","v":{"v":1430.2,"d":"1,430"}},{"$f":"AVERAGE(C30:C34)","v":{"v":1263.6,"d":"1,264"}},null,{"v":936.4,"d":"936"},{"v":1567.8,"d":"1,568"},null,{"$f":"AVERAGE(H30:I34)","v":{"v":456.4,"d":"456"}},null,null,{"v":3971.4,"d":"3,971"},0]
[2011,{"$f":"B35","v":{"v":1301,"d":"1,301"}},825,null,{"$f":"E35","v":{"v":1404,"d":"1,404"}},{"$f":"F35","v":865},null,{"$f":"H35","v":470},null,null,{"$f":"K35","v":{"v":3151,"d":"3,151"}},0]
[2012,{"v":1579,"d":"1,579"},{"v":2774,"d":"2,774"},null,{"$f":"E36","v":{"v":1215,"d":"1,215"}},{"$f":"F36","v":758},null,508,null,null,{"v":3819,"d":"3,819"},0]
[2013,{"v":1256,"d":"1,256"},{"v":2010,"d":"2,010"},null,{"$f":"E37","v":{"v":2297,"d":"2,297"}},{"v":1346,"d":"1,346"},null,243,null,null,{"v":6541,"d":"6,541"},0]
[2014,{"v":1109,"d":"1,109"},{"v":1608,"d":"1,608"},null,{"$f":"E38","v":{"v":1998,"d":"1,998"}},{"v":1398,"d":"1,398"},null,208,null,null,{"v":2131,"d":"2,131"},0]
[2015,{"v":1836,"d":"1,836"},{"v":1409,"d":"1,409"},null,{"$f":"E39","v":{"v":2994,"d":"2,994"}},{"v":1717,"d":"1,717"},null,135,null,null,{"v":2893,"d":"2,893"},0]
[2016,{"v":2441,"d":"2,441"},{"v":2445,"d":"2,445"},null,{"$f":"E40","v":{"v":1806,"d":"1,806"}},{"v":1141,"d":"1,141"},null,654,null,null,{"v":6585,"d":"6,585"},0]
[2017,{"v":3325,"d":"3,325"},{"v":2850,"d":"2,850"},null,{"$f":"E41","v":{"v":2301,"d":"2,301"}},{"v":2016,"d":"2,016"},null,981,null,null,{"v":9986,"d":"9,986"},0]
[2018,{"v":2333,"d":"2,333"},{"v":2376,"d":"2,376"},null,{"$f":"E42","v":{"v":2171,"d":"2,171"}},{"v":1791,"d":"1,791"},null,{"v":1341,"d":"1,341"},null,null,{"v":6530,"d":"6,530"},0]
["2019h/",{"v":1825,"d":"1,825"},{"v":1131,"d":"1,131"},null,{"$f":"E43","v":{"v":1516,"d":"1,516"}},880,null,{"v":1504,"d":"1,504"},{"$f":"I43","v":579},null,{"v":5108,"d":"5,108"},0]
["2020h/",{"v":1888,"d":"1,888"},{"v":1449,"d":"1,449"},null,{"$f":"E44","v":{"v":1573,"d":"1,573"}},349,null,{"v":3026,"d":"3,026"},{"$f":"I44","v":{"v":1479,"d":"1,479"}},null,{"v":4974,"d":"4,974"},0]
["2021h/",{"v":3201,"d":"3,201"},{"v":1602,"d":"1,602"},null,{"$f":"E45","v":{"v":5085,"d":"5,085"}},{"$f":"F45","v":{"v":1151,"d":"1,151"}},null,{"v":1637,"d":"1,637"},{"$f":"I45","v":{"v":3513,"d":"3,513"}},null,{"v":6931,"d":"6,931"},0]
["2022h/",{"v":3886,"d":"3,886"},{"v":3487,"d":"3,487"},null,{"$f":"E46","v":{"v":4140,"d":"4,140"}},{"$f":"F46","v":"NA"},null,{"v":2826,"d":"2,826"},{"$f":"I46","v":"NA"},null,{"v":5804,"d":"5,804"},0]
["2023h/",{"$f":"B47","v":{"v":2993,"d":"2,993"}},{"$f":"C47","v":{"v":2174,"d":"2,174"}},null,{"$f":"E47","v":{"v":4005,"d":"4,005"}},"NA",null,{"$f":"H47","v":{"v":2154,"d":"2,154"}},"NA",null,{"v":5699,"d":"5,699"},0]
["2024h/",{"$f":"B48","v":{"v":4026,"d":"4,026"}},{"v":2201,"d":"2,201"},null,{"v":4184,"d":"4,184"},"NA",null,{"v":1631,"d":"1,631"},"NA",null,{"v":4109,"d":"4,109"},0]
["GOAL",null,{"$f":"C49","v":{"v":2000,"d":"2,000"}}]
[{"$f":"A50","v":"a/ Beginning in 2019, data were available to independently account for hatchery and natural spawning escapement. Prior to 2019, natural and hatchery spawning escapement are combined."}]
[{"$f":"A51","v":"b/  Hatchery escapement estimates include all rack returns (retained and released)."}]
[{"$f":"A52","v":"c/  Natural escapement estimates based on carcass counts expanded by a 3.48 multiplier developed from 5 years of redd count-based estimates.  Most natural spawners are hatchery fish spawning in the wild."}]
[{"$f":"A53","v":"d/ Nooksack basin co-managers updated spawning ground escapements to report \"Total Basin Escapement\" for each Spring Chinook stock starting with Run Year 2016. "}]
["e/ The 2021 SF Nooksack \"natural\" spawning ground escapement includes an estimated 2,333 pre-spawn mortalities from a mass mortality event in the SF Nooksack River."]
[{"$f":"A55","v":"f/ Estimate includes adult returns to Hupp Springs, White R. Hatchery, and Buckley Trap. Data from 1999 - 2017 were updated using new \"agreed-to\" methodology for estimating unsampled portions of Spring Chinook back to Buckley Trap with Fall/Unknown origin fish removed from the estimate. "}]
[{"$f":"A56","v":"g/  Program discontinued."}]
[{"$f":"A57","v":"h/  Preliminary."}]

{"sheet":"B-45","index":46,"n_rows":57,"n_cols":17,"rows_kept":57,"hidden":true,"merged":[[0,0,0,11],[41,0,41,11]]}
["TABLE B-45.  Summary of escapements of Chinook stocks in the Pacific Coast Salmon Fishery Management Plan (Page 1 of 2)."]
[null,"source","comments",2006,2007,2008,2009,2010,2011,2012,2013,2014,2015,2016,2017,2018,2019]
["California Central Valley"]
["Sacramento River (fall)",null,"sum of hatchery and natural adults",{"$f":"SummData!$B$38","v":{"v":275030,"d":"275,030"}},{"$f":"SummData!$B$39","v":{"v":91374,"d":"91,374"}},{"$f":"SummData!$B$40","v":{"v":65364,"d":"65,364"}},{"$f":"SummData!$B$41","v":{"v":40873,"d":"40,873"}},{"$f":"SummData!$B$42","v":{"v":124276,"d":"124,276"}},{"$f":"SummData!$B$43","v":{"v":119342,"d":"119,342"}},{"$f":"SummData!$B$44","v":{"v":285429,"d":"285,429"}},{"$f":"SummData!$B$45","v":{"v":406846,"d":"406,846"}},{"$f":"SummData!$B$46","v":{"v":212476,"d":"212,476"}},{"$f":"SummData!$B$47","v":{"v":113468,"d":"113,468"}},{"$f":"SummData!$B$48","v":{"v":89699,"d":"89,699"}},{"$f":"SummData!$B$49","v":{"v":44329,"d":"44,329"}},{"$f":"SummData!$B$50","v":{"v":99274,"d":"99,274"}},{"$f":"SummData!$B$50","v":{"v":99274,"d":"99,274"}}]
["Sacramento River (spring)",null,"natural escapement excluding Feather River",{"$f":"SummData!$C$38","v":{"v":10669,"d":"10,669"}},{"$f":"SummData!$C$39","v":{"v":9177,"d":"9,177"}},{"$f":"SummData!$C$40","v":{"v":11943,"d":"11,943"}},{"$f":"SummData!$C$41","v":{"v":3517,"d":"3,517"}},{"$f":"SummData!$C$42","v":{"v":2951,"d":"2,951"}},{"$f":"SummData!$C$43","v":{"v":5547,"d":"5,547"}},{"$f":"SummData!$C$44","v":{"v":18694,"d":"18,694"}},{"$f":"SummData!$C$45","v":{"v":18507,"d":"18,507"}},{"$f":"SummData!$C$46","v":{"v":7127,"d":"7,127"}},{"$f":"SummData!$C$47","v":{"v":1039,"d":"1,039"}},{"$f":"SummData!$C$48","v":{"v":6458,"d":"6,458"}},{"$f":"SummData!$C$49","v":{"v":1055,"d":"1,055"}},{"$f":"SummData!$C$50","v":176},{"$f":"SummData!$C$50","v":176}]
["Sacramento River (winter)",null,"carcass survey adults",{"$f":"SummData!$D$38","v":{"v":16911,"d":"16,911"}},{"$f":"SummData!$D$39","v":{"v":2402,"d":"2,402"}},{"$f":"SummData!$D$40","v":{"v":2623,"d":"2,623"}},{"$f":"SummData!$D$41","v":{"v":4483,"d":"4,483"}},{"$f":"SummData!$D$42","v":{"v":1554,"d":"1,554"}},{"$f":"SummData!$D$43","v":637},{"$f":"SummData!$D$44","v":{"v":2527,"d":"2,527"}},{"$f":"SummData!$D$45","v":{"v":5622,"d":"5,622"}},{"$f":"SummData!$D$46","v":{"v":2688,"d":"2,688"}},{"$f":"SummData!$D$47","v":{"v":3382,"d":"3,382"}},{"$f":"SummData!$D$48","v":924},{"$f":"SummData!$D$49","v":490},{"$f":"SummData!$D$50","v":789},{"$f":"SummData!$D$50","v":789}]
["Eel, Mattole, and Mad Rivers (fall/spring)",null,"minor indices in Eel, Mad, and Russian - B-7",{"$f":"SummData!$E$38","v":"NA"},{"$f":"SummData!$E$39","v":"NA"},{"$f":"SummData!$E$40","v":"NA"},{"$f":"SummData!$E$41","v":"NA"},{"$f":"SummData!$E$42","v":"NA"},{"$f":"SummData!$E$43","v":"NA"},{"$f":"SummData!$E$44","v":"NA"},{"$f":"SummData!$E$45","v":"NA"},{"$f":"SummData!$E$46","v":"NA"},{"$f":"SummData!$E$47","v":"NA"},{"$f":"SummData!$E$48","v":"NA"},{"$f":"SummData!$E$49","v":"NA"},{"$f":"SummData!$E$50","v":"NA"},{"$f":"SummData!$E$50","v":"NA"}]
["Northern California Coast"]
["Klamath River (fall)","B-4","total natural area adults",{"$f":"SummData!$F$38","v":{"v":30163,"d":"30,163"}},{"$f":"SummData!$F$39","v":{"v":60670,"d":"60,670"}},{"$f":"SummData!$F$40","v":{"v":30850,"d":"30,850"}},{"$f":"SummData!$F$41","v":{"v":44409,"d":"44,409"}},{"$f":"SummData!$F$42","v":{"v":37225,"d":"37,225"}},{"$f":"SummData!$F$43","v":{"v":46763,"d":"46,763"}},{"$f":"SummData!$F$44","v":{"v":121543,"d":"121,543"}},{"$f":"SummData!$F$45","v":{"v":59156,"d":"59,156"}},{"$f":"SummData!$F$46","v":{"v":95104,"d":"95,104"}},{"$f":"SummData!$F$47","v":{"v":28112,"d":"28,112"}},{"$f":"SummData!$F$48","v":{"v":13937,"d":"13,937"}},{"$f":"SummData!$F$49","v":{"v":19904,"d":"19,904"}},{"$f":"SummData!$F$50","v":{"v":52352,"d":"52,352"}},{"$f":"SummData!$F$50","v":{"v":52352,"d":"52,352"}}]
["Klamath River (spring)","no","not reported",{"$f":"SummData!$G$38","v":"NA"},{"$f":"SummData!$G$39","v":"NA"},{"$f":"SummData!$G$40","v":"NA"},{"$f":"SummData!$G$41","v":"NA"},{"$f":"SummData!$G$42","v":"NA"},{"$f":"SummData!$G$43","v":"NA"},{"$f":"SummData!$G$44","v":"NA"},{"$f":"SummData!$G$45","v":"NA"},{"$f":"SummData!$G$46","v":"NA"},{"$f":"SummData!$G$47","v":"NA"},{"$f":"SummData!$G$48","v":"NA"},{"$f":"SummData!$G$49","v":"NA"},{"$f":"SummData!$G$50","v":"NA"},{"$f":"SummData!$G$50","v":"NA"}]
["Smith River (fall/spring)","no","not reported",{"$f":"SummData!$H$38","v":"NA"},{"$f":"SummData!$H$39","v":"NA"},{"$f":"SummData!$H$40","v":"NA"},{"$f":"SummData!$H$41","v":"NA"},{"$f":"SummData!$H$42","v":"NA"},{"$f":"SummData!$H$43","v":"NA"},{"$f":"SummData!$H$44","v":"NA"},{"$f":"SummData!$H$45","v":"NA"},{"$f":"SummData!$H$46","v":"NA"},{"$f":"SummData!$H$47","v":"NA"},{"$f":"SummData!$H$48","v":"NA"},{"$f":"SummData!$H$49","v":"NA"},{"$f":"SummData!$H$50","v":"NA"},{"$f":"SummData!$H$50","v":"NA"}]
["Oregon Coast"]
["Southern","B-8","index adult fish/mi",{"$f":"SummData!$I$38","v":23},{"$f":"SummData!$I$39","v":29},{"$f":"SummData!$I$40","v":13},{"$f":"SummData!$I$41","v":66},{"$f":"SummData!$I$42","v":52},{"$f":"SummData!$I$43","v":35},{"$f":"SummData!$I$44","v":39},{"$f":"SummData!$I$45","v":23},{"$f":"SummData!$I$46","v":34},{"$f":"SummData!$I$47","v":60},{"$f":"SummData!$I$48","v":34},{"$f":"SummData!$I$49","v":26},{"$f":"SummData!$I$50","v":26},{"$f":"SummData!$I$50","v":26}]
["Central and Northern","B-11","index adult fish/mi",{"$f":"SummData!$J$38","v":76},{"$f":"SummData!$J$39","v":42},{"$f":"SummData!$J$40","v":40},{"$f":"SummData!$J$41","v":61},{"$f":"SummData!$J$42","v":87},{"$f":"SummData!$J$43","v":109},{"$f":"SummData!$J$44","v":146},{"$f":"SummData!$J$45","v":189},{"$f":"SummData!$J$46","v":157},{"$f":"SummData!$J$47","v":247},{"$f":"SummData!$J$48","v":118},{"$f":"SummData!$J$49","v":114},{"$f":"SummData!$J$50","v":92},{"$f":"SummData!$J$50","v":92}]
["Washington Coast"]
["Willapa Bay (fall-natural)","B-23","natural spawning escapement",{"$f":"SummData!$K$38","v":{"v":3739,"d":"3,739"}},{"$f":"SummData!$K$39","v":{"v":1907,"d":"1,907"}},{"$f":"SummData!$K$40","v":{"v":1544,"d":"1,544"}},{"$f":"SummData!$K$41","v":{"v":2345,"d":"2,345"}},{"$f":"SummData!$K$42","v":{"v":4499,"d":"4,499"}},{"$f":"SummData!$K$43","v":{"v":3811,"d":"3,811"}},{"$f":"SummData!$K$44","v":{"v":2677,"d":"2,677"}},{"$f":"SummData!$K$45","v":{"v":1904,"d":"1,904"}},{"$f":"SummData!$K$46","v":{"v":2075,"d":"2,075"}},{"$f":"SummData!$K$47","v":{"v":2824,"d":"2,824"}},{"$f":"SummData!$K$48","v":{"v":1888,"d":"1,888"}},{"$f":"SummData!$K$49","v":{"v":3147,"d":"3,147"}},{"$f":"SummData!$K$50","v":"NA "},{"$f":"SummData!$K$50","v":"NA "}]
["Grays Harbor (fall)","B-25","natural spawning escapement",{"$f":"SummData!$L$38","v":{"v":17428,"d":"17,428"}},{"$f":"SummData!$L$39","v":{"v":13117,"d":"13,117"}},{"$f":"SummData!$L$40","v":{"v":15391,"d":"15,391"}},{"$f":"SummData!$L$41","v":{"v":9290,"d":"9,290"}},{"$f":"SummData!$L$42","v":{"v":18158,"d":"18,158"}},{"$f":"SummData!$L$43","v":{"v":22870,"d":"22,870"}},{"$f":"SummData!$L$44","v":{"v":14032,"d":"14,032"}},{"$f":"SummData!$L$45","v":{"v":12503,"d":"12,503"}},{"$f":"SummData!$L$46","v":{"v":11893,"d":"11,893"}},{"$f":"SummData!$L$47","v":{"v":17305,"d":"17,305"}},{"$f":"SummData!$L$48","v":{"v":11248,"d":"11,248"}},{"$f":"SummData!$L$49","v":{"v":17145,"d":"17,145"}},{"$f":"SummData!$L$50","v":{"v":20741,"d":"20,741"}},{"$f":"SummData!$L$50","v":{"v":20741,"d":"20,741"}}]
["Queets River (fall)","B-30","natural spawning escapement",{"$f":"SummData!$M$38","v":{"v":3050,"d":"3,050"}},{"$f":"SummData!$M$39","v":878},{"$f":"SummData!$M$40","v":{"v":3081,"d":"3,081"}},{"$f":"SummData!$M$41","v":{"v":4156,"d":"4,156"}},{"$f":"SummData!$M$42","v":{"v":4022,"d":"4,022"}},{"$f":"SummData!$M$43","v":{"v":3857,"d":"3,857"}},{"$f":"SummData!$M$44","v":{"v":3706,"d":"3,706"}},{"$f":"SummData!$M$45","v":{"v":2582,"d":"2,582"}},{"$f":"SummData!$M$46","v":{"v":3806,"d":"3,806"}},{"$f":"SummData!$M$47","v":{"v":5483,"d":"5,483"}},{"$f":"SummData!$M$48","v":{"v":3035,"d":"3,035"}},{"$f":"SummData!$M$49","v":{"v":2822,"d":"2,822"}},{"$f":"SummData!$M$50","v":"NA"},{"$f":"SummData!$M$50","v":"NA"}]
["Hoh River (fall)","B-33","natural spawning escapement",{"$f":"SummData!$N$38","v":{"v":1535,"d":"1,535"}},{"$f":"SummData!$N$39","v":{"v":1556,"d":"1,556"}},{"$f":"SummData!$N$40","v":{"v":2999,"d":"2,999"}},{"$f":"SummData!$N$41","v":{"v":2081,"d":"2,081"}},{"$f":"SummData!$N$42","v":{"v":2599,"d":"2,599"}},{"$f":"SummData!$N$43","v":{"v":1293,"d":"1,293"}},{"$f":"SummData!$N$44","v":{"v":1937,"d":"1,937"}},{"$f":"SummData!$N$45","v":{"v":1269,"d":"1,269"}},{"$f":"SummData!$N$46","v":{"v":1933,"d":"1,933"}},{"$f":"SummData!$N$47","v":{"v":1795,"d":"1,795"}},{"$f":"SummData!$N$48","v":{"v":2831,"d":"2,831"}},{"$f":"SummData!$N$49","v":{"v":1808,"d":"1,808"}},{"$f":"SummData!$N$50","v":"NA"},{"$f":"SummData!$N$50","v":"NA"}]
["Quillayute River (fall)","B-36","natural spawning escapement",{"$f":"SummData!$O$38","v":{"v":5642,"d":"5,642"}},{"$f":"SummData!$O$39","v":{"v":3066,"d":"3,066"}},{"$f":"SummData!$O$40","v":{"v":3612,"d":"3,612"}},{"$f":"SummData!$O$41","v":{"v":3130,"d":"3,130"}},{"$f":"SummData!$O$42","v":{"v":4635,"d":"4,635"}},{"$f":"SummData!$O$43","v":{"v":3963,"d":"3,963"}},{"$f":"SummData!$O$44","v":{"v":3518,"d":"3,518"}},{"$f":"SummData!$O$45","v":{"v":3901,"d":"3,901"}},{"$f":"SummData!$O$46","v":{"v":2782,"d":"2,782"}},{"$f":"SummData!$O$47","v":{"v":3440,"d":"3,440"}},{"$f":"SummData!$O$48","v":{"v":3654,"d":"3,654"}},{"$f":"SummData!$O$49","v":{"v":3604,"d":"3,604"}},{"$f":"SummData!$O$50","v":{"v":5378,"d":"5,378"}},{"$f":"SummData!$O$50","v":{"v":5378,"d":"5,378"}}]
["Hoko River (summer/fall)","B-38","natural spawning escapement",{"$f":"SummData!$P$38","v":172},{"$f":"SummData!$P$39","v":251},{"$f":"SummData!$P$40","v":106},{"$f":"SummData!$P$41","v":38},{"$f":"SummData!$P$42","v":322},{"$f":"SummData!$P$43","v":{"v":1081,"d":"1,081"}},{"$f":"SummData!$P$44","v":212},{"$f":"SummData!$P$45","v":726},{"$f":"SummData!$P$46","v":{"v":1531,"d":"1,531"}},{"$f":"SummData!$P$47","v":{"v":1532,"d":"1,532"}},{"$f":"SummData!$P$48","v":{"v":1533,"d":"1,533"}},{"$f":"SummData!$P$49","v":{"v":1534,"d":"1,534"}},{"$f":"SummData!$P$50","v":{"v":1535,"d":"1,535"}},{"$f":"SummData!$P$50","v":{"v":1535,"d":"1,535"}}]
["Grays Harbor (spring)","B-25","natural spawning escapement",{"$f":"SummData!$Q$38","v":{"v":2481,"d":"2,481"}},{"$f":"SummData!$Q$39","v":651},{"$f":"SummData!$Q$40","v":995},{"$f":"SummData!$Q$41","v":{"v":1132,"d":"1,132"}},{"$f":"SummData!$Q$42","v":{"v":3495,"d":"3,495"}},{"$f":"SummData!$Q$43","v":{"v":2563,"d":"2,563"}},{"$f":"SummData!$Q$44","v":878},{"$f":"SummData!$Q$45","v":{"v":2459,"d":"2,459"}},{"$f":"SummData!$Q$46","v":{"v":1583,"d":"1,583"}},{"$f":"SummData!$Q$47","v":{"v":1841,"d":"1,841"}},{"$f":"SummData!$Q$48","v":926},{"$f":"SummData!$Q$49","v":{"v":1384,"d":"1,384"}},{"$f":"SummData!$Q$50","v":"NA"},{"$f":"SummData!$Q$50","v":"NA"}]
["Queets River (spring/summer)","B-29","natural spawning escapement",{"$f":"SummData!$R$38","v":330},{"$f":"SummData!$R$39","v":352},{"$f":"SummData!$R$40","v":305},{"$f":"SummData!$R$41","v":495},{"$f":"SummData!$R$42","v":259},{"$f":"SummData!$R$43","v":373},{"$f":"SummData!$R$44","v":760},{"$f":"SummData!$R$45","v":520},{"$f":"SummData!$R$46","v":377},{"$f":"SummData!$R$47","v":532},{"$f":"SummData!$R$48","v":704},{"$f":"SummData!$R$49","v":825},{"$f":"SummData!$R$50","v":"NA"},{"$f":"SummData!$R$50","v":"NA"}]
["Hoh River (spring/summer)","B-32","natural spawning escapement",{"$f":"SummData!$S$38","v":904},{"$f":"SummData!$S$39","v":810},{"$f":"SummData!$S$40","v":671},{"$f":"SummData!$S$41","v":880},{"$f":"SummData!$S$42","v":828},{"$f":"SummData!$S$43","v":827},{"$f":"SummData!$S$44","v":915},{"$f":"SummData!$S$45","v":750},{"$f":"SummData!$S$46","v":744},{"$f":"SummData!$S$47","v":{"v":1070,"d":"1,070"}},{"$f":"SummData!$S$48","v":{"v":1144,"d":"1,144"}},{"$f":"SummData!$S$49","v":{"v":1364,"d":"1,364"}},{"$f":"SummData!$S$50","v":"NA"},{"$f":"SummData!$S$50","v":"NA"}]
["Quillayute River (spring/summer)","B-35","natural spawning escapement",{"$f":"SummData!$T$38","v":553},{"$f":"SummData!$T$39","v":502},{"$f":"SummData!$T$40","v":949},{"$f":"SummData!$T$41","v":646},{"$f":"SummData!$T$42","v":815},{"$f":"SummData!$T$43","v":587},{"$f":"SummData!$T$44","v":785},{"$f":"SummData!$T$45","v":968},{"$f":"SummData!$T$46","v":625},{"$f":"SummData!$T$47","v":783},{"$f":"SummData!$T$48","v":871},{"$f":"SummData!$T$49","v":{"v":1097,"d":"1,097"}},{"$f":"SummData!$T$50","v":{"v":1275,"d":"1,275"}},{"$f":"SummData!$T$50","v":{"v":1275,"d":"1,275"}}]
["Willapa Bay (fall-hatchery)","B-23","hatchery escapement",{"$f":"SummData!$U$38","v":{"v":24209,"d":"24,209"}},{"$f":"SummData!$U$39","v":{"v":13400,"d":"13,400"}},{"$f":"SummData!$U$40","v":{"v":14891,"d":"14,891"}},{"$f":"SummData!$U$41","v":{"v":19831,"d":"19,831"}},{"$f":"SummData!$U$42","v":{"v":21565,"d":"21,565"}},{"$f":"SummData!$U$43","v":{"v":21838,"d":"21,838"}},{"$f":"SummData!$U$44","v":{"v":14134,"d":"14,134"}},{"$f":"SummData!$U$45","v":{"v":14483,"d":"14,483"}},{"$f":"SummData!$U$46","v":{"v":18367,"d":"18,367"}},{"$f":"SummData!$U$47","v":{"v":26584,"d":"26,584"}},{"$f":"SummData!$U$48","v":{"v":12897,"d":"12,897"}},{"$f":"SummData!$U$49","v":{"v":19937,"d":"19,937"}},{"$f":"SummData!$U$50","v":"NA"},{"$f":"SummData!$U$50","v":"NA"}]
["Quinault River (fall-hatchery)","no","not reported",{"$f":"SummData!$V$38","v":"NA"},{"$f":"SummData!$V$39","v":"NA"},{"$f":"SummData!$V$40","v":"NA"},{"$f":"SummData!$V$41","v":"NA"},{"$f":"SummData!$V$42","v":"NA"},{"$f":"SummData!$V$43","v":"NA"},{"$f":"SummData!$V$44","v":"NA"},{"$f":"SummData!$V$45","v":"NA"},{"$f":"SummData!$V$46","v":"NA"},{"$f":"SummData!$V$47","v":"NA"},{"$f":"SummData!$V$48","v":"NA"},{"$f":"SummData!$V$49","v":"NA"},{"$f":"SummData!$V$50","v":"NA"},{"$f":"SummData!$V$50","v":"NA"}]
["Columbia River Basin"]
["Lower Columbia River (spring)","B-12","hatchery escapement",{"$f":"SummData!$AC$38","v":{"v":38623,"d":"38,623"}},{"$f":"SummData!$AC$39","v":{"v":27756,"d":"27,756"}},{"$f":"SummData!$AC$40","v":{"v":18407,"d":"18,407"}},{"$f":"SummData!$AC$41","v":{"v":22496,"d":"22,496"}},{"$f":"SummData!$AC$42","v":{"v":42646,"d":"42,646"}},{"$f":"SummData!$AC$43","v":{"v":31030,"d":"31,030"}},{"$f":"SummData!$AC$44","v":{"v":32106,"d":"32,106"}},{"$f":"SummData!$AC$45","v":{"v":26892,"d":"26,892"}},{"$f":"SummData!$AC$46","v":{"v":27783,"d":"27,783"}},{"$f":"SummData!$AC$47","v":{"v":52237,"d":"52,237"}},{"$f":"SummData!$AC$48","v":{"v":31303,"d":"31,303"}},{"$f":"SummData!$AC$49","v":{"v":25445,"d":"25,445"}},{"$f":"SummData!$AC$50","v":{"v":24209,"d":"24,209"}},{"$f":"SummData!$AC$50","v":{"v":24209,"d":"24,209"}}]
["Upper Willamette River (spring)","B-12","Willamette Falls escapement",{"$f":"SummData!$Y$38","v":{"v":36851,"d":"36,851"}},{"$f":"SummData!$Y$39","v":{"v":22818,"d":"22,818"}},{"$f":"SummData!$Y$40","v":{"v":14151,"d":"14,151"}},{"$f":"SummData!$Y$41","v":{"v":25795,"d":"25,795"}},{"$f":"SummData!$Y$42","v":{"v":65293,"d":"65,293"}},{"$f":"SummData!$Y$43","v":{"v":43748,"d":"43,748"}},{"$f":"SummData!$Y$44","v":{"v":35899,"d":"35,899"}},{"$f":"SummData!$Y$45","v":{"v":27897,"d":"27,897"}},{"$f":"SummData!$Y$46","v":{"v":30071,"d":"30,071"}},{"$f":"SummData!$Y$47","v":{"v":53088,"d":"53,088"}},{"$f":"SummData!$Y$48","v":{"v":30317,"d":"30,317"}},{"$f":"SummData!$Y$49","v":{"v":34186,"d":"34,186"}},{"$f":"SummData!$Y$50","v":{"v":21989,"d":"21,989"}},{"$f":"SummData!$Y$50","v":{"v":21989,"d":"21,989"}}]
["Upper Coumbia River (spring)","B-13","wild Rock Island Dam count",{"$f":"SummData!$Z$38","v":{"v":911.4248346936578,"d":"911"}},{"$f":"SummData!$Z$39","v":{"v":437.7244024585381,"d":"438"}},{"$f":"SummData!$Z$40","v":{"v":652.9924410596179,"d":"653"}},{"$f":"SummData!$Z$41","v":{"v":1124.589302716326,"d":"1,125"}},{"$f":"SummData!$Z$42","v":{"v":2440.3437736912506,"d":"2,440"}},{"$f":"SummData!$Z$43","v":{"v":2005.4644364576325,"d":"2,005"}},{"$f":"SummData!$Z$44","v":{"v":3838.1205780197115,"d":"3,838"}},{"$f":"SummData!$Z$45","v":{"v":1820.5987234042555,"d":"1,821"}},{"$f":"SummData!$Z$46","v":{"v":3043.9776555716358,"d":"3,044"}},{"$f":"SummData!$Z$47","v":{"v":3917.897698959402,"d":"3,918"}},{"$f":"SummData!$Z$48","v":{"v":2717.1248452842647,"d":"2,717"}},{"$f":"SummData!$Z$49","v":{"v":1294.5465167226523,"d":"1,295"}},{"$f":"SummData!$Z$50","v":{"v":1296,"d":"1,296"}},{"$f":"SummData!$Z$50","v":{"v":1296,"d":"1,296"}}]
["Snake River (spring/summer)","B-13","wild Snake River escapement",{"$f":"SummData!$AA$38","v":{"v":9484.748080000001,"d":"9,485"}},{"$f":"SummData!$AA$39","v":{"v":7087.729500000001,"d":"7,088"}},{"$f":"SummData!$AA$40","v":{"v":17573.888,"d":"17,574"}},{"$f":"SummData!$AA$41","v":{"v":14946.50778203462,"d":"14,947"}},{"$f":"SummData!$AA$42","v":{"v":26622.104999999996,"d":"26,622"}},{"$f":"SummData!$AA$43","v":{"v":24525.8986,"d":"24,526"}},{"$f":"SummData!$AA$44","v":{"v":25634.278381331562,"d":"25,634"}},{"$f":"SummData!$AA$45","v":{"v":14575.682055435565,"d":"14,576"}},{"$f":"SummData!$AA$46","v":{"v":32064.971205968228,"d":"32,065"}},{"$f":"SummData!$AA$47","v":{"v":22576.752915061355,"d":"22,577"}},{"$f":"SummData!$AA$48","v":{"v":16161.095754583352,"d":"16,161"}},{"$f":"SummData!$AA$49","v":{"v":4424.584101095617,"d":"4,425"}},{"$f":"SummData!$AA$50","v":{"v":8584,"d":"8,584"}},{"$f":"SummData!$AA$50","v":{"v":8584,"d":"8,584"}}]
["Lower Columbia River (spring)","B-12","hatchery escapement",{"$f":"SummData!$AC$38","v":{"v":38623,"d":"38,623"}},{"$f":"SummData!$AC$39","v":{"v":27756,"d":"27,756"}},{"$f":"SummData!$AC$40","v":{"v":18407,"d":"18,407"}},{"$f":"SummData!$AC$41","v":{"v":22496,"d":"22,496"}},{"$f":"SummData!$AC$42","v":{"v":42646,"d":"42,646"}},{"$f":"SummData!$AC$43","v":{"v":31030,"d":"31,030"}},{"$f":"SummData!$AC$44","v":{"v":32106,"d":"32,106"}},{"$f":"SummData!$AC$45","v":{"v":26892,"d":"26,892"}},{"$f":"SummData!$AC$46","v":{"v":27783,"d":"27,783"}},{"$f":"SummData!$AC$47","v":{"v":52237,"d":"52,237"}},{"$f":"SummData!$AC$48","v":{"v":31303,"d":"31,303"}},{"$f":"SummData!$AC$49","v":{"v":25445,"d":"25,445"}},{"$f":"SummData!$AC$50","v":{"v":24209,"d":"24,209"}},{"$f":"SummData!$AC$50","v":{"v":24209,"d":"24,209"}}]
["Upper Columbia River (summer)","B-14","Rock Island Dam count",{"$f":"SummData!$AG$38","v":{"v":61821,"d":"61,821"}},{"$f":"SummData!$AG$39","v":{"v":28222,"d":"28,222"}},{"$f":"SummData!$AG$40","v":{"v":38171,"d":"38,171"}},{"$f":"SummData!$AG$41","v":{"v":44295,"d":"44,295"}},{"$f":"SummData!$AG$42","v":{"v":47220,"d":"47,220"}},{"$f":"SummData!$AG$43","v":{"v":44432,"d":"44,432"}},{"$f":"SummData!$AG$44","v":{"v":52184,"d":"52,184"}},{"$f":"SummData!$AG$45","v":{"v":68380,"d":"68,380"}},{"$f":"SummData!$AG$46","v":{"v":77982,"d":"77,982"}},{"$f":"SummData!$AG$47","v":{"v":88691,"d":"88,691"}},{"$f":"SummData!$AG$48","v":{"v":79253,"d":"79,253"}},{"$f":"SummData!$AG$49","v":{"v":56265,"d":"56,265"}},{"$f":"SummData!$AG$50","v":{"v":41142,"d":"41,142"}},{"$f":"SummData!$AG$50","v":{"v":41142,"d":"41,142"}}]
["North Lewis River (fall)","B-15","LRW",{"$f":"SummData!$W$38","v":{"v":12758,"d":"12,758"}},{"$f":"SummData!$W$39","v":{"v":3857,"d":"3,857"}},{"$f":"SummData!$W$40","v":{"v":6183,"d":"6,183"}},{"$f":"SummData!$W$41","v":{"v":6893,"d":"6,893"}},{"$f":"SummData!$W$42","v":{"v":10661,"d":"10,661"}},{"$f":"SummData!$W$43","v":{"v":10601,"d":"10,601"}},{"$f":"SummData!$W$44","v":{"v":9407,"d":"9,407"}},{"$f":"SummData!$W$45","v":{"v":18675,"d":"18,675"}},{"$f":"SummData!$W$46","v":{"v":22900,"d":"22,900"}},{"$f":"SummData!$W$47","v":{"v":27169,"d":"27,169"}},{"$f":"SummData!$W$48","v":{"v":9414,"d":"9,414"}},{"$f":"SummData!$W$49","v":{"v":6583,"d":"6,583"}},{"$f":"SummData!$W$50","v":{"v":14024,"d":"14,024"}},{"$f":"SummData!$W$50","v":{"v":14024,"d":"14,024"}}]
["Lower Columbia River (fall-hatchery)","B-16","LRH sum of hatchery and natural",{"$f":"SummData!$AB$38","v":{"v":42590,"d":"42,590"}},{"$f":"SummData!$AB$39","v":{"v":25258,"d":"25,258"}},{"$f":"SummData!$AB$40","v":{"v":48793,"d":"48,793"}},{"$f":"SummData!$AB$41","v":{"v":55182,"d":"55,182"}},{"$f":"SummData!$AB$42","v":{"v":74926,"d":"74,926"}},{"$f":"SummData!$AB$43","v":{"v":76069,"d":"76,069"}},{"$f":"SummData!$AB$44","v":{"v":51815,"d":"51,815"}},{"$f":"SummData!$AB$45","v":{"v":74073,"d":"74,073"}},{"$f":"SummData!$AB$46","v":{"v":72597,"d":"72,597"}},{"$f":"SummData!$AB$47","v":{"v":98372,"d":"98,372"}},{"$f":"SummData!$AB$48","v":{"v":59314,"d":"59,314"}},{"$f":"SummData!$AB$49","v":{"v":47666,"d":"47,666"}},{"$f":"SummData!$AB$50","v":{"v":90878,"d":"90,878"}},{"$f":"SummData!$AB$50","v":{"v":90878,"d":"90,878"}}]
["Spring Creek (fall-hatchery)","B-17","SCH sum of hatchery and natural",{"$f":"SummData!$AE$38","v":{"v":11820,"d":"11,820"}},{"$f":"SummData!$AE$39","v":{"v":8769,"d":"8,769"}},{"$f":"SummData!$AE$40","v":{"v":36487,"d":"36,487"}},{"$f":"SummData!$AE$41","v":{"v":17783,"d":"17,783"}},{"$f":"SummData!$AE$42","v":{"v":50122,"d":"50,122"}},{"$f":"SummData!$AE$43","v":{"v":27375,"d":"27,375"}},{"$f":"SummData!$AE$44","v":{"v":31318,"d":"31,318"}},{"$f":"SummData!$AE$45","v":{"v":26381,"d":"26,381"}},{"$f":"SummData!$AE$46","v":{"v":40767,"d":"40,767"}},{"$f":"SummData!$AE$47","v":{"v":65565,"d":"65,565"}},{"$f":"SummData!$AE$48","v":{"v":14101,"d":"14,101"}},{"$f":"SummData!$AE$49","v":{"v":13990,"d":"13,990"}},{"$f":"SummData!$AE$50","v":{"v":51951,"d":"51,951"}},{"$f":"SummData!$AE$50","v":{"v":51951,"d":"51,951"}}]
["Columbia Mid-River Bright (fall-hatchery)","B-18","MCB sum of hatchery and natural",{"$f":"SummData!$AD$38","v":{"v":19745,"d":"19,745"}},{"$f":"SummData!$AD$39","v":{"v":13053,"d":"13,053"}},{"$f":"SummData!$AD$40","v":{"v":21409,"d":"21,409"}},{"$f":"SummData!$AD$41","v":{"v":22003,"d":"22,003"}},{"$f":"SummData!$AD$42","v":{"v":33391,"d":"33,391"}},{"$f":"SummData!$AD$43","v":{"v":24923,"d":"24,923"}},{"$f":"SummData!$AD$44","v":{"v":17052,"d":"17,052"}},{"$f":"SummData!$AD$45","v":{"v":58045,"d":"58,045"}},{"$f":"SummData!$AD$46","v":{"v":34075,"d":"34,075"}},{"$f":"SummData!$AD$47","v":{"v":30744,"d":"30,744"}},{"$f":"SummData!$AD$48","v":{"v":15806,"d":"15,806"}},{"$f":"SummData!$AD$49","v":{"v":7750,"d":"7,750"}},{"$f":"SummData!$AD$50","v":{"v":6354,"d":"6,354"}},{"$f":"SummData!$AD$50","v":{"v":6354,"d":"6,354"}}]
["Upper Columbia River Bright (fall)","B-19","URB Upper Columbia escapement",{"$f":"SummData!$AF$38","v":{"v":62567,"d":"62,567"}},{"$f":"SummData!$AF$39","v":{"v":34201,"d":"34,201"}},{"$f":"SummData!$AF$40","v":{"v":51757,"d":"51,757"}},{"$f":"SummData!$AF$41","v":{"v":62428,"d":"62,428"}},{"$f":"SummData!$AF$42","v":{"v":114230,"d":"114,230"}},{"$f":"SummData!$AF$43","v":{"v":93510,"d":"93,510"}},{"$f":"SummData!$AF$44","v":{"v":94925,"d":"94,925"}},{"$f":"SummData!$AF$45","v":{"v":305445,"d":"305,445"}},{"$f":"SummData!$AF$46","v":{"v":233934,"d":"233,934"}},{"$f":"SummData!$AF$47","v":{"v":323276,"d":"323,276"}},{"$f":"SummData!$AF$48","v":{"v":151373,"d":"151,373"}},{"$f":"SummData!$AF$49","v":{"v":96096,"d":"96,096"}},{"$f":"SummData!$AF$50","v":{"v":57580,"d":"57,580"}},{"$f":"SummData!$AF$50","v":{"v":57580,"d":"57,580"}}]
["Snake River (fall)","B-19","SRW wild Lower Granite Dam estimate",{"$f":"SummData!$X$38","v":0},{"$f":"SummData!$X$39","v":0},{"$f":"SummData!$X$40","v":0},{"$f":"SummData!$X$41","v":0},{"$f":"SummData!$X$42","v":0},{"$f":"SummData!$X$43","v":0},{"$f":"SummData!$X$44","v":0},{"$f":"SummData!$X$45","v":0},{"$f":"SummData!$X$46","v":0},{"$f":"SummData!$X$47","v":0},{"$f":"SummData!$X$48","v":0},{"$f":"SummData!$X$49","v":0},{"$f":"SummData!$X$50","v":0},{"$f":"SummData!$X$50","v":0}]
[]
["TABLE B-45.  Summary of escapements of Chinook stocks in the Pacific Coast Salmon Fishery Management Plan (Page 2 of 2)."]
[null,"source","comment",2006,2007,2008,2009,2010,2011,2012,2013,2014,2015,2016,2017,2018,2018]
["Puget Sound"]
["Eastern Strait of Juan de Fuca (summer/fall)","B-41","Strait of Juan de Fuca natural escapement",{"$f":"SummData!$AH$38","v":{"v":2270.0001199999997,"d":"2,270"}},{"$f":"SummData!$AH$39","v":{"v":936.0001199999998,"d":"936"}},{"$f":"SummData!$AH$40","v":{"v":716.0001199999998,"d":"716"}},{"$f":"SummData!$AH$41","v":{"v":1971.4288244875913,"d":"1,971"}},{"$f":"SummData!$AH$42","v":{"v":1317.314241899336,"d":"1,317"}},{"$f":"SummData!$AH$43","v":{"v":1836.7493868371157,"d":"1,837"}},{"$f":"SummData!$AH$44","v":{"v":2377.0715028111026,"d":"2,377"}},{"$f":"SummData!$AH$45","v":{"v":3266.041538144302,"d":"3,266"}},{"$f":"SummData!$AH$46","v":{"v":3649.127608520073,"d":"3,649"}},{"$f":"SummData!$AH$47","v":{"v":3893.4616577454112,"d":"3,893"}},{"$f":"SummData!$AH$48","v":{"v":2696.6227480403127,"d":"2,697"}},{"$f":"SummData!$AH$49","v":{"v":2797.840214116151,"d":"2,798"}},{"$f":"SummData!$AH$50","v":"NA"},{"$f":"SummData!$AH$50","v":"NA"}]
["Skokomish River (summer/fall)","external","PS Run Reconstruction",{"$f":"SummData!$AI$38","v":{"v":1209.00002,"d":"1,209"}},{"$f":"SummData!$AI$39","v":{"v":531.00002,"d":"531"}},{"$f":"SummData!$AI$40","v":{"v":1134.00002,"d":"1,134"}},{"$f":"SummData!$AI$41","v":{"v":1067.00002,"d":"1,067"}},{"$f":"SummData!$AI$42","v":{"v":1214.00002,"d":"1,214"}},{"$f":"SummData!$AI$43","v":{"v":1321.00002,"d":"1,321"}},{"$f":"SummData!$AI$44","v":{"v":1533.00002,"d":"1,533"}},{"$f":"SummData!$AI$45","v":"NA"},{"$f":"SummData!$AI$46","v":"NA"},{"$f":"SummData!$AI$47","v":"NA"},{"$f":"SummData!$AI$48","v":"NA"},{"$f":"SummData!$AI$49","v":"NA"},{"$f":"SummData!$AI$50","v":"NA"},{"$f":"SummData!$AI$50","v":"NA"}]
["Mid Hood Canal (summer/fall)","external","PS Run Reconstruction",{"$f":"SummData!$AJ$38","v":{"v":30.000059999999998,"d":"30"}},{"$f":"SummData!$AJ$39","v":{"v":73.00006,"d":"73"}},{"$f":"SummData!$AJ$40","v":{"v":273.00006,"d":"273"}},{"$f":"SummData!$AJ$41","v":{"v":228.00006000000002,"d":"228"}},{"$f":"SummData!$AJ$42","v":{"v":84.00006,"d":"84"}},{"$f":"SummData!$AJ$43","v":{"v":289.00005999999996,"d":"289"}},{"$f":"SummData!$AJ$44","v":{"v":429.00005999999996,"d":"429"}},{"$f":"SummData!$AJ$45","v":"NA"},{"$f":"SummData!$AJ$46","v":"NA"},{"$f":"SummData!$AJ$47","v":"NA"},{"$f":"SummData!$AJ$48","v":"NA"},{"$f":"SummData!$AJ$49","v":"NA"},{"$f":"SummData!$AJ$50","v":"NA"},{"$f":"SummData!$AJ$50","v":"NA"}]
["Nooksack River (spring early)","B-44","natural spawning escapement",{"$f":"SummData!$AK$38","v":{"v":1184,"d":"1,184"}},{"$f":"SummData!$AK$39","v":{"v":1438,"d":"1,438"}},{"$f":"SummData!$AK$40","v":{"v":1266,"d":"1,266"}},{"$f":"SummData!$AK$41","v":{"v":1903,"d":"1,903"}},{"$f":"SummData!$AK$42","v":{"v":2048,"d":"2,048"}},{"$f":"SummData!$AK$43","v":865},{"$f":"SummData!$AK$44","v":758},{"$f":"SummData!$AK$45","v":{"v":1346,"d":"1,346"}},{"$f":"SummData!$AK$46","v":{"v":1398,"d":"1,398"}},{"$f":"SummData!$AK$47","v":{"v":1717,"d":"1,717"}},{"$f":"SummData!$AK$48","v":{"v":1141,"d":"1,141"}},{"$f":"SummData!$AK$49","v":{"v":2016,"d":"2,016"}},{"$f":"SummData!$AK$50","v":{"v":1631,"d":"1,631"}},{"$f":"SummData!$AK$50","v":{"v":1631,"d":"1,631"}}]
["Skagit River (summer/fall)","B-41","Skagit natural escapement",{"$f":"SummData!$AL$38","v":{"v":20768.00004,"d":"20,768"}},{"$f":"SummData!$AL$39","v":{"v":11281.000039999999,"d":"11,281"}},{"$f":"SummData!$AL$40","v":{"v":11664.000039999999,"d":"11,664"}},{"$f":"SummData!$AL$41","v":{"v":6979.00004,"d":"6,979"}},{"$f":"SummData!$AL$42","v":{"v":8017.00004,"d":"8,017"}},{"$f":"SummData!$AL$43","v":{"v":5537.00004,"d":"5,537"}},{"$f":"SummData!$AL$44","v":{"v":13818.000039999999,"d":"13,818"}},{"$f":"SummData!$AL$45","v":{"v":10882.000039999999,"d":"10,882"}},{"$f":"SummData!$AL$46","v":{"v":10457.000039999999,"d":"10,457"}},{"$f":"SummData!$AL$47","v":{"v":13314.000039999999,"d":"13,314"}},{"$f":"SummData!$AL$48","v":{"v":19290.00004,"d":"19,290"}},{"$f":"SummData!$AL$49","v":{"v":12579.000039999999,"d":"12,579"}},{"$f":"SummData!$AL$50","v":"NA"},{"$f":"SummData!$AL$50","v":"NA"}]
["Skagit River (spring)","B-44","Skagit natural escapement",{"$f":"SummData!$AM$38","v":{"v":1896,"d":"1,896"}},{"$f":"SummData!$AM$39","v":613},{"$f":"SummData!$AM$40","v":{"v":1470,"d":"1,470"}},{"$f":"SummData!$AM$41","v":978},{"$f":"SummData!$AM$42","v":{"v":1361,"d":"1,361"}},{"$f":"SummData!$AM$43","v":825},{"$f":"SummData!$AM$44","v":{"v":2774,"d":"2,774"}},{"$f":"SummData!$AM$45","v":{"v":2010,"d":"2,010"}},{"$f":"SummData!$AM$46","v":{"v":1608,"d":"1,608"}},{"$f":"SummData!$AM$47","v":{"v":1409,"d":"1,409"}},{"$f":"SummData!$AM$48","v":{"v":2445,"d":"2,445"}},{"$f":"SummData!$AM$49","v":{"v":2850,"d":"2,850"}},{"$f":"SummData!$AM$50","v":{"v":2201,"d":"2,201"}},{"$f":"SummData!$AM$50","v":{"v":2201,"d":"2,201"}}]
["Stillaguamish River (summer/fall)","external","CTC C&E Report",{"$f":"SummData!$AN$38","v":{"v":1254,"d":"1,254"}},{"$f":"SummData!$AN$39","v":607},{"$f":"SummData!$AN$40","v":{"v":1671,"d":"1,671"}},{"$f":"SummData!$AN$41","v":{"v":1001,"d":"1,001"}},{"$f":"SummData!$AN$42","v":783},{"$f":"SummData!$AN$43","v":{"v":1017,"d":"1,017"}},{"$f":"SummData!$AN$44","v":{"v":1534,"d":"1,534"}},{"$f":"SummData!$AN$45","v":854},{"$f":"SummData!$AN$46","v":854},{"$f":"SummData!$AN$47","v":0},{"$f":"SummData!$AN$48","v":0},{"$f":"SummData!$AN$49","v":0},{"$f":"SummData!$AN$50","v":0},{"$f":"SummData!$AN$50","v":0}]
["Snohomish River (summer/fall)","external","CTC C&E Report",{"$f":"SummData!$AO$38","v":{"v":8188,"d":"8,188"}},{"$f":"SummData!$AO$39","v":{"v":3982,"d":"3,982"}},{"$f":"SummData!$AO$40","v":{"v":8373.25,"d":"8,373"}},{"$f":"SummData!$AO$41","v":{"v":2309.404761904762,"d":"2,309"}},{"$f":"SummData!$AO$42","v":{"v":4298.852380952381,"d":"4,299"}},{"$f":"SummData!$AO$43","v":{"v":1880,"d":"1,880"}},{"$f":"SummData!$AO$44","v":{"v":5124,"d":"5,124"}},{"$f":"SummData!$AO$45","v":{"v":3244,"d":"3,244"}},{"$f":"SummData!$AO$46","v":{"v":3244,"d":"3,244"}},{"$f":"SummData!$AO$47","v":0},{"$f":"SummData!$AO$48","v":0},{"$f":"SummData!$AO$49","v":0},{"$f":"SummData!$AO$50","v":0},{"$f":"SummData!$AO$50","v":0}]
["Cedar River (summer/fall)","external","CTC C&E Report",{"$f":"SummData!$AP$38","v":{"v":1219,"d":"1,219"}},{"$f":"SummData!$AP$39","v":{"v":1968,"d":"1,968"}},{"$f":"SummData!$AP$40","v":941},{"$f":"SummData!$AP$41","v":793},{"$f":"SummData!$AP$42","v":729},{"$f":"SummData!$AP$43","v":906},{"$f":"SummData!$AP$44","v":{"v":1674,"d":"1,674"}},{"$f":"SummData!$AP$45","v":{"v":2098,"d":"2,098"}},{"$f":"SummData!$AP$46","v":{"v":2098,"d":"2,098"}},{"$f":"SummData!$AP$47","v":0},{"$f":"SummData!$AP$48","v":0},{"$f":"SummData!$AP$49","v":0},{"$f":"SummData!$AP$50","v":0},{"$f":"SummData!$AP$50","v":0}]
["White River (spring)","B-44","White River Hatchery",{"$f":"SummData!$AQ$38","v":{"v":3864,"d":"3,864"}},{"$f":"SummData!$AQ$39","v":{"v":8005,"d":"8,005"}},{"$f":"SummData!$AQ$40","v":{"v":3575,"d":"3,575"}},{"$f":"SummData!$AQ$41","v":{"v":2342,"d":"2,342"}},{"$f":"SummData!$AQ$42","v":{"v":2071,"d":"2,071"}},{"$f":"SummData!$AQ$43","v":{"v":3151,"d":"3,151"}},{"$f":"SummData!$AQ$44","v":{"v":3819,"d":"3,819"}},{"$f":"SummData!$AQ$45","v":{"v":6541,"d":"6,541"}},{"$f":"SummData!$AQ$46","v":{"v":2131,"d":"2,131"}},{"$f":"SummData!$AQ$47","v":{"v":2893,"d":"2,893"}},{"$f":"SummData!$AQ$48","v":{"v":6585,"d":"6,585"}},{"$f":"SummData!$AQ$49","v":{"v":9986,"d":"9,986"}},{"$f":"SummData!$AQ$50","v":{"v":4109,"d":"4,109"}},{"$f":"SummData!$AQ$50","v":{"v":4109,"d":"4,109"}}]
["Green River (summer/fall)","external","CTC C&E Report",{"$f":"SummData!$AR$38","v":{"v":5790,"d":"5,790"}},{"$f":"SummData!$AR$39","v":{"v":4301,"d":"4,301"}},{"$f":"SummData!$AR$40","v":{"v":5971,"d":"5,971"}},{"$f":"SummData!$AR$41","v":688},{"$f":"SummData!$AR$42","v":{"v":2092,"d":"2,092"}},{"$f":"SummData!$AR$43","v":993},{"$f":"SummData!$AR$44","v":{"v":3091,"d":"3,091"}},{"$f":"SummData!$AR$45","v":{"v":2041,"d":"2,041"}},{"$f":"SummData!$AR$46","v":{"v":2041,"d":"2,041"}},{"$f":"SummData!$AR$47","v":0},{"$f":"SummData!$AR$48","v":0},{"$f":"SummData!$AR$49","v":0},{"$f":"SummData!$AR$50","v":0},{"$f":"SummData!$AR$50","v":0}]
["Nisqually River (summer/fall)","external","PS Run Reconstruction",{"$f":"SummData!$AS$38","v":{"v":2179.0000200000004,"d":"2,179"}},{"$f":"SummData!$AS$39","v":{"v":1744.00002,"d":"1,744"}},{"$f":"SummData!$AS$40","v":{"v":3398.0000200000004,"d":"3,398"}},{"$f":"SummData!$AS$41","v":{"v":872.00002,"d":"872"}},{"$f":"SummData!$AS$42","v":{"v":2067.0000200000004,"d":"2,067"}},{"$f":"SummData!$AS$43","v":{"v":2264.0000200000004,"d":"2,264"}},{"$f":"SummData!$AS$44","v":{"v":2570.0000200000004,"d":"2,570"}},{"$f":"SummData!$AS$45","v":"NA"},{"$f":"SummData!$AS$46","v":"NA"},{"$f":"SummData!$AS$47","v":"NA"},{"$f":"SummData!$AS$48","v":"NA"},{"$f":"SummData!$AS$49","v":"NA"},{"$f":"SummData!$AS$50","v":0},{"$f":"SummData!$AS$50","v":0}]
["Puyallup River (summer/fall)","external","PS Run Reconstruction",{"$f":"SummData!$AT$38","v":{"v":1599.00002,"d":"1,599"}},{"$f":"SummData!$AT$39","v":{"v":2931.4495078048785,"d":"2,931"}},{"$f":"SummData!$AT$40","v":{"v":2679.0911397183104,"d":"2,679"}},{"$f":"SummData!$AT$41","v":{"v":1525.51252,"d":"1,526"}},{"$f":"SummData!$AT$42","v":{"v":1568.00002,"d":"1,568"}},{"$f":"SummData!$AT$43","v":{"v":1486.00002,"d":"1,486"}},{"$f":"SummData!$AT$44","v":{"v":773.00002,"d":"773"}},{"$f":"SummData!$AT$45","v":"NA"},{"$f":"SummData!$AT$46","v":"NA"},{"$f":"SummData!$AT$47","v":"NA"},{"$f":"SummData!$AT$48","v":"NA"},{"$f":"SummData!$AT$49","v":"NA"},{"$f":"SummData!$AT$50","v":0},{"$f":"SummData!$AT$50","v":0}]

{"sheet":"B-46","index":47,"n_rows":30,"n_cols":17,"rows_kept":30,"hidden":true,"merged":[[0,0,0,11]]}
["TABLE B-46.  Summary of Escapements of coho and pink stocks in the Pacific Coast Salmon Fishery Management Plan"]
[null,"source","comment",2006,2007,2008,2009,2010,2011,2012,2013,2014,2015,2016,2017,2018,2019]
["Coho"]
["Oregon Production Index Area"]
["Central California Coast","no","one index in Lagunitias Creek - B-7",{"$f":"SummData!$AV$38","v":"NA"},{"$f":"SummData!$AV$39","v":"NA"},{"$f":"SummData!$AV$40","v":"NA"},{"$f":"SummData!$AV$41","v":"NA"},{"$f":"SummData!$AV$42","v":"NA"},{"$f":"SummData!$AV$43","v":"NA"},{"$f":"SummData!$AV$44","v":"NA"},{"$f":"SummData!$AV$45","v":"NA"},{"$f":"SummData!$AV$46","v":"NA"},{"$f":"SummData!$AV$47","v":"NA"},{"$f":"SummData!$AV$48","v":"NA"},{"$f":"SummData!$AV$49","v":"NA"},{"$f":"SummData!$AV$50","v":0},{"$f":"SummData!$AV$50","v":0}]
["Northern California","no","minor counts in Mad and Eel basins",{"$f":"SummData!$AW$38","v":"NA"},{"$f":"SummData!$AW$39","v":"NA"},{"$f":"SummData!$AW$40","v":"NA"},{"$f":"SummData!$AW$41","v":"NA"},{"$f":"SummData!$AW$42","v":"NA"},{"$f":"SummData!$AW$43","v":"NA"},{"$f":"SummData!$AW$44","v":"NA"},{"$f":"SummData!$AW$45","v":"NA"},{"$f":"SummData!$AW$46","v":"NA"},{"$f":"SummData!$AW$47","v":"NA"},{"$f":"SummData!$AW$48","v":"NA"},{"$f":"SummData!$AW$49","v":"NA"},{"$f":"SummData!$AW$50","v":0},{"$f":"SummData!$AW$50","v":0}]
["Oregon Coastal (natural)","external","Table III-1, Pre I",{"$f":"SummData!$AX$38","v":{"v":134209.87683422965,"d":"134,210"}},{"$f":"SummData!$AX$39","v":{"v":73279.52376110094,"d":"73,280"}},{"$f":"SummData!$AX$40","v":{"v":182313.3079731736,"d":"182,313"}},{"$f":"SummData!$AX$41","v":{"v":298117.76950909785,"d":"298,118"}},{"$f":"SummData!$AX$42","v":{"v":293080.30047641473,"d":"293,080"}},{"$f":"SummData!$AX$43","v":{"v":375458.0008719758,"d":"375,458"}},{"$f":"SummData!$AX$44","v":{"v":98422,"d":"98,422"}},{"$f":"SummData!$AX$45","v":{"v":122178.00000000001,"d":"122,178"}},{"$f":"SummData!$AX$46","v":{"v":353021,"d":"353,021"}},{"$f":"SummData!$AX$47","v":{"v":55829,"d":"55,829"}},{"$f":"SummData!$AX$48","v":{"v":74896.99999999999,"d":"74,897"}},{"$f":"SummData!$AX$49","v":0},{"$f":"SummData!$AX$50","v":0},{"$f":"SummData!$AX$50","v":0}]
["Columbia River (natural)","external","OPITT OR&WA wild esc",{"$f":"SummData!$AY$38","v":{"v":33339.02117427331,"d":"33,339"}},{"$f":"SummData!$AY$39","v":{"v":25897.275305380725,"d":"25,897"}},{"$f":"SummData!$AY$40","v":{"v":32357.86864967365,"d":"32,358"}},{"$f":"SummData!$AY$41","v":{"v":61954,"d":"61,954"}},{"$f":"SummData!$AY$42","v":{"v":53128,"d":"53,128"}},{"$f":"SummData!$AY$43","v":{"v":33876,"d":"33,876"}},{"$f":"SummData!$AY$44","v":{"v":17828,"d":"17,828"}},{"$f":"SummData!$AY$45","v":{"v":50170,"d":"50,170"}},{"$f":"SummData!$AY$46","v":{"v":108773,"d":"108,773"}},{"$f":"SummData!$AY$47","v":{"v":18438,"d":"18,438"}},{"$f":"SummData!$AY$48","v":{"v":16954,"d":"16,954"}},{"$f":"SummData!$AY$49","v":0},{"$f":"SummData!$AY$50","v":0},{"$f":"SummData!$AY$50","v":0}]
["Oregon Coastal (hatchery)","external","OPITT Oregon coastal hatchery",{"$f":"SummData!$AZ$38","v":{"v":12900,"d":"12,900"}},{"$f":"SummData!$AZ$39","v":{"v":2900,"d":"2,900"}},{"$f":"SummData!$AZ$40","v":{"v":6478,"d":"6,478"}},{"$f":"SummData!$AZ$41","v":{"v":5233,"d":"5,233"}},{"$f":"SummData!$AZ$42","v":{"v":7768,"d":"7,768"}},{"$f":"SummData!$AZ$43","v":{"v":3190,"d":"3,190"}},{"$f":"SummData!$AZ$44","v":{"v":2365,"d":"2,365"}},{"$f":"SummData!$AZ$45","v":{"v":4481,"d":"4,481"}},{"$f":"SummData!$AZ$46","v":0},{"$f":"SummData!$AZ$47","v":0},{"$f":"SummData!$AZ$48","v":0},{"$f":"SummData!$AZ$49","v":0},{"$f":"SummData!$AZ$50","v":0},{"$f":"SummData!$AZ$50","v":0}]
["Columbia River (late hatchery)","external","OPITT late hatchery escapement",{"$f":"SummData!$BA$38","v":{"v":127727,"d":"127,727"}},{"$f":"SummData!$BA$39","v":{"v":88505,"d":"88,505"}},{"$f":"SummData!$BA$40","v":{"v":160094,"d":"160,094"}},{"$f":"SummData!$BA$41","v":{"v":205075,"d":"205,075"}},{"$f":"SummData!$BA$42","v":{"v":178293,"d":"178,293"}},{"$f":"SummData!$BA$43","v":{"v":88938,"d":"88,938"}},{"$f":"SummData!$BA$44","v":{"v":33735,"d":"33,735"}},{"$f":"SummData!$BA$45","v":{"v":65834.17647058822,"d":"65,834"}},{"$f":"SummData!$BA$46","v":{"v":262681,"d":"262,681"}},{"$f":"SummData!$BA$47","v":{"v":34666,"d":"34,666"}},{"$f":"SummData!$BA$48","v":{"v":63197.99999999999,"d":"63,198"}},{"$f":"SummData!$BA$49","v":0},{"$f":"SummData!$BA$50","v":0},{"$f":"SummData!$BA$50","v":0}]
["Columbia River (early hatchery)","external","OPITT early hatchery escapement",{"$f":"SummData!$BB$38","v":{"v":165075,"d":"165,075"}},{"$f":"SummData!$BB$39","v":{"v":161766,"d":"161,766"}},{"$f":"SummData!$BB$40","v":{"v":216323,"d":"216,323"}},{"$f":"SummData!$BB$41","v":{"v":280243,"d":"280,243"}},{"$f":"SummData!$BB$42","v":{"v":131640,"d":"131,640"}},{"$f":"SummData!$BB$43","v":{"v":165826,"d":"165,826"}},{"$f":"SummData!$BB$44","v":{"v":63170,"d":"63,170"}},{"$f":"SummData!$BB$45","v":{"v":75659.68253968254,"d":"75,660"}},{"$f":"SummData!$BB$46","v":{"v":310296,"d":"310,296"}},{"$f":"SummData!$BB$47","v":{"v":46227,"d":"46,227"}},{"$f":"SummData!$BB$48","v":{"v":62924,"d":"62,924"}},{"$f":"SummData!$BB$49","v":0},{"$f":"SummData!$BB$50","v":0},{"$f":"SummData!$BB$50","v":0}]
["Washington Coast"]
["Willapa Bay","B-24","hatchery escapement",{"$f":"SummData!$BC$38","v":{"v":7437,"d":"7,437"}},{"$f":"SummData!$BC$39","v":{"v":10345,"d":"10,345"}},{"$f":"SummData!$BC$40","v":{"v":10832,"d":"10,832"}},{"$f":"SummData!$BC$41","v":{"v":21759,"d":"21,759"}},{"$f":"SummData!$BC$42","v":{"v":34387,"d":"34,387"}},{"$f":"SummData!$BC$43","v":{"v":22022,"d":"22,022"}},{"$f":"SummData!$BC$44","v":{"v":14609,"d":"14,609"}},{"$f":"SummData!$BC$45","v":{"v":13490,"d":"13,490"}},{"$f":"SummData!$BC$46","v":{"v":83059,"d":"83,059"}},{"$f":"SummData!$BC$47","v":{"v":21296,"d":"21,296"}},{"$f":"SummData!$BC$48","v":{"v":21866,"d":"21,866"}},{"$f":"SummData!$BC$49","v":{"v":6743,"d":"6,743"}},{"$f":"SummData!$BC$50","v":"NA"},{"$f":"SummData!$BC$50","v":"NA"}]
["Quinault River","B-28","sum of hatchery and natural",{"$f":"SummData!$BD$38","v":{"v":4305,"d":"4,305"}},{"$f":"SummData!$BD$39","v":{"v":6332,"d":"6,332"}},{"$f":"SummData!$BD$40","v":{"v":29879,"d":"29,879"}},{"$f":"SummData!$BD$41","v":{"v":56493,"d":"56,493"}},{"$f":"SummData!$BD$42","v":{"v":32719,"d":"32,719"}},{"$f":"SummData!$BD$43","v":{"v":8552,"d":"8,552"}},{"$f":"SummData!$BD$44","v":{"v":15194,"d":"15,194"}},{"$f":"SummData!$BD$45","v":{"v":4807,"d":"4,807"}},{"$f":"SummData!$BD$46","v":{"v":45744,"d":"45,744"}},{"$f":"SummData!$BD$47","v":{"v":18977,"d":"18,977"}},{"$f":"SummData!$BD$48","v":{"v":25301,"d":"25,301"}},{"$f":"SummData!$BD$49","v":{"v":47818,"d":"47,818"}},{"$f":"SummData!$BD$50","v":0},{"$f":"SummData!$BD$50","v":0}]
["Quillayute River (summer)","B-37","sum of hatchery and natural",{"$f":"SummData!$BE$38","v":{"v":2453,"d":"2,453"}},{"$f":"SummData!$BE$39","v":{"v":5583,"d":"5,583"}},{"$f":"SummData!$BE$40","v":{"v":7125,"d":"7,125"}},{"$f":"SummData!$BE$41","v":{"v":9422,"d":"9,422"}},{"$f":"SummData!$BE$42","v":{"v":1917,"d":"1,917"}},{"$f":"SummData!$BE$43","v":{"v":5454,"d":"5,454"}},{"$f":"SummData!$BE$44","v":{"v":2260,"d":"2,260"}},{"$f":"SummData!$BE$45","v":{"v":2955,"d":"2,955"}},{"$f":"SummData!$BE$46","v":{"v":5773,"d":"5,773"}},{"$f":"SummData!$BE$47","v":{"v":5238,"d":"5,238"}},{"$f":"SummData!$BE$48","v":{"v":2888,"d":"2,888"}},{"$f":"SummData!$BE$49","v":{"v":7933,"d":"7,933"}},{"$f":"SummData!$BE$50","v":{"v":2125,"d":"2,125"}},{"$f":"SummData!$BE$50","v":{"v":2125,"d":"2,125"}}]
["Willapa Bay (natural)","B-24","total spawning escapement",{"$f":"SummData!$BG$38","v":{"v":14301,"d":"14,301"}},{"$f":"SummData!$BG$39","v":{"v":18310,"d":"18,310"}},{"$f":"SummData!$BG$40","v":{"v":18561,"d":"18,561"}},{"$f":"SummData!$BG$41","v":{"v":50650,"d":"50,650"}},{"$f":"SummData!$BG$42","v":{"v":84564.42857142858,"d":"84,564"}},{"$f":"SummData!$BG$43","v":{"v":31737,"d":"31,737"}},{"$f":"SummData!$BG$44","v":{"v":20412,"d":"20,412"}},{"$f":"SummData!$BG$45","v":{"v":26302.999999999996,"d":"26,303"}},{"$f":"SummData!$BG$46","v":{"v":59569,"d":"59,569"}},{"$f":"SummData!$BG$47","v":{"v":17086,"d":"17,086"}},{"$f":"SummData!$BG$48","v":{"v":30667,"d":"30,667"}},{"$f":"SummData!$BG$49","v":{"v":11379,"d":"11,379"}},{"$f":"SummData!$BG$50","v":"NA"},{"$f":"SummData!$BG$50","v":"NA"}]
["Grays Harbor","B-26","natural spawning escapement",{"$f":"SummData!$BH$38","v":{"v":17767,"d":"17,767"}},{"$f":"SummData!$BH$39","v":{"v":25121,"d":"25,121"}},{"$f":"SummData!$BH$40","v":{"v":34054,"d":"34,054"}},{"$f":"SummData!$BH$41","v":{"v":69222,"d":"69,222"}},{"$f":"SummData!$BH$42","v":{"v":102237,"d":"102,237"}},{"$f":"SummData!$BH$43","v":{"v":64403,"d":"64,403"}},{"$f":"SummData!$BH$44","v":{"v":66836,"d":"66,836"}},{"$f":"SummData!$BH$45","v":{"v":56785,"d":"56,785"}},{"$f":"SummData!$BH$46","v":{"v":105039,"d":"105,039"}},{"$f":"SummData!$BH$47","v":{"v":21278,"d":"21,278"}},{"$f":"SummData!$BH$48","v":{"v":38595,"d":"38,595"}},{"$f":"SummData!$BH$49","v":{"v":26907,"d":"26,907"}},{"$f":"SummData!$BH$50","v":"NA"},{"$f":"SummData!$BH$50","v":"NA"}]
["Queets River","B-31","natural spawning escapement",{"$f":"SummData!$BI$38","v":{"v":5612,"d":"5,612"}},{"$f":"SummData!$BI$39","v":{"v":4600,"d":"4,600"}},{"$f":"SummData!$BI$40","v":{"v":4629,"d":"4,629"}},{"$f":"SummData!$BI$41","v":{"v":9204,"d":"9,204"}},{"$f":"SummData!$BI$42","v":{"v":11261,"d":"11,261"}},{"$f":"SummData!$BI$43","v":{"v":8588,"d":"8,588"}},{"$f":"SummData!$BI$44","v":{"v":4285,"d":"4,285"}},{"$f":"SummData!$BI$45","v":{"v":5684,"d":"5,684"}},{"$f":"SummData!$BI$46","v":{"v":7558,"d":"7,558"}},{"$f":"SummData!$BI$47","v":{"v":2028,"d":"2,028"}},{"$f":"SummData!$BI$48","v":{"v":5156,"d":"5,156"}},{"$f":"SummData!$BI$49","v":{"v":5232,"d":"5,232"}},{"$f":"SummData!$BI$50","v":"NA"},{"$f":"SummData!$BI$50","v":"NA"}]
["Hoh River","B-34","natural spawning escapement",{"$f":"SummData!$BJ$38","v":{"v":1282,"d":"1,282"}},{"$f":"SummData!$BJ$39","v":{"v":3072,"d":"3,072"}},{"$f":"SummData!$BJ$40","v":{"v":2461,"d":"2,461"}},{"$f":"SummData!$BJ$41","v":{"v":6595,"d":"6,595"}},{"$f":"SummData!$BJ$42","v":{"v":8231,"d":"8,231"}},{"$f":"SummData!$BJ$43","v":{"v":8043,"d":"8,043"}},{"$f":"SummData!$BJ$44","v":{"v":4072,"d":"4,072"}},{"$f":"SummData!$BJ$45","v":{"v":2899,"d":"2,899"}},{"$f":"SummData!$BJ$46","v":{"v":4565,"d":"4,565"}},{"$f":"SummData!$BJ$47","v":{"v":1794,"d":"1,794"}},{"$f":"SummData!$BJ$48","v":{"v":5009,"d":"5,009"}},{"$f":"SummData!$BJ$49","v":{"v":4478,"d":"4,478"}},{"$f":"SummData!$BJ$50","v":"NA"},{"$f":"SummData!$BJ$50","v":"NA"}]
["Quillayute River (fall)","B-37","natural spawning escapement",{"$f":"SummData!$BK$38","v":{"v":5210,"d":"5,210"}},{"$f":"SummData!$BK$39","v":{"v":6252,"d":"6,252"}},{"$f":"SummData!$BK$40","v":{"v":6947,"d":"6,947"}},{"$f":"SummData!$BK$41","v":{"v":7863,"d":"7,863"}},{"$f":"SummData!$BK$42","v":{"v":9837,"d":"9,837"}},{"$f":"SummData!$BK$43","v":{"v":8070,"d":"8,070"}},{"$f":"SummData!$BK$44","v":{"v":5846,"d":"5,846"}},{"$f":"SummData!$BK$45","v":{"v":7072,"d":"7,072"}},{"$f":"SummData!$BK$46","v":{"v":7425,"d":"7,425"}},{"$f":"SummData!$BK$47","v":{"v":2571,"d":"2,571"}},{"$f":"SummData!$BK$48","v":{"v":9630,"d":"9,630"}},{"$f":"SummData!$BK$49","v":{"v":7474,"d":"7,474"}},{"$f":"SummData!$BK$50","v":"NA"},{"$f":"SummData!$BK$50","v":"NA"}]
["Puget Sound"]
["Strait of Juan de Fuca","B-42","natural spawning escapement",{"$f":"SummData!$BL$38","v":{"v":3801,"d":"3,801"}},{"$f":"SummData!$BL$39","v":{"v":7525,"d":"7,525"}},{"$f":"SummData!$BL$40","v":{"v":3999,"d":"3,999"}},{"$f":"SummData!$BL$41","v":{"v":14957,"d":"14,957"}},{"$f":"SummData!$BL$42","v":{"v":18419,"d":"18,419"}},{"$f":"SummData!$BL$43","v":{"v":10731,"d":"10,731"}},{"$f":"SummData!$BL$44","v":{"v":11020,"d":"11,020"}},{"$f":"SummData!$BL$45","v":{"v":8458,"d":"8,458"}},{"$f":"SummData!$BL$46","v":{"v":11488,"d":"11,488"}},{"$f":"SummData!$BL$47","v":{"v":3859,"d":"3,859"}},{"$f":"SummData!$BL$48","v":{"v":8435,"d":"8,435"}},{"$f":"SummData!$BL$49","v":{"v":5530,"d":"5,530"}},{"$f":"SummData!$BL$50","v":"NA"},{"$f":"SummData!$BL$50","v":"NA"}]
["Hood Canal","B-42","natural spawning escapement",{"$f":"SummData!$BM$38","v":{"v":13269,"d":"13,269"}},{"$f":"SummData!$BM$39","v":{"v":46347,"d":"46,347"}},{"$f":"SummData!$BM$40","v":{"v":11516,"d":"11,516"}},{"$f":"SummData!$BM$41","v":{"v":26961,"d":"26,961"}},{"$f":"SummData!$BM$42","v":{"v":4197,"d":"4,197"}},{"$f":"SummData!$BM$43","v":{"v":24389,"d":"24,389"}},{"$f":"SummData!$BM$44","v":{"v":45921,"d":"45,921"}},{"$f":"SummData!$BM$45","v":{"v":16064,"d":"16,064"}},{"$f":"SummData!$BM$46","v":{"v":26787,"d":"26,787"}},{"$f":"SummData!$BM$47","v":{"v":26926,"d":"26,926"}},{"$f":"SummData!$BM$48","v":{"v":24313,"d":"24,313"}},{"$f":"SummData!$BM$49","v":{"v":23871,"d":"23,871"}},{"$f":"SummData!$BM$50","v":"NA"},{"$f":"SummData!$BM$50","v":"NA"}]
["Skagit River","B-42","natural spawning escapement",{"$f":"SummData!$BN$38","v":{"v":8037,"d":"8,037"}},{"$f":"SummData!$BN$39","v":{"v":52506,"d":"52,506"}},{"$f":"SummData!$BN$40","v":{"v":22740,"d":"22,740"}},{"$f":"SummData!$BN$41","v":{"v":76990,"d":"76,990"}},{"$f":"SummData!$BN$42","v":{"v":34018,"d":"34,018"}},{"$f":"SummData!$BN$43","v":{"v":43916,"d":"43,916"}},{"$f":"SummData!$BN$44","v":{"v":92687,"d":"92,687"}},{"$f":"SummData!$BN$45","v":{"v":85751,"d":"85,751"}},{"$f":"SummData!$BN$46","v":{"v":24820,"d":"24,820"}},{"$f":"SummData!$BN$47","v":{"v":5794,"d":"5,794"}},{"$f":"SummData!$BN$48","v":{"v":35822,"d":"35,822"}},{"$f":"SummData!$BN$49","v":{"v":20184,"d":"20,184"}},{"$f":"SummData!$BN$50","v":"NA"},{"$f":"SummData!$BN$50","v":"NA"}]
["Stillaguamish River","B-42","natural spawning escapement",{"$f":"SummData!$BO$38","v":{"v":8549,"d":"8,549"}},{"$f":"SummData!$BO$39","v":{"v":38732,"d":"38,732"}},{"$f":"SummData!$BO$40","v":{"v":12938,"d":"12,938"}},{"$f":"SummData!$BO$41","v":{"v":22179,"d":"22,179"}},{"$f":"SummData!$BO$42","v":{"v":15172,"d":"15,172"}},{"$f":"SummData!$BO$43","v":{"v":49991,"d":"49,991"}},{"$f":"SummData!$BO$44","v":{"v":45156,"d":"45,156"}},{"$f":"SummData!$BO$45","v":{"v":60387,"d":"60,387"}},{"$f":"SummData!$BO$46","v":{"v":35829,"d":"35,829"}},{"$f":"SummData!$BO$47","v":{"v":2914,"d":"2,914"}},{"$f":"SummData!$BO$48","v":{"v":13048,"d":"13,048"}},{"$f":"SummData!$BO$49","v":{"v":6099,"d":"6,099"}},{"$f":"SummData!$BO$50","v":"NA"},{"$f":"SummData!$BO$50","v":"NA"}]
["Snohomish River","B-42","natural spawning escapement",{"$f":"SummData!$BP$38","v":{"v":75630,"d":"75,630"}},{"$f":"SummData!$BP$39","v":{"v":118455,"d":"118,455"}},{"$f":"SummData!$BP$40","v":{"v":35441,"d":"35,441"}},{"$f":"SummData!$BP$41","v":{"v":98979,"d":"98,979"}},{"$f":"SummData!$BP$42","v":{"v":49100,"d":"49,100"}},{"$f":"SummData!$BP$43","v":{"v":111374,"d":"111,374"}},{"$f":"SummData!$BP$44","v":{"v":130637,"d":"130,637"}},{"$f":"SummData!$BP$45","v":{"v":125870,"d":"125,870"}},{"$f":"SummData!$BP$46","v":{"v":46244,"d":"46,244"}},{"$f":"SummData!$BP$47","v":{"v":12804,"d":"12,804"}},{"$f":"SummData!$BP$48","v":{"v":44141,"d":"44,141"}},{"$f":"SummData!$BP$49","v":{"v":18195,"d":"18,195"}},{"$f":"SummData!$BP$50","v":"NA"},{"$f":"SummData!$BP$50","v":"NA"}]
["South Puget Sound (hatchery)","B-42","natural spawning escapement",{"$f":"SummData!$BF$38","v":{"v":68784,"d":"68,784"}},{"$f":"SummData!$BF$39","v":{"v":86699,"d":"86,699"}},{"$f":"SummData!$BF$40","v":{"v":72304,"d":"72,304"}},{"$f":"SummData!$BF$41","v":{"v":80163,"d":"80,163"}},{"$f":"SummData!$BF$42","v":{"v":33624,"d":"33,624"}},{"$f":"SummData!$BF$43","v":{"v":82288,"d":"82,288"}},{"$f":"SummData!$BF$44","v":{"v":137487,"d":"137,487"}},{"$f":"SummData!$BF$45","v":{"v":90537,"d":"90,537"}},{"$f":"SummData!$BF$46","v":{"v":72225,"d":"72,225"}},{"$f":"SummData!$BF$47","v":{"v":35402,"d":"35,402"}},{"$f":"SummData!$BF$48","v":{"v":131646,"d":"131,646"}},{"$f":"SummData!$BF$49","v":{"v":75265,"d":"75,265"}},{"$f":"SummData!$BF$50","v":"NA"},{"$f":"SummData!$BF$50","v":"NA"}]
[]
["Pink"]
["Puget Sound (odd-numbered years)","B-43","sum of 6 stocks",{"$f":"SummData!$BR$38","v":0},{"$f":"SummData!$BR$39","v":{"v":2951724,"d":"2,951,724"}},{"$f":"SummData!$BR$40","v":0},{"$f":"SummData!$BR$41","v":{"v":8255955,"d":"8,255,955"}},{"$f":"SummData!$BR$42","v":0},{"$f":"SummData!$BR$43","v":{"v":3941378.8904761905,"d":"3,941,379"}},{"$f":"SummData!$BR$44","v":0},{"$f":"SummData!$BR$45","v":{"v":7139374.155128028,"d":"7,139,374"}},{"$f":"SummData!$BR$46","v":0},{"$f":"SummData!$BR$47","v":{"v":2958771,"d":"2,958,771"}},{"$f":"SummData!$BR$48","v":0},{"$f":"SummData!$BR$49","v":"NA"},{"$f":"SummData!$BR$50","v":0},{"$f":"SummData!$BR$50","v":0}]

{"sheet":"SummData","index":48,"n_rows":50,"n_cols":71,"rows_kept":50,"hidden":true}
["FMP Salmon stock","California Central Valley: Sacramento (fall)","California Central Valley: Sacramento (spring)","California Central Valley: Sacramento (winter)","Northern California Coast: Eel, Mattole, and Mad (fall/spring)","Northern California Coast: Klamath (fall)","Northern California Coast: Klamath (spring)","Northern California Coast: Smith (fall/spring)","Oregon Coast: Southern","Oregon Coast: Central and Northern","Washington Coast: Willapa Bay Fall (natural)","Washington Coast: Grays Harbor (fall)","Washington Coast: Queets (fall)","Washington Coast: Hoh (fall)","Washington Coast: Quillayute (fall)","Washington Coast: Hoko (summer/fall)","Washington Coast: Grays Harbor (spring)","Washington Coast: Queets (spring/summer)","Washington Coast: Hoh (spring/summer)","Washington Coast: Quillayute (spring/summer)","Washington Coast: Willapa Bay Fall (hatchery)","Washington Coast: Quinault Fall (hatchery)","  LRW  Columbia River Basin: North Lewis (fall)","Columbia River Basin: Snake (fall)","Columbia River Basin: Upper Willamette (spring)","Columbia River Basin: Upper River (spring)","Columbia River Basin: Snake (spring/summer)","Columbia River Basin: Lower River Hatchery (fall)","Columbia River Basin: Lower River Hatchery (spring)","Columbia River Basin: Mid-River Bright Hatchery (fall)","Columbia River Basin: Spring Creek Hatchery (fall)","Columbia River Basin: Upper River Bright (fall)","Columbia River Basin: Upper River (summer)","Puget Sound: Eastern Strait of Juan de Fuca (summer/fall)","Puget Sound: Skokomish (summer/fall)","Puget Sound: Mid Hood Canal (summer/fall)","Puget Sound: Nooksack (spring early)","Puget Sound: Skagit (summer/fall)","Puget Sound: Skagit (spring)","Puget Sound: Stillaguamish (summer/fall)","Puget Sound: Snohomish (summer/fall)","Puget Sound: Cedar (summer/fall)","Puget Sound: White (spring)","Puget Sound: Green (summer/fall)","Puget Sound: Nisqually (summer/fall)","Puget Sound: Puyallup (summer/fall)","COHO","Oregon Production Index Area: Central California Coast","Oregon Production Index Area: Northern California","Oregon Production Index Area: Oregon Coastal (natural) *","Oregon Production Index Area: Columbia (natural) *","Oregon Production Index Area: Oregon Coastal (hatchery)","Oregon Production Index Area: Columbia (late hatchery)","Oregon Production Index Area: Columbia (early hatchery)","Washington Coast: Willapa Bay","Washington Coast: Quinault","Washington Coast: Quillayute (summer)","Puget Sound: South Puget Sound (hatchery)","Washington Coast: Willapa Bay (natural)","Washington Coast: Grays Harbor","Washington Coast: Queets","Washington Coast: Hoh","Washington Coast: Quillayute (fall)","Washington Coast: Strait of Juan de Fuca","Puget Sound: Hood Canal","Puget Sound: Skagit","Puget Sound: Stillaguamish","Puget Sound: Snohomish","PINK","Spawning Escapement Puget Sound (odd-numbered years)"]
[1970,{"$f":"'B-1'!AD5","v":{"v":156665.372,"d":"156,665"}},{"$f":"'B-3'!L6+'B-3'!N6","v":{"v":7437,"d":"7,437"}},null,"NA",null,"NA","NA",null,{"$f":"'B-11'!T16","v":80},{"$nulls":11},"NA",{"$nulls":12},"NA","NA",{"$nulls":3},"NA","NA","NA",null,"NA","NA","NA",null,"NA","NA",{"v":247437.96177428344,"d":"247,438"}]
[{"$f":"A2+1","v":1971},{"$f":"'B-1'!AD6","v":{"v":154881.927,"d":"154,882"}},{"$f":"'B-3'!L7+'B-3'!N7","v":{"v":7167.6,"d":"7,168"}},null,"NA",null,"NA","NA",{"$f":"'B-8'!M16","v":148},{"$f":"'B-11'!T17","v":43},{"$nulls":11},"NA",{"$nulls":12},"NA","NA",{"$nulls":3},"NA","NA","NA",null,"NA","NA","NA",null,"NA","NA",{"v":598771.4951456743,"d":"598,771"}]
[1972,{"$f":"'B-1'!AD7","v":{"v":92156.997,"d":"92,157"}},{"$f":"'B-3'!L8+'B-3'!N8","v":{"v":6961.92,"d":"6,962"}},null,"NA",null,"NA","NA",{"$f":"'B-8'!M17","v":251},{"$f":"'B-11'!T18","v":41},{"$nulls":11},"NA",{"$nulls":12},"NA","NA",{"$nulls":3},"NA","NA","NA",null,"NA","NA","NA",null,"NA","NA",{"v":260097.6738126799,"d":"260,098"}]
[1973,{"$f":"'B-1'!AD8","v":{"v":220059.214,"d":"220,059"}},{"$f":"'B-3'!L9+'B-3'!N9","v":{"v":9955.025,"d":"9,955"}},null,"NA",null,"NA","NA",{"$f":"'B-8'!M18","v":68},{"$f":"'B-11'!T19","v":52},{"$nulls":11},"NA",{"$nulls":12},"NA","NA",{"$nulls":3},"NA","NA","NA",null,"NA","NA","NA",null,"NA","NA",{"v":340528.1595579613,"d":"340,528"},643,null,{"v":19513.999999999996,"d":"19,514"},{"v":79753,"d":"79,753"}]
[1974,{"$f":"'B-1'!AD9","v":{"v":202015.972,"d":"202,016"}},{"$f":"'B-3'!L10+'B-3'!N10","v":{"v":7856.8,"d":"7,857"}},null,"NA",null,"NA","NA",{"$f":"'B-8'!M19","v":52},{"$f":"'B-11'!T20","v":59},{"$nulls":11},"NA",{"$nulls":12},"NA","NA",{"$nulls":3},"NA","NA","NA",null,"NA","NA","NA",null,"NA","NA",{"v":245883.27420957456,"d":"245,883"},901,null,{"v":34489,"d":"34,489"},{"v":151376,"d":"151,376"}]
[1975,{"$f":"'B-1'!AD10","v":{"v":155620.634,"d":"155,621"}},{"$f":"'B-3'!L11+'B-3'!N11","v":{"v":19517.014,"d":"19,517"}},null,"NA",null,"NA","NA",null,{"$f":"'B-11'!T21","v":55},{"$nulls":11},"NA",{"$nulls":12},"NA","NA",{"$nulls":3},"NA","NA","NA",null,"NA","NA","NA",null,"NA","NA",{"v":252228.77001535194,"d":"252,229"},1133,null,{"v":19023,"d":"19,023"},{"v":105081,"d":"105,081"}]
[1976,{"$f":"'B-1'!AD11","v":{"v":167865.102,"d":"167,865"}},{"$f":"'B-3'!L12+'B-3'!N12","v":{"v":21226.18,"d":"21,226"}},null,"NA",null,"NA","NA",{"$f":"'B-8'!M21","v":23},{"$f":"'B-11'!T22","v":45},{"$f":"'B-23'!F4","v":{"v":2582,"d":"2,582"}},null,{"$f":"'B-30'!F5","v":{"v":1200,"d":"1,200"}},{"$f":"'B-33'!F5","v":{"v":2500,"d":"2,500"}},{"$f":"'B-36'!F5","v":{"v":2500,"d":"2,500"}},null,null,{"$f":"'B-29'!F5","v":505},{"$f":"'B-32'!K5","v":600},{"$f":"'B-35'!F5","v":{"v":1300,"d":"1,300"}},{"$f":"'B-23'!G4","v":{"v":3204,"d":"3,204"}},"NA",{"$f":"'B-16'!F11","v":{"v":8200,"d":"8,200"}},{"$f":"'B-19'!O11","v":0},{"$f":"'B-12'!G11","v":{"v":21000,"d":"21,000"}},null,null,{"$f":"'B-15'!F11+'B-15'!G11","v":{"v":102400,"d":"102,400"}},{"$f":"'B-12'!L11","v":{"v":29900,"d":"29,900"}},null,{"$f":"'B-17'!H11+'B-17'!I11","v":{"v":27700,"d":"27,700"}},{"$nulls":3},"NA","NA",{"$nulls":3},"NA","NA","NA",null,"NA","NA","NA",null,"NA","NA",{"v":474773.7120971147,"d":"474,774"},{"v":1210,"d":"1,210"},null,{"v":49369.99999999999,"d":"49,370"},{"v":106889.00000000001,"d":"106,889"},null,null,{"$f":"'B-37'!F6+'B-37'!G6","v":{"v":2439,"d":"2,439"}},null,null,{"$f":"'B-26'!G5","v":{"v":43900,"d":"43,900"}},{"$f":"'B-31'!F5","v":{"v":1200,"d":"1,200"}},{"$f":"'B-34'!F5","v":{"v":2300,"d":"2,300"}},{"$f":"'B-37'!F59","v":{"v":3900,"d":"3,900"}}]
[1977,{"$f":"'B-1'!AD12","v":{"v":164011.476,"d":"164,011"}},{"$f":"'B-3'!L13+'B-3'!N13","v":{"v":8019.36,"d":"8,019"}},null,"NA",null,"NA","NA",{"$f":"'B-8'!M22","v":27},{"$f":"'B-11'!T23","v":71},{"$f":"'B-23'!F5","v":644},null,{"$f":"'B-30'!F6","v":{"v":3600,"d":"3,600"}},{"$f":"'B-33'!F6","v":{"v":2100,"d":"2,100"}},{"$f":"'B-36'!F6","v":{"v":3300,"d":"3,300"}},null,null,{"$f":"'B-29'!F6","v":732},{"$f":"'B-32'!K6","v":{"v":1000,"d":"1,000"}},{"$f":"'B-35'!F6","v":{"v":3800,"d":"3,800"}},{"$f":"'B-23'!G5","v":{"v":6079,"d":"6,079"}},"NA",{"$f":"'B-16'!F12","v":{"v":14200,"d":"14,200"}},{"$f":"'B-19'!O12","v":0},{"$f":"'B-12'!G12","v":{"v":38500,"d":"38,500"}},null,null,{"$f":"'B-15'!F12+'B-15'!G12","v":{"v":86700,"d":"86,700"}},{"$f":"'B-12'!L12","v":{"v":30200,"d":"30,200"}},null,{"$f":"'B-17'!H12+'B-17'!I12","v":{"v":22800,"d":"22,800"}},{"$nulls":3},"NA","NA",{"$nulls":3},"NA","NA","NA",null,"NA","NA","NA",null,"NA","NA",{"v":221573.890814022,"d":"221,574"},{"v":1179,"d":"1,179"},null,{"v":15191,"d":"15,191"},{"v":32203.999999999996,"d":"32,204"},null,{"$f":"'B-28'!F5+'B-28'!G5","v":{"v":1800,"d":"1,800"}},{"$f":"'B-37'!F7+'B-37'!G7","v":{"v":2847,"d":"2,847"}},null,null,{"$f":"'B-26'!G6","v":{"v":26850,"d":"26,850"}},{"$f":"'B-31'!F6","v":{"v":1900,"d":"1,900"}},{"$f":"'B-34'!F6","v":{"v":2400,"d":"2,400"}},{"$f":"'B-37'!F60","v":{"v":3526,"d":"3,526"}}]
[1978,{"$f":"'B-1'!AD13","v":{"v":126947.514,"d":"126,948"}},{"$f":"'B-3'!L14+'B-3'!N14","v":{"v":7164.354,"d":"7,164"}},null,"NA",{"v":58492,"d":"58,492"},"NA","NA",{"$f":"'B-8'!M23","v":154},{"$f":"'B-11'!T24","v":73},{"$f":"'B-23'!F6","v":{"v":3463,"d":"3,463"}},null,{"$f":"'B-30'!F7","v":{"v":2200,"d":"2,200"}},{"$f":"'B-33'!F7","v":{"v":1900,"d":"1,900"}},{"$f":"'B-36'!F7","v":{"v":4700,"d":"4,700"}},null,null,{"$f":"'B-29'!F7","v":{"v":1110,"d":"1,110"}},{"$f":"'B-32'!K7","v":{"v":1400,"d":"1,400"}},{"$f":"'B-35'!F7","v":{"v":2300,"d":"2,300"}},{"$f":"'B-23'!G6","v":{"v":4140,"d":"4,140"}},"NA",{"$f":"'B-16'!F13","v":{"v":10100,"d":"10,100"}},{"$f":"'B-19'!O13","v":0},{"$f":"'B-12'!G13","v":{"v":45700,"d":"45,700"}},null,null,{"$f":"'B-15'!F13+'B-15'!G13","v":{"v":102400,"d":"102,400"}},{"$f":"'B-12'!L13","v":{"v":25200,"d":"25,200"}},null,{"$f":"'B-17'!H13+'B-17'!I13","v":{"v":20400,"d":"20,400"}},{"$nulls":3},"NA","NA",{"$nulls":3},"NA","NA","NA",null,"NA","NA","NA",null,"NA","NA",{"v":124033.20258534854,"d":"124,033"},{"v":1209,"d":"1,209"},null,{"v":35500,"d":"35,500"},{"v":128315,"d":"128,315"},null,{"$f":"'B-28'!F6+'B-28'!G6","v":{"v":4100,"d":"4,100"}},{"$f":"'B-37'!F8+'B-37'!G8","v":{"v":2500,"d":"2,500"}},null,null,{"$f":"'B-26'!G7","v":{"v":11700,"d":"11,700"}},{"$f":"'B-31'!F7","v":{"v":2700,"d":"2,700"}},{"$f":"'B-34'!F7","v":{"v":2100,"d":"2,100"}},{"$f":"'B-37'!F61","v":{"v":10344,"d":"10,344"}}]
[1979,{"$f":"'B-1'!AD14","v":{"v":172397.234,"d":"172,397"}},{"$f":"'B-3'!L15+'B-3'!N15","v":{"v":2171.992,"d":"2,172"}},null,"NA",{"v":30637,"d":"30,637"},"NA","NA",{"$f":"'B-8'!M24","v":67},{"$f":"'B-11'!T25","v":81},{"$f":"'B-23'!F7","v":{"v":1846,"d":"1,846"}},null,{"$f":"'B-30'!F8","v":{"v":3900,"d":"3,900"}},{"$f":"'B-33'!F8","v":{"v":1700,"d":"1,700"}},{"$f":"'B-36'!F8","v":{"v":3900,"d":"3,900"}},null,null,{"$f":"'B-29'!F8","v":870},{"$f":"'B-32'!K8","v":{"v":1400,"d":"1,400"}},{"$f":"'B-35'!F8","v":{"v":2100,"d":"2,100"}},{"$f":"'B-23'!G7","v":{"v":4147,"d":"4,147"}},"NA",{"$f":"'B-16'!F14","v":{"v":17900,"d":"17,900"}},{"$f":"'B-19'!O14","v":0},{"$f":"'B-12'!G14","v":{"v":25500,"d":"25,500"}},{"$f":"'B-13'!L14","v":{"v":2982.7714848559467,"d":"2,983"}},{"$f":"'B-13'!J14","v":{"v":6180.777777777777,"d":"6,181"}},{"$f":"'B-15'!F14+'B-15'!G14","v":{"v":70800,"d":"70,800"}},{"$f":"'B-12'!L14","v":{"v":19200,"d":"19,200"}},null,{"$f":"'B-17'!H14+'B-17'!I14","v":{"v":20700,"d":"20,700"}},null,{"$f":"'B-14'!I14","v":{"v":18797,"d":"18,797"}},null,"NA","NA",{"$nulls":3},"NA","NA","NA",null,"NA","NA","NA",null,"NA","NA",{"v":226006.94851307126,"d":"226,007"},{"v":2650,"d":"2,650"},null,{"v":27195.999999999996,"d":"27,196"},{"v":106811.99999999999,"d":"106,812"},{"$f":"'B-24'!F7","v":{"v":23566,"d":"23,566"}},{"$f":"'B-28'!F7+'B-28'!G7","v":{"v":11900,"d":"11,900"}},{"$f":"'B-37'!F9+'B-37'!G9","v":{"v":11180,"d":"11,180"}},null,null,{"$f":"'B-26'!G8","v":{"v":35400,"d":"35,400"}},{"$f":"'B-31'!F8","v":{"v":6800,"d":"6,800"}},{"$f":"'B-34'!F8","v":{"v":5000,"d":"5,000"}},{"$f":"'B-37'!F62","v":{"v":20224,"d":"20,224"}}]
[1980,{"$f":"'B-1'!AD15","v":{"v":142108.731,"d":"142,109"}},{"$f":"'B-3'!L16+'B-3'!N16","v":{"v":9099.292000000001,"d":"9,099"}},null,"NA",{"v":21483,"d":"21,483"},"NA","NA",{"$f":"'B-8'!M25","v":55},{"$f":"'B-11'!T26","v":89},{"$f":"'B-23'!F8","v":{"v":1442,"d":"1,442"}},null,{"$f":"'B-30'!F9","v":{"v":3200,"d":"3,200"}},{"$f":"'B-33'!F9","v":{"v":2200,"d":"2,200"}},{"$f":"'B-36'!F9","v":{"v":6700,"d":"6,700"}},null,null,{"$f":"'B-29'!F9","v":{"v":1038,"d":"1,038"}},{"$f":"'B-32'!K9","v":800},{"$f":"'B-35'!F9","v":964},{"$f":"'B-23'!G8","v":{"v":5075,"d":"5,075"}},"NA",{"$f":"'B-16'!F15","v":{"v":18200,"d":"18,200"}},{"$f":"'B-19'!O15","v":0},{"$f":"'B-12'!G15","v":{"v":26400,"d":"26,400"}},{"$f":"'B-13'!L15","v":{"v":2772.16146179402,"d":"2,772"}},{"$f":"'B-13'!J15","v":{"v":6645.555555555556,"d":"6,646"}},{"$f":"'B-15'!F15+'B-15'!G15","v":{"v":45500,"d":"45,500"}},{"$f":"'B-12'!L15","v":{"v":28400,"d":"28,400"}},null,{"$f":"'B-17'!H15+'B-17'!I15","v":{"v":37677,"d":"37,677"}},null,{"$f":"'B-14'!I15","v":{"v":13854,"d":"13,854"}},null,"NA","NA",{"$nulls":3},"NA","NA","NA",null,"NA","NA","NA",null,"NA","NA",{"v":122152.99622553737,"d":"122,153"},{"v":3837,"d":"3,837"},null,{"v":52005,"d":"52,005"},{"v":84450,"d":"84,450"},{"$f":"'B-24'!F8","v":{"v":12072,"d":"12,072"}},{"$f":"'B-28'!F8+'B-28'!G8","v":{"v":8328,"d":"8,328"}},{"$f":"'B-37'!F10+'B-37'!G10","v":{"v":9818,"d":"9,818"}},null,null,{"$f":"'B-26'!G9","v":{"v":29700,"d":"29,700"}},{"$f":"'B-31'!F9","v":{"v":4700,"d":"4,700"}},{"$f":"'B-34'!F9","v":{"v":1700,"d":"1,700"}},{"$f":"'B-37'!F63","v":{"v":7017,"d":"7,017"}}]
[1981,{"$f":"'B-1'!AD16","v":{"v":174957.888,"d":"174,958"}},{"$f":"'B-3'!L17+'B-3'!N17","v":{"v":13663.17,"d":"13,663"}},null,"NA",{"v":33857,"d":"33,857"},"NA","NA",{"$f":"'B-8'!M26","v":45},{"$f":"'B-11'!T27","v":82},{"$f":"'B-23'!F9","v":{"v":1050,"d":"1,050"}},null,{"$f":"'B-30'!F10","v":{"v":4250,"d":"4,250"}},{"$f":"'B-33'!F10","v":{"v":3100,"d":"3,100"}},{"$f":"'B-36'!F10","v":{"v":5963,"d":"5,963"}},null,{"$f":"'B-25'!G11","v":924},{"$f":"'B-29'!F10","v":988},{"$f":"'B-32'!K10","v":{"v":1498,"d":"1,498"}},{"$f":"'B-35'!F10","v":815},{"$f":"'B-23'!G9","v":{"v":3231,"d":"3,231"}},"NA",{"$f":"'B-16'!F16","v":{"v":21500,"d":"21,500"}},{"$f":"'B-19'!O16","v":0},{"$f":"'B-12'!G16","v":{"v":28600,"d":"28,600"}},{"$f":"'B-13'!L16","v":{"v":3226.422138137833,"d":"3,226"}},{"$f":"'B-13'!J16","v":{"v":12173,"d":"12,173"}},{"$f":"'B-15'!F16+'B-15'!G16","v":{"v":69000,"d":"69,000"}},{"$f":"'B-12'!L16","v":{"v":33800,"d":"33,800"}},null,{"$f":"'B-17'!H16+'B-17'!I16","v":{"v":33929,"d":"33,929"}},null,{"$f":"'B-14'!I16","v":{"v":8639,"d":"8,639"}},{"$f":"'B-41'!G5","v":{"v":884.0001199999998,"d":"884"}},"NA","NA",null,{"$f":"'B-41'!G99","v":{"v":8283.000039999999,"d":"8,283"}},{"$f":"'B-44'!C5","v":{"v":1362,"d":"1,362"}},"NA","NA","NA",{"$f":"'B-44'!K5","v":175},"NA","NA","NA",null,"NA","NA",{"v":171429.32115597208,"d":"171,429"},{"v":1790,"d":"1,790"},null,{"v":28399,"d":"28,399"},{"v":72379,"d":"72,379"},{"$f":"'B-24'!F9","v":{"v":22875,"d":"22,875"}},{"$f":"'B-28'!F9+'B-28'!G9","v":{"v":8526,"d":"8,526"}},{"$f":"'B-37'!F11+'B-37'!G11","v":{"v":1300,"d":"1,300"}},{"$f":"'B-42'!H287","v":{"v":107300,"d":"107,300"}},null,{"$f":"'B-26'!G10","v":{"v":13000,"d":"13,000"}},{"$f":"'B-31'!F10","v":{"v":4800,"d":"4,800"}},{"$f":"'B-34'!F10","v":{"v":1900,"d":"1,900"}},{"$f":"'B-37'!F64","v":{"v":6268,"d":"6,268"}},{"$f":"'B-42'!G5","v":{"v":3300,"d":"3,300"}},{"$f":"'B-42'!G146","v":{"v":21700,"d":"21,700"}},{"$f":"'B-42'!G99","v":{"v":15000,"d":"15,000"}},{"$f":"'B-42'!G193","v":{"v":9000,"d":"9,000"}},{"$f":"'B-42'!G240","v":{"v":37000,"d":"37,000"}},null,{"$f":"'B-43'!H6+'B-43'!H31+'B-43'!H56+'B-43'!H81+'B-43'!H106+'B-43'!H132","v":{"v":248442,"d":"248,442"}},1981]
[1982,{"$f":"'B-1'!AD17","v":{"v":164640.728,"d":"164,641"}},{"$f":"'B-3'!L18+'B-3'!N18","v":{"v":21974.012,"d":"21,974"}},null,"NA",{"v":31951,"d":"31,951"},"NA","NA",{"$f":"'B-8'!M27","v":55},{"$f":"'B-11'!T28","v":90},{"$f":"'B-23'!F10","v":{"v":1040,"d":"1,040"}},null,{"$f":"'B-30'!F11","v":{"v":4150,"d":"4,150"}},{"$f":"'B-33'!F11","v":{"v":4500,"d":"4,500"}},{"$f":"'B-36'!F11","v":{"v":7107,"d":"7,107"}},null,{"$f":"'B-25'!G12","v":610},{"$f":"'B-29'!F11","v":781},{"$f":"'B-32'!K11","v":{"v":1553,"d":"1,553"}},{"$f":"'B-35'!F11","v":{"v":1126,"d":"1,126"}},{"$f":"'B-23'!G10","v":{"v":4092,"d":"4,092"}},"NA",{"$f":"'B-16'!F17","v":{"v":10400,"d":"10,400"}},{"$f":"'B-19'!O17","v":0},{"$f":"'B-12'!G17","v":{"v":45100,"d":"45,100"}},{"$f":"'B-13'!L17","v":{"v":2989.125953417275,"d":"2,989"}},{"$f":"'B-13'!J17","v":{"v":11819,"d":"11,819"}},{"$f":"'B-15'!F17+'B-15'!G17","v":{"v":86600,"d":"86,600"}},{"$f":"'B-12'!L17","v":{"v":31100,"d":"31,100"}},{"$f":"'B-18'!I17","v":{"v":2900,"d":"2,900"}},{"$f":"'B-17'!H17+'B-17'!I17","v":{"v":31900,"d":"31,900"}},null,{"$f":"'B-14'!I17","v":{"v":6587,"d":"6,587"}},{"$f":"'B-41'!G6","v":{"v":2195.0001199999997,"d":"2,195"}},"NA","NA",null,{"$f":"'B-41'!G100","v":{"v":9910.000039999999,"d":"9,910"}},{"$f":"'B-44'!C6","v":965},"NA","NA","NA",{"$f":"'B-44'!K6","v":20},"NA","NA","NA",null,"NA","NA",{"v":208775.59798722595,"d":"208,776"},{"v":3266,"d":"3,266"},null,{"v":50541,"d":"50,541"},{"v":161090,"d":"161,090"},{"$f":"'B-24'!F10","v":{"v":33414,"d":"33,414"}},{"$f":"'B-28'!F10+'B-28'!G10","v":{"v":9262,"d":"9,262"}},{"$f":"'B-37'!F12+'B-37'!G12","v":{"v":4567,"d":"4,567"}},{"$f":"'B-42'!H288","v":{"v":138900,"d":"138,900"}},null,{"$f":"'B-26'!G11","v":{"v":18100,"d":"18,100"}},{"$f":"'B-31'!F11","v":{"v":7000,"d":"7,000"}},{"$f":"'B-34'!F11","v":{"v":3600,"d":"3,600"}},{"$f":"'B-37'!F65","v":{"v":10400,"d":"10,400"}},{"$f":"'B-42'!G6","v":{"v":9900,"d":"9,900"}},{"$f":"'B-42'!G147","v":{"v":26100,"d":"26,100"}},{"$f":"'B-42'!G100","v":{"v":9000,"d":"9,000"}},{"$f":"'B-42'!G194","v":{"v":9000,"d":"9,000"}},{"$f":"'B-42'!G241","v":{"v":56000,"d":"56,000"}},null,null,1982]
[1983,{"$f":"'B-1'!AD18","v":{"v":110248.039,"d":"110,248"}},{"$f":"'B-3'!L19+'B-3'!N19","v":{"v":5408.95,"d":"5,409"}},null,"NA",{"v":30784,"d":"30,784"},"NA","NA",{"$f":"'B-8'!M28","v":37},{"$f":"'B-11'!T29","v":42},{"$f":"'B-23'!F11","v":{"v":2119,"d":"2,119"}},null,{"$f":"'B-30'!F12","v":{"v":2750,"d":"2,750"}},{"$f":"'B-33'!F12","v":{"v":2500,"d":"2,500"}},{"$f":"'B-36'!F12","v":{"v":3069,"d":"3,069"}},null,{"$f":"'B-25'!G13","v":800},{"$f":"'B-29'!F12","v":{"v":1044,"d":"1,044"}},{"$f":"'B-32'!K12","v":{"v":1696,"d":"1,696"}},{"$f":"'B-35'!F12","v":548},{"$f":"'B-23'!G11","v":{"v":5113,"d":"5,113"}},"NA",{"$f":"'B-16'!F18","v":{"v":14100,"d":"14,100"}},{"$f":"'B-19'!O18","v":0},{"$f":"'B-12'!G18","v":{"v":28700,"d":"28,700"}},{"$f":"'B-13'!L18","v":{"v":4234.49335789024,"d":"4,234"}},{"$f":"'B-13'!J18","v":{"v":10424.333333333334,"d":"10,424"}},{"$f":"'B-15'!F18+'B-15'!G18","v":{"v":70200,"d":"70,200"}},{"$f":"'B-12'!L18","v":{"v":27000,"d":"27,000"}},{"$f":"'B-18'!I18","v":{"v":4900,"d":"4,900"}},{"$f":"'B-17'!H18+'B-17'!I18","v":{"v":11100,"d":"11,100"}},null,{"$f":"'B-14'!I18","v":{"v":6334,"d":"6,334"}},{"$f":"'B-41'!G7","v":{"v":1604.00012,"d":"1,604"}},"NA","NA",null,{"$f":"'B-41'!G101","v":{"v":8723.000039999999,"d":"8,723"}},{"$f":"'B-44'!C7","v":710},"NA","NA","NA",{"$f":"'B-44'!K7","v":42},"NA","NA","NA",null,"NA","NA",{"v":113415.88436915693,"d":"113,416"},{"v":1599,"d":"1,599"},null,{"v":52051.873,"d":"52,052"},{"v":40348,"d":"40,348"},{"$f":"'B-24'!F11","v":{"v":18598,"d":"18,598"}},{"$f":"'B-28'!F11+'B-28'!G11","v":{"v":13437,"d":"13,437"}},{"$f":"'B-37'!F13+'B-37'!G13","v":{"v":4832,"d":"4,832"}},{"$f":"'B-42'!H289","v":{"v":124700,"d":"124,700"}},null,{"$f":"'B-26'!G12","v":{"v":25300,"d":"25,300"}},{"$f":"'B-31'!F12","v":{"v":2282,"d":"2,282"}},{"$f":"'B-34'!F12","v":{"v":1735,"d":"1,735"}},{"$f":"'B-37'!F66","v":{"v":2660,"d":"2,660"}},{"$f":"'B-42'!G7","v":{"v":3500,"d":"3,500"}},{"$f":"'B-42'!G148","v":{"v":12800,"d":"12,800"}},{"$f":"'B-42'!G101","v":{"v":24000,"d":"24,000"}},{"$f":"'B-42'!G195","v":{"v":15000,"d":"15,000"}},{"$f":"'B-42'!G242","v":{"v":145000,"d":"145,000"}},null,{"$f":"'B-43'!H7+'B-43'!H32+'B-43'!H57+'B-43'!H82+'B-43'!H107+'B-43'!H133","v":{"v":898063,"d":"898,063"}},1983]
[1984,{"$f":"'B-1'!AD19","v":{"v":158971.901,"d":"158,972"}},{"$f":"'B-3'!L20+'B-3'!N20","v":{"v":3945.571,"d":"3,946"}},null,"NA",{"v":16064,"d":"16,064"},"NA","NA",{"$f":"'B-8'!M29","v":22},{"$f":"'B-11'!T30","v":98},{"$f":"'B-23'!F12","v":{"v":2076,"d":"2,076"}},null,{"$f":"'B-30'!F13","v":{"v":4350,"d":"4,350"}},{"$f":"'B-33'!F13","v":{"v":1900,"d":"1,900"}},{"$f":"'B-36'!F13","v":{"v":9128,"d":"9,128"}},null,{"$f":"'B-25'!G14","v":{"v":1128,"d":"1,128"}},{"$f":"'B-29'!F13","v":958},{"$f":"'B-32'!K13","v":{"v":1430,"d":"1,430"}},{"$f":"'B-35'!F13","v":618},{"$f":"'B-23'!G12","v":{"v":7830,"d":"7,830"}},"NA",{"$f":"'B-16'!F19","v":{"v":8500,"d":"8,500"}},{"$f":"'B-19'!O19","v":0},{"$f":"'B-12'!G19","v":{"v":42400,"d":"42,400"}},{"$f":"'B-13'!L19","v":{"v":4605.645898346377,"d":"4,606"}},{"$f":"'B-13'!J19","v":{"v":8265.888888888889,"d":"8,266"}},{"$f":"'B-15'!F19+'B-15'!G19","v":{"v":59605,"d":"59,605"}},{"$f":"'B-12'!L19","v":{"v":33100,"d":"33,100"}},{"$f":"'B-18'!I19","v":{"v":3200,"d":"3,200"}},{"$f":"'B-17'!H19+'B-17'!I19","v":{"v":10300,"d":"10,300"}},null,{"$f":"'B-14'!I19","v":{"v":13984,"d":"13,984"}},{"$f":"'B-41'!G8","v":{"v":1093.00012,"d":"1,093"}},"NA","NA",{"$f":"'B-44'!F8+'B-44'!I8","v":45},{"$f":"'B-41'!G102","v":{"v":12628.000039999999,"d":"12,628"}},{"$f":"'B-44'!C8","v":755},"NA","NA","NA",{"$f":"'B-44'!K8","v":52},"NA","NA","NA",null,"NA","NA",{"v":108511.02265812719,"d":"108,511"},{"v":1481,"d":"1,481"},null,{"v":54885.761999999995,"d":"54,886"},{"v":77998,"d":"77,998"},{"$f":"'B-24'!F12","v":{"v":33419,"d":"33,419"}},{"$f":"'B-28'!F12+'B-28'!G12","v":{"v":11447,"d":"11,447"}},{"$f":"'B-37'!F14+'B-37'!G14","v":{"v":6092,"d":"6,092"}},{"$f":"'B-42'!H290","v":{"v":118048,"d":"118,048"}},null,{"$f":"'B-26'!G13","v":{"v":105741,"d":"105,741"}},{"$f":"'B-31'!F13","v":{"v":9217,"d":"9,217"}},{"$f":"'B-34'!F13","v":{"v":7400,"d":"7,400"}},{"$f":"'B-37'!F67","v":{"v":10508,"d":"10,508"}},{"$f":"'B-42'!G8","v":{"v":4200,"d":"4,200"}},{"$f":"'B-42'!G149","v":{"v":36100,"d":"36,100"}},{"$f":"'B-42'!G102","v":{"v":33000,"d":"33,000"}},{"$f":"'B-42'!G196","v":{"v":18000,"d":"18,000"}},{"$f":"'B-42'!G243","v":{"v":71000,"d":"71,000"}},null,null,1984]
[1985,{"$f":"'B-1'!AD20","v":{"v":239307.052,"d":"239,307"}},{"$f":"'B-3'!L21+'B-3'!N21","v":{"v":9301.884,"d":"9,302"}},null,"NA",{"v":25677,"d":"25,677"},"NA","NA",{"$f":"'B-8'!M30","v":64},{"$f":"'B-11'!T31","v":132},{"$f":"'B-23'!F13","v":{"v":1657,"d":"1,657"}},null,{"$f":"'B-30'!F14","v":{"v":4150,"d":"4,150"}},{"$f":"'B-33'!F14","v":{"v":1725,"d":"1,725"}},{"$f":"'B-36'!F14","v":{"v":6145,"d":"6,145"}},null,{"$f":"'B-25'!G15","v":{"v":1157,"d":"1,157"}},{"$f":"'B-29'!F14","v":677},{"$f":"'B-32'!K14","v":978},{"$f":"'B-35'!F14","v":550},{"$f":"'B-23'!G13","v":{"v":6723,"d":"6,723"}},"NA",{"$f":"'B-16'!F20","v":{"v":7900,"d":"7,900"}},{"$f":"'B-19'!O20","v":0},{"$f":"'B-12'!G20","v":{"v":33100,"d":"33,100"}},{"$f":"'B-13'!L20","v":{"v":8935.116193056145,"d":"8,935"}},{"$f":"'B-13'!J20","v":{"v":11272.750000000004,"d":"11,273"}},{"$f":"'B-15'!F20+'B-15'!G20","v":{"v":87600,"d":"87,600"}},{"$f":"'B-12'!L20","v":{"v":19200,"d":"19,200"}},{"$f":"'B-18'!I20","v":{"v":2800,"d":"2,800"}},{"$f":"'B-17'!H20+'B-17'!I20","v":{"v":6100,"d":"6,100"}},null,{"$f":"'B-14'!I20","v":{"v":14505,"d":"14,505"}},{"$f":"'B-41'!G9","v":{"v":1473.00012,"d":"1,473"}},"NA","NA",{"$f":"'B-44'!F9+'B-44'!I9","v":258},{"$f":"'B-41'!G103","v":{"v":16002.000039999999,"d":"16,002"}},{"$f":"'B-44'!C9","v":{"v":3249,"d":"3,249"}},"NA","NA","NA",{"$f":"'B-44'!K9","v":62},"NA","NA","NA",null,"NA","NA",{"v":137615.8786928189,"d":"137,616"},{"v":4760,"d":"4,760"},null,{"v":41069.968,"d":"41,070"},{"v":95523.99872,"d":"95,524"},{"$f":"'B-24'!F13","v":{"v":24896,"d":"24,896"}},{"$f":"'B-28'!F13+'B-28'!G13","v":{"v":4710,"d":"4,710"}},{"$f":"'B-37'!F15+'B-37'!G15","v":{"v":1660,"d":"1,660"}},{"$f":"'B-42'!H291","v":{"v":86400,"d":"86,400"}},null,{"$f":"'B-26'!G14","v":{"v":22092,"d":"22,092"}},{"$f":"'B-31'!F14","v":{"v":4001,"d":"4,001"}},{"$f":"'B-34'!F14","v":{"v":2218,"d":"2,218"}},{"$f":"'B-37'!F68","v":{"v":7484,"d":"7,484"}},{"$f":"'B-42'!G9","v":{"v":2400,"d":"2,400"}},{"$f":"'B-42'!G150","v":{"v":14700,"d":"14,700"}},{"$f":"'B-42'!G103","v":{"v":18000,"d":"18,000"}},{"$f":"'B-42'!G197","v":{"v":15000,"d":"15,000"}},{"$f":"'B-42'!G244","v":{"v":65000,"d":"65,000"}},null,{"$f":"'B-43'!H8+'B-43'!H33+'B-43'!H58+'B-43'!H83+'B-43'!H108+'B-43'!H134","v":{"v":1340544,"d":"1,340,544"}},1985]
[1986,{"$f":"'B-1'!AD21","v":{"v":240103.384,"d":"240,103"}},{"$f":"'B-3'!L22+'B-3'!N22","v":{"v":22388.07,"d":"22,388"}},null,"NA",{"v":113360,"d":"113,360"},"NA","NA",{"$f":"'B-8'!M31","v":39},{"$f":"'B-11'!T32","v":109},{"$f":"'B-23'!F14","v":{"v":3469,"d":"3,469"}},{"$f":"'B-25'!G68","v":{"v":13808,"d":"13,808"}},{"$f":"'B-30'!F15","v":{"v":7894,"d":"7,894"}},{"$f":"'B-33'!F15","v":{"v":4981,"d":"4,981"}},{"$f":"'B-36'!F15","v":{"v":10006,"d":"10,006"}},null,{"$f":"'B-25'!G16","v":{"v":1795,"d":"1,795"}},{"$f":"'B-29'!F15","v":925},{"$f":"'B-32'!K15","v":{"v":1248,"d":"1,248"}},{"$f":"'B-35'!F15","v":853},{"$f":"'B-23'!G14","v":{"v":8536,"d":"8,536"}},"NA",{"$f":"'B-16'!F21","v":{"v":12200,"d":"12,200"}},{"$f":"'B-19'!O21","v":0},{"$f":"'B-12'!G21","v":{"v":37300,"d":"37,300"}},{"$f":"'B-13'!L21","v":{"v":5514.963003876973,"d":"5,515"}},{"$f":"'B-13'!J21","v":{"v":11988.5,"d":"11,989"}},{"$f":"'B-15'!F21+'B-15'!G21","v":{"v":67800,"d":"67,800"}},{"$f":"'B-12'!L21","v":{"v":19900,"d":"19,900"}},{"$f":"'B-18'!I21","v":{"v":2300,"d":"2,300"}},{"$f":"'B-17'!H21+'B-17'!I21","v":{"v":5000,"d":"5,000"}},null,{"$f":"'B-14'!I21","v":{"v":14850,"d":"14,850"}},{"$f":"'B-41'!G10","v":{"v":1894.00012,"d":"1,894"}},"NA","NA",{"$f":"'B-44'!F10+'B-44'!I10","v":226},{"$f":"'B-41'!G104","v":{"v":17908.00004,"d":"17,908"}},{"$f":"'B-44'!C10","v":{"v":1977,"d":"1,977"}},"NA","NA","NA",{"$f":"'B-44'!K10","v":192},"NA","NA","NA",null,"NA","NA",{"v":114965.46494802393,"d":"114,965"},{"v":34845.182262617964,"d":"34,845"},48060,{"v":136782.32139519998,"d":"136,782"},{"v":280268.48551,"d":"280,268"},{"$f":"'B-24'!F14","v":{"v":71438,"d":"71,438"}},{"$f":"'B-28'!F14+'B-28'!G14","v":{"v":10043,"d":"10,043"}},{"$f":"'B-37'!F16+'B-37'!G16","v":{"v":9632,"d":"9,632"}},{"$f":"'B-42'!H292","v":{"v":98594,"d":"98,594"}},null,{"$f":"'B-26'!G15","v":{"v":33683,"d":"33,683"}},{"$f":"'B-31'!F15","v":{"v":5160,"d":"5,160"}},{"$f":"'B-34'!F15","v":{"v":4270,"d":"4,270"}},{"$f":"'B-37'!F69","v":{"v":10687,"d":"10,687"}},{"$f":"'B-42'!G10","v":{"v":9700,"d":"9,700"}},{"$f":"'B-42'!G151","v":{"v":39400,"d":"39,400"}},{"$f":"'B-42'!G104","v":{"v":45000,"d":"45,000"}},{"$f":"'B-42'!G198","v":{"v":23000,"d":"23,000"}},{"$f":"'B-42'!G245","v":{"v":117000,"d":"117,000"}},null,null,1986]
[1987,{"$f":"'B-1'!AD22","v":{"v":195064.508,"d":"195,065"}},{"$f":"'B-3'!L23+'B-3'!N23","v":{"v":8184.327,"d":"8,184"}},null,"NA",{"v":101717,"d":"101,717"},"NA","NA",{"$f":"'B-8'!M32","v":24},{"$f":"'B-11'!T33","v":121},{"$f":"'B-23'!F15","v":{"v":5208,"d":"5,208"}},{"$f":"'B-25'!G69","v":{"v":19013,"d":"19,013"}},{"$f":"'B-30'!F16","v":{"v":6557,"d":"6,557"}},{"$f":"'B-33'!F16","v":{"v":4006,"d":"4,006"}},{"$f":"'B-36'!F16","v":{"v":12352,"d":"12,352"}},null,{"$f":"'B-25'!G17","v":841},{"$f":"'B-29'!F16","v":598},{"$f":"'B-32'!K16","v":{"v":1710,"d":"1,710"}},{"$f":"'B-35'!F16","v":666},{"$f":"'B-23'!G15","v":{"v":22384,"d":"22,384"}},"NA",{"$f":"'B-16'!F22","v":{"v":17500,"d":"17,500"}},{"$f":"'B-19'!O22","v":0},{"$f":"'B-12'!G22","v":{"v":52800,"d":"52,800"}},{"$f":"'B-13'!L22","v":{"v":6350.0115160361,"d":"6,350"}},{"$f":"'B-13'!J22","v":{"v":10715.75,"d":"10,716"}},{"$f":"'B-15'!F22+'B-15'!G22","v":{"v":130100,"d":"130,100"}},{"$f":"'B-12'!L22","v":{"v":33100,"d":"33,100"}},{"$f":"'B-18'!I22","v":{"v":6500,"d":"6,500"}},{"$f":"'B-17'!H22+'B-17'!I22","v":{"v":4000,"d":"4,000"}},null,{"$f":"'B-14'!I22","v":{"v":13415,"d":"13,415"}},{"$f":"'B-41'!G11","v":{"v":2323.0001199999997,"d":"2,323"}},"NA","NA",{"$f":"'B-44'!F11+'B-44'!I11","v":181},{"$f":"'B-41'!G105","v":{"v":9409.000039999999,"d":"9,409"}},{"$f":"'B-44'!C11","v":{"v":1981,"d":"1,981"}},"NA","NA","NA",{"$f":"'B-44'!K11","v":261},"NA","NA","NA",null,"NA","NA",{"v":79743.84059109584,"d":"79,744"},{"v":10328.756450616056,"d":"10,329"},12579,{"v":36657.78,"d":"36,658"},{"v":57818,"d":"57,818"},{"$f":"'B-24'!F15","v":{"v":22977,"d":"22,977"}},{"$f":"'B-28'!F15+'B-28'!G15","v":{"v":3280,"d":"3,280"}},{"$f":"'B-37'!F17+'B-37'!G17","v":{"v":1337,"d":"1,337"}},{"$f":"'B-42'!H293","v":{"v":126985,"d":"126,985"}},null,{"$f":"'B-26'!G16","v":{"v":22642,"d":"22,642"}},{"$f":"'B-31'!F16","v":{"v":4760,"d":"4,760"}},{"$f":"'B-34'!F16","v":{"v":3516,"d":"3,516"}},{"$f":"'B-37'!F70","v":{"v":11416,"d":"11,416"}},{"$f":"'B-42'!G11","v":{"v":4800,"d":"4,800"}},{"$f":"'B-42'!G152","v":{"v":17500,"d":"17,500"}},{"$f":"'B-42'!G105","v":{"v":33000,"d":"33,000"}},{"$f":"'B-42'!G199","v":{"v":16000,"d":"16,000"}},{"$f":"'B-42'!G246","v":{"v":89000,"d":"89,000"}},null,{"$f":"'B-43'!H9+'B-43'!H34+'B-43'!H59+'B-43'!H84+'B-43'!H109+'B-43'!H135","v":{"v":1018391,"d":"1,018,391"}},1987]
[1988,{"$f":"'B-1'!AD23","v":{"v":227467.125,"d":"227,467"}},{"$f":"'B-3'!L24+'B-3'!N24","v":{"v":10294.339,"d":"10,294"}},null,"NA",{"v":79386,"d":"79,386"},"NA","NA",{"$f":"'B-8'!M33","v":70},{"$f":"'B-11'!T34","v":214},{"$f":"'B-23'!F16","v":{"v":7900,"d":"7,900"}},{"$f":"'B-25'!G70","v":{"v":28158,"d":"28,158"}},{"$f":"'B-30'!F17","v":{"v":9494,"d":"9,494"}},{"$f":"'B-33'!F17","v":{"v":4128,"d":"4,128"}},{"$f":"'B-36'!F17","v":{"v":15168,"d":"15,168"}},null,{"$f":"'B-25'!G18","v":{"v":3106,"d":"3,106"}},{"$f":"'B-29'!F17","v":{"v":1765,"d":"1,765"}},{"$f":"'B-32'!K17","v":{"v":2605,"d":"2,605"}},{"$f":"'B-35'!F17","v":{"v":2599,"d":"2,599"}},{"$f":"'B-23'!G16","v":{"v":27558,"d":"27,558"}},"NA",{"$f":"'B-16'!F23","v":{"v":18700,"d":"18,700"}},{"$f":"'B-19'!O23","v":0},{"$f":"'B-12'!G23","v":{"v":68700,"d":"68,700"}},{"$f":"'B-13'!L23","v":{"v":5654.991511546563,"d":"5,655"}},{"$f":"'B-13'!J23","v":{"v":11572.750000000004,"d":"11,573"}},{"$f":"'B-15'!F23+'B-15'!G23","v":{"v":106800,"d":"106,800"}},{"$f":"'B-12'!L23","v":{"v":34900,"d":"34,900"}},{"$f":"'B-18'!I23","v":{"v":8500,"d":"8,500"}},{"$f":"'B-17'!H23+'B-17'!I23","v":{"v":5300,"d":"5,300"}},null,{"$f":"'B-14'!I23","v":{"v":13634,"d":"13,634"}},{"$f":"'B-41'!G12","v":{"v":6298.8574063999995,"d":"6,299"}},"NA","NA",{"$f":"'B-44'!F12+'B-44'!I12","v":456},{"$f":"'B-41'!G106","v":{"v":11468.000039999999,"d":"11,468"}},{"$f":"'B-44'!C12","v":{"v":2064,"d":"2,064"}},"NA","NA","NA",{"$f":"'B-44'!K12","v":631},"NA","NA","NA",null,"NA","NA",{"v":127177.97283089971,"d":"127,178"},{"v":18500.34051107416,"d":"18,500"},33414,{"v":71061.4717615,"d":"71,061"},{"v":79332.8508545,"d":"79,333"},{"$f":"'B-24'!F16","v":{"v":30067,"d":"30,067"}},{"$f":"'B-28'!F16+'B-28'!G16","v":{"v":7350,"d":"7,350"}},{"$f":"'B-37'!F18+'B-37'!G18","v":{"v":2812,"d":"2,812"}},{"$f":"'B-42'!H294","v":{"v":115193,"d":"115,193"}},null,{"$f":"'B-26'!G17","v":{"v":61958,"d":"61,958"}},{"$f":"'B-31'!F17","v":{"v":4288,"d":"4,288"}},{"$f":"'B-34'!F17","v":{"v":2350,"d":"2,350"}},{"$f":"'B-37'!F71","v":{"v":7218,"d":"7,218"}},{"$f":"'B-42'!G12","v":{"v":4300,"d":"4,300"}},{"$f":"'B-42'!G153","v":{"v":11300,"d":"11,300"}},{"$f":"'B-42'!G106","v":{"v":19000,"d":"19,000"}},{"$f":"'B-42'!G200","v":{"v":18000,"d":"18,000"}},{"$f":"'B-42'!G247","v":{"v":78000,"d":"78,000"}},null,null,1988]
[1989,{"$f":"'B-1'!AD24","v":{"v":152561.889,"d":"152,562"}},{"$f":"'B-3'!L25+'B-3'!N25","v":{"v":6284.564,"d":"6,285"}},null,"NA",{"v":43868,"d":"43,868"},"NA","NA",{"$f":"'B-8'!M34","v":29},{"$f":"'B-11'!T35","v":138},{"$f":"'B-23'!F17","v":{"v":7034,"d":"7,034"}},{"$f":"'B-25'!G71","v":{"v":25677,"d":"25,677"}},{"$f":"'B-30'!F18","v":{"v":9324,"d":"9,324"}},{"$f":"'B-33'!F18","v":{"v":5148,"d":"5,148"}},{"$f":"'B-36'!F18","v":{"v":9951,"d":"9,951"}},736,{"$f":"'B-25'!G19","v":{"v":2068,"d":"2,068"}},{"$f":"'B-29'!F18","v":{"v":2568,"d":"2,568"}},{"$f":"'B-32'!K18","v":{"v":4697,"d":"4,697"}},{"$f":"'B-35'!F18","v":{"v":2407,"d":"2,407"}},{"$f":"'B-23'!G17","v":{"v":36957,"d":"36,957"}},"NA",{"$f":"'B-16'!F24","v":{"v":26700,"d":"26,700"}},{"$f":"'B-19'!O24","v":0},{"$f":"'B-12'!G24","v":{"v":65900,"d":"65,900"}},{"$f":"'B-13'!L24","v":{"v":4129.515258572899,"d":"4,130"}},{"$f":"'B-13'!J24","v":{"v":6833.333333333332,"d":"6,833"}},{"$f":"'B-15'!F24+'B-15'!G24","v":{"v":84400,"d":"84,400"}},{"$f":"'B-12'!L24","v":{"v":35500,"d":"35,500"}},{"$f":"'B-18'!I24","v":{"v":14100,"d":"14,100"}},{"$f":"'B-17'!H24+'B-17'!I24","v":{"v":7000,"d":"7,000"}},null,{"$f":"'B-14'!I24","v":{"v":17484,"d":"17,484"}},{"$f":"'B-41'!G13","v":{"v":3873.60921,"d":"3,874"}},"NA","NA",{"$f":"'B-44'!F13+'B-44'!I13","v":303},{"$f":"'B-41'!G107","v":{"v":6684.00004,"d":"6,684"}},{"$f":"'B-44'!C13","v":{"v":1516,"d":"1,516"}},"NA","NA","NA",{"$f":"'B-44'!K13","v":438},"NA","NA","NA",null,"NA","NA",{"v":114338.38682472386,"d":"114,338"},{"v":24101.353692183726,"d":"24,101"},49016,{"v":95296.052,"d":"95,296"},{"v":122624.47999999998,"d":"122,624"},{"$f":"'B-24'!F17","v":{"v":30894,"d":"30,894"}},{"$f":"'B-28'!F17+'B-28'!G17","v":{"v":8407,"d":"8,407"}},{"$f":"'B-37'!F19+'B-37'!G19","v":{"v":4581,"d":"4,581"}},{"$f":"'B-42'!H295","v":{"v":71780,"d":"71,780"}},null,{"$f":"'B-26'!G18","v":{"v":56695,"d":"56,695"}},{"$f":"'B-31'!F18","v":{"v":4501,"d":"4,501"}},{"$f":"'B-34'!F18","v":{"v":3497,"d":"3,497"}},{"$f":"'B-37'!F72","v":{"v":8995,"d":"8,995"}},{"$f":"'B-42'!G13","v":{"v":7200,"d":"7,200"}},{"$f":"'B-42'!G154","v":{"v":14900,"d":"14,900"}},{"$f":"'B-42'!G107","v":{"v":17000,"d":"17,000"}},{"$f":"'B-42'!G201","v":{"v":6000,"d":"6,000"}},{"$f":"'B-42'!G248","v":{"v":93000,"d":"93,000"}},null,{"$f":"'B-43'!H10+'B-43'!H35+'B-43'!H60+'B-43'!H85+'B-43'!H110+'B-43'!H136","v":{"v":826095,"d":"826,095"}},1989]
[1990,{"$f":"'B-1'!AD25","v":{"v":105090.27,"d":"105,090"}},{"$f":"'B-3'!L26+'B-3'!N26","v":{"v":5109.924,"d":"5,110"}},null,"NA",{"v":15596,"d":"15,596"},"NA","NA",{"$f":"'B-8'!M35","v":13},{"$f":"'B-11'!T36","v":121},{"$f":"'B-23'!F18","v":{"v":4268,"d":"4,268"}},{"$f":"'B-25'!G72","v":{"v":16995,"d":"16,995"}},{"$f":"'B-30'!F19","v":{"v":10569,"d":"10,569"}},{"$f":"'B-33'!F19","v":{"v":4236,"d":"4,236"}},{"$f":"'B-36'!F19","v":{"v":13711,"d":"13,711"}},190,{"$f":"'B-25'!G20","v":{"v":1567,"d":"1,567"}},{"$f":"'B-29'!F19","v":{"v":1780,"d":"1,780"}},{"$f":"'B-32'!K19","v":{"v":3886,"d":"3,886"}},{"$f":"'B-35'!F19","v":{"v":1483,"d":"1,483"}},{"$f":"'B-23'!G18","v":{"v":16853,"d":"16,853"}},"NA",{"$f":"'B-16'!F25","v":{"v":16815,"d":"16,815"}},{"$f":"'B-19'!O25","v":0},{"$f":"'B-12'!G25","v":{"v":69100,"d":"69,100"}},{"$f":"'B-13'!L25","v":{"v":2805.921785988069,"d":"2,806"}},{"$f":"'B-13'!J25","v":{"v":9850.888888888889,"d":"9,851"}},{"$f":"'B-15'!F25+'B-15'!G25","v":{"v":48877,"d":"48,877"}},{"$f":"'B-12'!L25","v":{"v":38900,"d":"38,900"}},{"$f":"'B-18'!I25","v":{"v":14569,"d":"14,569"}},{"$f":"'B-17'!H25+'B-17'!I25","v":{"v":9200,"d":"9,200"}},null,{"$f":"'B-14'!I25","v":{"v":13432,"d":"13,432"}},{"$f":"'B-41'!G14","v":{"v":2152.18473,"d":"2,152"}},"NA","NA",{"$f":"'B-44'!F14+'B-44'!I14","v":10},{"$f":"'B-41'!G108","v":{"v":16521.00004,"d":"16,521"}},{"$f":"'B-44'!C14","v":{"v":1592,"d":"1,592"}},"NA","NA","NA",{"$f":"'B-44'!K14","v":517},"NA","NA","NA",null,"NA","NA",{"v":77839.57359561216,"d":"77,840"},{"v":11913.443338911902,"d":"11,913"},29019,{"v":50642.355,"d":"50,642"},{"v":50691.844000000005,"d":"50,692"},{"$f":"'B-24'!F18","v":{"v":23678,"d":"23,678"}},{"$f":"'B-28'!F18+'B-28'!G18","v":{"v":8039,"d":"8,039"}},{"$f":"'B-37'!F20+'B-37'!G20","v":{"v":5260,"d":"5,260"}},{"$f":"'B-42'!H296","v":{"v":77848,"d":"77,848"}},null,{"$f":"'B-26'!G19","v":{"v":45603,"d":"45,603"}},{"$f":"'B-31'!F19","v":{"v":5422,"d":"5,422"}},{"$f":"'B-34'!F19","v":{"v":2094,"d":"2,094"}},{"$f":"'B-37'!F73","v":{"v":5512,"d":"5,512"}},{"$f":"'B-42'!G14","v":{"v":3700,"d":"3,700"}},{"$f":"'B-42'!G155","v":{"v":6600,"d":"6,600"}},{"$f":"'B-42'!G108","v":{"v":15000,"d":"15,000"}},{"$f":"'B-42'!G202","v":{"v":15000,"d":"15,000"}},{"$f":"'B-42'!G249","v":{"v":97000,"d":"97,000"}},null,null,1990]
[1991,{"$f":"'B-1'!AD26","v":{"v":118868.937,"d":"118,869"}},{"$f":"'B-3'!L27+'B-3'!N27","v":{"v":1405.2,"d":"1,405"}},null,"NA",{"v":11649,"d":"11,649"},"NA","NA",{"$f":"'B-8'!M36","v":40},{"$f":"'B-11'!T37","v":150},{"$f":"'B-23'!F19","v":{"v":2996,"d":"2,996"}},{"$f":"'B-25'!G73","v":{"v":14392,"d":"14,392"}},{"$f":"'B-30'!F20","v":{"v":4795,"d":"4,795"}},{"$f":"'B-33'!F20","v":{"v":1420,"d":"1,420"}},{"$f":"'B-36'!F20","v":{"v":6292,"d":"6,292"}},145,{"$f":"'B-25'!G21","v":{"v":1289,"d":"1,289"}},{"$f":"'B-29'!F20","v":630},{"$f":"'B-32'!K20","v":{"v":1078,"d":"1,078"}},{"$f":"'B-35'!F20","v":{"v":1188,"d":"1,188"}},{"$f":"'B-23'!G19","v":{"v":16053,"d":"16,053"}},"NA",{"$f":"'B-16'!F26","v":{"v":11131,"d":"11,131"}},{"$f":"'B-19'!O26","v":0},{"$f":"'B-12'!G26","v":{"v":48700,"d":"48,700"}},{"$f":"'B-13'!L26","v":{"v":1531.982577778186,"d":"1,532"}},{"$f":"'B-13'!J26","v":{"v":6013.444444444444,"d":"6,013"}},{"$f":"'B-15'!F26+'B-15'!G26","v":{"v":46853,"d":"46,853"}},{"$f":"'B-12'!L26","v":{"v":30200,"d":"30,200"}},{"$f":"'B-18'!I26","v":{"v":10282,"d":"10,282"}},{"$f":"'B-17'!H26+'B-17'!I26","v":{"v":13700,"d":"13,700"}},null,{"$f":"'B-14'!I26","v":{"v":10191,"d":"10,191"}},{"$f":"'B-41'!G15","v":{"v":1950.125135,"d":"1,950"}},"NA","NA",{"$f":"'B-44'!F15+'B-44'!I15","v":108},{"$f":"'B-41'!G109","v":{"v":5824.00004,"d":"5,824"}},{"$f":"'B-44'!C15","v":{"v":1442,"d":"1,442"}},"NA","NA","NA",{"$f":"'B-44'!K15","v":426},"NA","NA","NA",null,"NA","NA",{"v":85180.929968586,"d":"85,181"},{"v":30970.568906866964,"d":"30,971"},52097,{"v":151714.777,"d":"151,715"},{"v":151367,"d":"151,367"},{"$f":"'B-24'!F19","v":{"v":62338,"d":"62,338"}},{"$f":"'B-28'!F19+'B-28'!G19","v":{"v":31781,"d":"31,781"}},{"$f":"'B-37'!F21+'B-37'!G21","v":{"v":10878,"d":"10,878"}},{"$f":"'B-42'!H297","v":{"v":69673,"d":"69,673"}},null,{"$f":"'B-26'!G20","v":{"v":61034,"d":"61,034"}},{"$f":"'B-31'!F20","v":{"v":6525,"d":"6,525"}},{"$f":"'B-34'!F20","v":{"v":4129,"d":"4,129"}},{"$f":"'B-37'!F74","v":{"v":9532,"d":"9,532"}},{"$f":"'B-42'!G15","v":{"v":3700,"d":"3,700"}},{"$f":"'B-42'!G156","v":{"v":12300,"d":"12,300"}},{"$f":"'B-42'!G109","v":{"v":7800,"d":"7,800"}},{"$f":"'B-42'!G203","v":{"v":4000,"d":"4,000"}},{"$f":"'B-42'!G250","v":{"v":41000,"d":"41,000"}},null,{"$f":"'B-43'!H11+'B-43'!H36+'B-43'!H61+'B-43'!H86+'B-43'!H111+'B-43'!H137","v":{"v":783391,"d":"783,391"}},1991]
[1992,{"$f":"'B-1'!AD27","v":{"v":81544.516,"d":"81,545"}},{"$f":"'B-3'!L28+'B-3'!N28","v":{"v":1496.173,"d":"1,496"}},null,"NA",{"v":12028,"d":"12,028"},"NA","NA",{"$f":"'B-8'!M37","v":31},{"$f":"'B-11'!T38","v":138},{"$f":"'B-23'!F20","v":{"v":3730,"d":"3,730"}},{"$f":"'B-25'!G74","v":{"v":16592,"d":"16,592"}},{"$f":"'B-30'!F21","v":{"v":4911,"d":"4,911"}},{"$f":"'B-33'!F21","v":{"v":4003,"d":"4,003"}},{"$f":"'B-36'!F21","v":{"v":6342,"d":"6,342"}},441,{"$f":"'B-25'!G22","v":{"v":1813,"d":"1,813"}},{"$f":"'B-29'!F21","v":375},{"$f":"'B-32'!K21","v":{"v":1018,"d":"1,018"}},{"$f":"'B-35'!F21","v":{"v":1009,"d":"1,009"}},{"$f":"'B-23'!G20","v":{"v":21505,"d":"21,505"}},"NA",{"$f":"'B-16'!F27","v":{"v":7896,"d":"7,896"}},{"$f":"'B-19'!O27","v":0},{"$f":"'B-12'!G27","v":{"v":39700,"d":"39,700"}},{"$f":"'B-13'!L27","v":{"v":3161.3725345881794,"d":"3,161"}},{"$f":"'B-13'!J27","v":{"v":13056.222222222223,"d":"13,056"}},{"$f":"'B-15'!F27+'B-15'!G27","v":{"v":50705,"d":"50,705"}},{"$f":"'B-12'!L27","v":{"v":29800,"d":"29,800"}},{"$f":"'B-18'!I27","v":{"v":9590,"d":"9,590"}},{"$f":"'B-17'!H27+'B-17'!I27","v":{"v":10100,"d":"10,100"}},null,{"$f":"'B-14'!I27","v":{"v":7706,"d":"7,706"}},{"$f":"'B-41'!G16","v":{"v":1072.873303102572,"d":"1,073"}},"NA","NA",{"$f":"'B-44'!F16+'B-44'!I16","v":498},{"$f":"'B-41'!G110","v":{"v":7348.00004,"d":"7,348"}},{"$f":"'B-44'!C16","v":986},"NA","NA","NA",{"$f":"'B-44'!K16","v":{"v":1039,"d":"1,039"}},"NA","NA","NA",null,"NA","NA",{"v":95288.99765229477,"d":"95,289"},{"v":13634.219379913337,"d":"13,634"},34610,{"v":49281.221999999994,"d":"49,281"},{"v":56330.00000000001,"d":"56,330"},{"$f":"'B-24'!F20","v":{"v":15443,"d":"15,443"}},{"$f":"'B-28'!F20+'B-28'!G20","v":{"v":9472,"d":"9,472"}},{"$f":"'B-37'!F22+'B-37'!G22","v":{"v":16297,"d":"16,297"}},{"$f":"'B-42'!H298","v":{"v":118723,"d":"118,723"}},null,{"$f":"'B-26'!G21","v":{"v":32906,"d":"32,906"}},{"$f":"'B-31'!F21","v":{"v":6261,"d":"6,261"}},{"$f":"'B-34'!F21","v":{"v":4045,"d":"4,045"}},{"$f":"'B-37'!F75","v":{"v":8170,"d":"8,170"}},{"$f":"'B-42'!G16","v":{"v":6100,"d":"6,100"}},{"$f":"'B-42'!G157","v":{"v":19000,"d":"19,000"}},{"$f":"'B-42'!G110","v":{"v":7500,"d":"7,500"}},{"$f":"'B-42'!G204","v":{"v":12500,"d":"12,500"}},{"$f":"'B-42'!G251","v":{"v":85000,"d":"85,000"}},null,null,1992]
[1993,{"$f":"'B-1'!AD28","v":{"v":137390.217,"d":"137,390"}},{"$f":"'B-3'!L29+'B-3'!N29","v":{"v":1282.12,"d":"1,282"}},null,"NA",{"v":21858,"d":"21,858"},"NA","NA",{"$f":"'B-8'!M38","v":39},{"$f":"'B-11'!T39","v":63},{"$f":"'B-23'!F21","v":{"v":3034,"d":"3,034"}},{"$f":"'B-25'!G75","v":{"v":13349,"d":"13,349"}},{"$f":"'B-30'!F22","v":{"v":3463,"d":"3,463"}},{"$f":"'B-33'!F22","v":{"v":2280,"d":"2,280"}},{"$f":"'B-36'!F22","v":{"v":5254,"d":"5,254"}},699,{"$f":"'B-25'!G23","v":{"v":1254,"d":"1,254"}},{"$f":"'B-29'!F22","v":713},{"$f":"'B-32'!K22","v":{"v":1411,"d":"1,411"}},{"$f":"'B-35'!F22","v":{"v":1292,"d":"1,292"}},{"$f":"'B-23'!G21","v":{"v":16214,"d":"16,214"}},"NA",{"$f":"'B-16'!F28","v":{"v":8792,"d":"8,792"}},{"$f":"'B-19'!O28","v":0},{"$f":"'B-12'!G28","v":{"v":29700,"d":"29,700"}},{"$f":"'B-13'!L28","v":{"v":3097.589449244301,"d":"3,098"}},{"$f":"'B-13'!J28","v":{"v":12188.666666666668,"d":"12,189"}},{"$f":"'B-15'!F28+'B-15'!G28","v":{"v":41689,"d":"41,689"}},{"$f":"'B-12'!L28","v":{"v":26700,"d":"26,700"}},{"$f":"'B-18'!I28","v":{"v":7853,"d":"7,853"}},{"$f":"'B-17'!H28+'B-17'!I28","v":{"v":9300,"d":"9,300"}},null,{"$f":"'B-14'!I28","v":{"v":12927,"d":"12,927"}},{"$f":"'B-41'!G17","v":{"v":1374.8443480653716,"d":"1,375"}},"NA","NA",{"$f":"'B-44'!F17+'B-44'!I17","v":449},{"$f":"'B-41'!G111","v":{"v":5801.00004,"d":"5,801"}},{"$f":"'B-44'!C17","v":782},"NA","NA","NA",{"$f":"'B-44'!K17","v":948},"NA","NA","NA",null,"NA","NA",{"v":100742.31843047886,"d":"100,742"},{"v":4072.1034439159116,"d":"4,072"},23202,{"v":19132.983999999997,"d":"19,133"},{"v":31339,"d":"31,339"},{"$f":"'B-24'!F21","v":{"v":11976,"d":"11,976"}},{"$f":"'B-28'!F21+'B-28'!G21","v":{"v":7628,"d":"7,628"}},{"$f":"'B-37'!F23+'B-37'!G23","v":{"v":1910,"d":"1,910"}},{"$f":"'B-42'!H299","v":{"v":119559,"d":"119,559"}},null,{"$f":"'B-26'!G22","v":{"v":25406,"d":"25,406"}},{"$f":"'B-31'!F22","v":{"v":4998,"d":"4,998"}},{"$f":"'B-34'!F22","v":{"v":1345,"d":"1,345"}},{"$f":"'B-37'!F76","v":{"v":4165,"d":"4,165"}},{"$f":"'B-42'!G17","v":{"v":3300,"d":"3,300"}},{"$f":"'B-42'!G158","v":{"v":21900,"d":"21,900"}},{"$f":"'B-42'!G111","v":{"v":13400,"d":"13,400"}},{"$f":"'B-42'!G205","v":{"v":8800,"d":"8,800"}},{"$f":"'B-42'!G252","v":{"v":54000,"d":"54,000"}},null,{"$f":"'B-43'!H12+'B-43'!H37+'B-43'!H62+'B-43'!H87+'B-43'!H112+'B-43'!H138","v":{"v":855619,"d":"855,619"}},1993]
[1994,{"$f":"'B-1'!AD29","v":{"v":165587.234,"d":"165,587"}},{"$f":"'B-3'!L30+'B-3'!N30","v":{"v":2192.58,"d":"2,193"}},null,"NA",{"v":32333,"d":"32,333"},"NA","NA",{"$f":"'B-8'!M39","v":59},{"$f":"'B-11'!T40","v":125},{"$f":"'B-23'!F22","v":{"v":1485,"d":"1,485"}},{"$f":"'B-25'!G76","v":{"v":14320,"d":"14,320"}},{"$f":"'B-30'!F23","v":{"v":4233,"d":"4,233"}},{"$f":"'B-33'!F23","v":{"v":3967,"d":"3,967"}},{"$f":"'B-36'!F23","v":{"v":4932,"d":"4,932"}},256,{"$f":"'B-25'!G24","v":{"v":1403,"d":"1,403"}},{"$f":"'B-29'!F23","v":705},{"$f":"'B-32'!K23","v":{"v":1699,"d":"1,699"}},{"$f":"'B-35'!F23","v":974},{"$f":"'B-23'!G22","v":{"v":14434,"d":"14,434"}},"NA",{"$f":"'B-16'!F29","v":{"v":10921,"d":"10,921"}},{"$f":"'B-19'!O29","v":0},{"$f":"'B-12'!G29","v":{"v":25500,"d":"25,500"}},{"$f":"'B-13'!L29","v":{"v":611.8225840193292,"d":"612"}},{"$f":"'B-13'!J29","v":{"v":1954.1111111111113,"d":"1,954"}},{"$f":"'B-15'!F29+'B-15'!G29","v":{"v":53311,"d":"53,311"}},{"$f":"'B-12'!L29","v":{"v":16600,"d":"16,600"}},{"$f":"'B-18'!I29","v":{"v":11411,"d":"11,411"}},{"$f":"'B-17'!H29+'B-17'!I29","v":{"v":12200,"d":"12,200"}},null,{"$f":"'B-14'!I29","v":{"v":12292,"d":"12,292"}},{"$f":"'B-41'!G18","v":{"v":484.24360617315995,"d":"484"}},"NA","NA",{"$f":"'B-44'!F18+'B-44'!I18","v":45},{"$f":"'B-41'!G112","v":{"v":5549.00004,"d":"5,549"}},{"$f":"'B-44'!C18","v":470},"NA","NA","NA",{"$f":"'B-44'!K18","v":{"v":1227,"d":"1,227"}},"NA","NA","NA",null,"NA","NA",{"v":47195.651759464374,"d":"47,196"},{"v":7628.497767876389,"d":"7,628"},20408,{"v":26130.456000000002,"d":"26,130"},{"v":72877,"d":"72,877"},{"$f":"'B-24'!F22","v":{"v":15798,"d":"15,798"}},{"$f":"'B-28'!F22+'B-28'!G22","v":{"v":2119,"d":"2,119"}},{"$f":"'B-37'!F24+'B-37'!G24","v":{"v":2326,"d":"2,326"}},{"$f":"'B-42'!H300","v":{"v":161838,"d":"161,838"}},null,{"$f":"'B-26'!G23","v":{"v":12360,"d":"12,360"}},{"$f":"'B-31'!F23","v":{"v":1108,"d":"1,108"}},{"$f":"'B-34'!F23","v":{"v":1161,"d":"1,161"}},{"$f":"'B-37'!F77","v":{"v":4882,"d":"4,882"}},{"$f":"'B-42'!G18","v":{"v":2500,"d":"2,500"}},{"$f":"'B-42'!G159","v":{"v":55940,"d":"55,940"}},{"$f":"'B-42'!G112","v":{"v":29100,"d":"29,100"}},{"$f":"'B-42'!G206","v":{"v":25600,"d":"25,600"}},{"$f":"'B-42'!G253","v":{"v":157000,"d":"157,000"}},null,null,1994]
[1995,{"$f":"'B-1'!AD30","v":{"v":295312.866,"d":"295,313"}},{"$f":"'B-3'!L31+'B-3'!N31","v":{"v":9738.8,"d":"9,739"}},null,"NA",{"v":161794,"d":"161,794"},"NA","NA",{"$f":"'B-8'!M40","v":62},{"$f":"'B-11'!T41","v":103},{"$f":"'B-23'!F23","v":{"v":2852,"d":"2,852"}},{"$f":"'B-25'!G77","v":{"v":12727,"d":"12,727"}},{"$f":"'B-30'!F24","v":{"v":3127,"d":"3,127"}},{"$f":"'B-33'!F24","v":{"v":2202,"d":"2,202"}},{"$f":"'B-36'!F24","v":{"v":5532,"d":"5,532"}},271,{"$f":"'B-25'!G25","v":{"v":2070,"d":"2,070"}},{"$f":"'B-29'!F24","v":625},{"$f":"'B-32'!K24","v":{"v":1132,"d":"1,132"}},{"$f":"'B-35'!F24","v":{"v":1333,"d":"1,333"}},{"$f":"'B-23'!G23","v":{"v":17226,"d":"17,226"}},"NA",{"$f":"'B-16'!F30","v":{"v":11766,"d":"11,766"}},{"$f":"'B-19'!O30","v":0},{"$f":"'B-12'!G30","v":{"v":19300,"d":"19,300"}},{"$f":"'B-13'!L30","v":{"v":108.04194901327341,"d":"108"}},{"$f":"'B-13'!J30","v":{"v":1186,"d":"1,186"}},{"$f":"'B-15'!F30+'B-15'!G30","v":{"v":44114,"d":"44,114"}},{"$f":"'B-12'!L30","v":{"v":15200,"d":"15,200"}},{"$f":"'B-18'!I30","v":{"v":14019,"d":"14,019"}},{"$f":"'B-17'!H30+'B-17'!I30","v":{"v":10500,"d":"10,500"}},null,{"$f":"'B-14'!I30","v":{"v":10623,"d":"10,623"}},{"$f":"'B-41'!G19","v":{"v":957.8727625531905,"d":"958"}},"NA","NA",{"$f":"'B-44'!F19+'B-44'!I19","v":230},{"$f":"'B-41'!G113","v":{"v":6877.00004,"d":"6,877"}},{"$f":"'B-44'!C19","v":855},"NA","NA","NA",{"$f":"'B-44'!K19","v":{"v":1684,"d":"1,684"}},"NA","NA","NA",null,"NA","NA",{"v":63444.94646723256,"d":"63,445"},{"v":4907.801063443795,"d":"4,908"},19552,{"v":15230.569000000001,"d":"15,231"},{"v":27959.000000000004,"d":"27,959"},{"$f":"'B-24'!F23","v":{"v":30471,"d":"30,471"}},{"$f":"'B-28'!F23+'B-28'!G23","v":{"v":10827,"d":"10,827"}},{"$f":"'B-37'!F25+'B-37'!G25","v":{"v":5017,"d":"5,017"}},{"$f":"'B-42'!H301","v":{"v":134943,"d":"134,943"}},{"$f":"'B-24'!E23","v":{"v":4582,"d":"4,582"}},{"$f":"'B-26'!G24","v":{"v":47422,"d":"47,422"}},{"$f":"'B-31'!F24","v":{"v":5831,"d":"5,831"}},{"$f":"'B-34'!F24","v":{"v":4710,"d":"4,710"}},{"$f":"'B-37'!F78","v":{"v":10035,"d":"10,035"}},{"$f":"'B-42'!G19","v":{"v":6379,"d":"6,379"}},{"$f":"'B-42'!G160","v":{"v":39900,"d":"39,900"}},{"$f":"'B-42'!G113","v":{"v":13400,"d":"13,400"}},{"$f":"'B-42'!G207","v":{"v":17700,"d":"17,700"}},{"$f":"'B-42'!G254","v":{"v":83000,"d":"83,000"}},null,{"$f":"'B-43'!H13+'B-43'!H38+'B-43'!H63+'B-43'!H88+'B-43'!H113+'B-43'!H139","v":{"v":1469261,"d":"1,469,261"}},1995]
[1996,{"$f":"'B-1'!AD31","v":{"v":301632.765,"d":"301,633"}},{"$f":"'B-3'!L32+'B-3'!N32","v":{"v":2636,"d":"2,636"}},null,"NA",{"v":81326,"d":"81,326"},"NA","NA",{"$f":"'B-8'!M41","v":85},{"$f":"'B-11'!T42","v":147},{"$f":"'B-23'!F24","v":{"v":2153,"d":"2,153"}},{"$f":"'B-25'!G78","v":{"v":20227,"d":"20,227"}},{"$f":"'B-30'!F25","v":{"v":4218,"d":"4,218"}},{"$f":"'B-33'!F25","v":{"v":3022,"d":"3,022"}},{"$f":"'B-36'!F25","v":{"v":7316,"d":"7,316"}},435,{"$f":"'B-25'!G26","v":{"v":4462,"d":"4,462"}},{"$f":"'B-29'!F25","v":776},{"$f":"'B-32'!K25","v":{"v":1371,"d":"1,371"}},{"$f":"'B-35'!F25","v":{"v":1170,"d":"1,170"}},{"$f":"'B-23'!G24","v":{"v":12079,"d":"12,079"}},"NA",{"$f":"'B-16'!F31","v":{"v":13914,"d":"13,914"}},{"$f":"'B-19'!O31","v":0},{"$f":"'B-12'!G31","v":{"v":20400,"d":"20,400"}},{"$f":"'B-13'!L31","v":{"v":310.3744743742983,"d":"310"}},{"$f":"'B-13'!J31","v":{"v":3774.777777777778,"d":"3,775"}},{"$f":"'B-15'!F31+'B-15'!G31","v":{"v":66571,"d":"66,571"}},{"$f":"'B-12'!L31","v":{"v":15900,"d":"15,900"}},{"$f":"'B-18'!I31","v":{"v":15868,"d":"15,868"}},{"$f":"'B-17'!H31+'B-17'!I31","v":{"v":9000,"d":"9,000"}},null,{"$f":"'B-14'!I31","v":{"v":9417,"d":"9,417"}},{"$f":"'B-41'!G20","v":{"v":981.7001199999999,"d":"982"}},"NA","NA",{"$f":"'B-44'!F20+'B-44'!I20","v":535},{"$f":"'B-41'!G114","v":{"v":10613.000039999999,"d":"10,613"}},{"$f":"'B-44'!C20","v":{"v":1051,"d":"1,051"}},"NA","NA","NA",{"$f":"'B-44'!K20","v":{"v":1625,"d":"1,625"}},"NA","NA","NA",null,"NA","NA",{"v":81968.21033683859,"d":"81,968"},{"v":4391.721305802255,"d":"4,392"},21099,{"v":24704.000000000004,"d":"24,704"},{"v":53527.99999999999,"d":"53,528"},{"$f":"'B-24'!F24","v":{"v":48895,"d":"48,895"}},{"$f":"'B-28'!F24+'B-28'!G24","v":{"v":22848,"d":"22,848"}},{"$f":"'B-37'!F26+'B-37'!G26","v":{"v":3865,"d":"3,865"}},{"$f":"'B-42'!H302","v":{"v":129454,"d":"129,454"}},{"$f":"'B-24'!E24","v":{"v":41535,"d":"41,535"}},{"$f":"'B-26'!G25","v":{"v":63571,"d":"63,571"}},{"$f":"'B-31'!F25","v":{"v":8991,"d":"8,991"}},{"$f":"'B-34'!F25","v":{"v":4858,"d":"4,858"}},{"$f":"'B-37'!F79","v":{"v":11009,"d":"11,009"}},{"$f":"'B-42'!G20","v":{"v":2950,"d":"2,950"}},{"$f":"'B-42'!G161","v":{"v":37001,"d":"37,001"}},{"$f":"'B-42'!G114","v":{"v":8300,"d":"8,300"}},{"$f":"'B-42'!G208","v":{"v":9200,"d":"9,200"}},{"$f":"'B-42'!G255","v":{"v":50000,"d":"50,000"}},null,null,1996]
[1997,{"$f":"'B-1'!AD32","v":{"v":344840.574,"d":"344,841"}},{"$f":"'B-3'!L33+'B-3'!N33","v":{"v":1339,"d":"1,339"}},null,"NA",{"v":46144,"d":"46,144"},"NA","NA",{"$f":"'B-8'!M42","v":41},{"$f":"'B-11'!T43","v":105},{"$f":"'B-23'!F25","v":{"v":3891,"d":"3,891"}},{"$f":"'B-25'!G79","v":{"v":18168,"d":"18,168"}},{"$f":"'B-30'!F26","v":{"v":2872,"d":"2,872"}},{"$f":"'B-33'!F26","v":{"v":1773,"d":"1,773"}},{"$f":"'B-36'!F26","v":{"v":5405,"d":"5,405"}},365,{"$f":"'B-25'!G27","v":{"v":4460,"d":"4,460"}},{"$f":"'B-29'!F26","v":540},{"$f":"'B-32'!K26","v":{"v":1826,"d":"1,826"}},{"$f":"'B-35'!F26","v":890},{"$f":"'B-23'!G25","v":{"v":13729,"d":"13,729"}},"NA",{"$f":"'B-16'!F32","v":{"v":11241,"d":"11,241"}},{"$f":"'B-19'!O32","v":0},{"$f":"'B-12'!G32","v":{"v":26200,"d":"26,200"}},{"$f":"'B-13'!L32","v":{"v":630.3129603820895,"d":"630"}},{"$f":"'B-13'!J32","v":{"v":4709.513513513513,"d":"4,710"}},{"$f":"'B-15'!F32+'B-15'!G32","v":{"v":47320,"d":"47,320"}},{"$f":"'B-12'!L32","v":{"v":18100,"d":"18,100"}},{"$f":"'B-18'!I32","v":{"v":15808,"d":"15,808"}},{"$f":"'B-17'!H32+'B-17'!I32","v":{"v":13300,"d":"13,300"}},null,{"$f":"'B-14'!I32","v":{"v":10063,"d":"10,063"}},{"$f":"'B-41'!G21","v":{"v":2000.16632,"d":"2,000"}},"NA","NA",{"$f":"'B-44'!F21+'B-44'!I21","v":617},{"$f":"'B-41'!G115","v":{"v":4872.00004,"d":"4,872"}},{"$f":"'B-44'!C21","v":{"v":1041,"d":"1,041"}},"NA","NA","NA",{"$f":"'B-44'!K21","v":{"v":1609,"d":"1,609"}},"NA","NA","NA",null,"NA","NA",{"v":26765.128158061878,"d":"26,765"},{"v":8461.93033005935,"d":"8,462"},11030,{"v":36646,"d":"36,646"},{"v":58825,"d":"58,825"},{"$f":"'B-24'!F25","v":{"v":6399,"d":"6,399"}},{"$f":"'B-28'!F25+'B-28'!G25","v":{"v":4204,"d":"4,204"}},{"$f":"'B-37'!F27+'B-37'!G27","v":{"v":2262,"d":"2,262"}},{"$f":"'B-42'!H303","v":{"v":101762,"d":"101,762"}},{"$f":"'B-24'!E25","v":{"v":7813,"d":"7,813"}},{"$f":"'B-26'!G26","v":{"v":22470,"d":"22,470"}},{"$f":"'B-31'!F26","v":{"v":1499,"d":"1,499"}},{"$f":"'B-34'!F26","v":{"v":1386,"d":"1,386"}},{"$f":"'B-37'!F80","v":{"v":4623,"d":"4,623"}},{"$f":"'B-42'!G21","v":{"v":13065,"d":"13,065"}},{"$f":"'B-42'!G162","v":{"v":95762,"d":"95,762"}},{"$f":"'B-42'!G115","v":{"v":38999,"d":"38,999"}},{"$f":"'B-42'!G209","v":{"v":10922,"d":"10,922"}},{"$f":"'B-42'!G256","v":{"v":58188,"d":"58,188"}},null,{"$f":"'B-43'!H14+'B-43'!H39+'B-43'!H64+'B-43'!H89+'B-43'!H114+'B-43'!H140","v":{"v":315956,"d":"315,956"}},1997]
[1998,{"$f":"'B-1'!AD33","v":{"v":245907.398,"d":"245,907"}},{"$f":"'B-3'!L34+'B-3'!N34","v":{"v":24233.4,"d":"24,233"}},null,"NA",{"v":42488,"d":"42,488"},"NA","NA",{"$f":"'B-8'!M43","v":53},{"$f":"'B-11'!T44","v":99},{"$f":"'B-23'!F26","v":{"v":3114,"d":"3,114"}},{"$f":"'B-25'!G80","v":{"v":12529,"d":"12,529"}},{"$f":"'B-30'!F27","v":{"v":3859,"d":"3,859"}},{"$f":"'B-33'!F27","v":{"v":4257,"d":"4,257"}},{"$f":"'B-36'!F27","v":{"v":6752,"d":"6,752"}},705,{"$f":"'B-25'!G28","v":{"v":2388,"d":"2,388"}},{"$f":"'B-29'!F27","v":492},{"$f":"'B-32'!K27","v":{"v":1287,"d":"1,287"}},{"$f":"'B-35'!F27","v":{"v":1599,"d":"1,599"}},{"$f":"'B-23'!G26","v":{"v":4677,"d":"4,677"}},"NA",{"$f":"'B-16'!F33","v":{"v":6493,"d":"6,493"}},{"$f":"'B-19'!O33","v":0},{"$f":"'B-12'!G33","v":{"v":33100,"d":"33,100"}},{"$f":"'B-13'!L33","v":{"v":355.99419459965964,"d":"356"}},{"$f":"'B-13'!J33","v":{"v":7355.777777777778,"d":"7,356"}},{"$f":"'B-15'!F33+'B-15'!G33","v":{"v":39748,"d":"39,748"}},{"$f":"'B-12'!L33","v":{"v":22900,"d":"22,900"}},{"$f":"'B-18'!I33","v":{"v":8401,"d":"8,401"}},{"$f":"'B-17'!H33+'B-17'!I33","v":{"v":5955,"d":"5,955"}},null,{"$f":"'B-14'!I33","v":{"v":11225,"d":"11,225"}},{"$f":"'B-41'!G22","v":{"v":1535.00012,"d":"1,535"}},"NA","NA",{"$f":"'B-44'!F22+'B-44'!I22","v":370},{"$f":"'B-41'!G116","v":{"v":14609.000039999999,"d":"14,609"}},{"$f":"'B-44'!C22","v":{"v":1086,"d":"1,086"}},"NA","NA","NA",{"$f":"'B-44'!K22","v":{"v":2710,"d":"2,710"}},"NA","NA","NA",null,"NA","NA",{"v":34634.320893569165,"d":"34,634"},{"v":8416.54479230232,"d":"8,417"},18513,{"v":44711,"d":"44,711"},{"v":89853,"d":"89,853"},{"$f":"'B-24'!F26","v":{"v":6785,"d":"6,785"}},{"$f":"'B-28'!F26+'B-28'!G26","v":{"v":6928,"d":"6,928"}},{"$f":"'B-37'!F28+'B-37'!G28","v":{"v":2034,"d":"2,034"}},{"$f":"'B-42'!H304","v":{"v":51324,"d":"51,324"}},{"$f":"'B-24'!E26","v":{"v":15775,"d":"15,775"}},{"$f":"'B-26'!G27","v":{"v":34892,"d":"34,892"}},{"$f":"'B-31'!F27","v":{"v":4128,"d":"4,128"}},{"$f":"'B-34'!F27","v":{"v":4418,"d":"4,418"}},{"$f":"'B-37'!F81","v":{"v":13866,"d":"13,866"}},{"$f":"'B-42'!G22","v":{"v":18113,"d":"18,113"}},{"$f":"'B-42'!G163","v":{"v":100718,"d":"100,718"}},{"$f":"'B-42'!G116","v":{"v":72739,"d":"72,739"}},{"$f":"'B-42'!G210","v":{"v":27273,"d":"27,273"}},{"$f":"'B-42'!G257","v":{"v":149992,"d":"149,992"}},null,null,1998]
[1999,{"$f":"'B-1'!AD34","v":{"v":399829.56,"d":"399,830"}},{"$f":"'B-3'!L35+'B-3'!N35","v":{"v":6246.45,"d":"6,246"}},null,"NA",{"v":18457,"d":"18,457"},"NA","NA",{"$f":"'B-8'!M44","v":36},{"$f":"'B-11'!T45","v":124},{"$f":"'B-23'!F27","v":{"v":1360,"d":"1,360"}},{"$f":"'B-25'!G81","v":{"v":10363,"d":"10,363"}},{"$f":"'B-30'!F28","v":{"v":1918,"d":"1,918"}},{"$f":"'B-33'!F28","v":{"v":1924,"d":"1,924"}},{"$f":"'B-36'!F28","v":{"v":3334,"d":"3,334"}},734,{"$f":"'B-25'!G29","v":{"v":1285,"d":"1,285"}},{"$f":"'B-29'!F28","v":373},{"$f":"'B-32'!K28","v":928},{"$f":"'B-35'!F28","v":713},{"$f":"'B-23'!G27","v":{"v":4900,"d":"4,900"}},"NA",{"$f":"'B-16'!F34","v":{"v":3257,"d":"3,257"}},{"$f":"'B-19'!O34","v":0},{"$f":"'B-12'!G34","v":{"v":38900,"d":"38,900"}},{"$f":"'B-13'!L34","v":{"v":289.4415355772037,"d":"289"}},{"$f":"'B-13'!J34","v":{"v":2855.863684845529,"d":"2,856"}},{"$f":"'B-15'!F34+'B-15'!G34","v":{"v":31581,"d":"31,581"}},{"$f":"'B-12'!L34","v":{"v":25900,"d":"25,900"}},{"$f":"'B-18'!I34","v":{"v":7334,"d":"7,334"}},{"$f":"'B-17'!H34+'B-17'!I34","v":{"v":17826,"d":"17,826"}},null,{"$f":"'B-14'!I34","v":{"v":18588,"d":"18,588"}},{"$f":"'B-41'!G23","v":{"v":1712.00012,"d":"1,712"}},"NA","NA",{"$f":"'B-44'!F23+'B-44'!I23","v":823},{"$f":"'B-41'!G117","v":{"v":4924.00004,"d":"4,924"}},{"$f":"'B-44'!C23","v":471},"NA","NA","NA",{"$f":"'B-44'!K23","v":{"v":1448,"d":"1,448"}},"NA","NA","NA",null,"NA","NA",{"v":54125.85262992232,"d":"54,126"},{"v":15233.371107864496,"d":"15,233"},13907,{"v":72295,"d":"72,295"},{"v":93545,"d":"93,545"},{"$f":"'B-24'!F27","v":{"v":22711,"d":"22,711"}},{"$f":"'B-28'!F27+'B-28'!G27","v":{"v":27283,"d":"27,283"}},{"$f":"'B-37'!F29+'B-37'!G29","v":{"v":8151,"d":"8,151"}},{"$f":"'B-42'!H305","v":{"v":36532,"d":"36,532"}},{"$f":"'B-24'!E27","v":{"v":14032,"d":"14,032"}},{"$f":"'B-26'!G28","v":{"v":33348,"d":"33,348"}},{"$f":"'B-31'!F28","v":{"v":4794,"d":"4,794"}},{"$f":"'B-34'!F28","v":{"v":4594,"d":"4,594"}},{"$f":"'B-37'!F82","v":{"v":9365,"d":"9,365"}},{"$f":"'B-42'!G23","v":{"v":8484,"d":"8,484"}},{"$f":"'B-42'!G164","v":{"v":16430,"d":"16,430"}},{"$f":"'B-42'!G117","v":{"v":29699,"d":"29,699"}},{"$f":"'B-42'!G211","v":{"v":6996,"d":"6,996"}},{"$f":"'B-42'!G258","v":{"v":61282,"d":"61,282"}},null,{"$f":"'B-43'!H15+'B-43'!H40+'B-43'!H65+'B-43'!H90+'B-43'!H115+'B-43'!H141","v":{"v":909275,"d":"909,275"}},1999]
[2000,{"$f":"'B-1'!AD35","v":{"v":417536.64,"d":"417,537"}},{"$f":"'B-3'!L36+'B-3'!N36","v":{"v":5598,"d":"5,598"}},null,"NA",{"v":82728,"d":"82,728"},"NA","NA",{"$f":"'B-8'!M45","v":45},{"$f":"'B-11'!T46","v":85},{"$f":"'B-23'!F28","v":{"v":2303,"d":"2,303"}},{"$f":"'B-25'!G82","v":{"v":9385,"d":"9,385"}},{"$f":"'B-30'!F29","v":{"v":3755,"d":"3,755"}},{"$f":"'B-33'!F29","v":{"v":1749,"d":"1,749"}},{"$f":"'B-36'!F29","v":{"v":3730,"d":"3,730"}},294,{"$f":"'B-25'!G30","v":{"v":3135,"d":"3,135"}},{"$f":"'B-29'!F29","v":248},{"$f":"'B-32'!K29","v":492},{"$f":"'B-35'!F29","v":989},{"$f":"'B-23'!G28","v":{"v":10455,"d":"10,455"}},"NA",{"$f":"'B-16'!F35","v":{"v":9422,"d":"9,422"}},{"$f":"'B-19'!O35","v":0},{"$f":"'B-12'!G35","v":{"v":37594,"d":"37,594"}},{"$f":"'B-13'!L35","v":{"v":962.1522515034469,"d":"962"}},{"$f":"'B-13'!J35","v":{"v":8255.16842647489,"d":"8,255"}},{"$f":"'B-15'!F35+'B-15'!G35","v":{"v":22925,"d":"22,925"}},{"$f":"'B-12'!L35","v":{"v":24100,"d":"24,100"}},{"$f":"'B-18'!I35","v":{"v":7884,"d":"7,884"}},{"$f":"'B-17'!H35+'B-17'!I35","v":{"v":10342,"d":"10,342"}},{"$f":"'B-19'!J35","v":{"v":58513,"d":"58,513"}},{"$f":"'B-14'!I35","v":{"v":20218,"d":"20,218"}},{"$f":"'B-41'!G24","v":{"v":1227.00012,"d":"1,227"}},"NA","NA",{"$f":"'B-44'!F24+'B-44'!I24","v":{"v":1242,"d":"1,242"}},{"$f":"'B-41'!G118","v":{"v":16930.00004,"d":"16,930"}},{"$f":"'B-44'!C24","v":{"v":1021,"d":"1,021"}},"NA","NA","NA",{"$f":"'B-44'!K24","v":{"v":2650,"d":"2,650"}},"NA","NA","NA",null,"NA","NA",{"v":75791.48796498607,"d":"75,791"},{"v":16462.6,"d":"16,463"},17033,{"v":118184,"d":"118,184"},{"v":196074.00000000003,"d":"196,074"},{"$f":"'B-24'!F28","v":{"v":27865,"d":"27,865"}},{"$f":"'B-28'!F28+'B-28'!G28","v":{"v":16902,"d":"16,902"}},{"$f":"'B-37'!F30+'B-37'!G30","v":{"v":4746,"d":"4,746"}},{"$f":"'B-42'!H306","v":{"v":191036,"d":"191,036"}},{"$f":"'B-24'!E28","v":{"v":26679,"d":"26,679"}},{"$f":"'B-26'!G29","v":{"v":38054,"d":"38,054"}},{"$f":"'B-31'!F29","v":{"v":8097,"d":"8,097"}},{"$f":"'B-34'!F29","v":{"v":6772,"d":"6,772"}},{"$f":"'B-37'!F83","v":{"v":13343,"d":"13,343"}},{"$f":"'B-42'!G24","v":{"v":22654,"d":"22,654"}},{"$f":"'B-42'!G165","v":{"v":27094,"d":"27,094"}},{"$f":"'B-42'!G118","v":{"v":60960,"d":"60,960"}},{"$f":"'B-42'!G212","v":{"v":28293,"d":"28,293"}},{"$f":"'B-42'!G259","v":{"v":94093,"d":"94,093"}},null,null,2000]
[2001,{"$f":"'B-1'!AD36","v":{"v":596775.08,"d":"596,775"}},{"$f":"'B-3'!L37+'B-3'!N37","v":{"v":22604,"d":"22,604"}},{"$f":"'B-3'!H37","v":{"v":7443,"d":"7,443"}},"NA",{"v":77834,"d":"77,834"},"NA","NA",{"$f":"'B-8'!M46","v":38},{"$f":"'B-11'!T47","v":203},{"$f":"'B-23'!F29","v":{"v":2161,"d":"2,161"}},{"$f":"'B-25'!G83","v":{"v":9492,"d":"9,492"}},{"$f":"'B-30'!F30","v":{"v":3066,"d":"3,066"}},{"$f":"'B-33'!F30","v":{"v":2560,"d":"2,560"}},{"$f":"'B-36'!F30","v":{"v":5136,"d":"5,136"}},496,{"$f":"'B-25'!G31","v":{"v":2860,"d":"2,860"}},{"$f":"'B-29'!F30","v":548},{"$f":"'B-32'!K30","v":{"v":1159,"d":"1,159"}},{"$f":"'B-35'!F30","v":{"v":1225,"d":"1,225"}},{"$f":"'B-23'!G29","v":{"v":10099,"d":"10,099"}},"NA",{"$f":"'B-16'!F36","v":{"v":13610,"d":"13,610"}},{"$f":"'B-19'!O36","v":0},{"$f":"'B-12'!G36","v":{"v":52700,"d":"52,700"}},{"$f":"'B-13'!L36","v":{"v":4702.243911271087,"d":"4,702"}},{"$f":"'B-13'!J36","v":{"v":45272.68405796341,"d":"45,273"}},{"$f":"'B-15'!F36+'B-15'!G36","v":{"v":82430,"d":"82,430"}},{"$f":"'B-12'!L36","v":{"v":29000,"d":"29,000"}},{"$f":"'B-18'!I36","v":{"v":13701,"d":"13,701"}},{"$f":"'B-17'!H36+'B-17'!I36","v":{"v":41726,"d":"41,726"}},{"$f":"'B-19'!J36","v":{"v":72738,"d":"72,738"}},{"$f":"'B-14'!I36","v":{"v":48844,"d":"48,844"}},{"$f":"'B-41'!G25","v":{"v":1604.00012,"d":"1,604"}},"NA","NA",{"$f":"'B-44'!F25+'B-44'!I25","v":{"v":2185,"d":"2,185"}},{"$f":"'B-41'!G119","v":{"v":13793.000039999999,"d":"13,793"}},{"$f":"'B-44'!C25","v":{"v":1856,"d":"1,856"}},"NA","NA","NA",{"$f":"'B-44'!K25","v":{"v":3074,"d":"3,074"}},"NA","NA","NA",null,"NA","NA",{"v":186726.66891080915,"d":"186,727"},{"v":29204,"d":"29,204"},43597,{"v":210568,"d":"210,568"},{"v":426225,"d":"426,225"},{"$f":"'B-24'!F29","v":{"v":53547,"d":"53,547"}},{"$f":"'B-28'!F29+'B-28'!G29","v":{"v":52254,"d":"52,254"}},{"$f":"'B-37'!F31+'B-37'!G31","v":{"v":13954,"d":"13,954"}},{"$f":"'B-42'!H307","v":{"v":164867,"d":"164,867"}},{"$f":"'B-24'!E29","v":{"v":56166,"d":"56,166"}},{"$f":"'B-26'!G30","v":{"v":80100,"d":"80,100"}},{"$f":"'B-31'!F30","v":{"v":23890,"d":"23,890"}},{"$f":"'B-34'!F30","v":{"v":10773,"d":"10,773"}},{"$f":"'B-37'!F84","v":{"v":18876,"d":"18,876"}},{"$f":"'B-42'!G25","v":{"v":35274,"d":"35,274"}},{"$f":"'B-42'!G166","v":{"v":94579,"d":"94,579"}},{"$f":"'B-42'!G119","v":{"v":87017,"d":"87,017"}},{"$f":"'B-42'!G213","v":{"v":74773,"d":"74,773"}},{"$f":"'B-42'!G260","v":{"v":261550,"d":"261,550"}},null,{"$f":"'B-43'!H16+'B-43'!H41+'B-43'!H66+'B-43'!H91+'B-43'!H116+'B-43'!H142","v":{"v":3249413,"d":"3,249,413"}},2001]
[2002,{"$f":"'B-1'!AD37","v":{"v":769868,"d":"769,868"}},{"$f":"'B-3'!L38+'B-3'!N38","v":{"v":20627.87,"d":"20,628"}},{"$f":"'B-3'!H38","v":{"v":7047,"d":"7,047"}},"NA",{"v":65635,"d":"65,635"},"NA","NA",{"$f":"'B-8'!M47","v":67},{"$f":"'B-11'!T48","v":269},{"$f":"'B-23'!F30","v":{"v":1729,"d":"1,729"}},{"$f":"'B-25'!G84","v":{"v":11841,"d":"11,841"}},{"$f":"'B-30'!F31","v":{"v":2598,"d":"2,598"}},{"$f":"'B-33'!F31","v":{"v":4415,"d":"4,415"}},{"$f":"'B-36'!F31","v":{"v":6067,"d":"6,067"}},192,{"$f":"'B-25'!G32","v":{"v":2598,"d":"2,598"}},{"$f":"'B-29'!F31","v":738},{"$f":"'B-32'!K31","v":{"v":2464,"d":"2,464"}},{"$f":"'B-35'!F31","v":{"v":1002,"d":"1,002"}},{"$f":"'B-23'!G30","v":{"v":13680,"d":"13,680"}},"NA",{"$f":"'B-16'!F37","v":{"v":19654,"d":"19,654"}},{"$f":"'B-19'!O37","v":0},{"$f":"'B-12'!G37","v":{"v":83100,"d":"83,100"}},{"$f":"'B-13'!L37","v":{"v":1860.8834163883112,"d":"1,861"}},{"$f":"'B-13'!J37","v":{"v":30212.75814996278,"d":"30,213"}},{"$f":"'B-15'!F37+'B-15'!G37","v":{"v":130808,"d":"130,808"}},{"$f":"'B-12'!L37","v":{"v":58300,"d":"58,300"}},{"$f":"'B-18'!I37","v":{"v":21946,"d":"21,946"}},{"$f":"'B-17'!H37+'B-17'!I37","v":{"v":75505,"d":"75,505"}},{"$f":"'B-19'!J37","v":{"v":99728,"d":"99,728"}},{"$f":"'B-14'!I37","v":{"v":86825,"d":"86,825"}},{"$f":"'B-41'!G26","v":{"v":1688.00012,"d":"1,688"}},"NA","NA",{"$f":"'B-44'!F26+'B-44'!I26","v":{"v":3741,"d":"3,741"}},{"$f":"'B-41'!G120","v":{"v":19591.00004,"d":"19,591"}},{"$f":"'B-44'!C26","v":{"v":1065,"d":"1,065"}},"NA","NA","NA",{"$f":"'B-44'!K26","v":{"v":1656,"d":"1,656"}},"NA","NA","NA",null,"NA","NA",{"v":297488.1374626014,"d":"297,488"},{"v":40051,"d":"40,051"},30027,{"v":147734,"d":"147,734"},{"v":151498,"d":"151,498"},{"$f":"'B-24'!F30","v":{"v":54794,"d":"54,794"}},{"$f":"'B-28'!F30+'B-28'!G30","v":{"v":29054,"d":"29,054"}},{"$f":"'B-37'!F32+'B-37'!G32","v":{"v":4951,"d":"4,951"}},{"$f":"'B-42'!H308","v":{"v":133441,"d":"133,441"}},{"$f":"'B-24'!E30","v":{"v":66438,"d":"66,438"}},{"$f":"'B-26'!G31","v":{"v":110066,"d":"110,066"}},{"$f":"'B-31'!F31","v":{"v":13968,"d":"13,968"}},{"$f":"'B-34'!F31","v":{"v":9009,"d":"9,009"}},{"$f":"'B-37'!F85","v":{"v":23016,"d":"23,016"}},{"$f":"'B-42'!G26","v":{"v":22375,"d":"22,375"}},{"$f":"'B-42'!G167","v":{"v":69296,"d":"69,296"}},{"$f":"'B-42'!G120","v":{"v":55968,"d":"55,968"}},{"$f":"'B-42'!G214","v":{"v":27305,"d":"27,305"}},{"$f":"'B-42'!G261","v":{"v":161441,"d":"161,441"}},null,null,2002]
[2003,{"$f":"'B-1'!AD38","v":{"v":523016,"d":"523,016"}},{"$f":"'B-3'!L39+'B-3'!N39","v":{"v":21798,"d":"21,798"}},{"$f":"'B-3'!H39","v":{"v":7675,"d":"7,675"}},"NA",{"v":87642,"d":"87,642"},"NA","NA",{"$f":"'B-8'!M48","v":27},{"$f":"'B-11'!T49","v":279},{"$f":"'B-23'!F31","v":{"v":2732,"d":"2,732"}},{"$f":"'B-25'!G85","v":{"v":19871,"d":"19,871"}},{"$f":"'B-30'!F32","v":{"v":4971,"d":"4,971"}},{"$f":"'B-33'!F32","v":{"v":1649,"d":"1,649"}},{"$f":"'B-36'!F32","v":{"v":7398,"d":"7,398"}},402,{"$f":"'B-25'!G33","v":{"v":1904,"d":"1,904"}},{"$f":"'B-29'!F32","v":189},{"$f":"'B-32'!K32","v":{"v":1228,"d":"1,228"}},{"$f":"'B-35'!F32","v":{"v":1219,"d":"1,219"}},{"$f":"'B-23'!G31","v":{"v":14628,"d":"14,628"}},"NA",{"$f":"'B-16'!F38","v":{"v":17668,"d":"17,668"}},{"$f":"'B-19'!O38","v":0},{"$f":"'B-12'!G38","v":{"v":87600,"d":"87,600"}},{"$f":"'B-13'!L38","v":{"v":1610.9905768382926,"d":"1,611"}},{"$f":"'B-13'!J38","v":{"v":32323.687674890134,"d":"32,324"}},{"$f":"'B-15'!F38+'B-15'!G38","v":{"v":131554,"d":"131,554"}},{"$f":"'B-12'!L38","v":{"v":50286,"d":"50,286"}},{"$f":"'B-18'!I38","v":{"v":24175,"d":"24,175"}},{"$f":"'B-17'!H38+'B-17'!I38","v":{"v":84829,"d":"84,829"}},{"$f":"'B-19'!J38","v":{"v":146437,"d":"146,437"}},{"$f":"'B-14'!I38","v":{"v":81543,"d":"81,543"}},{"$f":"'B-41'!G27","v":{"v":2087.0001199999997,"d":"2,087"}},"NA","NA",{"$f":"'B-44'!F27+'B-44'!I27","v":{"v":2857,"d":"2,857"}},{"$f":"'B-41'!G121","v":{"v":9777.000039999999,"d":"9,777"}},{"$f":"'B-44'!C27","v":844},"NA","NA","NA",{"$f":"'B-44'!K27","v":{"v":2734,"d":"2,734"}},"NA","NA","NA",null,"NA","NA",{"v":267368.14827088907,"d":"267,368"},{"v":46748,"d":"46,748"},22261,{"v":95975.99999999999,"d":"95,976"},{"v":235145,"d":"235,145"},{"$f":"'B-24'!F31","v":{"v":68762,"d":"68,762"}},{"$f":"'B-28'!F31+'B-28'!G31","v":{"v":21551,"d":"21,551"}},{"$f":"'B-37'!F33+'B-37'!G33","v":{"v":7044,"d":"7,044"}},{"$f":"'B-42'!H309","v":{"v":146298,"d":"146,298"}},{"$f":"'B-24'!E31","v":{"v":55943,"d":"55,943"}},{"$f":"'B-26'!G32","v":{"v":84952,"d":"84,952"}},{"$f":"'B-31'!F32","v":{"v":9846,"d":"9,846"}},{"$f":"'B-34'!F32","v":{"v":6273,"d":"6,273"}},{"$f":"'B-37'!F86","v":{"v":14756,"d":"14,756"}},{"$f":"'B-42'!G27","v":{"v":17042,"d":"17,042"}},{"$f":"'B-42'!G168","v":{"v":172000,"d":"172,000"}},{"$f":"'B-42'!G121","v":{"v":89491,"d":"89,491"}},{"$f":"'B-42'!G215","v":{"v":45691,"d":"45,691"}},{"$f":"'B-42'!G262","v":{"v":182599,"d":"182,599"}},null,{"$f":"'B-43'!H17+'B-43'!H42+'B-43'!H67+'B-43'!H92+'B-43'!H117+'B-43'!H143","v":{"v":2671956,"d":"2,671,956"}},2003]
[2004,{"$f":"'B-1'!AD39","v":{"v":286885,"d":"286,885"}},{"$f":"'B-3'!L40+'B-3'!N40","v":{"v":13319,"d":"13,319"}},{"$f":"'B-3'!H40","v":{"v":5786,"d":"5,786"}},"NA",{"v":23831,"d":"23,831"},"NA","NA",{"$f":"'B-8'!M49","v":62},{"$f":"'B-11'!T50","v":198},{"$f":"'B-23'!F32","v":{"v":2838,"d":"2,838"}},{"$f":"'B-25'!G86","v":{"v":31773,"d":"31,773"}},{"$f":"'B-30'!F33","v":{"v":5173,"d":"5,173"}},{"$f":"'B-33'!F33","v":{"v":3282,"d":"3,282"}},{"$f":"'B-36'!F33","v":{"v":3831,"d":"3,831"}},266,{"$f":"'B-25'!G34","v":{"v":5034,"d":"5,034"}},{"$f":"'B-29'!F33","v":604},{"$f":"'B-32'!K33","v":{"v":1786,"d":"1,786"}},{"$f":"'B-35'!F33","v":{"v":1093,"d":"1,093"}},{"$f":"'B-23'!G32","v":{"v":21444,"d":"21,444"}},"NA",{"$f":"'B-16'!F39","v":{"v":16346,"d":"16,346"}},{"$f":"'B-19'!O39","v":0},{"$f":"'B-12'!G39","v":{"v":95200,"d":"95,200"}},{"$f":"'B-13'!L39","v":{"v":1617.0379579021223,"d":"1,617"}},{"$f":"'B-13'!J39","v":{"v":21366.540204464924,"d":"21,367"}},{"$f":"'B-15'!F39+'B-15'!G39","v":{"v":83502,"d":"83,502"}},{"$f":"'B-12'!L39","v":{"v":70880,"d":"70,880"}},{"$f":"'B-18'!I39","v":{"v":26210,"d":"26,210"}},{"$f":"'B-17'!H39+'B-17'!I39","v":{"v":83016,"d":"83,016"}},{"$f":"'B-19'!J39","v":{"v":122417,"d":"122,417"}},{"$f":"'B-14'!I39","v":{"v":62311,"d":"62,311"}},{"$f":"'B-41'!G28","v":{"v":3294.00012,"d":"3,294"}},{"v":2398.0000200000004,"d":"2,398"},{"v":129.00006000000002,"d":"129"},{"$f":"'B-44'!F28+'B-44'!I28","v":{"v":1719,"d":"1,719"}},{"$f":"'B-41'!G122","v":{"v":23553.00004,"d":"23,553"}},{"$f":"'B-44'!C28","v":{"v":1575,"d":"1,575"}},{"v":1506.0119047619048,"d":"1,506"},{"v":10602,"d":"10,602"},730,{"$f":"'B-44'!K28","v":{"v":2863,"d":"2,863"}},7946.999999999999,2788.0000200000004,1065.00002,null,"NA","NA",{"v":192547.0007815553,"d":"192,547"},{"v":26609,"d":"26,609"},13374,{"v":93265,"d":"93,265"},{"v":195238,"d":"195,238"},{"$f":"'B-24'!F32","v":{"v":21171,"d":"21,171"}},{"$f":"'B-28'!F32+'B-28'!G32","v":{"v":11725,"d":"11,725"}},{"$f":"'B-37'!F34+'B-37'!G34","v":{"v":7796,"d":"7,796"}},{"$f":"'B-42'!H310","v":{"v":179191,"d":"179,191"}},{"$f":"'B-24'!E32","v":{"v":44463,"d":"44,463"}},{"$f":"'B-26'!G33","v":{"v":60690,"d":"60,690"}},{"$f":"'B-31'!F33","v":{"v":7484,"d":"7,484"}},{"$f":"'B-34'!F33","v":{"v":4702,"d":"4,702"}},{"$f":"'B-37'!F87","v":{"v":13354,"d":"13,354"}},{"$f":"'B-42'!G28","v":{"v":19755,"d":"19,755"}},{"$f":"'B-42'!G169","v":{"v":145879,"d":"145,879"}},{"$f":"'B-42'!G122","v":{"v":119456,"d":"119,456"}},{"$f":"'B-42'!G216","v":{"v":65228,"d":"65,228"}},{"$f":"'B-42'!G263","v":{"v":252768,"d":"252,768"}},null,null,2004]
[2005,{"$f":"'B-1'!AD40","v":{"v":396005,"d":"396,005"}},{"$f":"'B-3'!L41+'B-3'!N41","v":{"v":21340,"d":"21,340"}},{"$f":"'B-3'!H41","v":{"v":14684,"d":"14,684"}},"NA",{"v":26789,"d":"26,789"},"NA","NA",{"$f":"'B-8'!M50","v":15},{"$f":"'B-11'!T51","v":118},{"$f":"'B-23'!F33","v":{"v":1978,"d":"1,978"}},{"$f":"'B-25'!G87","v":{"v":19695,"d":"19,695"}},{"$f":"'B-30'!F34","v":{"v":4578,"d":"4,578"}},{"$f":"'B-33'!F34","v":{"v":4180,"d":"4,180"}},{"$f":"'B-36'!F34","v":{"v":6406,"d":"6,406"}},72,{"$f":"'B-25'!G35","v":{"v":2129,"d":"2,129"}},{"$f":"'B-29'!F34","v":298},{"$f":"'B-32'!K34","v":{"v":1193,"d":"1,193"}},{"$f":"'B-35'!F34","v":876},{"$f":"'B-23'!G33","v":{"v":18088,"d":"18,088"}},"NA",{"$f":"'B-16'!F40","v":{"v":11725,"d":"11,725"}},{"$f":"'B-19'!O40","v":0},{"$f":"'B-12'!G40","v":{"v":35453,"d":"35,453"}},{"$f":"'B-13'!L40","v":{"v":2055.930046511628,"d":"2,056"}},{"$f":"'B-13'!J40","v":{"v":10131.4764,"d":"10,131"}},{"$f":"'B-15'!F40+'B-15'!G40","v":{"v":58640,"d":"58,640"}},{"$f":"'B-12'!L40","v":{"v":35865,"d":"35,865"}},{"$f":"'B-18'!I40","v":{"v":30991,"d":"30,991"}},{"$f":"'B-17'!H40+'B-17'!I40","v":{"v":36644,"d":"36,644"}},{"$f":"'B-19'!J40","v":{"v":98777,"d":"98,777"}},{"$f":"'B-14'!I40","v":{"v":54033,"d":"54,033"}},{"$f":"'B-41'!G29","v":{"v":1984.00012,"d":"1,984"}},{"v":2032.00002,"d":"2,032"},{"v":45.000060000000005,"d":"45"},{"$f":"'B-44'!F29+'B-44'!I29","v":{"v":2047,"d":"2,047"}},{"$f":"'B-41'!G123","v":{"v":20803.00004,"d":"20,803"}},{"$f":"'B-44'!C29","v":{"v":1246,"d":"1,246"}},{"v":1035.5966914369446,"d":"1,036"},{"v":4480.4786,"d":"4,480"},726,{"$f":"'B-44'!K29","v":{"v":3488,"d":"3,488"}},2523,2159.0000200000004,725.00002,null,"NA","NA",{"v":171424.89705832227,"d":"171,425"},{"v":17011.60598949178,"d":"17,012"},14435,{"v":73938,"d":"73,938"},{"v":151631,"d":"151,631"},{"$f":"'B-24'!F33","v":{"v":47582,"d":"47,582"}},{"$f":"'B-28'!F33+'B-28'!G33","v":{"v":16452,"d":"16,452"}},{"$f":"'B-37'!F35+'B-37'!G35","v":{"v":8400,"d":"8,400"}},{"$f":"'B-42'!H311","v":{"v":117114,"d":"117,114"}},{"$f":"'B-24'!E33","v":{"v":32558,"d":"32,558"}},{"$f":"'B-26'!G34","v":{"v":38297,"d":"38,297"}},{"$f":"'B-31'!F34","v":{"v":6539,"d":"6,539"}},{"$f":"'B-34'!F34","v":{"v":4711,"d":"4,711"}},{"$f":"'B-37'!F88","v":{"v":11501,"d":"11,501"}},{"$f":"'B-42'!G29","v":{"v":10201,"d":"10,201"}},{"$f":"'B-42'!G170","v":{"v":37503,"d":"37,503"}},{"$f":"'B-42'!G123","v":{"v":35274,"d":"35,274"}},{"$f":"'B-42'!G217","v":{"v":25141,"d":"25,141"}},{"$f":"'B-42'!G264","v":{"v":109020,"d":"109,020"}},null,{"$f":"'B-43'!H18+'B-43'!H43+'B-43'!H68+'B-43'!H93+'B-43'!H118+'B-43'!H144","v":{"v":1793797,"d":"1,793,797"}},2005]
[2006,{"$f":"'B-1'!AD41","v":{"v":275030,"d":"275,030"}},{"$f":"'B-3'!L42+'B-3'!N42","v":{"v":10669,"d":"10,669"}},{"$f":"'B-3'!H42","v":{"v":16911,"d":"16,911"}},"NA",{"v":30163,"d":"30,163"},"NA","NA",{"$f":"'B-8'!M51","v":23},{"$f":"'B-11'!T52","v":76},{"$f":"'B-23'!F34","v":{"v":3739,"d":"3,739"}},{"$f":"'B-25'!G88","v":{"v":17428,"d":"17,428"}},{"$f":"'B-30'!F35","v":{"v":3050,"d":"3,050"}},{"$f":"'B-33'!F35","v":{"v":1535,"d":"1,535"}},{"$f":"'B-36'!F35","v":{"v":5642,"d":"5,642"}},172,{"$f":"'B-25'!G36","v":{"v":2481,"d":"2,481"}},{"$f":"'B-29'!F35","v":330},{"$f":"'B-32'!K35","v":904},{"$f":"'B-35'!F35","v":553},{"$f":"'B-23'!G34","v":{"v":24209,"d":"24,209"}},"NA",{"$f":"'B-16'!F41","v":{"v":12758,"d":"12,758"}},{"$f":"'B-19'!O41","v":0},{"$f":"'B-12'!G41","v":{"v":36851,"d":"36,851"}},{"$f":"'B-13'!L41","v":{"v":911.4248346936578,"d":"911"}},{"$f":"'B-13'!J41","v":{"v":9484.748080000001,"d":"9,485"}},{"$f":"'B-15'!F41+'B-15'!G41","v":{"v":42590,"d":"42,590"}},{"$f":"'B-12'!L41","v":{"v":38623,"d":"38,623"}},{"$f":"'B-18'!I41","v":{"v":19745,"d":"19,745"}},{"$f":"'B-17'!H41+'B-17'!I41","v":{"v":11820,"d":"11,820"}},{"$f":"'B-19'!J41","v":{"v":62567,"d":"62,567"}},{"$f":"'B-14'!I41","v":{"v":61821,"d":"61,821"}},{"$f":"'B-41'!G30","v":{"v":2270.0001199999997,"d":"2,270"}},{"v":1209.00002,"d":"1,209"},{"v":30.000059999999998,"d":"30"},{"$f":"'B-44'!F30+'B-44'!I30","v":{"v":1184,"d":"1,184"}},{"$f":"'B-41'!G124","v":{"v":20768.00004,"d":"20,768"}},{"$f":"'B-44'!C30","v":{"v":1896,"d":"1,896"}},{"v":1254,"d":"1,254"},{"v":8188,"d":"8,188"},{"v":1219,"d":"1,219"},{"$f":"'B-44'!K30","v":{"v":3864,"d":"3,864"}},5790,2179.0000200000004,1599.00002,null,"NA","NA",{"v":134209.87683422965,"d":"134,210"},{"v":33339.02117427331,"d":"33,339"},12900,{"v":127727,"d":"127,727"},{"v":165075,"d":"165,075"},{"$f":"'B-24'!F34","v":{"v":7437,"d":"7,437"}},{"$f":"'B-28'!F34+'B-28'!G34","v":{"v":4305,"d":"4,305"}},{"$f":"'B-37'!F36+'B-37'!G36","v":{"v":2453,"d":"2,453"}},{"$f":"'B-42'!H312","v":{"v":68784,"d":"68,784"}},{"$f":"'B-24'!E34","v":{"v":14301,"d":"14,301"}},{"$f":"'B-26'!G35","v":{"v":17767,"d":"17,767"}},{"$f":"'B-31'!F35","v":{"v":5612,"d":"5,612"}},{"$f":"'B-34'!F35","v":{"v":1282,"d":"1,282"}},{"$f":"'B-37'!F89","v":{"v":5210,"d":"5,210"}},{"$f":"'B-42'!G30","v":{"v":3801,"d":"3,801"}},{"$f":"'B-42'!G171","v":{"v":13269,"d":"13,269"}},{"$f":"'B-42'!G124","v":{"v":8037,"d":"8,037"}},{"$f":"'B-42'!G218","v":{"v":8549,"d":"8,549"}},{"$f":"'B-42'!G265","v":{"v":75630,"d":"75,630"}},null,null,2006]
[2007,{"$f":"'B-1'!AD42","v":{"v":91374,"d":"91,374"}},{"$f":"'B-3'!L43+'B-3'!N43","v":{"v":9177,"d":"9,177"}},{"$f":"'B-3'!H43","v":{"v":2402,"d":"2,402"}},"NA",{"v":60670,"d":"60,670"},"NA","NA",{"$f":"'B-8'!M52","v":29},{"$f":"'B-11'!T53","v":42},{"$f":"'B-23'!F35","v":{"v":1907,"d":"1,907"}},{"$f":"'B-25'!G89","v":{"v":13117,"d":"13,117"}},{"$f":"'B-30'!F36","v":878},{"$f":"'B-33'!F36","v":{"v":1556,"d":"1,556"}},{"$f":"'B-36'!F36","v":{"v":3066,"d":"3,066"}},251,{"$f":"'B-25'!G37","v":651},{"$f":"'B-29'!F36","v":352},{"$f":"'B-32'!K36","v":810},{"$f":"'B-35'!F36","v":502},{"$f":"'B-23'!G35","v":{"v":13400,"d":"13,400"}},"NA",{"$f":"'B-16'!F42","v":{"v":3857,"d":"3,857"}},{"$f":"'B-19'!O42","v":0},{"$f":"'B-12'!G42","v":{"v":22818,"d":"22,818"}},{"$f":"'B-13'!L42","v":{"v":437.7244024585381,"d":"438"}},{"$f":"'B-13'!J42","v":{"v":7087.729500000001,"d":"7,088"}},{"$f":"'B-15'!F42+'B-15'!G42","v":{"v":25258,"d":"25,258"}},{"$f":"'B-12'!L42","v":{"v":27756,"d":"27,756"}},{"$f":"'B-18'!I42","v":{"v":13053,"d":"13,053"}},{"$f":"'B-17'!H42+'B-17'!I42","v":{"v":8769,"d":"8,769"}},{"$f":"'B-19'!J42","v":{"v":34201,"d":"34,201"}},{"$f":"'B-14'!I42","v":{"v":28222,"d":"28,222"}},{"$f":"'B-41'!G31","v":{"v":936.0001199999998,"d":"936"}},{"v":531.00002,"d":"531"},{"v":73.00006,"d":"73"},{"$f":"'B-44'!F31+'B-44'!I31","v":{"v":1438,"d":"1,438"}},{"$f":"'B-41'!G125","v":{"v":11281.000039999999,"d":"11,281"}},{"$f":"'B-44'!C31","v":613},607,{"v":3982,"d":"3,982"},{"v":1968,"d":"1,968"},{"$f":"'B-44'!K31","v":{"v":8005,"d":"8,005"}},4301,1744.00002,2931.4495078048785,null,"NA","NA",{"v":73279.52376110094,"d":"73,280"},{"v":25897.275305380725,"d":"25,897"},2900,{"v":88505,"d":"88,505"},{"v":161766,"d":"161,766"},{"$f":"'B-24'!F35","v":{"v":10345,"d":"10,345"}},{"$f":"'B-28'!F35+'B-28'!G35","v":{"v":6332,"d":"6,332"}},{"$f":"'B-37'!F37+'B-37'!G37","v":{"v":5583,"d":"5,583"}},{"$f":"'B-42'!H313","v":{"v":86699,"d":"86,699"}},{"$f":"'B-24'!E35","v":{"v":18310,"d":"18,310"}},{"$f":"'B-26'!G36","v":{"v":25121,"d":"25,121"}},{"$f":"'B-31'!F36","v":{"v":4600,"d":"4,600"}},{"$f":"'B-34'!F36","v":{"v":3072,"d":"3,072"}},{"$f":"'B-37'!F90","v":{"v":6252,"d":"6,252"}},{"$f":"'B-42'!G31","v":{"v":7525,"d":"7,525"}},{"$f":"'B-42'!G172","v":{"v":46347,"d":"46,347"}},{"$f":"'B-42'!G125","v":{"v":52506,"d":"52,506"}},{"$f":"'B-42'!G219","v":{"v":38732,"d":"38,732"}},{"$f":"'B-42'!G266","v":{"v":118455,"d":"118,455"}},null,{"$f":"'B-43'!H19+'B-43'!H44+'B-43'!H69+'B-43'!H94+'B-43'!H119+'B-43'!H145","v":{"v":2951724,"d":"2,951,724"}},2007]
[2008,{"$f":"'B-1'!AD43","v":{"v":65364,"d":"65,364"}},{"$f":"'B-3'!L44+'B-3'!N44","v":{"v":11943,"d":"11,943"}},{"$f":"'B-3'!H44","v":{"v":2623,"d":"2,623"}},"NA",{"v":30850,"d":"30,850"},"NA","NA",{"$f":"'B-8'!M53","v":13},{"$f":"'B-11'!T54","v":40},{"$f":"'B-23'!F36","v":{"v":1544,"d":"1,544"}},{"$f":"'B-25'!G90","v":{"v":15391,"d":"15,391"}},{"$f":"'B-30'!F37","v":{"v":3081,"d":"3,081"}},{"$f":"'B-33'!F37","v":{"v":2999,"d":"2,999"}},{"$f":"'B-36'!F37","v":{"v":3612,"d":"3,612"}},106,{"$f":"'B-25'!G38","v":995},{"$f":"'B-29'!F37","v":305},{"$f":"'B-32'!K37","v":671},{"$f":"'B-35'!F37","v":949},{"$f":"'B-23'!G36","v":{"v":14891,"d":"14,891"}},"NA",{"$f":"'B-16'!F43","v":{"v":6183,"d":"6,183"}},{"$f":"'B-19'!O43","v":0},{"$f":"'B-12'!G43","v":{"v":14151,"d":"14,151"}},{"$f":"'B-13'!L43","v":{"v":652.9924410596179,"d":"653"}},{"$f":"'B-13'!J43","v":{"v":17573.888,"d":"17,574"}},{"$f":"'B-15'!F43+'B-15'!G43","v":{"v":48793,"d":"48,793"}},{"$f":"'B-12'!L43","v":{"v":18407,"d":"18,407"}},{"$f":"'B-18'!I43","v":{"v":21409,"d":"21,409"}},{"$f":"'B-17'!H43+'B-17'!I43","v":{"v":36487,"d":"36,487"}},{"$f":"'B-19'!J43","v":{"v":51757,"d":"51,757"}},{"$f":"'B-14'!I43","v":{"v":38171,"d":"38,171"}},{"$f":"'B-41'!G32","v":{"v":716.0001199999998,"d":"716"}},{"v":1134.00002,"d":"1,134"},{"v":273.00006,"d":"273"},{"$f":"'B-44'!F32+'B-44'!I32","v":{"v":1266,"d":"1,266"}},{"$f":"'B-41'!G126","v":{"v":11664.000039999999,"d":"11,664"}},{"$f":"'B-44'!C32","v":{"v":1470,"d":"1,470"}},{"v":1671,"d":"1,671"},{"v":8373.25,"d":"8,373"},941,{"$f":"'B-44'!K32","v":{"v":3575,"d":"3,575"}},5971,3398.0000200000004,2679.0911397183104,null,"NA","NA",{"v":182313.3079731736,"d":"182,313"},{"v":32357.86864967365,"d":"32,358"},6478,{"v":160094,"d":"160,094"},{"v":216323,"d":"216,323"},{"$f":"'B-24'!F36","v":{"v":10832,"d":"10,832"}},{"$f":"'B-28'!F36+'B-28'!G36","v":{"v":29879,"d":"29,879"}},{"$f":"'B-37'!F38+'B-37'!G38","v":{"v":7125,"d":"7,125"}},{"$f":"'B-42'!H314","v":{"v":72304,"d":"72,304"}},{"$f":"'B-24'!E36","v":{"v":18561,"d":"18,561"}},{"$f":"'B-26'!G37","v":{"v":34054,"d":"34,054"}},{"$f":"'B-31'!F37","v":{"v":4629,"d":"4,629"}},{"$f":"'B-34'!F37","v":{"v":2461,"d":"2,461"}},{"$f":"'B-37'!F91","v":{"v":6947,"d":"6,947"}},{"$f":"'B-42'!G32","v":{"v":3999,"d":"3,999"}},{"$f":"'B-42'!G173","v":{"v":11516,"d":"11,516"}},{"$f":"'B-42'!G126","v":{"v":22740,"d":"22,740"}},{"$f":"'B-42'!G220","v":{"v":12938,"d":"12,938"}},{"$f":"'B-42'!G267","v":{"v":35441,"d":"35,441"}},null,null,2008]
[2009,{"$f":"'B-1'!AD44","v":{"v":40873,"d":"40,873"}},{"$f":"'B-3'!L45","v":{"v":3517,"d":"3,517"}},{"$f":"'B-3'!H45","v":{"v":4483,"d":"4,483"}},"NA",{"v":44409,"d":"44,409"},"NA","NA",{"$f":"'B-8'!M54","v":66},{"$f":"'B-11'!T55","v":61},{"$f":"'B-23'!F37","v":{"v":2345,"d":"2,345"}},{"$f":"'B-25'!G91","v":{"v":9290,"d":"9,290"}},{"$f":"'B-30'!F38","v":{"v":4156,"d":"4,156"}},{"$f":"'B-33'!F38","v":{"v":2081,"d":"2,081"}},{"$f":"'B-36'!F38","v":{"v":3130,"d":"3,130"}},38,{"$f":"'B-25'!G39","v":{"v":1132,"d":"1,132"}},{"$f":"'B-29'!F38","v":495},{"$f":"'B-32'!K38","v":880},{"$f":"'B-35'!F38","v":646},{"$f":"'B-23'!G37","v":{"v":19831,"d":"19,831"}},"NA",{"$f":"'B-16'!F44","v":{"v":6893,"d":"6,893"}},{"$f":"'B-19'!O44","v":0},{"$f":"'B-12'!G44","v":{"v":25795,"d":"25,795"}},{"$f":"'B-13'!L44","v":{"v":1124.589302716326,"d":"1,125"}},{"$f":"'B-13'!J44","v":{"v":14946.50778203462,"d":"14,947"}},{"$f":"'B-15'!F44+'B-15'!G44","v":{"v":55182,"d":"55,182"}},{"$f":"'B-12'!L44","v":{"v":22496,"d":"22,496"}},{"$f":"'B-18'!I44","v":{"v":22003,"d":"22,003"}},{"$f":"'B-17'!H44+'B-17'!I44","v":{"v":17783,"d":"17,783"}},{"$f":"'B-19'!J44","v":{"v":62428,"d":"62,428"}},{"$f":"'B-14'!I44","v":{"v":44295,"d":"44,295"}},{"$f":"'B-41'!G33","v":{"v":1971.4288244875913,"d":"1,971"}},{"v":1067.00002,"d":"1,067"},{"v":228.00006000000002,"d":"228"},{"$f":"'B-44'!F33+'B-44'!I33","v":{"v":1903,"d":"1,903"}},{"$f":"'B-41'!G127","v":{"v":6979.00004,"d":"6,979"}},{"$f":"'B-44'!C33","v":978},{"v":1001,"d":"1,001"},{"v":2309.404761904762,"d":"2,309"},793,{"$f":"'B-44'!K33","v":{"v":2342,"d":"2,342"}},688,872.00002,1525.51252,null,"NA","NA",{"v":298117.76950909785,"d":"298,118"},{"v":61954,"d":"61,954"},5233,{"v":205075,"d":"205,075"},{"v":280243,"d":"280,243"},{"$f":"'B-24'!F37","v":{"v":21759,"d":"21,759"}},{"$f":"'B-28'!F37+'B-28'!G37","v":{"v":56493,"d":"56,493"}},{"$f":"'B-37'!F39+'B-37'!G39","v":{"v":9422,"d":"9,422"}},{"$f":"'B-42'!H315","v":{"v":80163,"d":"80,163"}},{"$f":"'B-24'!E37","v":{"v":50650,"d":"50,650"}},{"$f":"'B-26'!G38","v":{"v":69222,"d":"69,222"}},{"$f":"'B-31'!F38","v":{"v":9204,"d":"9,204"}},{"$f":"'B-34'!F38","v":{"v":6595,"d":"6,595"}},{"$f":"'B-37'!F92","v":{"v":7863,"d":"7,863"}},{"$f":"'B-42'!G33","v":{"v":14957,"d":"14,957"}},{"$f":"'B-42'!G174","v":{"v":26961,"d":"26,961"}},{"$f":"'B-42'!G127","v":{"v":76990,"d":"76,990"}},{"$f":"'B-42'!G221","v":{"v":22179,"d":"22,179"}},{"$f":"'B-42'!G268","v":{"v":98979,"d":"98,979"}},null,{"$f":"'B-43'!H20+'B-43'!H45+'B-43'!H70+'B-43'!H95+'B-43'!H120+'B-43'!H146","v":{"v":8255955,"d":"8,255,955"}},2009]
[2010,{"$f":"'B-1'!AD45","v":{"v":124276,"d":"124,276"}},{"$f":"'B-3'!L46","v":{"v":2951,"d":"2,951"}},{"$f":"'B-3'!H46","v":{"v":1554,"d":"1,554"}},"NA",{"v":37225,"d":"37,225"},"NA","NA",{"$f":"'B-8'!M55","v":52},{"$f":"'B-11'!T56","v":87},{"$f":"'B-23'!F38","v":{"v":4499,"d":"4,499"}},{"$f":"'B-25'!G92","v":{"v":18158,"d":"18,158"}},{"$f":"'B-30'!F39","v":{"v":4022,"d":"4,022"}},{"$f":"'B-33'!F39","v":{"v":2599,"d":"2,599"}},{"$f":"'B-36'!F39","v":{"v":4635,"d":"4,635"}},322,{"$f":"'B-25'!G40","v":{"v":3495,"d":"3,495"}},{"$f":"'B-29'!F39","v":259},{"$f":"'B-32'!K39","v":828},{"$f":"'B-35'!F39","v":815},{"$f":"'B-23'!G38","v":{"v":21565,"d":"21,565"}},"NA",{"$f":"'B-16'!F45","v":{"v":10661,"d":"10,661"}},{"$f":"'B-19'!O45","v":0},{"$f":"'B-12'!G45","v":{"v":65293,"d":"65,293"}},{"$f":"'B-13'!L45","v":{"v":2440.3437736912506,"d":"2,440"}},{"$f":"'B-13'!J45","v":{"v":26622.104999999996,"d":"26,622"}},{"$f":"'B-15'!F45+'B-15'!G45","v":{"v":74926,"d":"74,926"}},{"$f":"'B-12'!L45","v":{"v":42646,"d":"42,646"}},{"$f":"'B-18'!I45","v":{"v":33391,"d":"33,391"}},{"$f":"'B-17'!H45+'B-17'!I45","v":{"v":50122,"d":"50,122"}},{"$f":"'B-19'!J45","v":{"v":114230,"d":"114,230"}},{"$f":"'B-14'!I45","v":{"v":47220,"d":"47,220"}},{"$f":"'B-41'!G34","v":{"v":1317.314241899336,"d":"1,317"}},{"v":1214.00002,"d":"1,214"},{"v":84.00006,"d":"84"},{"$f":"'B-44'!F34+'B-44'!I34","v":{"v":2048,"d":"2,048"}},{"$f":"'B-41'!G128","v":{"v":8017.00004,"d":"8,017"}},{"$f":"'B-44'!C34","v":{"v":1361,"d":"1,361"}},783,{"v":4298.852380952381,"d":"4,299"},729,{"$f":"'B-44'!K34","v":{"v":2071,"d":"2,071"}},2092,2067.0000200000004,1568.00002,null,"NA","NA",{"v":293080.30047641473,"d":"293,080"},{"v":53128,"d":"53,128"},7768,{"v":178293,"d":"178,293"},{"v":131640,"d":"131,640"},{"$f":"'B-24'!F38","v":{"v":34387,"d":"34,387"}},{"$f":"'B-28'!F38+'B-28'!G38","v":{"v":32719,"d":"32,719"}},{"$f":"'B-37'!F40+'B-37'!G40","v":{"v":1917,"d":"1,917"}},{"$f":"'B-42'!H316","v":{"v":33624,"d":"33,624"}},{"$f":"'B-24'!E38","v":{"v":84564.42857142858,"d":"84,564"}},{"$f":"'B-26'!G39","v":{"v":102237,"d":"102,237"}},{"$f":"'B-31'!F39","v":{"v":11261,"d":"11,261"}},{"$f":"'B-34'!F39","v":{"v":8231,"d":"8,231"}},{"$f":"'B-37'!F93","v":{"v":9837,"d":"9,837"}},{"$f":"'B-42'!G34","v":{"v":18419,"d":"18,419"}},{"$f":"'B-42'!G175","v":{"v":4197,"d":"4,197"}},{"$f":"'B-42'!G128","v":{"v":34018,"d":"34,018"}},{"$f":"'B-42'!G222","v":{"v":15172,"d":"15,172"}},{"$f":"'B-42'!G269","v":{"v":49100,"d":"49,100"}},null,null,2010]
[2011,{"$f":"'B-1'!AD46","v":{"v":119342,"d":"119,342"}},{"$f":"'B-3'!L47","v":{"v":5547,"d":"5,547"}},{"$f":"'B-3'!H47","v":637},"NA",{"v":46763,"d":"46,763"},"NA","NA",{"$f":"'B-8'!M56","v":35},{"$f":"'B-11'!T57","v":109},{"$f":"'B-23'!F39","v":{"v":3811,"d":"3,811"}},{"$f":"'B-25'!G93","v":{"v":22870,"d":"22,870"}},{"$f":"'B-30'!F40","v":{"v":3857,"d":"3,857"}},{"$f":"'B-33'!F40","v":{"v":1293,"d":"1,293"}},{"$f":"'B-36'!F40","v":{"v":3963,"d":"3,963"}},{"v":1081,"d":"1,081"},{"$f":"'B-25'!G41","v":{"v":2563,"d":"2,563"}},{"$f":"'B-29'!F40","v":373},{"$f":"'B-32'!K40","v":827},{"$f":"'B-35'!F40","v":587},{"$f":"'B-23'!G39","v":{"v":21838,"d":"21,838"}},"NA",{"$f":"'B-16'!F46","v":{"v":10601,"d":"10,601"}},{"$f":"'B-19'!O46","v":0},{"$f":"'B-12'!G46","v":{"v":43748,"d":"43,748"}},{"$f":"'B-13'!L46","v":{"v":2005.4644364576325,"d":"2,005"}},{"$f":"'B-13'!J46","v":{"v":24525.8986,"d":"24,526"}},{"$f":"'B-15'!F46+'B-15'!G46","v":{"v":76069,"d":"76,069"}},{"$f":"'B-12'!L46","v":{"v":31030,"d":"31,030"}},{"$f":"'B-18'!I46","v":{"v":24923,"d":"24,923"}},{"$f":"'B-17'!H46+'B-17'!I46","v":{"v":27375,"d":"27,375"}},{"$f":"'B-19'!J46","v":{"v":93510,"d":"93,510"}},{"$f":"'B-14'!I46","v":{"v":44432,"d":"44,432"}},{"$f":"'B-41'!G35","v":{"v":1836.7493868371157,"d":"1,837"}},{"v":1321.00002,"d":"1,321"},{"v":289.00005999999996,"d":"289"},{"$f":"'B-44'!F35+'B-44'!I35","v":865},{"$f":"'B-41'!G129","v":{"v":5537.00004,"d":"5,537"}},{"$f":"'B-44'!C35","v":825},{"v":1017,"d":"1,017"},{"v":1880,"d":"1,880"},906,{"$f":"'B-44'!K35","v":{"v":3151,"d":"3,151"}},993,2264.0000200000004,1486.00002,null,"NA","NA",{"v":375458.0008719758,"d":"375,458"},{"v":33876,"d":"33,876"},3190,{"v":88938,"d":"88,938"},{"v":165826,"d":"165,826"},{"$f":"'B-24'!F39","v":{"v":22022,"d":"22,022"}},{"$f":"'B-28'!F39+'B-28'!G39","v":{"v":8552,"d":"8,552"}},{"$f":"'B-37'!F41+'B-37'!G41","v":{"v":5454,"d":"5,454"}},{"$f":"'B-42'!H317","v":{"v":82288,"d":"82,288"}},{"$f":"'B-24'!E39","v":{"v":31737,"d":"31,737"}},{"$f":"'B-26'!G40","v":{"v":64403,"d":"64,403"}},{"$f":"'B-31'!F40","v":{"v":8588,"d":"8,588"}},{"$f":"'B-34'!F40","v":{"v":8043,"d":"8,043"}},{"$f":"'B-37'!F94","v":{"v":8070,"d":"8,070"}},{"$f":"'B-42'!G35","v":{"v":10731,"d":"10,731"}},{"$f":"'B-42'!G176","v":{"v":24389,"d":"24,389"}},{"$f":"'B-42'!G129","v":{"v":43916,"d":"43,916"}},{"$f":"'B-42'!G223","v":{"v":49991,"d":"49,991"}},{"$f":"'B-42'!G270","v":{"v":111374,"d":"111,374"}},null,{"$f":"'B-43'!H21+'B-43'!H46+'B-43'!H71+'B-43'!H96+'B-43'!H121+'B-43'!H147","v":{"v":3941378.8904761905,"d":"3,941,379"}},2011]
[2012,{"$f":"'B-1'!AD47","v":{"v":285429,"d":"285,429"}},{"$f":"'B-3'!L48","v":{"v":18694,"d":"18,694"}},{"$f":"'B-3'!H48","v":{"v":2527,"d":"2,527"}},"NA",{"v":121543,"d":"121,543"},"NA","NA",{"$f":"'B-8'!M57","v":39},{"$f":"'B-11'!T58","v":146},{"$f":"'B-23'!F40","v":{"v":2677,"d":"2,677"}},{"$f":"'B-25'!G94","v":{"v":14032,"d":"14,032"}},{"$f":"'B-30'!F41","v":{"v":3706,"d":"3,706"}},{"$f":"'B-33'!F41","v":{"v":1937,"d":"1,937"}},{"$f":"'B-36'!F41","v":{"v":3518,"d":"3,518"}},212,{"$f":"'B-25'!G42","v":878},{"$f":"'B-29'!F41","v":760},{"$f":"'B-32'!K41","v":915},{"$f":"'B-35'!F41","v":785},{"$f":"'B-23'!G40","v":{"v":14134,"d":"14,134"}},"NA",{"$f":"'B-16'!F47","v":{"v":9407,"d":"9,407"}},{"$f":"'B-19'!O47","v":0},{"$f":"'B-12'!G47","v":{"v":35899,"d":"35,899"}},{"$f":"'B-13'!L47","v":{"v":3838.1205780197115,"d":"3,838"}},{"$f":"'B-13'!J47","v":{"v":25634.278381331562,"d":"25,634"}},{"$f":"'B-15'!F47+'B-15'!G47","v":{"v":51815,"d":"51,815"}},{"$f":"'B-12'!L47","v":{"v":32106,"d":"32,106"}},{"$f":"'B-18'!I47","v":{"v":17052,"d":"17,052"}},{"$f":"'B-17'!H47+'B-17'!I47","v":{"v":31318,"d":"31,318"}},{"$f":"'B-19'!J47","v":{"v":94925,"d":"94,925"}},{"$f":"'B-14'!I47","v":{"v":52184,"d":"52,184"}},{"$f":"'B-41'!G36","v":{"v":2377.0715028111026,"d":"2,377"}},{"v":1533.00002,"d":"1,533"},{"v":429.00005999999996,"d":"429"},{"$f":"'B-44'!F36+'B-44'!I36","v":758},{"$f":"'B-41'!G130","v":{"v":13818.000039999999,"d":"13,818"}},{"$f":"'B-44'!C36","v":{"v":2774,"d":"2,774"}},{"v":1534,"d":"1,534"},{"v":5124,"d":"5,124"},{"v":1674,"d":"1,674"},{"$f":"'B-44'!K36","v":{"v":3819,"d":"3,819"}},3091,2570.0000200000004,773.00002,null,"NA","NA",{"v":98422,"d":"98,422"},{"v":17828,"d":"17,828"},2365,{"v":33735,"d":"33,735"},{"v":63170,"d":"63,170"},{"$f":"'B-24'!F40","v":{"v":14609,"d":"14,609"}},{"$f":"'B-28'!F40+'B-28'!G40","v":{"v":15194,"d":"15,194"}},{"$f":"'B-37'!F42+'B-37'!G42","v":{"v":2260,"d":"2,260"}},{"$f":"'B-42'!H318","v":{"v":137487,"d":"137,487"}},{"$f":"'B-24'!E40","v":{"v":20412,"d":"20,412"}},{"$f":"'B-26'!G41","v":{"v":66836,"d":"66,836"}},{"$f":"'B-31'!F41","v":{"v":4285,"d":"4,285"}},{"$f":"'B-34'!F41","v":{"v":4072,"d":"4,072"}},{"$f":"'B-37'!F95","v":{"v":5846,"d":"5,846"}},{"$f":"'B-42'!G36","v":{"v":11020,"d":"11,020"}},{"$f":"'B-42'!G177","v":{"v":45921,"d":"45,921"}},{"$f":"'B-42'!G130","v":{"v":92687,"d":"92,687"}},{"$f":"'B-42'!G224","v":{"v":45156,"d":"45,156"}},{"$f":"'B-42'!G271","v":{"v":130637,"d":"130,637"}},null,null,2012]
[2013,{"$f":"'B-1'!AD48","v":{"v":406846,"d":"406,846"}},{"$f":"'B-3'!L49","v":{"v":18507,"d":"18,507"}},{"$f":"'B-3'!H49","v":{"v":5622,"d":"5,622"}},"NA",{"v":59156,"d":"59,156"},"NA","NA",{"$f":"'B-8'!M58","v":23},{"$f":"'B-11'!T59","v":189},{"$f":"'B-23'!F41","v":{"v":1904,"d":"1,904"}},{"$f":"'B-25'!G95","v":{"v":12503,"d":"12,503"}},{"$f":"'B-30'!F42","v":{"v":2582,"d":"2,582"}},{"$f":"'B-33'!F42","v":{"v":1269,"d":"1,269"}},{"$f":"'B-36'!F42","v":{"v":3901,"d":"3,901"}},726,{"$f":"'B-25'!G43","v":{"v":2459,"d":"2,459"}},{"$f":"'B-29'!F42","v":520},{"$f":"'B-32'!K42","v":750},{"$f":"'B-35'!F42","v":968},{"$f":"'B-23'!G41","v":{"v":14483,"d":"14,483"}},"NA",{"$f":"'B-16'!F48","v":{"v":18675,"d":"18,675"}},{"$f":"'B-19'!O48","v":0},{"$f":"'B-12'!G48","v":{"v":27897,"d":"27,897"}},{"$f":"'B-13'!L48","v":{"v":1820.5987234042555,"d":"1,821"}},{"$f":"'B-13'!J48","v":{"v":14575.682055435565,"d":"14,576"}},{"$f":"'B-15'!F48+'B-15'!G48","v":{"v":74073,"d":"74,073"}},{"$f":"'B-12'!L48","v":{"v":26892,"d":"26,892"}},{"$f":"'B-18'!I48","v":{"v":58045,"d":"58,045"}},{"$f":"'B-17'!H48+'B-17'!I48","v":{"v":26381,"d":"26,381"}},{"$f":"'B-19'!J48","v":{"v":305445,"d":"305,445"}},{"$f":"'B-14'!I48","v":{"v":68380,"d":"68,380"}},{"$f":"'B-41'!G37","v":{"v":3266.041538144302,"d":"3,266"}},"NA","NA",{"$f":"SUM('B-44'!F37,'B-44'!I37)","v":{"v":1346,"d":"1,346"}},{"$f":"'B-41'!G131","v":{"v":10882.000039999999,"d":"10,882"}},{"$f":"'B-44'!C37","v":{"v":2010,"d":"2,010"}},854,{"v":3244,"d":"3,244"},{"v":2098,"d":"2,098"},{"$f":"'B-44'!K37","v":{"v":6541,"d":"6,541"}},2041,"NA","NA",null,"NA","NA",{"v":122178.00000000001,"d":"122,178"},{"v":50170,"d":"50,170"},4481,{"v":65834.17647058822,"d":"65,834"},{"v":75659.68253968254,"d":"75,660"},{"$f":"'B-24'!F41","v":{"v":13490,"d":"13,490"}},{"$f":"SUM('B-28'!F41,'B-28'!G41)","v":{"v":4807,"d":"4,807"}},{"$f":"'B-37'!F43+'B-37'!G43","v":{"v":2955,"d":"2,955"}},{"$f":"'B-42'!H319","v":{"v":90537,"d":"90,537"}},{"$f":"'B-24'!E41","v":{"v":26302.999999999996,"d":"26,303"}},{"$f":"'B-26'!G42","v":{"v":56785,"d":"56,785"}},{"$f":"'B-31'!F42","v":{"v":5684,"d":"5,684"}},{"$f":"'B-34'!F42","v":{"v":2899,"d":"2,899"}},{"$f":"'B-37'!F96","v":{"v":7072,"d":"7,072"}},{"$f":"'B-42'!G37","v":{"v":8458,"d":"8,458"}},{"$f":"'B-42'!G178","v":{"v":16064,"d":"16,064"}},{"$f":"'B-42'!G131","v":{"v":85751,"d":"85,751"}},{"$f":"'B-42'!G225","v":{"v":60387,"d":"60,387"}},{"$f":"'B-42'!G272","v":{"v":125870,"d":"125,870"}},null,{"$f":"'B-43'!H22+'B-43'!H47+'B-43'!H72+'B-43'!H97+'B-43'!H122+'B-43'!H148","v":{"v":7139374.155128028,"d":"7,139,374"}},2013]
[2014,{"$f":"'B-1'!AD49","v":{"v":212476,"d":"212,476"}},{"$f":"'B-3'!L50","v":{"v":7127,"d":"7,127"}},{"$f":"'B-3'!H50","v":{"v":2688,"d":"2,688"}},"NA",{"v":95104,"d":"95,104"},"NA","NA",{"$f":"'B-8'!M59","v":34},{"$f":"'B-11'!T60","v":157},{"$f":"'B-23'!F42","v":{"v":2075,"d":"2,075"}},{"$f":"'B-25'!G96","v":{"v":11893,"d":"11,893"}},{"$f":"'B-30'!F43","v":{"v":3806,"d":"3,806"}},{"$f":"'B-33'!F43","v":{"v":1933,"d":"1,933"}},{"$f":"'B-36'!F43","v":{"v":2782,"d":"2,782"}},{"v":1531,"d":"1,531"},{"$f":"'B-25'!G44","v":{"v":1583,"d":"1,583"}},{"$f":"'B-29'!F43","v":377},{"$f":"'B-32'!K43","v":744},{"$f":"'B-35'!F43","v":625},{"$f":"'B-23'!G42","v":{"v":18367,"d":"18,367"}},"NA",{"$f":"'B-16'!F49","v":{"v":22900,"d":"22,900"}},{"$f":"'B-19'!O49","v":0},{"$f":"'B-12'!G49","v":{"v":30071,"d":"30,071"}},{"$f":"'B-13'!L49","v":{"v":3043.9776555716358,"d":"3,044"}},{"$f":"'B-13'!J49","v":{"v":32064.971205968228,"d":"32,065"}},{"$f":"'B-15'!F49+'B-15'!G49","v":{"v":72597,"d":"72,597"}},{"$f":"'B-12'!L49","v":{"v":27783,"d":"27,783"}},{"$f":"'B-18'!I49","v":{"v":34075,"d":"34,075"}},{"$f":"'B-17'!H49+'B-17'!I49","v":{"v":40767,"d":"40,767"}},{"$f":"'B-19'!J49","v":{"v":233934,"d":"233,934"}},{"$f":"'B-14'!I49","v":{"v":77982,"d":"77,982"}},{"$f":"'B-41'!G38","v":{"v":3649.127608520073,"d":"3,649"}},"NA","NA",{"$f":"SUM('B-44'!F38,'B-44'!I38)","v":{"v":1398,"d":"1,398"}},{"$f":"'B-41'!G132","v":{"v":10457.000039999999,"d":"10,457"}},{"$f":"'B-44'!C38","v":{"v":1608,"d":"1,608"}},854,{"v":3244,"d":"3,244"},{"v":2098,"d":"2,098"},{"$f":"'B-44'!K38","v":{"v":2131,"d":"2,131"}},2041,"NA","NA",null,"NA","NA",{"v":353021,"d":"353,021"},{"v":108773,"d":"108,773"},null,{"v":262681,"d":"262,681"},{"v":310296,"d":"310,296"},{"$f":"'B-24'!F42","v":{"v":83059,"d":"83,059"}},{"$f":"SUM('B-28'!F42,'B-28'!G42)","v":{"v":45744,"d":"45,744"}},{"$f":"'B-37'!F44+'B-37'!G44","v":{"v":5773,"d":"5,773"}},{"$f":"'B-42'!H320","v":{"v":72225,"d":"72,225"}},{"$f":"'B-24'!E42","v":{"v":59569,"d":"59,569"}},{"$f":"'B-26'!G43","v":{"v":105039,"d":"105,039"}},{"$f":"'B-31'!F43","v":{"v":7558,"d":"7,558"}},{"$f":"'B-34'!F43","v":{"v":4565,"d":"4,565"}},{"$f":"'B-37'!F97","v":{"v":7425,"d":"7,425"}},{"$f":"'B-42'!G38","v":{"v":11488,"d":"11,488"}},{"$f":"'B-42'!G179","v":{"v":26787,"d":"26,787"}},{"$f":"'B-42'!G132","v":{"v":24820,"d":"24,820"}},{"$f":"'B-42'!G226","v":{"v":35829,"d":"35,829"}},{"$f":"'B-42'!G273","v":{"v":46244,"d":"46,244"}},null,null,2014]
[2015,{"$f":"'B-1'!AD50","v":{"v":113468,"d":"113,468"}},{"$f":"'B-3'!L51","v":{"v":1039,"d":"1,039"}},{"$f":"'B-3'!H51","v":{"v":3382,"d":"3,382"}},"NA",{"v":28112,"d":"28,112"},"NA","NA",{"$f":"'B-8'!M60","v":60},{"$f":"'B-11'!T61","v":247},{"$f":"'B-23'!F43","v":{"v":2824,"d":"2,824"}},{"$f":"'B-25'!G97","v":{"v":17305,"d":"17,305"}},{"$f":"'B-30'!F44","v":{"v":5483,"d":"5,483"}},{"$f":"'B-33'!F44","v":{"v":1795,"d":"1,795"}},{"$f":"'B-36'!F44","v":{"v":3440,"d":"3,440"}},{"v":1532,"d":"1,532"},{"$f":"'B-25'!G45","v":{"v":1841,"d":"1,841"}},{"$f":"'B-29'!F44","v":532},{"$f":"'B-32'!K44","v":{"v":1070,"d":"1,070"}},{"$f":"'B-35'!F44","v":783},{"$f":"'B-23'!G43","v":{"v":26584,"d":"26,584"}},"NA",{"$f":"'B-16'!F50","v":{"v":27169,"d":"27,169"}},{"$f":"'B-19'!O50","v":0},{"$f":"'B-12'!G50","v":{"v":53088,"d":"53,088"}},{"$f":"'B-13'!L50","v":{"v":3917.897698959402,"d":"3,918"}},{"$f":"'B-13'!J50","v":{"v":22576.752915061355,"d":"22,577"}},{"$f":"'B-15'!F50+'B-15'!G50","v":{"v":98372,"d":"98,372"}},{"$f":"'B-12'!L50","v":{"v":52237,"d":"52,237"}},{"$f":"'B-18'!I50","v":{"v":30744,"d":"30,744"}},{"$f":"'B-17'!H50+'B-17'!I50","v":{"v":65565,"d":"65,565"}},{"$f":"'B-19'!J50","v":{"v":323276,"d":"323,276"}},{"$f":"'B-14'!I50","v":{"v":88691,"d":"88,691"}},{"$f":"'B-41'!G39","v":{"v":3893.4616577454112,"d":"3,893"}},"NA","NA",{"$f":"SUM('B-44'!F39,'B-44'!I39)","v":{"v":1717,"d":"1,717"}},{"$f":"'B-41'!G133","v":{"v":13314.000039999999,"d":"13,314"}},{"$f":"'B-44'!C39","v":{"v":1409,"d":"1,409"}},{"$nulls":3},{"$f":"'B-44'!K39","v":{"v":2893,"d":"2,893"}},null,"NA","NA",null,"NA","NA",{"v":55829,"d":"55,829"},{"v":18438,"d":"18,438"},null,{"v":34666,"d":"34,666"},{"v":46227,"d":"46,227"},{"$f":"'B-24'!F43","v":{"v":21296,"d":"21,296"}},{"$f":"SUM('B-28'!F43,'B-28'!G43)","v":{"v":18977,"d":"18,977"}},{"$f":"'B-37'!F45+'B-37'!G45","v":{"v":5238,"d":"5,238"}},{"$f":"'B-42'!H321","v":{"v":35402,"d":"35,402"}},{"$f":"'B-24'!E43","v":{"v":17086,"d":"17,086"}},{"$f":"'B-26'!G44","v":{"v":21278,"d":"21,278"}},{"$f":"'B-31'!F44","v":{"v":2028,"d":"2,028"}},{"$f":"'B-34'!F44","v":{"v":1794,"d":"1,794"}},{"$f":"'B-37'!F98","v":{"v":2571,"d":"2,571"}},{"$f":"'B-42'!G39","v":{"v":3859,"d":"3,859"}},{"$f":"'B-42'!G180","v":{"v":26926,"d":"26,926"}},{"$f":"'B-42'!G133","v":{"v":5794,"d":"5,794"}},{"$f":"'B-42'!G227","v":{"v":2914,"d":"2,914"}},{"$f":"'B-42'!G274","v":{"v":12804,"d":"12,804"}},null,{"$f":"'B-43'!H23+'B-43'!H48+'B-43'!H73+'B-43'!H98+'B-43'!H123+'B-43'!H149","v":{"v":2958771,"d":"2,958,771"}},2015]
[2016,{"$f":"'B-1'!AD51","v":{"v":89699,"d":"89,699"}},{"$f":"'B-3'!L52","v":{"v":6458,"d":"6,458"}},{"$f":"'B-3'!H52","v":924},"NA",{"v":13937,"d":"13,937"},"NA","NA",{"$f":"'B-8'!M61","v":34},{"$f":"'B-11'!T62","v":118},{"$f":"'B-23'!F44","v":{"v":1888,"d":"1,888"}},{"$f":"'B-25'!G98","v":{"v":11248,"d":"11,248"}},{"$f":"'B-30'!F45","v":{"v":3035,"d":"3,035"}},{"$f":"'B-33'!F45","v":{"v":2831,"d":"2,831"}},{"$f":"'B-36'!F45","v":{"v":3654,"d":"3,654"}},{"v":1533,"d":"1,533"},{"$f":"'B-25'!G46","v":926},{"$f":"'B-29'!F45","v":704},{"$f":"'B-32'!K45","v":{"v":1144,"d":"1,144"}},{"$f":"'B-35'!F45","v":871},{"$f":"'B-23'!G44","v":{"v":12897,"d":"12,897"}},"NA",{"$f":"'B-16'!F51","v":{"v":9414,"d":"9,414"}},{"$f":"'B-19'!O51","v":0},{"$f":"'B-12'!G51","v":{"v":30317,"d":"30,317"}},{"$f":"'B-13'!L51","v":{"v":2717.1248452842647,"d":"2,717"}},{"$f":"'B-13'!J51","v":{"v":16161.095754583352,"d":"16,161"}},{"$f":"'B-15'!F51+'B-15'!G51","v":{"v":59314,"d":"59,314"}},{"$f":"'B-12'!L51","v":{"v":31303,"d":"31,303"}},{"$f":"'B-18'!I51","v":{"v":15806,"d":"15,806"}},{"$f":"'B-17'!H51+'B-17'!I51","v":{"v":14101,"d":"14,101"}},{"$f":"'B-19'!J51","v":{"v":151373,"d":"151,373"}},{"$f":"'B-14'!I51","v":{"v":79253,"d":"79,253"}},{"$f":"'B-41'!G40","v":{"v":2696.6227480403127,"d":"2,697"}},"NA","NA",{"$f":"SUM('B-44'!F40,'B-44'!I40)","v":{"v":1141,"d":"1,141"}},{"$f":"'B-41'!G134","v":{"v":19290.00004,"d":"19,290"}},{"$f":"'B-44'!C40","v":{"v":2445,"d":"2,445"}},{"$nulls":3},{"$f":"'B-44'!K40","v":{"v":6585,"d":"6,585"}},null,"NA","NA",null,"NA","NA",{"v":74896.99999999999,"d":"74,897"},{"v":16954,"d":"16,954"},null,{"v":63197.99999999999,"d":"63,198"},{"v":62924,"d":"62,924"},{"$f":"'B-24'!F44","v":{"v":21866,"d":"21,866"}},{"$f":"SUM('B-28'!F44,'B-28'!G44)","v":{"v":25301,"d":"25,301"}},{"$f":"'B-37'!F46+'B-37'!G46","v":{"v":2888,"d":"2,888"}},{"$f":"'B-42'!H322","v":{"v":131646,"d":"131,646"}},{"$f":"'B-24'!E44","v":{"v":30667,"d":"30,667"}},{"$f":"'B-26'!G45","v":{"v":38595,"d":"38,595"}},{"$f":"'B-31'!F45","v":{"v":5156,"d":"5,156"}},{"$f":"'B-34'!F45","v":{"v":5009,"d":"5,009"}},{"$f":"'B-37'!F99","v":{"v":9630,"d":"9,630"}},{"$f":"'B-42'!G40","v":{"v":8435,"d":"8,435"}},{"$f":"'B-42'!G181","v":{"v":24313,"d":"24,313"}},{"$f":"'B-42'!G134","v":{"v":35822,"d":"35,822"}},{"$f":"'B-42'!G228","v":{"v":13048,"d":"13,048"}},{"$f":"'B-42'!G275","v":{"v":44141,"d":"44,141"}},null,null,2016]
[2017,{"$f":"'B-1'!AD52","v":{"v":44329,"d":"44,329"}},{"$f":"'B-3'!L53","v":{"v":1055,"d":"1,055"}},{"$f":"'B-3'!H53","v":490},"NA",{"v":19904,"d":"19,904"},"NA","NA",{"$f":"'B-8'!M62","v":26},{"$f":"'B-11'!T63","v":114},{"$f":"'B-23'!F45","v":{"v":3147,"d":"3,147"}},{"$f":"'B-25'!G99","v":{"v":17145,"d":"17,145"}},{"$f":"'B-30'!F46","v":{"v":2822,"d":"2,822"}},{"$f":"'B-33'!F46","v":{"v":1808,"d":"1,808"}},{"$f":"'B-36'!F46","v":{"v":3604,"d":"3,604"}},{"v":1534,"d":"1,534"},{"$f":"'B-25'!G47","v":{"v":1384,"d":"1,384"}},{"$f":"'B-29'!F46","v":825},{"$f":"'B-32'!K46","v":{"v":1364,"d":"1,364"}},{"$f":"'B-35'!F46","v":{"v":1097,"d":"1,097"}},{"$f":"'B-23'!G45","v":{"v":19937,"d":"19,937"}},"NA",{"$f":"'B-16'!F52","v":{"v":6583,"d":"6,583"}},{"$f":"'B-19'!O52","v":0},{"$f":"'B-12'!G52","v":{"v":34186,"d":"34,186"}},{"$f":"'B-13'!L52","v":{"v":1294.5465167226523,"d":"1,295"}},{"$f":"'B-13'!J52","v":{"v":4424.584101095617,"d":"4,425"}},{"$f":"'B-15'!F52+'B-15'!G52","v":{"v":47666,"d":"47,666"}},{"$f":"'B-12'!L52","v":{"v":25445,"d":"25,445"}},{"$f":"'B-18'!I52","v":{"v":7750,"d":"7,750"}},{"$f":"'B-17'!H52+'B-17'!I52","v":{"v":13990,"d":"13,990"}},{"$f":"'B-19'!J52","v":{"v":96096,"d":"96,096"}},{"$f":"'B-14'!I52","v":{"v":56265,"d":"56,265"}},{"$f":"'B-41'!G41","v":{"v":2797.840214116151,"d":"2,798"}},"NA","NA",{"$f":"SUM('B-44'!F41,'B-44'!I41)","v":{"v":2016,"d":"2,016"}},{"$f":"'B-41'!G135","v":{"v":12579.000039999999,"d":"12,579"}},{"$f":"'B-44'!C41","v":{"v":2850,"d":"2,850"}},{"$nulls":3},{"$f":"'B-44'!K41","v":{"v":9986,"d":"9,986"}},null,"NA","NA",null,"NA","NA",{"$nulls":5},{"$f":"'B-24'!F45","v":{"v":6743,"d":"6,743"}},{"$f":"SUM('B-28'!F45,'B-28'!G45)","v":{"v":47818,"d":"47,818"}},{"$f":"'B-37'!F47+'B-37'!G47","v":{"v":7933,"d":"7,933"}},{"$f":"'B-42'!H323","v":{"v":75265,"d":"75,265"}},{"$f":"'B-24'!E45","v":{"v":11379,"d":"11,379"}},{"$f":"'B-26'!G46","v":{"v":26907,"d":"26,907"}},{"$f":"'B-31'!F46","v":{"v":5232,"d":"5,232"}},{"$f":"'B-34'!F46","v":{"v":4478,"d":"4,478"}},{"$f":"'B-37'!F100","v":{"v":7474,"d":"7,474"}},{"$f":"'B-42'!G41","v":{"v":5530,"d":"5,530"}},{"$f":"'B-42'!G182","v":{"v":23871,"d":"23,871"}},{"$f":"'B-42'!G135","v":{"v":20184,"d":"20,184"}},{"$f":"'B-42'!G229","v":{"v":6099,"d":"6,099"}},{"$f":"'B-42'!G276","v":{"v":18195,"d":"18,195"}},null,"NA",2017]
[2018,{"$f":"'B-1'!AD59","v":{"v":99274,"d":"99,274"}},{"$f":"'B-3'!L60","v":176},{"$f":"'B-3'!H60","v":789},"NA",{"v":52352,"d":"52,352"},"NA","NA",{"$f":"'B-8'!M69","v":26},{"$f":"'B-11'!T64","v":92},{"$f":"'B-23'!F52","v":"NA "},{"$f":"'B-25'!G100","v":{"v":20741,"d":"20,741"}},{"$f":"'B-30'!F53","v":"NA"},{"$f":"'B-33'!F53","v":"NA"},{"$f":"'B-36'!F53","v":{"v":5378,"d":"5,378"}},{"v":1535,"d":"1,535"},{"$f":"'B-25'!G54","v":"NA"},{"$f":"'B-29'!F53","v":"NA"},{"$f":"'B-32'!K53","v":"NA"},{"$f":"'B-35'!F53","v":{"v":1275,"d":"1,275"}},{"$f":"'B-23'!G52","v":"NA"},"NA",{"$f":"'B-16'!F59","v":{"v":14024,"d":"14,024"}},{"$f":"'B-19'!O59","v":0},{"$f":"'B-12'!G59","v":{"v":21989,"d":"21,989"}},{"$f":"'B-13'!L59","v":{"v":1296,"d":"1,296"}},{"$f":"'B-13'!J59","v":{"v":8584,"d":"8,584"}},{"$f":"'B-15'!F59+'B-15'!G59","v":{"v":90878,"d":"90,878"}},{"$f":"'B-12'!L59","v":{"v":24209,"d":"24,209"}},{"$f":"'B-18'!I53","v":{"v":6354,"d":"6,354"}},{"$f":"'B-17'!H59+'B-17'!I59","v":{"v":51951,"d":"51,951"}},{"$f":"'B-19'!J59","v":{"v":57580,"d":"57,580"}},{"$f":"'B-14'!I59","v":{"v":41142,"d":"41,142"}},{"$f":"'B-41'!G48","v":"NA"},"NA","NA",{"$f":"SUM('B-44'!F48,'B-44'!H48)","v":{"v":1631,"d":"1,631"}},{"$f":"'B-41'!G142","v":"NA"},{"$f":"'B-44'!C48","v":{"v":2201,"d":"2,201"}},{"$nulls":3},{"$f":"'B-44'!K48","v":{"v":4109,"d":"4,109"}},{"$nulls":11},{"$f":"'B-24'!F52","v":"NA"},{"$f":"SUM('B-28'!F52,'B-28'!G52)","v":0},{"$f":"'B-37'!F54+'B-37'!G54","v":{"v":2125,"d":"2,125"}},{"$f":"'B-42'!H330","v":"NA"},{"$f":"'B-24'!E52","v":"NA"},{"$f":"'B-26'!G53","v":"NA"},{"$f":"'B-31'!F53","v":"NA"},{"$f":"'B-34'!F53","v":"NA"},{"$f":"'B-37'!F107","v":"NA"},{"$f":"'B-42'!G48","v":"NA"},{"$f":"'B-42'!G189","v":"NA"},{"$f":"'B-42'!G142","v":"NA"},{"$f":"'B-42'!G236","v":"NA"},{"$f":"'B-42'!G283","v":"NA"},null,null,2018]