BEGIN:VCALENDAR
VERSION:2.0
PRODID:-//Pacific Fishery Management Council//NONSGML v1.0//EN
METHOD:PUBLISH
BEGIN:VEVENT
DTSTART;TZID=America/Los_Angeles:20240607T000000
DTEND;TZID=America/Los_Angeles:20240613T235959
SUMMARY:June 2024 Council Meeting
LOCATION:San Diego, CA
END:VEVENT
END:VCALENDAR
